{"text_format":"1","workbook":"xlsx","n_sheets":3,"sheets":["CALCULATIONS","TIME EVOLUTION","Φύλλο3"],"not_rendered":{"charts":4,"images":15,"macros":1,"external_links":0,"defined_names":66,"comments":0,"pivot_tables":0},"unopened":[],"bounds":{"document_bytes":16777216,"sheet_cells":100000,"rows_first":2000,"rows_last":500,"rows_between":2000,"halvings":0,"cell_chars":16384,"cell_head_chars":4096},"cells_cut":0,"cells_raw":0,"read":"whole","date_system":"1900"}

{"sheet":"CALCULATIONS","index":0,"n_rows":881,"n_cols":44,"rows_kept":881,"cut":false,"hidden":false,"merged":[]}
[null,null,"An object experiences a force perpendicular to its velocity.",null,null,null,null,null,null,null,null,376,null,null,null,null,null,null,null,null,null,null,null,null,null,null,null,250,539]
[]
[null,null,"Name","symbol","input"," unit"]
[null,null,"mass","m",1," kg","MI1",{"$f":"-(epsilon+D)/2","v":-10},null,"m1f",{"$f":"-D/2","v":-7.5}]
[null,null,"Charge","q",1,null,"mi2",{"$f":"-(epsilon-D)/2","v":5},null,"m2f",{"$f":"D/2","v":7.5}]
[null,null,"initial x","x0",0," m","Dm=mi1-mi2",{"$f":"miia-miib","v":-15},null,"Foucault",null,null,"VINITIAL X"]
[null,null,"initial y","y0",{"$f":"Aktina","v":70}," m","Alfa1",{"$f":"(vxin+Aktina*miib)/Dm","v":-23.333333333333332},null,"Alfa1F",{"$f":"(VINFOUCAULT-Aktina*miib)/Dm","v":35}]
[null,null,"initial x-velocity","vx0",0," m/s","Alfa2",{"$f":"(vxin+Aktina*miia)/Dm","v":46.666666666666664},null,"Alfa2F",{"$f":"-(VINFOUCAULT-Aktina*miia)/Dm","v":35},null,"Time"]
[null,null,"initial y-velocity","vy0",0," m/s","k/m = λ, ε =q.B/m ",null,{"$f":"Alfa1-Alfa2","v":-70},null,null,null,{"$f":"AC1*dt","v":5.39},null,null,null,null,null,null,null,null,null,null,null,null,null,null,null,null,null,null,null,null,null,null,null,null,null,null,null,"VERTICAL","COSTH","SINTH","AKATHETOS"]
[null,null,"net force","F",12," N","vxin",{"$f":"AB1/1-250","v":0},null,"(vx0 – εR/2)2/Α=Δ   ",null,{"$f":"-epsilon*Aktina/2","v":-175},"vinitial for Foucault",null,null,null,null,519,null,null,null,null,null,null,null,null,null,null,null,null,null,null,null,"FOUCAULT",null,null,null,null,null,"N",{"$f":"-Fcurrentvx/Fcurrent_vy","v":-2.5815632918850016},{"$f":"1/SQRT(1+AO10^2)","v":0.36120933298114855},{"$f":"AO10*AP10","v":-0.93248475471039949},{"$f":"axf*AP10+ayf*AQ10","v":-10240.996167715068}]
[null,null,"time","t",15," s","show forces","NO",null,null,null,null,null,null,null,null,null,null,null,null,null,null,null,null,null,null,null,null,null,null,null,null,{"$f":"IF($AC$1<MAX_TIME,$AC$1*dt,MAX_TIME*dt)","v":5.19},"Fcurrent x","Fcurrenty","Fcurrentvx","Fcurrent vy",null,null,{"$f":"(Fcurrentvx^2+Fcurrent_vy^2)/AKATHETOS","v":-50.71765182900571},"RADIUS OF CURVATURE"]
[null,null,"time increment","Dt",0.01," s","resultant","yes",null,null,"CURRENTX","CURRENTY","CURRENTVX","CURRENTVY","FX_MAGNET","FY_MAGNET","F_Kx","F_ky",null,null,null,null,null,null,null,null,null,null,null,null,"axf",{"$f":"Aktina*(-epsilon^2*SIN(epsilon*AG11)*COS(D*AG11)-2*D*epsilon*COS(epsilon*AG11)*SIN(D*AG11)-D^2*SIN(epsilon*AG11)*COS(D*AG11))","v":3303.3955990508284},null,{"$f":"Aktina*SIN(epsilon*AG11)*COS(D*AG11)","v":-39.37738784576365},{"$f":"Aktina*COS(epsilon*AG11)*COS(D*AG11)","v":-36.944890531202454},{"$f":"Aktina*(epsilon*COS(epsilon*AG11)*COS(D*AG11)-SIN(epsilon*AG11)*D*SIN(D*AG11))","v":-672.03580318572244},{"$f":"Aktina*(-epsilon*SIN(epsilon*AG11)*COS(D*AG11)-D*COS(epsilon*AG11)*SIN(D*AG11))","v":-260.32125778137186},null,null,"FRX",{"$f":"Fcurrent_x+F_CURV_R*AP10","v":-57.697077033288934}]
[null,null,"epsilon",null,{"$f":"magnet/m","v":5},null,null,null,null,{"$f":"VLOOKUP(1,A21:G881,2,FALSE)","v":539},{"$f":"VLOOKUP(1,A21:G881,4,FALSE)","v":-56.297913514466224},{"$f":"VLOOKUP(1,A21:G881,5,FALSE)","v":-31.941052073016863},{"$f":"VLOOKUP(1,A21:G881,6,FALSE)","v":-148.6281349128235},{"$f":"VLOOKUP(1,A21:G881,7,FALSE)","v":-115.86795860660031},{"$f":"magnet*CURRENTVY","v":-579.33979303300157},{"$f":"-magnet*CURRENTVX","v":743.14067456411749},{"$f":"Kappa*CURRENTX","v":2814.8956757233113},{"$f":"Kappa*CURRENTY","v":1597.0526036508431},null,null,null,null,null,null,null,null,null,null,null,null,"ayf",{"$f":"Aktina*(-epsilon^2*COS(epsilon*AG11)*COS(D*AG11)+2*epsilon*D*SIN(epsilon*AG11)*SIN(D*AG11)-D^2*COS(epsilon*AG11)*COS(D*AG11))","v":12262.091611537591},null,{"$f":"Fcurrent_x","v":-39.37738784576365},{"$f":"Fcurrenty","v":-36.944890531202454},null,null,null,null,"FRY",{"$f":"Fcurrenty+F_CURV_R*AQ10","v":10.348546594055378}]
[null,null,"lamda",null,{"$f":"Kappa/m","v":-50},null,"Kappa",-50,null,null,{"$f":"CURRENTX","v":-56.297913514466224},{"$f":"0","v":0},null,null,"fxtotal","fytotal","ax_current","ay_current"]
[null,null,"period",null,{"$f":"4*PI()/SQRT(-4*lamda+epsilon^2)","v":0.83775804095727813},"1/period",{"$f":"1/period*4*PI()","v":15},null,null,null,null,"NX","NY",null,{"$f":"FX_MAGNET+F_Kx","v":2235.5558826903098},{"$f":"FY_MAGNET+F_ky","v":2340.1932782149606},{"$f":"fxtotal/m","v":2235.5558826903098},{"$f":"fytotal/m","v":2340.1932782149606},null,null,null,null,null,null,null,null,null,null,null,null,null,null,null,null,null,null,null,null,null,null,null,"CURVATURE "]
[null,null,"D=",null,{"$f":"SQRT(epsilon^2-4*lamda)","v":15},null,null,null,"PERPENDICULAR",null,{"$f":"-CURRENTVX/CURRENTVY","v":-1.2827371492532451},{"$f":"1/SQRT(1+K16^2)","v":0.61482727782608937},{"$f":"K16*L16","v":-0.78866178964177081},null,null,null,null,null,null,null,null,null,null,null,{"$f":"lamda*CURRENTY-epsilon*magnet*CURRENTVX","v":5312.7559764714306},null,null,null,"current x","currenty","currentvx","current vy",null,null,null,null,null,null,null,null,0,{"$f":"FRX+F_CURV_R*COS(AO16)","v":-108.41472886229465},{"$f":"FRY+F_CURV_R*SIN(AO16)","v":10.348546594055378}]
[null,null,"omega",null,15,null,null,null,"acceleration Ʇ VELOCITY",null,null,{"$f":"ax_current*NX+ay_current*NY","v":-471.14028112206984},{"$f":"CURRENTVX^2+CURRENTVY^2","v":35515.706319325305},null,null,null,null,null,null,null,null,null,null,null,null,null,null,null,null,null,null,null,null,null,null,null,null,null,null,null,{"$f":"AO16+2*PI()/100","v":6.2831853071795868E-2},-108.31464916175565,7.163958886405279]
[null,null,"Aktina",null,70,null,null,null,null,null,"R_KAMP",{"$f":"VSQUARE/AKATH","v":-75.382444979531229},null,null,null,null,null,null,null,null,null,null,null,null,null,null,null,null,{"$f":"CURRENTVX/10","v":-14.862813491282349},{"$f":"CURRENTVY/10","v":-11.586795860660031},{"$f":"ax_current/100","v":22.355558826903099},{"$f":"ay_current/100","v":23.401932782149608},null,{"$f":"Fcurrentvx/10","v":-67.20358031857225},{"$f":"Fcurrent_vy/10","v":-26.032125778137186},{"$f":"axf/50","v":66.067911981016564},{"$f":"ayf/50","v":245.24183223075181},null,null,null,{"$f":"AO17+2*PI()/100","v":0.12566370614359174},-108.01480502899462,3.991939291537542]
[null,null,"magnet",null,5,null,null,null,null,null,"RX",{"$f":"CURRENTX+R_KAMP*NX","v":-102.64509695710638},"RY",{"$f":"CURRENTY+R_KAMP*NY","v":27.510201892112555},null,null,null,null,null,"MAGNETIC FOUCAULT",null,null,null,null,null,null,null,null,"currentvx","currentvy","currentax","currentay",null,null,null,null,null,null,null,null,0.1884955592153876,-107.51637981181781,0.84500632163520706]
[null,null,"t","X ","Y","vx","vy",null,null,null,null,null,null,null,null,null,null,null,null,"X ","Y","vx","vy",null,null,null,null,null,{"$f":"CURRENTX","v":-56.297913514466224},{"$f":"CURRENTY","v":-31.941052073016863},{"$f":"CURRENTX","v":-56.297913514466224},{"$f":"CURRENTY","v":-31.941052073016863},null,{"$f":"Fcurrent_x","v":-39.37738784576365},{"$f":"Fcurrenty","v":-36.944890531202454},{"$f":"Fcurrent_x","v":-39.37738784576365},{"$f":"Fcurrenty","v":-36.944890531202454},null,null,null,0.25132741228718347,-106.82134056684859,-2.2644205165664442]
[{"$f":"IF(B21=$AC$1,1,0)","v":0},0,0,{"$f":"(Alfa1*SIN(miia*C21)-Alfa2*SIN(miib*C21))","v":0},{"$f":"-(Alfa1*COS(miia*C21)-Alfa2*COS(miib*C21))","v":70},{"$f":"(miia*Alfa1*COS(miia*C21)-miib*Alfa2*COS(miib*C21))","v":0},{"$f":"miia*Alfa1*SIN(miia*C21)-miib*Alfa2*SIN(miib*C21)","v":0},null,null,null,null,null,null,null,null,null,{"$f":"IF(R21=$AC$1,1,0)","v":0},{"$f":"0","v":0},0,{"$f":"Aktina*SIN(epsilon*S21)*COS(D*S21)","v":0},{"$f":"Aktina*COS(epsilon*S21)*COS(D*S21)","v":70},null,null,null,null,null,null,null,{"$f":"AC20+AC18","v":-71.160727005748569},{"$f":"AD20+AD18","v":-43.527847933676895},{"$f":"AE20+AE18","v":-33.942354687563125},{"$f":"AF20+AF18","v":-8.5391192908672551},null,{"$f":"AH20+AH18","v":-106.5809681643359},{"$f":"AI20+AI18","v":-62.977016309339639},{"$f":"AJ20+AJ18","v":26.690524135252915},{"$f":"AK20+AK18","v":208.29694169954936},null,null,null,0.31415926535897931,-105.93243029645362,-5.3240697358990197]
[{"$f":"IF(B22=$AC$1,1,0)","v":0},{"$f":"B21+1","v":1},{"$f":"C21+dt","v":0.01},{"$f":"(Alfa1*SIN(miia*C22)-Alfa2*SIN(miib*C22))","v":-2.9148442056654567E-3},{"$f":"-(Alfa1*COS(miia*C22)-Alfa2*COS(miib*C22))","v":69.825109341585687},{"$f":"(miia*Alfa1*COS(miia*C22)-miib*Alfa2*COS(miib*C22))","v":-0.87408886061945168},{"$f":"miia*Alfa1*SIN(miia*C22)-miib*Alfa2*SIN(miib*C22)","v":-34.95627004741818},null,null,null,null,null,null,null,null,null,{"$f":"IF(R22=$AC$1,1,0)","v":0},{"$f":"R21+1","v":1},{"$f":"S21+dt","v":0.01},{"$f":"IF(R22<MAX_TIME,Aktina*SIN(epsilon*S22)*COS(D*S22),Aktina*SIN(epsilon*MAX_TIME*dt)*COS(D*MAX_TIME*dt))","v":3.4592569951881575},{"$f":"IF(R22<MAX_TIME,Aktina*COS(epsilon*S22)*COS(D*S22),Aktina*COS(epsilon*MAX_TIME*dt)*COS(D*MAX_TIME*dt))","v":69.127476009174359},null,null,null,null,null,null,null,{"$f":"-1/20*AD18+18/20*AC18+AC20","v":-69.095105863587335},{"$f":"1/20*AC18+18/20*AD18+AD20","v":-43.112309022175012},{"$f":"-1/20*AF18+18/20*AE18+AE20","v":-37.348007209360915},{"$f":"1/20*AE18+18/20*AF18+AF20","v":-9.7615346277370634},null,{"$f":"-1/20*AI18+18/20*AH18+AH20","v":-98.559003843571816},{"$f":"1/20*AH18+18/20*AI18+AI20","v":-63.733982747454533},{"$f":"-1/20*AK18+18/20*AJ18+AJ20","v":7.821641325613669},{"$f":"1/20*AJ18+18/20*AK18+AK20","v":187.07615407552501},null,null,null,0.37699111843077515,-104.85315712336572,-8.3218662987145855]
[0,{"$f":"B22+1","v":2},0.02,{"$f":"(Alfa1*SIN(miia*C23)-Alfa2*SIN(miib*C23))","v":-2.3275058300551876E-2},{"$f":"-(Alfa1*COS(miia*C23)-Alfa2*COS(miib*C23))","v":69.301747862603506},{"$f":"(miia*Alfa1*COS(miia*C23)-miib*Alfa2*COS(miib*C23))","v":-3.4854370685829679},{"$f":"miia*Alfa1*SIN(miia*C23)-miib*Alfa2*SIN(miib*C23)","v":-69.650641069774181},null,null,null,null,null,null,null,null,null,0,{"$f":"R22+1","v":2},0.02,6.6762154029756244,66.539465014544447,null,null,null,null,null,null,null,{"$f":"1/20*AD18+18/20*AC18+AC20","v":-70.253785449653336},{"$f":"-1/20*AC18+18/20*AD18+AD20","v":-41.626027673046778},{"$f":"1/20*AF18+18/20*AE18+AE20","v":-35.007813931145954},{"$f":"-1/20*AE18+18/20*AF18+AF20","v":-11.99709051042737},null,{"$f":"1/20*AI18+18/20*AH18+AH20","v":-101.16221642138554},{"$f":"-1/20*AH18+18/20*AI18+AI20","v":-57.013624715597309},{"$f":"1/20*AK18+18/20*AJ18+AJ20","v":32.345824548688853},{"$f":"-1/20*AJ18+18/20*AK18+AK20","v":180.46936287742338},null,null,null,0.43982297150257099,-103.587780445726,-11.245979271542684]
[0,3,0.03,{"$f":"(Alfa1*SIN(miia*C24)-Alfa2*SIN(miib*C24))","v":-7.8308026670040221E-2},{"$f":"-(Alfa1*COS(miia*C24)-Alfa2*COS(miib*C24))","v":68.433835049946111},{"$f":"(miia*Alfa1*COS(miia*C24)-miib*Alfa2*COS(miib*C24))","v":-7.8014040557684439},{"$f":"miia*Alfa1*SIN(miia*C24)-miib*Alfa2*SIN(miib*C24)","v":-103.82361246481904},null,null,null,null,null,null,null,null,null,0,3,0.03,9.4192793356793523,62.323523641234942,null,null,null,null,null,null,null,{"$f":"AC21","v":-71.160727005748569},{"$f":"AD21","v":-43.527847933676895},{"$f":"AE21","v":-33.942354687563125},{"$f":"AF21","v":-8.5391192908672551},null,{"$f":"AH21","v":-106.5809681643359},{"$f":"AI21","v":-62.977016309339639},{"$f":"AJ21","v":26.690524135252915},{"$f":"AK21","v":208.29694169954936},null,null,null,0.50265482457436683,-102.14129412718552,-14.0848685163797]
[0,4,0.04,{"$f":"(Alfa1*SIN(miia*C25)-Alfa2*SIN(miib*C25))","v":-0.18480744990101172},{"$f":"-(Alfa1*COS(miia*C25)-Alfa2*COS(miib*C25))","v":67.227863492658599},{"$f":"(miia*Alfa1*COS(miia*C25)-miib*Alfa2*COS(miib*C25))","v":-13.767969562283213},{"$f":"miia*Alfa1*SIN(miia*C25)-miib*Alfa2*SIN(miib*C25)","v":-137.22045705753271},null,null,null,null,null,null,null,null,null,0,4,0.04,11.47782120068053,56.621869617251775,null,null,null,null,null,null,null,null,null,null,null,null,null,null,null,null,null,null,null,0.56548667764616267,-100.51940678840681,-16.827330234341392]
[0,5,0.05,{"$f":"(Alfa1*SIN(miia*C26)-Alfa2*SIN(miib*C26))","v":-0.35892219777966616},{"$f":"-(Alfa1*COS(miia*C26)-Alfa2*COS(miib*C26))","v":65.692839457272115},{"$f":"(miia*Alfa1*COS(miia*C26)-miib*Alfa2*COS(miib*C26))","v":-21.310300624730132},{"$f":"miia*Alfa1*SIN(miia*C26)-miib*Alfa2*SIN(miib*C26)","v":-169.59354950036936},null,null,null,null,null,null,null,null,null,0,5,0.05,12.671590617129272,49.625970371547936,null,null,null,null,null,null,null,null,null,null,null,null,null,null,null,null,null,null,null,0.62831853071795851,-98.728519277746187,-19.462541181938551]
[0,6,6.0000000000000005E-2,{"$f":"(Alfa1*SIN(miia*C27)-Alfa2*SIN(miib*C27))","v":-0.61595193164501971},{"$f":"-(Alfa1*COS(miia*C27)-Alfa2*COS(miib*C27))","v":63.840200507087438},{"$f":"(miia*Alfa1*COS(miia*C27)-miib*Alfa2*COS(miib*C27))","v":-30.333537317049831},{"$f":"miia*Alfa1*SIN(miia*C27)-miib*Alfa2*SIN(miib*C27)","v":-200.70462534648752},null,null,null,null,null,null,null,null,null,0,6,6.0000000000000005E-2,12.858881440026686,41.569267928522315,null,null,null,null,null,null,null,"Magnet Forcex","Magnet force Y","K*x","K*y",null,null,null,null,null,null,null,null,0.69115038378975435,-96.775699410029574,-21.98010138547437]
[0,7,7.0000000000000007E-2,{"$f":"(Alfa1*SIN(miia*C28)-Alfa2*SIN(miib*C28))","v":-0.97015164570827217},{"$f":"-(Alfa1*COS(miia*C28)-Alfa2*COS(miib*C28))","v":61.683710969515737},{"$f":"(miia*Alfa1*COS(miia*C28)-miib*Alfa2*COS(miib*C28))","v":-40.723789298007773},{"$f":"miia*Alfa1*SIN(miia*C28)-miib*Alfa2*SIN(miib*C28)","v":-230.32694876173326},null,null,null,null,null,null,null,null,null,0,7,7.0000000000000007E-2,11.94312149627692,32.718326556465527,null,null,null,null,null,null,null,{"$f":"FX_MAGNET/10","v":-57.933979303300156},{"$f":"FY_MAGNET/10","v":74.314067456411749},{"$f":"F_Kx/10","v":281.48956757233111},{"$f":"F_ky/10","v":159.70526036508431},null,null,null,null,null,null,null,null,0.75398223686155019,-94.668654073116272,-24.370075184989339]
[0,8,0.08,{"$f":"(Alfa1*SIN(miia*C29)-Alfa2*SIN(miib*C29))","v":-1.4345471867481585},{"$f":"-(Alfa1*COS(miia*C29)-Alfa2*COS(miib*C29))","v":59.239336271568497},{"$f":"(miia*Alfa1*COS(miia*C29)-miib*Alfa2*COS(miib*C29))","v":-52.349333086334582},{"$f":"miia*Alfa1*SIN(miia*C29)-miib*Alfa2*SIN(miib*C29)","v":-258.24736774857377},null,null,null,null,null,null,null,null,null,0,8,0.08,9.8776129249693856,23.36275154660569,null,null,null,null,null,null,null,null,null,null,null,null,null,null,null,null,null,null,null,0.81681408993334603,-92.415698812333659,-26.623030445771946]
[0,9,0.09,{"$f":"(Alfa1*SIN(miia*C30)-Alfa2*SIN(miib*C30))","v":-2.0207637005494625},{"$f":"-(Alfa1*COS(miia*C30)-Alfa2*COS(miib*C30))","v":56.525097369440424},{"$f":"(miia*Alfa1*COS(miia*C30)-miib*Alfa2*COS(miib*C30))","v":-65.06199795246954},{"$f":"miia*Alfa1*SIN(miia*C30)-miib*Alfa2*SIN(miib*C30)","v":-284.26823687236646},null,null,null,null,null,null,null,null,null,0,9,0.09,6.6682252437749163,13.804275575215216,null,null,null,null,null,null,null,{"$f":"FX_MAGNET/10","v":-57.933979303300156},{"$f":"FY_MAGNET/10","v":74.314067456411749},{"$f":"F_Kx/10","v":281.48956757233111},{"$f":"F_ky/10","v":159.70526036508431},null,"Lines",null,null,null,null,null,null,0.87964594300514187,-90.025725012818697,-28.73007578268524]
[0,10,9.9999999999999992E-2,{"$f":"(Alfa1*SIN(miia*C31)-Alfa2*SIN(miib*C31))","v":-2.7388688226785547},{"$f":"-(Alfa1*COS(miia*C31)-Alfa2*COS(miib*C31))","v":53.560906691807318},{"$f":"(miia*Alfa1*COS(miia*C31)-miib*Alfa2*COS(miib*C31))","v":-78.698726405187699},{"$f":"miia*Alfa1*SIN(miia*C31)-miib*Alfa2*SIN(miib*C31)","v":-308.20918879615647},null,null,null,null,null,null,null,null,null,0,10,9.9999999999999992E-2,2.3739254706224888,4.3454414262349204,null,null,null,null,null,null,null,{"$f":"IF(H11=\"YES\",CURRENTX,\"\")","v":""},{"$f":"IF(H11=\"Yes\",CURRENTY,\"\")","v":""},{"$f":"IF(H11=\"Yes\",CURRENTX,\"\")","v":""},{"$f":"IF(H11=\"yes\",CURRENTY,\"\")","v":""},null,{"$f":"IF(H11=\"Yes\",AC32,\"\")","v":""},{"$f":"AD32","v":""},null,null,null,null,null,0.94247779607693771,-87.508164809282874,-30.682895650401868]
[0,11,0.10999999999999999,{"$f":"(Alfa1*SIN(miia*C32)-Alfa2*SIN(miib*C32))","v":-3.5972322819972682},{"$f":"-(Alfa1*COS(miia*C32)-Alfa2*COS(miib*C32))","v":50.368387196040402},{"$f":"(miia*Alfa1*COS(miia*C32)-miib*Alfa2*COS(miib*C32))","v":-93.083293481249939},{"$f":"miia*Alfa1*SIN(miia*C32)-miib*Alfa2*SIN(miib*C32)","v":-329.9087374314887},null,null,null,null,null,null,null,null,null,0,11,0.10999999999999999,-2.894883468464577,-4.7216748540418862,null,null,null,null,null,null,null,{"$f":"IF(H11=\"yeS\",AC31+AC30,\"\")","v":""},{"$f":"IF(H11=\"Yes\",AD31+AD30,\"\")","v":""},{"$f":"IF(H11=\"yes\",AE31+AE30,\"\")","v":""},{"$f":"IF(H11=\"yes\",AF31+AF30,\"\")","v":""},null,{"$f":"IF(H11=\"Yes\",AC40,\"\")","v":""},{"$f":"IF(H11=\"Yes\",AD40,\"\")","v":""},null,null,null,null,null,1.0053096491487337,-84.872953861685716,-32.473783161062485]
[0,12,0.11999999999999998,{"$f":"(Alfa1*SIN(miia*C33)-Alfa2*SIN(miib*C33))","v":-4.6024034191996996},{"$f":"-(Alfa1*COS(miia*C33)-Alfa2*COS(miib*C33))","v":46.970676300240704},{"$f":"(miia*Alfa1*COS(miia*C33)-miib*Alfa2*COS(miib*C33))","v":-108.0281674343677},{"$f":"miia*Alfa1*SIN(miia*C33)-miib*Alfa2*SIN(miib*C33)","v":-349.22569718452769},null,null,null,null,null,null,null,null,null,0,12,0.11999999999999998,-8.9801566895626319,-13.126258637260008,null,null,null,null,null,null,null,{"$f":"IF(H11=\"YES\",-1/20*AD30+18/20*AC30+AC31,\"\")","v":""},{"$f":"IF(H11=\"Yes\",1/20*AC30+18/20*AD30+AD31,\"\")","v":""},{"$f":"IF(H11=\"yes\",-1/20*AF30+18/20*AE30+AE31,\"\")","v":""},{"$f":"IF(H11=\"yes\",1/20*AE30+18/20*AF30+AF31,\"\")","v":""},null,{"$f":"IF(H11=\"yes\",AE32,\"\")","v":""},{"$f":"AF32","v":""},null,null,null,null,null,1.0681415022205296,-82.130492143724013,-34.095670499841205]
[0,13,0.12999999999999998,{"$f":"(Alfa1*SIN(miia*C34)-Alfa2*SIN(miib*C34))","v":-5.7590079412806716},{"$f":"-(Alfa1*COS(miia*C34)-Alfa2*COS(miib*C34))","v":43.392216600196321},{"$f":"(miia*Alfa1*COS(miia*C34)-miib*Alfa2*COS(miib*C34))","v":-123.33649298237593},{"$f":"miia*Alfa1*SIN(miia*C34)-miib*Alfa2*SIN(miib*C34)","v":-366.04040460242084},null,null,null,null,null,null,null,null,null,0,13,0.12999999999999998,-15.68198847585049,-20.628647366052579,null,null,null,null,null,null,null,{"$f":"IF(H11=\"YES\",1/20*AD30+18/20*AC30+AC31,\"\")","v":""},{"$f":"IF(H11=\"Yes\",-1/20*AC30+18/20*AD30+AD31,\"\")","v":""},{"$f":"IF(H11=\"yes\",1/20*AF30+18/20*AE30+AE31,\"\")","v":""},{"$f":"IF(H11=\"Yes\",-1/20*AE30+18/20*AF30+AF31,\"\")","v":""},null,null,null,null,null,null,null,null,1.1309733552923256,-79.291602898886993,-35.542156818381685]
[0,14,0.13999999999999999,{"$f":"(Alfa1*SIN(miia*C35)-Alfa2*SIN(miib*C35))","v":-7.0696650380281767},{"$f":"-(Alfa1*COS(miia*C35)-Alfa2*COS(miib*C35))","v":39.658535407615084},{"$f":"(miia*Alfa1*COS(miia*C35)-miib*Alfa2*COS(miib*C35))","v":-138.80417702299104},{"$f":"miia*Alfa1*SIN(miia*C35)-miib*Alfa2*SIN(miib*C35)","v":-380.25573068610191},null,null,null,null,null,null,null,null,null,0,14,0.13999999999999999,-22.766155294139416,-27.028931921894589,null,null,null,null,null,null,null,{"$f":"IF(H11=\"YES\",AC32,\"\")","v":""},{"$f":"AD32","v":""},{"$f":"AE32","v":""},{"$f":"AF32","v":""},null,null,null,null,null,null,null,null,1.1938052083641215,-76.367489926058894,-36.807533496021399]
[0,15,0.15,{"$f":"(Alfa1*SIN(miia*C36)-Alfa2*SIN(miib*C36))","v":-8.5349257803276544},{"$f":"-(Alfa1*COS(miia*C36)-Alfa2*COS(miib*C36))","v":35.796015253024713},{"$f":"(miia*Alfa1*COS(miia*C36)-miib*Alfa2*COS(miib*C36))","v":-154.22205568142749},{"$f":"miia*Alfa1*SIN(miia*C36)-miib*Alfa2*SIN(miib*C36)","v":-391.7978742130573},null,null,null,null,null,null,null,null,null,0,15,0.15,-29.973124249046553,-32.173935322645995,null,null,null,null,null,null,null,null,null,null,null,null,null,null,null,null,null,null,null,1.2566370614359175,-73.369693363243329,-37.886806669109319]
[0,16,0.16,{"$f":"(Alfa1*SIN(miia*C37)-Alfa2*SIN(miib*C37))","v":-10.153233504342609},{"$f":"-(Alfa1*COS(miia*C37)-Alfa2*COS(miib*C37))","v":31.83165758250431},{"$f":"(miia*Alfa1*COS(miia*C37)-miib*Alfa2*COS(miib*C37))","v":-169.37812071797265},{"$f":"miia*Alfa1*SIN(miia*C37)-miib*Alfa2*SIN(miib*C37)","v":-400.61692858623979},null,null,null,null,null,null,null,null,null,0,16,0.16,-37.028171126417973,-35.962300433361456,null,null,null,null,null,null,null,"resultant",null,null,null,null,null,null,null,null,null,null,null,1.3194689145077134,-70.310044143910744,-38.775716939504278]
[0,17,0.17,{"$f":"(Alfa1*SIN(miia*C38)-Alfa2*SIN(miib*C38))","v":-11.920906662656058},{"$f":"-(Alfa1*COS(miia*C38)-Alfa2*COS(miib*C38))","v":27.79284194107025},{"$f":"(miia*Alfa1*COS(miia*C38)-miib*Alfa2*COS(miib*C38))","v":-184.05978270878495},{"$f":"miia*Alfa1*SIN(miia*C38)-miib*Alfa2*SIN(miib*C38)","v":-406.68721697164426},null,null,null,null,null,null,null,null,null,0,17,0.17,-43.652206936775507,-38.347494040624504,null,null,null,null,null,null,null,{"$f":"(FX_MAGNET+F_Kx)/30","v":74.518529423010321},{"$f":"(FY_MAGNET+F_ky)/30","v":78.006442607165354},null,null,null,null,null,null,null,null,null,null,1.3823007675795094,-67.200617305709088,-39.470756184473494]
[0,18,0.18000000000000002,{"$f":"(Alfa1*SIN(miia*C39)-Alfa2*SIN(miib*C39))","v":-13.832144395458009},{"$f":"-(Alfa1*COS(miia*C39)-Alfa2*COS(miib*C39))","v":23.707082976458967},{"$f":"(miia*Alfa1*COS(miia*C39)-miib*Alfa2*COS(miib*C39))","v":-198.05614802487537},{"$f":"miia*Alfa1*SIN(miia*C39)-miib*Alfa2*SIN(miib*C39)","v":-410.00739278465835},null,null,null,null,null,null,null,null,null,0,18,0.18000000000000002,-49.572882596056672,-39.338617885953191,null,null,null,null,null,null,null,{"$f":"IF(H12=\"yes\",CURRENTX,\"\")","v":-56.297913514466224},{"$f":"IF(H12=\"Yes\",CURRENTY,\"\")","v":-31.941052073016863},null,null,null,null,null,null,null,null,null,null,1.4451326206513053,-64.05368433580675,-39.969181401650303]
[0,19,0.19000000000000003,{"$f":"(Alfa1*SIN(miia*C40)-Alfa2*SIN(miib*C40))","v":-15.879054844131108},{"$f":"-(Alfa1*COS(miia*C40)-Alfa2*COS(miib*C40))","v":19.601787614832801},{"$f":"(miia*Alfa1*COS(miia*C40)-miib*Alfa2*COS(miib*C40))","v":-211.1602864763903},{"$f":"miia*Alfa1*SIN(miia*C40)-miib*Alfa2*SIN(miib*C40)","v":-410.60030491125053},null,null,null,null,null,null,null,null,null,0,19,0.19000000000000003,-54.535529252054687,-38.999004757227205,null,null,null,null,null,null,null,{"$f":"IF(H12=\"yes\",AC39+AC38,\"\")","v":18.220615908544097},{"$f":"IF(H12=\"Yes\",AD39+AD38,\"\")","v":46.065390534148491},null,null,null,null,null,null,null,null,null,null,1.5079644737231013,-60.881664740939009,-40.269025534411334]
[0,20,0.20000000000000004,{"$f":"(Alfa1*SIN(miia*C41)-Alfa2*SIN(miib*C41))","v":-18.051705998435942},{"$f":"-(Alfa1*COS(miia*C41)-Alfa2*COS(miib*C41))","v":15.504014754413181},{"$f":"(miia*Alfa1*COS(miia*C41)-miib*Alfa2*COS(miib*C41))","v":-223.17146656356584},{"$f":"miia*Alfa1*SIN(miia*C41)-miib*Alfa2*SIN(miib*C41)","v":-408.51262938116821},null,null,null,null,null,null,null,null,null,0,20,0.20000000000000004,-58.313497274676358,-37.442666009376389,null,null,null,null,null,null,null,{"$f":"IF(H12=\"Yes\",-1/20*AD38+18/20*AC38+AC39,\"\")","v":6.8684408358847975},{"$f":"IF(H12=\"Yes\",1/20*AC38+18/20*AD38+AD39,\"\")","v":41.990672744582469},null,null,null,null,null,null,null,null,null,null,1.5707963267948972,-57.697077033288906,-40.369105234950332]
[0,21,0.21000000000000005,{"$f":"(Alfa1*SIN(miia*C42)-Alfa2*SIN(miib*C42))","v":-20.338198639247082},{"$f":"-(Alfa1*COS(miia*C42)-Alfa2*COS(miib*C42))","v":11.440239794283896},{"$f":"(miia*Alfa1*COS(miia*C42)-miib*Alfa2*COS(miib*C42))","v":-233.89733558136973},{"$f":"miia*Alfa1*SIN(miia*C42)-miib*Alfa2*SIN(miib*C42)","v":-403.81427152334112},null,null,null,null,null,null,null,null,null,0,21,0.21000000000000005,-60.717479867186178,-34.828742407919478,null,null,null,null,null,null,null,{"$f":"IF(H12=\"Yes\",1/20*AD38+18/20*AC38+AC39,\"\")","v":14.669085096601329},{"$f":"IF(H12=\"Yes\",-1/20*AC38+18/20*AD38+AD39,\"\")","v":34.538819802281438},null,null,null,null,null,null,null,null,null,null,1.6336281798666932,-54.512489325638796,-40.269025534411334]
[0,22,0.22000000000000006,{"$f":"(Alfa1*SIN(miia*C43)-Alfa2*SIN(miib*C43))","v":-22.724760713743226},{"$f":"-(Alfa1*COS(miia*C43)-Alfa2*COS(miib*C43))","v":7.4361262639021835},{"$f":"(miia*Alfa1*COS(miia*C43)-miib*Alfa2*COS(miib*C43))","v":-243.15602235888207},{"$f":"miia*Alfa1*SIN(miia*C43)-miib*Alfa2*SIN(miib*C43)","v":-396.59754490557259},null,null,null,null,null,null,null,null,null,0,22,0.22000000000000006,-61.60344671981872,-31.354189553181765,null,null,null,null,null,null,null,{"$f":"AC40","v":18.220615908544097},{"$f":"AD40","v":46.065390534148491},null,null,null,null,null,null,null,null,null,null,1.6964600329384891,-51.340469730771062,-39.969181401650296]
[0,23,0.23000000000000007,{"$f":"(Alfa1*SIN(miia*C44)-Alfa2*SIN(miib*C44))","v":-25.19586226136753},{"$f":"-(Alfa1*COS(miia*C44)-Alfa2*COS(miib*C44))","v":3.5163067447314127},{"$f":"(miia*Alfa1*COS(miia*C44)-miib*Alfa2*COS(miib*C44))","v":-250.77814117159571},{"$f":"miia*Alfa1*SIN(miia*C44)-miib*Alfa2*SIN(miib*C44)","v":-386.97613556868953},null,null,null,null,null,null,null,null,null,0,23,0.23000000000000007,-60.878867553356443,-27.244999187520719,null,null,null,null,null,null,null,null,null,null,null,null,null,null,null,null,null,null,null,1.7592918860102851,-48.193536760868717,-39.47075618447348]
[0,24,0.24000000000000007,{"$f":"(Alfa1*SIN(miia*C45)-Alfa2*SIN(miib*C45))","v":-27.734349798943732},{"$f":"-(Alfa1*COS(miia*C45)-Alfa2*COS(miib*C45))","v":-0.2958248203843219},{"$f":"(miia*Alfa1*COS(miia*C45)-miib*Alfa2*COS(miib*C45))","v":-256.60867633751445},{"$f":"miia*Alfa1*SIN(miia*C45)-miib*Alfa2*SIN(miib*C45)","v":-375.08386218762121},null,null,null,null,null,null,null,null,null,0,24,0.24000000000000007,-58.506972628544681,-22.746315623562928,null,null,null,null,null,null,null,null,null,null,null,null,null,null,null,null,null,null,null,1.822123739082081,-45.084109922667068,-38.775716939504257]
[0,25,0.25000000000000006,{"$f":"(Alfa1*SIN(miia*C46)-Alfa2*SIN(miib*C46))","v":-30.32159887416838},{"$f":"-(Alfa1*COS(miia*C46)-Alfa2*COS(miib*C46))","v":-3.9783074509825997},{"$f":"(miia*Alfa1*COS(miia*C46)-miib*Alfa2*COS(miib*C46))","v":-260.50872818651391},{"$f":"miia*Alfa1*SIN(miia*C46)-miib*Alfa2*SIN(miib*C46)","v":-361.0732448072265},null,null,null,null,null,null,null,null,null,0,25,0.25000000000000006,-54.508874656848292,-18.111850052929736,null,null,null,null,null,null,null,null,null,null,null,null,null,null,null,null,null,null,null,1.884955592153877,-42.024460703334483,-37.886806669109298]
[0,26,0.26000000000000006,{"$f":"(Alfa1*SIN(miia*C47)-Alfa2*SIN(miib*C47))","v":-32.937683310301523},{"$f":"-(Alfa1*COS(miia*C47)-Alfa2*COS(miib*C47))","v":-7.5107922427947109},{"$f":"(miia*Alfa1*COS(miia*C47)-miib*Alfa2*COS(miib*C47))","v":-262.35710246515805},{"$f":"miia*Alfa1*SIN(miia*C47)-miib*Alfa2*SIN(miib*C47)","v":-345.1138966890199},null,null,null,null,null,null,null,null,null,0,26,0.26000000000000006,-48.963460963956585,-13.593022872399935,null,null,null,null,null,null,null,null,null,null,null,null,null,null,null,null,null,null,null,1.9477874452256729,-39.026664140518918,-36.807533496021378]
[0,27,0.27000000000000007,{"$f":"(Alfa1*SIN(miia*C48)-Alfa2*SIN(miib*C48))","v":-35.561559493121401},{"$f":"-(Alfa1*COS(miia*C48)-Alfa2*COS(miib*C48))","v":-10.874704582722842},{"$f":"(miia*Alfa1*COS(miia*C48)-miib*Alfa2*COS(miib*C48))","v":-262.05172679235727},{"$f":"miia*Alfa1*SIN(miia*C48)-miib*Alfa2*SIN(miib*C48)","v":-327.39075554744727},null,null,null,null,null,null,null,null,null,0,27,0.27000000000000007,-42.005052872643567,-9.4282743126049162,null,null,null,null,null,null,null,null,null,null,null,null,null,null,null,null,null,null,null,2.0106192982974687,{"$f":"FRX+F_CURV_R*COS(AO48)","v":-36.102551167690827},{"$f":"FRY+F_CURV_R*SIN(AO48)","v":-35.542156818381663}]
[0,28,0.28000000000000008,{"$f":"(Alfa1*SIN(miia*C49)-Alfa2*SIN(miib*C49))","v":-38.171263895823714},{"$f":"-(Alfa1*COS(miia*C49)-Alfa2*COS(miib*C49))","v":-14.053387946924135},{"$f":"(miia*Alfa1*COS(miia*C49)-miib*Alfa2*COS(miib*C49))","v":-259.51087949940973},{"$f":"miia*Alfa1*SIN(miia*C49)-miib*Alfa2*SIN(miib*C49)","v":-308.10217203368506},null,null,null,null,null,null,null,null,null,0,28,0.28000000000000008,-33.818917580987858,-5.8329761755442702,null,null,null,null,null,null,null,null,null,null,null,null,null,null,null,null,null,null,null,2.0734511513692646,-33.263661922853807,-34.095670499841177]
[0,29,0.29000000000000009,{"$f":"(Alfa1*SIN(miia*C50)-Alfa2*SIN(miib*C50))","v":-40.744121900094555},{"$f":"-(Alfa1*COS(miia*C50)-Alfa2*COS(miib*C50))","v":-17.032227949680028},{"$f":"(miia*Alfa1*COS(miia*C50)-miib*Alfa2*COS(miib*C50))","v":-254.67421805395662},{"$f":"miia*Alfa1*SIN(miia*C50)-miib*Alfa2*SIN(miib*C50)","v":-287.45787472536637},null,null,null,null,null,null,null,null,null,0,29,0.29000000000000009,-24.634802801970793,-2.9903526872894819,null,null,null,null,null,null,null,null,null,null,null,null,null,null,null,null,null,null,null,2.1362830044410606,-30.521200204892111,-32.473783161062457]
[0,30,0.3000000000000001,{"$f":"(Alfa1*SIN(miia*C51)-Alfa2*SIN(miib*C51))","v":-43.256965853458993},{"$f":"-(Alfa1*COS(miia*C51)-Alfa2*COS(miib*C51))","v":-19.798755509517619},{"$f":"(miia*Alfa1*COS(miia*C51)-miib*Alfa2*COS(miib*C51))","v":-247.50359626256787},{"$f":"miia*Alfa1*SIN(miia*C51)-miib*Alfa2*SIN(miib*C51)","v":-265.67683208824815},null,null,null,null,null,null,null,null,null,0,30,0.3000000000000001,-14.718742719057637,-1.0437773482527652,null,null,null,null,null,null,null,null,null,null,null,null,null,null,null,null,null,null,null,2.1991148575128565,-27.885989257294952,-30.682895650401839]
[0,31,0.31000000000000011,{"$f":"(Alfa1*SIN(miia*C52)-Alfa2*SIN(miib*C52))","v":-45.686360205393235},{"$f":"-(Alfa1*COS(miia*C52)-Alfa2*COS(miib*C52))","v":-22.342728208898894},{"$f":"(miia*Alfa1*COS(miia*C52)-miib*Alfa2*COS(miib*C52))","v":-237.98366155115332},{"$f":"miia*Alfa1*SIN(miia*C52)-miib*Alfa2*SIN(miib*C52)","v":-242.98503287861752},null,null,null,null,null,null,null,null,null,0,31,0.31000000000000011,-4.3634522837774643,-9.0756863752165684E-2,null,null,null,null,null,null,null,null,null,null,null,null,null,null,null,null,null,null,null,2.2619467105846525,-25.368429053759129,-28.730075782685205]
[0,32,0.32000000000000012,{"$f":"(Alfa1*SIN(miia*C53)-Alfa2*SIN(miib*C53))","v":-48.008831488580462},{"$f":"-(Alfa1*COS(miia*C53)-Alfa2*COS(miib*C53))","v":-24.656189142604404},{"$f":"(miia*Alfa1*COS(miia*C53)-miib*Alfa2*COS(miib*C53))","v":-226.12222581514152},{"$f":"miia*Alfa1*SIN(miia*C53)-miib*Alfa2*SIN(miib*C53)","v":-219.61320724324895},null,null,null,null,null,null,null,null,null,0,32,0.32000000000000012,6.1223171897326729,-0.17884499627962144,null,null,null,null,null,null,null,null,null,null,null,null,null,null,null,null,null,null,null,2.3247785636564484,-22.97845525424416,-26.62303044577191]
[0,33,0.33000000000000013,{"$f":"(Alfa1*SIN(miia*C54)-Alfa2*SIN(miib*C54))","v":-50.201100857858698},{"$f":"-(Alfa1*COS(miia*C54)-Alfa2*COS(miib*C54))","v":-26.733502775521121},{"$f":"(miia*Alfa1*COS(miia*C54)-miib*Alfa2*COS(miib*C54))","v":-211.95040559049701},{"$f":"miia*Alfa1*SIN(miia*C54)-miib*Alfa2*SIN(miib*C54)","v":-195.79451133915614},null,null,null,null,null,null,null,null,null,0,33,0.33000000000000013,16.42504701798206,-1.3036512282617596,null,null,null,null,null,null,null,null,null,null,null,null,null,null,null,null,null,null,null,2.3876104167282444,-20.725499993461547,-24.37007518498929]
[0,34,0.34000000000000014,{"$f":"(Alfa1*SIN(miia*C55)-Alfa2*SIN(miib*C55))","v":-52.240316868407959},{"$f":"-(Alfa1*COS(miia*C55)-Alfa2*COS(miib*C55))","v":-28.57136756064526},{"$f":"(miia*Alfa1*COS(miia*C55)-miib*Alfa2*COS(miib*C55))","v":-195.52252959958491},{"$f":"miia*Alfa1*SIN(miia*C55)-miib*Alfa2*SIN(miib*C55)","v":-171.76219863264839},null,null,null,null,null,null,"dfi",{"$f":"PI()/50","v":6.2831853071795868E-2},null,0,34,0.34000000000000014,26.237905860790537,-3.4090245780372901,null,null,null,null,null,null,null,null,null,null,null,null,null,null,null,null,null,null,null,2.4504422698000403,-18.618454656548252,-21.980101385474313]
[0,35,0.35000000000000014,{"$f":"(Alfa1*SIN(miia*C56)-Alfa2*SIN(miib*C56))","v":-54.104286166874878},{"$f":"-(Alfa1*COS(miia*C56)-Alfa2*COS(miib*C56))","v":-30.168805300428232},{"$f":"(miia*Alfa1*COS(miia*C56)-miib*Alfa2*COS(miib*C56))","v":-176.91581404963739},{"$f":"miia*Alfa1*SIN(miia*C56)-miib*Alfa2*SIN(miib*C56)","v":-147.74730114300701},null,null,null,null,null,null,null,null,null,0,35,0.35000000000000014,35.271943924294412,-6.3894051531622518,null,null,null,null,null,null,null,null,null,null,null,null,null,null,null,null,null,null,null,2.5132741228718363,-16.665634788831625,-19.462541181938487]
[0,36,0.36000000000000015,{"$f":"(Alfa1*SIN(miia*C57)-Alfa2*SIN(miib*C57))","v":-55.771699784529019},{"$f":"-(Alfa1*COS(miia*C57)-Alfa2*COS(miib*C57))","v":-31.527127466807507},{"$f":"(miia*Alfa1*COS(miia*C57)-miib*Alfa2*COS(miib*C57))","v":-156.22980838291366},{"$f":"miia*Alfa1*SIN(miia*C57)-miib*Alfa2*SIN(miib*C57)","v":-123.97634376944632},null,null,null,null,null,null,"kyklos diskoy",null,null,0,36,0.36000000000000015,43.266590750040301,-10.094248563066289,null,null,null,null,null,null,null,null,null,null,null,null,null,null,null,null,null,null,null,2.5761059759436322,-14.874747278171014,-16.827330234341321]
[0,37,0.37000000000000016,{"$f":"(Alfa1*SIN(miia*C58)-Alfa2*SIN(miib*C58))","v":-57.222352760045517},{"$f":"-(Alfa1*COS(miia*C58)-Alfa2*COS(miib*C58))","v":-32.649878925053471},{"$f":"(miia*Alfa1*COS(miia*C58)-miib*Alfa2*COS(miib*C58))","v":-133.58561647337518},{"$f":"miia*Alfa1*SIN(miia*C58)-miib*Alfa2*SIN(miib*C58)","v":-100.66911448225454},null,null,null,null,"curvatue circle",null,{"$f":"0","v":0},{"$f":"Aktina*COS(N58)","v":70},{"$f":"Aktina*(SIN(N58))","v":0},0,37,0.37000000000000016,49.999048285204303,-14.334344644760684,null,null,null,null,null,null,null,null,null,null,null,null,null,null,null,null,null,null,null,2.6389378290154282,-13.252859939392309,-14.084868516379622]
[0,38,0.38000000000000017,{"$f":"(Alfa1*SIN(miia*C59)-Alfa2*SIN(miib*C59))","v":-58.437354880742802},{"$f":"-(Alfa1*COS(miia*C59)-Alfa2*COS(miib*C59))","v":-33.542759731633225},{"$f":"(miia*Alfa1*COS(miia*C59)-miib*Alfa2*COS(miib*C59))","v":-109.12490051187936},{"$f":"miia*Alfa1*SIN(miia*C59)-miib*Alfa2*SIN(miib*C59)","v":-78.036512573761883},null,null,null,{"$f":"0","v":0},{"$f":"RX+R_KAMP*COS(K59)","v":-178.02754193663759},{"$f":"RY+R_KAMP*SIN(K59)","v":27.510201892112555},{"$f":"N58+dfi","v":6.2831853071795868E-2},{"$f":"Aktina*COS(N59)","v":69.86187098997901},{"$f":"Aktina*(SIN(N59))","v":4.3953363670519359},0,38,0.38000000000000017,55.292214704097276,-18.889775426625725,null,null,null,null,null,null,null,null,null,null,null,null,null,null,null,null,null,null,null,2.7017696820872241,-11.806373620851829,-11.245979271542595]
[0,39,0.39000000000000018,{"$f":"(Alfa1*SIN(miia*C60)-Alfa2*SIN(miib*C60))","v":-59.399330414473297},{"$f":"-(Alfa1*COS(miia*C60)-Alfa2*COS(miib*C60))","v":-34.213525894396668},{"$f":"(miia*Alfa1*COS(miia*C60)-miib*Alfa2*COS(miib*C60))","v":-83.008676998065297},{"$f":"miia*Alfa1*SIN(miia*C60)-miib*Alfa2*SIN(miib*C60)","v":-56.278496357975257},null,null,null,{"$f":"K59+2*PI()/80","v":7.8539816339744828E-2},-177.79516301638486,21.595763425264508,{"$f":"N59+dfi","v":0.12566370614359174},{"$f":"Aktina*COS(N60)","v":69.448029092013456},{"$f":"Aktina*(SIN(N60))","v":8.7733263495012981},0,39,0.39000000000000018,59.020832659550301,-23.519190927312245,null,null,null,null,null,null,null,null,null,null,null,null,null,null,null,null,null,null,null,2.7646015351590201,-10.540996943212122,-8.3218662987144931]
[0,40,0.40000000000000019,{"$f":"(Alfa1*SIN(miia*C61)-Alfa2*SIN(miib*C61))","v":-60.092604809050144},{"$f":"-(Alfa1*COS(miia*C61)-Alfa2*COS(miib*C61))","v":-34.67187019235093},{"$f":"(miia*Alfa1*COS(miia*C61)-miib*Alfa2*COS(miib*C61))","v":-55.415916340509071},{"$f":"miia*Alfa1*SIN(miia*C61)-miib*Alfa2*SIN(miib*C61)","v":-35.582150687475462},null,null,null,{"$f":"K60+2*PI()/80","v":0.15707963267948966},-177.09945894894383,15.71778943831495,{"$f":"N60+dfi","v":0.1884955592153876},{"$f":"Aktina*COS(N61)","v":68.760107551008204},{"$f":"Aktina*(SIN(N61))","v":13.116692021000723},0,40,0.40000000000000019,61.115625967595875,-27.970027913527964,null,null,null,null,null,null,null,null,null,null,null,null,null,null,null,null,null,null,null,2.827433388230816,-9.461723770124209,-5.3240697358989184]
[0,41,0.4100000000000002,{"$f":"(Alfa1*SIN(miia*C62)-Alfa2*SIN(miib*C62))","v":-60.503376461060441},{"$f":"-(Alfa1*COS(miia*C62)-Alfa2*COS(miib*C62))","v":-34.929284350022883},{"$f":"(miia*Alfa1*COS(miia*C62)-miib*Alfa2*COS(miib*C62))","v":-26.541959536529063},{"$f":"miia*Alfa1*SIN(miia*C62)-miib*Alfa2*SIN(miib*C62)","v":-16.119893432758033},null,null,null,0.23561944901923448,-175.94471898123538,9.9125195955181198,{"$f":"N61+dfi","v":0.25132741228718347},{"$f":"Aktina*COS(N62)","v":67.800821279004168},{"$f":"Aktina*(SIN(N62))","v":17.408292101539836},0,41,0.4100000000000002,61.565268371046407,-31.989258263098726,null,null,null,null,null,null,null,null,null,null,null,null,null,null,null,null,null,null,null,2.890265241302612,-8.5728134997292571,-2.2644205165663358]
[0,42,0.42000000000000021,{"$f":"(Alfa1*SIN(miia*C63)-Alfa2*SIN(miib*C63))","v":-60.619871799931154},{"$f":"-(Alfa1*COS(miia*C63)-Alfa2*COS(miib*C63))","v":-34.998904045943007},{"$f":"(miia*Alfa1*COS(miia*C63)-miib*Alfa2*COS(miib*C63))","v":3.4032327604707859},{"$f":"miia*Alfa1*SIN(miia*C63)-miib*Alfa2*SIN(miib*C63)","v":1.9521613451003361},null,null,null,0.31415926535897931,-174.33806246915043,4.2157453159029714,{"$f":"N62+dfi","v":0.31415926535897931},{"$f":"Aktina*COS(N63)","v":66.573956140660741},{"$f":"Aktina*(SIN(N63))","v":21.631189606246316},0,42,0.42000000000000021,60.416113817565368,-35.334231641008536,null,null,null,null,null,null,null,null,null,null,null,null,null,null,null,null,null,null,null,2.9530970943744079,-7.8777742547600482,0.84500632163532075]
[0,43,0.43000000000000022,{"$f":"(Alfa1*SIN(miia*C64)-Alfa2*SIN(miib*C64))","v":-60.432482094750497},{"$f":"-(Alfa1*COS(miia*C64)-Alfa2*COS(miib*C64))","v":-34.895338404278732},{"$f":"(miia*Alfa1*COS(miia*C64)-miib*Alfa2*COS(miib*C64))","v":34.196981793403125},{"$f":"miia*Alfa1*SIN(miia*C64)-miib*Alfa2*SIN(miib*C64)","v":18.495667388557081},null,null,null,0.39269908169872414,-172.28939498435346,-1.3374108927269859,{"$f":"N63+dfi","v":0.37699111843077515},{"$f":"Aktina*COS(N64)","v":65.084354012177599},{"$f":"Aktina*(SIN(N64))","v":25.768718687927453},0,43,0.43000000000000022,57.769706211824811,-37.783172678999634,null,null,null,null,null,null,null,null,null,null,null,null,null,null,null,null,null,null,null,3.0159289474462039,-7.3793490375832391,3.9919392915376619]
[0,44,0.44000000000000022,{"$f":"(Alfa1*SIN(miia*C65)-Alfa2*SIN(miib*C65))","v":-59.933880569002895},{"$f":"-(Alfa1*COS(miia*C65)-Alfa2*COS(miib*C65))","v":-34.634485771412585},{"$f":"(miia*Alfa1*COS(miia*C65)-miib*Alfa2*COS(miib*C65))","v":65.605924364616754},{"$f":"miia*Alfa1*SIN(miia*C65)-miib*Alfa2*SIN(miib*C65)","v":33.391323016316278},null,null,null,0.47123889803846897,-169.81134724313938,-6.7127119757337113,{"$f":"N64+dfi","v":0.43982297150257099},{"$f":"Aktina*COS(N65)","v":63.337893672621369},{"$f":"Aktina*(SIN(N65))","v":29.804550409555084},0,44,0.44000000000000022,53.778174337344637,-39.144905941402655,null,null,null,null,null,null,null,null,null,null,null,null,null,null,null,null,null,null,null,3.0787608005179998,-7.0795049048222154,7.1639588864054033]
[0,45,0.45000000000000023,{"$f":"(Alfa1*SIN(miia*C66)-Alfa2*SIN(miib*C66))","v":-59.119118600288559},{"$f":"-(Alfa1*COS(miia*C66)-Alfa2*COS(miib*C66))","v":-34.233337713779335},{"$f":"(miia*Alfa1*COS(miia*C66)-miib*Alfa2*COS(miib*C66))","v":97.388158768124697},{"$f":"miia*Alfa1*SIN(miia*C66)-miib*Alfa2*SIN(miib*C66)","v":46.539948181341344},null,null,null,0.5497787143782138,-166.91919723386718,-11.877017414471496,{"$f":"N65+dfi","v":0.50265482457436683},{"$f":"Aktina*COS(N66)","v":61.341467603070448},{"$f":"Aktina*(SIN(N66))","v":33.722757187120067},0,45,0.45000000000000023,48.637701101739736,-39.267412146040975,null,null,null,null,null,null,null,null,null,null,null,null,null,null,null,null,null,null,null,3.1415926535897958,-6.9794252042832241,10.348546594055508]
[0,46,0.46000000000000024,{"$f":"(Alfa1*SIN(miia*C67)-Alfa2*SIN(miib*C67))","v":-57.985699986361084},{"$f":"-(Alfa1*COS(miia*C67)-Alfa2*COS(miib*C67))","v":-33.709773288209725},{"$f":"(miia*Alfa1*COS(miia*C67)-miib*Alfa2*COS(miib*C67))","v":129.29548201378034},{"$f":"miia*Alfa1*SIN(miia*C67)-miib*Alfa2*SIN(miib*C67)","v":57.86335133990724},null,null,null,0.62831853071795862,-163.63077602308158,-16.798487548604683,{"$f":"N66+dfi","v":0.56548667764616267},{"$f":"Aktina*COS(N67)","v":59.102954785141065},{"$f":"Aktina*(SIN(N67))","v":37.507875648529762},0,46,0.46000000000000024,42.580332120679735,-38.044865191872589,null,null,null,null,null,null,null,null,null,null,null,null,null,null,null,null,null,null,null,3.2044245066615917,-7.0795049048222296,13.53313430170561]
[0,47,0.47000000000000025,{"$f":"(Alfa1*SIN(miia*C68)-Alfa2*SIN(miib*C68))","v":-56.53363247340171},{"$f":"-(Alfa1*COS(miia*C68)-Alfa2*COS(miib*C68))","v":-33.082345730233271},{"$f":"(miia*Alfa1*COS(miia*C68)-miib*Alfa2*COS(miib*C68))","v":161.07569643915559},{"$f":"miia*Alfa1*SIN(miia*C68)-miib*Alfa2*SIN(miib*C68)","v":67.304977780426753},null,null,null,0.70685834705770345,-159.96635782105801,-21.446779878201454,{"$f":"N67+dfi","v":0.62831853071795851},{"$f":"Aktina*COS(N68)","v":56.631189606246323},{"$f":"Aktina*(SIN(N68))","v":41.144967660473114},0,47,0.47000000000000025,35.864453905610901,-35.422859692433335,null,null,null,null,null,null,null,null,null,null,null,null,null,null,null,null,null,null,null,3.2672563597333877,-7.3793490375832675,16.70515389657335]
[0,48,0.48000000000000026,{"$f":"(Alfa1*SIN(miia*C69)-Alfa2*SIN(miib*C69))","v":-54.765455965223268},{"$f":"-(Alfa1*COS(miia*C69)-Alfa2*COS(miib*C69))","v":-32.370063778337688},{"$f":"(miia*Alfa1*COS(miia*C69)-miib*Alfa2*COS(miib*C69))","v":192.47496309549558},{"$f":"miia*Alfa1*SIN(miia*C69)-miib*Alfa2*SIN(miib*C69)","v":74.830333266427772},null,null,null,0.78539816339744828,-155.94853498455473,-25.793236135335789,{"$f":"N68+dfi","v":0.69115038378975435},{"$f":"Aktina*COS(N69)","v":53.935926994305255},{"$f":"Aktina*(SIN(N69))","v":44.619679282408278},0,48,0.48000000000000026,28.764323966449943,-31.401610532413692,null,null,null,null,null,null,null,null,null,null,null,null,null,null,null,null,null,null,null,3.3300882128051836,-7.8777742547600909,19.852086866475688]
[0,49,0.49000000000000027,{"$f":"(Alfa1*SIN(miia*C70)-Alfa2*SIN(miib*C70))","v":-52.686247060844529},{"$f":"-(Alfa1*COS(miia*C70)-Alfa2*COS(miib*C70))","v":-31.59216990234756},{"$f":"(miia*Alfa1*COS(miia*C70)-miib*Alfa2*COS(miib*C70))","v":223.24017880964021},{"$f":"miia*Alfa1*SIN(miia*C70)-miib*Alfa2*SIN(miib*C70)","v":80.427179114293523},null,null,null,0.86393797973719311,-151.60207872742038,-29.811058971839095,{"$f":"N69+dfi","v":0.75398223686155019},{"$f":"Aktina*COS(N70)","v":51.027803919498815},{"$f":"Aktina*(SIN(N70))","v":47.918297415008198},0,49,0.49000000000000027,21.559071918033968,-26.036986593876073,null,null,null,null,null,null,null,null,null,null,null,null,null,null,null,null,null,null,null,3.3929200658769796,-8.5728134997293211,22.961513704677344]
[0,50,0.50000000000000022,{"$f":"(Alfa1*SIN(miia*C71)-Alfa2*SIN(miib*C71))","v":-50.303599800324491},{"$f":"-(Alfa1*COS(miia*C71)-Alfa2*COS(miib*C71))","v":-30.767917731381615},{"$f":"(miia*Alfa1*COS(miia*C71)-miib*Alfa2*COS(miib*C71))","v":253.12135356903784},{"$f":"miia*Alfa1*SIN(miia*C71)-miib*Alfa2*SIN(miib*C71)","v":84.10549713047584},null,null,null,0.94247779607693793,-146.95378639782362,-33.47547717386265,{"$f":"N70+dfi","v":0.81681408993334603},{"$f":"Aktina*COS(N71)","v":47.918297415008219},{"$f":"Aktina*(SIN(N71))","v":51.027803919498794},0,50,0.50000000000000022,14.521610732081747,-19.439327026462742,null,null,null,null,null,null,null,null,null,null,null,null,null,null,null,null,null,null,null,3.4557519189487755,-9.4617237701242871,26.021162924009921]
[0,51,0.51000000000000023,{"$f":"(Alfa1*SIN(miia*C72)-Alfa2*SIN(miib*C72))","v":-47.627582732579803},{"$f":"-(Alfa1*COS(miia*C72)-Alfa2*COS(miib*C72))","v":-29.916350981007465},{"$f":"(miia*Alfa1*COS(miia*C72)-miib*Alfa2*COS(miib*C72))","v":281.87396485458123},{"$f":"miia*Alfa1*SIN(miia*C72)-miib*Alfa2*SIN(miib*C72)","v":85.897225151806964},null,null,null,1.0210176124166828,-142.03231626369043,-36.763898384648265,{"$f":"N71+dfi","v":0.87964594300514187},{"$f":"Aktina*COS(N72)","v":44.619679282408292},{"$f":"Aktina*(SIN(N72))","v":53.935926994305234},0,51,0.51000000000000023,7.9078998156964664,-11.770076825997457,null,null,null,null,null,null,null,null,null,null,null,null,null,null,null,null,null,null,null,3.5185837720205715,-10.540996943212221,29.018959486825487]
[0,52,0.52000000000000024,{"$f":"(Alfa1*SIN(miia*C73)-Alfa2*SIN(miib*C73))","v":-44.670672651805148},{"$f":"-(Alfa1*COS(miia*C73)-Alfa2*COS(miib*C73))","v":-29.056086160208714},{"$f":"(miia*Alfa1*COS(miia*C73)-miib*Alfa2*COS(miib*C73))","v":309.26126575617639},{"$f":"miia*Alfa1*SIN(miia*C73)-miib*Alfa2*SIN(miib*C73)","v":85.855766243027389},null,null,null,1.0995574287564276,-136.86801082495265,-39.656048393920436,{"$f":"N72+dfi","v":0.94247779607693771},{"$f":"Aktina*COS(N73)","v":41.144967660473135},{"$f":"Aktina*(SIN(N73))","v":56.631189606246309},0,52,0.52000000000000024,1.9469865322073667,-3.2363655144396244,null,null,null,null,null,null,null,null,null,null,null,null,null,null,null,null,null,null,null,3.5814156250923674,-11.806373620851943,31.943072459653585]
[0,53,0.53000000000000025,{"$f":"(Alfa1*SIN(miia*C74)-Alfa2*SIN(miib*C74))","v":-41.44766557875213},{"$f":"-(Alfa1*COS(miia*C74)-Alfa2*COS(miib*C74))","v":-28.205101296806227},{"$f":"(miia*Alfa1*COS(miia*C74)-miib*Alfa2*COS(miib*C74))","v":335.05652414673818},{"$f":"miia*Alfa1*SIN(miia*C74)-miib*Alfa2*SIN(miib*C74)","v":84.055276884604268},null,null,null,1.1780972450961724,-131.49270974194593,-42.134096135134548,{"$f":"N73+dfi","v":1.0053096491487337},{"$f":"Aktina*COS(N74)","v":37.507875648529776},{"$f":"Aktina*(SIN(N74))","v":59.102954785141044},0,53,0.53000000000000025,-3.1677792786118117,5.9162650892568394,null,null,null,null,null,null,null,null,null,null,null,null,null,null,null,null,null,null,null,3.6442474781641634,-13.252859939392437,34.781961704490598]
[0,54,0.54000000000000026,{"$f":"(Alfa1*SIN(miia*C75)-Alfa2*SIN(miib*C75))","v":-37.975565787218358},{"$f":"-(Alfa1*COS(miia*C75)-Alfa2*COS(miib*C75))","v":-27.380532855468033},{"$f":"(miia*Alfa1*COS(miia*C75)-miib*Alfa2*COS(miib*C75))","v":359.04517085726275},{"$f":"miia*Alfa1*SIN(miia*C75)-miib*Alfa2*SIN(miib*C75)","v":80.589741708503297},null,null,null,1.2566370614359172,-125.93955353331596,-44.182763619931499,{"$f":"N74+dfi","v":1.0681415022205296},{"$f":"Aktina*COS(N75)","v":33.722757187120074},{"$f":"Aktina*(SIN(N75))","v":61.341467603070448},0,54,0.54000000000000026,-7.2860109878677184,15.412703932055667,null,null,null,null,null,null,null,null,null,null,null,null,null,null,null,null,null,null,null,3.7070793312359593,-14.874747278171149,37.524423422452301]
[0,55,0.55000000000000027,{"$f":"(Alfa1*SIN(miia*C76)-Alfa2*SIN(miib*C76))","v":-34.273453892417848},{"$f":"-(Alfa1*COS(miia*C76)-Alfa2*COS(miib*C76))","v":-26.598482936052211},{"$f":"(miia*Alfa1*COS(miia*C76)-miib*Alfa2*COS(miib*C76))","v":381.02683568220266},{"$f":"miia*Alfa1*SIN(miia*C76)-miib*Alfa2*SIN(miib*C76)","v":75.571844487547239},null,null,null,1.3351768777756621,-120.24277925370082,-45.789420132016453,{"$f":"N75+dfi","v":1.1309733552923256},{"$f":"Aktina*COS(N76)","v":29.804550409555087},{"$f":"Aktina*(SIN(N76))","v":63.337893672621369},0,55,0.55000000000000027,-10.305745834310956,24.958341529776099,null,null,null,null,null,null,null,null,null,null,null,null,null,null,null,null,null,null,null,3.7699111843077553,-16.665634788831781,40.159634370049453]
[0,56,0.56000000000000028,{"$f":"(Alfa1*SIN(miia*C77)-Alfa2*SIN(miib*C77))","v":-30.36233522429626},{"$f":"-(Alfa1*COS(miia*C77)-Alfa2*COS(miib*C77))","v":-25.87383873263153},{"$f":"(miia*Alfa1*COS(miia*C77)-miib*Alfa2*COS(miib*C77))","v":400.81725114174571},{"$f":"miia*Alfa1*SIN(miia*C77)-miib*Alfa2*SIN(miib*C77)","v":69.13164713383027},null,null,null,1.4137166941154069,-114.43750941090398,-46.944160099724918,{"$f":"N76+dfi","v":1.1938052083641215},{"$f":"Aktina*COS(N77)","v":25.76871868792745},{"$f":"Aktina*(SIN(N77))","v":65.084354012177599},0,56,0.56000000000000028,-12.17688819476488,34.249975981515277,null,null,null,null,null,null,null,null,null,null,null,null,null,null,null,null,null,null,null,3.8327430373795512,-18.618454656548415,42.677194573585268]
[0,57,0.57000000000000028,{"$f":"(Alfa1*SIN(miia*C78)-Alfa2*SIN(miib*C78))","v":-26.264969903263502},{"$f":"-(Alfa1*COS(miia*C78)-Alfa2*COS(miib*C78))","v":-25.220106106230475},{"$f":"(miia*Alfa1*COS(miia*C78)-miib*Alfa2*COS(miib*C78))","v":418.25000522485874},{"$f":"miia*Alfa1*SIN(miia*C78)-miib*Alfa2*SIN(miib*C78)","v":61.415090392854864},null,null,null,1.4922565104551517,-108.55953542395443,-47.639864167165932,{"$f":"N77+dfi","v":1.2566370614359175},{"$f":"Aktina*COS(N78)","v":21.631189606246309},{"$f":"Aktina*(SIN(N78))","v":66.573956140660755},0,57,0.57000000000000028,-12.902504407346337,42.987127791547003,null,null,null,null,null,null,null,null,null,null,null,null,null,null,null,null,null,null,null,3.8955748904513472,-20.725499993461725,45.06716837310023]
[0,58,0.58000000000000029,{"$f":"(Alfa1*SIN(miia*C79)-Alfa2*SIN(miib*C79))","v":-22.005686216306735},{"$f":"-(Alfa1*COS(miia*C79)-Alfa2*COS(miib*C79))","v":-24.649258978350094},{"$f":"(miia*Alfa1*COS(miia*C79)-miib*Alfa2*COS(miib*C79))","v":433.17812582121252},{"$f":"miia*Alfa1*SIN(miia*C79)-miib*Alfa2*SIN(miib*C79)","v":52.582331713280581},null,null,null,1.5707963267948966,-102.64509695710638,-47.872243087418674,{"$f":"N78+dfi","v":1.3194689145077134},{"$f":"Aktina*COS(N79)","v":17.408292101539818},{"$f":"Aktina*(SIN(N79))","v":67.800821279004182},0,58,0.58000000000000029,-12.537924544423287,50.883320134825475,null,null,null,null,null,null,null,null,null,null,null,null,null,null,null,null,null,null,null,3.9584067435231431,-22.978455254244352,47.320123633882837]
[0,59,0.5900000000000003,{"$f":"(Alfa1*SIN(miia*C80)-Alfa2*SIN(miib*C80))","v":-17.610179056219984},{"$f":"-(Alfa1*COS(miia*C80)-Alfa2*COS(miib*C80))","v":-24.171606089233673},{"$f":"(miia*Alfa1*COS(miia*C80)-miib*Alfa2*COS(miib*C80))","v":445.47548120658126},{"$f":"miia*Alfa1*SIN(miia*C80)-miib*Alfa2*SIN(miib*C80)","v":42.805937409481821},null,null,null,1.6493361431346414,-96.730658490258335,-47.639864167165932,{"$f":"N79+dfi","v":1.3823007675795094},{"$f":"Aktina*COS(N80)","v":13.1166920210007},{"$f":"Aktina*(SIN(N80))","v":68.760107551008204},0,59,0.5900000000000003,-11.187694698140977,57.676881840720789,null,null,null,null,null,null,null,null,null,null,null,null,null,null,null,null,null,null,null,4.0212385965949391,{"$f":"FRX+F_CURV_R*COS(AO80)","v":-25.368429053759328},{"$f":"FRY+F_CURV_R*SIN(AO80)","v":49.427168970796124}]
[0,60,0.60000000000000031,{"$f":"(Alfa1*SIN(miia*C81)-Alfa2*SIN(miib*C81))","v":-13.10529533410191},{"$f":"-(Alfa1*COS(miia*C81)-Alfa2*COS(miib*C81))","v":-23.795676486178902},{"$f":"(miia*Alfa1*COS(miia*C81)-miib*Alfa2*COS(miib*C81))","v":455.03798275852296},{"$f":"miia*Alfa1*SIN(miia*C81)-miib*Alfa2*SIN(miib*C81)","v":32.268947699113305},null,null,null,1.7278759594743862,-90.85268450330878,-46.944160099724918,{"$f":"N80+dfi","v":1.4451326206513053},{"$f":"Aktina*COS(N81)","v":8.7733263495012679},{"$f":"Aktina*(SIN(N81))","v":69.448029092013456},0,60,0.60000000000000031,-9.0005096930527291,63.140848588400196,null,null,null,null,null,null,null,null,null,null,null,null,null,null,null,null,null,null,null,4.0840704496667346,-27.885989257295144,51.379988838512737]
[0,61,0.61000000000000032,{"$f":"(Alfa1*SIN(miia*C82)-Alfa2*SIN(miib*C82))","v":-8.5188084038624758},{"$f":"-(Alfa1*COS(miia*C82)-Alfa2*COS(miib*C82))","v":-23.528124914829213},{"$f":"(miia*Alfa1*COS(miia*C82)-miib*Alfa2*COS(miib*C82))","v":461.78457802905086},{"$f":"miia*Alfa1*SIN(miia*C82)-miib*Alfa2*SIN(miib*C82)","v":21.162834475919958},null,null,null,1.806415775814131,-85.047414660511947,-45.789420132016467,{"$f":"N81+dfi","v":1.5079644737231013},{"$f":"Aktina*COS(N82)","v":4.3953363670519003},{"$f":"Aktina*(SIN(N82))","v":69.86187098997901},0,61,0.61000000000000032,-6.1623372287655407,67.091572888102903,null,null,null,null,null,null,null,null,null,null,null,null,null,null,null,null,null,null,null,{"$f":"AO81+2*PI()/100","v":4.1469023027385301},-30.521200204892285,53.170876349173334]
[0,62,0.62000000000000033,{"$f":"(Alfa1*SIN(miia*C83)-Alfa2*SIN(miib*C83))","v":-3.8791836459616813},{"$f":"-(Alfa1*COS(miia*C83)-Alfa2*COS(miib*C83))","v":-23.373658082211293},{"$f":"(miia*Alfa1*COS(miia*C83)-miib*Alfa2*COS(miib*C83))","v":465.65802436918261},{"$f":"miia*Alfa1*SIN(miia*C83)-miib*Alfa2*SIN(miib*C83)","v":9.6853727563144041},null,null,null,1.8849555921538759,-79.350640380896792,-44.182763619931514,{"$f":"N82+dfi","v":1.5707963267948972},{"$f":"Aktina*COS(N83)","v":-4.2341347442076405E-14},{"$f":"Aktina*(SIN(N83))","v":70},0,62,0.62000000000000033,-2.8880170420783635,69.395703975572872,null,null,null,null,null,null,null,null,null,null,null,null,null,null,null,null,null,null,null,4.2097341558103256,-33.26366192285397,54.792763687952025]
[0,63,0.63000000000000034,{"$f":"(Alfa1*SIN(miia*C84)-Alfa2*SIN(miib*C84))","v":0.78466255510192784},{"$f":"-(Alfa1*COS(miia*C84)-Alfa2*COS(miib*C84))","v":-23.334982546382935},{"$f":"(miia*Alfa1*COS(miia*C84)-miib*Alfa2*COS(miib*C84))","v":466.62543546610993},{"$f":"miia*Alfa1*SIN(miia*C84)-miib*Alfa2*SIN(miib*C84)","v":-1.9615523940140034},null,null,null,1.9634954084936207,-73.797484172266834,-42.134096135134548,{"$f":"N83+dfi","v":1.6336281798666932},{"$f":"Aktina*COS(N84)","v":-4.3953363670519847},{"$f":"Aktina*(SIN(N84))","v":69.86187098997901},0,63,0.63000000000000034,0.58832013578766851,69.975262765954682,null,null,null,null,null,null,null,null,null,null,null,null,null,null,null,null,null,null,null,4.2725660088821211,-36.102551167690976,56.239250006492483]
[0,64,0.64000000000000035,{"$f":"(Alfa1*SIN(miia*C85)-Alfa2*SIN(miib*C85))","v":5.4436081397987541},{"$f":"-(Alfa1*COS(miia*C85)-Alfa2*COS(miib*C85))","v":-23.412774766063993},{"$f":"(miia*Alfa1*COS(miia*C85)-miib*Alfa2*COS(miib*C85))","v":464.67859539568713},{"$f":"miia*Alfa1*SIN(miia*C85)-miib*Alfa2*SIN(miib*C85)","v":-13.574180998680241},null,null,null,2.0420352248333655,-68.422183089260102,-39.65604839392045,{"$f":"N84+dfi","v":1.6964600329384891},{"$f":"Aktina*COS(N85)","v":-8.7733263495013514},{"$f":"Aktina*(SIN(N85))","v":69.448029092013442},0,64,0.64000000000000035,4.0236217087867043,68.810611955946911,null,null,null,null,null,null,null,null,null,null,null,null,null,null,null,null,null,null,null,4.3353978619539166,-39.02666414051906,57.504626684132191]
[{"$f":"IF(B86=$AC$1,1,0)","v":0},65,{"$f":"C85+dt","v":0.65000000000000036},{"$f":"(Alfa1*SIN(miia*C86)-Alfa2*SIN(miib*C86))","v":10.068572666787583},{"$f":"-(Alfa1*COS(miia*C86)-Alfa2*COS(miib*C86))","v":-23.605673616771618},{"$f":"(miia*Alfa1*COS(miia*C86)-miib*Alfa2*COS(miib*C86))","v":459.83403708866604},{"$f":"miia*Alfa1*SIN(miia*C86)-miib*Alfa2*SIN(miib*C86)","v":-24.949132496798725},null,null,null,2.1205750411731104,-63.257877650522325,-36.763898384648265,{"$f":"N85+dfi","v":1.7592918860102851},{"$f":"Aktina*COS(N86)","v":-13.116692021000784},{"$f":"Aktina*(SIN(N86))","v":68.76010755100819},{"$f":"IF(R86=$AC$1,1,0)","v":0},65,{"$f":"S85+dt","v":0.65000000000000036},{"$f":"IF(R86<MAX_TIME,Aktina*SIN(epsilon*S86)*COS(D*S86),Aktina*SIN(epsilon*MAX_TIME*dt)*COS(D*MAX_TIME*dt))","v":7.1766467058589933},{"$f":"IF(R86<MAX_TIME,Aktina*COS(epsilon*S86)*COS(D*S86),Aktina*COS(epsilon*MAX_TIME*dt)*COS(D*MAX_TIME*dt))","v":65.941204251237565},null,null,null,null,null,null,null,null,null,null,null,null,null,null,null,null,null,null,null,4.3982297150257121,-42.024460703334611,58.583899857220096]
[0,{"$f":"B86+1","v":66},0.66000000000000036,{"$f":"(Alfa1*SIN(miia*C87)-Alfa2*SIN(miib*C87))","v":14.630764208663891},{"$f":"-(Alfa1*COS(miia*C87)-Alfa2*COS(miib*C87))","v":-23.910295450048022},{"$f":"(miia*Alfa1*COS(miia*C87)-miib*Alfa2*COS(miib*C87))","v":452.13288443572503},{"$f":"miia*Alfa1*SIN(miia*C87)-miib*Alfa2*SIN(miib*C87)","v":-35.885656186363946},null,null,null,2.1991148575128552,-58.336407516389144,-33.47547717386265,{"$f":"N86+dfi","v":1.822123739082081},{"$f":"Aktina*COS(N87)","v":-17.408292101539899},{"$f":"Aktina*(SIN(N87))","v":67.800821279004154},0,{"$f":"R86+1","v":66},0.66000000000000036,9.8186252917846577,61.464079235964093,null,null,null,null,null,null,null,null,null,null,null,null,null,null,null,null,null,null,null,4.4610615680975076,-45.084109922667174,59.472810127615041]
[0,67,0.67000000000000037,{"$f":"(Alfa1*SIN(miia*C88)-Alfa2*SIN(miib*C88))","v":19.10192349247944},{"$f":"-(Alfa1*COS(miia*C88)-Alfa2*COS(miib*C88))","v":-24.321271541666153},{"$f":"(miia*Alfa1*COS(miia*C88)-miib*Alfa2*COS(miib*C88))","v":441.64045959069199},{"$f":"miia*Alfa1*SIN(miia*C88)-miib*Alfa2*SIN(miib*C88)","v":-46.187854753413355},null,null,null,2.2776546738526,-53.688115186792373,-29.811058971839103,{"$f":"N87+dfi","v":1.884955592153877},{"$f":"Aktina*COS(N88)","v":-21.631189606246387},{"$f":"Aktina*(SIN(N88))","v":66.573956140660727},0,67,0.67000000000000037,11.743408926754809,55.530168112607306,null,null,null,null,null,null,null,null,null,null,null,null,null,null,null,null,null,null,null,4.5238934211693032,-48.19353676086881,60.167849372584257]
[0,68,0.68000000000000038,{"$f":"(Alfa1*SIN(miia*C89)-Alfa2*SIN(miib*C89))","v":23.454562954486505},{"$f":"-(Alfa1*COS(miia*C89)-Alfa2*COS(miib*C89))","v":-24.831307545545616},{"$f":"(miia*Alfa1*COS(miia*C89)-miib*Alfa2*COS(miib*C89))","v":428.44565935016612},{"$f":"miia*Alfa1*SIN(miia*C89)-miib*Alfa2*SIN(miib*C89)","v":-55.666858126081685},null,null,null,2.3561944901923448,-49.341658929658031,-25.793236135335796,{"$f":"N88+dfi","v":1.9477874452256729},{"$f":"Aktina*COS(N89)","v":-25.768718687927532},{"$f":"Aktina*(SIN(N89))","v":65.08435401217757},0,68,0.68000000000000038,12.776696230126094,48.338551898103752,null,null,null,null,null,null,null,null,null,null,null,null,null,null,null,null,null,null,null,4.5867252742410987,-51.340469730771126,60.666274589761059]
[0,69,0.69000000000000039,{"$f":"(Alfa1*SIN(miia*C90)-Alfa2*SIN(miib*C90))","v":27.662198428784855},{"$f":"-(Alfa1*COS(miia*C90)-Alfa2*COS(miib*C90))","v":-25.431264344809247},{"$f":"(miia*Alfa1*COS(miia*C90)-miib*Alfa2*COS(miib*C90))","v":412.66010676792041},{"$f":"miia*Alfa1*SIN(miia*C90)-miib*Alfa2*SIN(miib*C90)","v":-64.142925391946818},null,null,null,2.4347343065320897,-45.323836093154725,-21.446779878201461,{"$f":"N89+dfi","v":2.0106192982974687},{"$f":"Aktina*COS(N90)","v":-29.804550409555148},{"$f":"Aktina*(SIN(N90))","v":63.337893672621341},0,69,0.69000000000000039,12.783956676956661,40.128899232603871,null,null,null,null,null,null,null,null,null,null,null,null,null,null,null,null,null,null,null,4.6495571273128942,-54.512489325638846,60.96611872252209]
[0,70,0.7000000000000004,{"$f":"(Alfa1*SIN(miia*C91)-Alfa2*SIN(miib*C91))","v":31.699571262287474},{"$f":"-(Alfa1*COS(miia*C91)-Alfa2*COS(miib*C91))","v":-26.110259472226744},{"$f":"(miia*Alfa1*COS(miia*C91)-miib*Alfa2*COS(miib*C91))","v":394.41708638128949},{"$f":"miia*Alfa1*SIN(miia*C91)-miib*Alfa2*SIN(miib*C91)","v":-71.447453240139723},null,null,null,2.5132741228718345,{"$f":"RX+R_KAMP*COS(K91)","v":-41.659417891131184},{"$f":"RY+R_KAMP*SIN(K91)","v":-16.79848754860469},{"$f":"N90+dfi","v":2.0734511513692646},{"$f":"Aktina*COS(N91)","v":-33.722757187120138},{"$f":"Aktina*(SIN(N91))","v":61.341467603070413},0,70,0.7000000000000004,11.676726494162782,31.17238153928951,null,null,null,null,null,null,null,null,null,null,null,null,null,null,null,null,null,null,null,4.7123889803846897,-57.697077033288927,61.066198423061088]
[0,71,0.71000000000000041,{"$f":"(Alfa1*SIN(miia*C92)-Alfa2*SIN(miib*C92))","v":35.542858742948724},{"$f":"-(Alfa1*COS(miia*C92)-Alfa2*COS(miib*C92))","v":-26.855788061427422},{"$f":"(miia*Alfa1*COS(miia*C92)-miib*Alfa2*COS(miib*C92))","v":373.87027356211831},{"$f":"miia*Alfa1*SIN(miia*C92)-miib*Alfa2*SIN(miib*C92)","v":-77.424870329314004},null,null,null,2.5918139392115793,-38.370996680345556,-11.877017414471503,{"$f":"N91+dfi","v":2.1362830044410606},{"$f":"Aktina*COS(N92)","v":-37.507875648529826},{"$f":"Aktina*(SIN(N92))","v":59.102954785141009},0,71,0.71000000000000041,9.4170164406668899,21.761423023154972,null,null,null,null,null,null,null,null,null,null,null,null,null,null,null,null,null,null,null,4.7752208334564852,-60.881664740939009,60.96611872252209]
[0,72,0.72000000000000042,{"$f":"(Alfa1*SIN(miia*C93)-Alfa2*SIN(miib*C93))","v":39.169870843573506},{"$f":"-(Alfa1*COS(miia*C93)-Alfa2*COS(miib*C93))","v":-27.653862089840956},{"$f":"(miia*Alfa1*COS(miia*C93)-miib*Alfa2*COS(miib*C93))","v":351.19227053549258},{"$f":"miia*Alfa1*SIN(miia*C93)-miib*Alfa2*SIN(miib*C93)","v":-81.934398129336998},null,null,null,2.6703537555513241,-35.478846671073384,-6.7127119757337255,{"$f":"N92+dfi","v":2.1991148575128565},{"$f":"Aktina*COS(N93)","v":-41.144967660473192},{"$f":"Aktina*(SIN(N93))","v":56.631189606246267},0,72,0.72000000000000042,6.0196469445042027,12.198688541147087,null,null,null,null,null,null,null,null,null,null,null,null,null,null,null,null,null,null,null,4.8380526865282807,-64.053684335806722,60.666274589761066]
[0,73,0.73000000000000043,{"$f":"(Alfa1*SIN(miia*C94)-Alfa2*SIN(miib*C94))","v":42.560231418599287},{"$f":"-(Alfa1*COS(miia*C94)-Alfa2*COS(miib*C94))","v":-28.489166486358013},{"$f":"(miia*Alfa1*COS(miia*C94)-miib*Alfa2*COS(miib*C94))","v":326.57296351517556},{"$f":"miia*Alfa1*SIN(miia*C94)-miib*Alfa2*SIN(miib*C94)","v":-84.851660127001921},null,null,null,2.748893571891069,-33.000798929859272,-1.337410892726993,{"$f":"N93+dfi","v":2.2619467105846525},{"$f":"Aktina*COS(N94)","v":-44.619679282408349},{"$f":"Aktina*(SIN(N94))","v":53.935926994305184},0,73,0.73000000000000043,1.5524093029176707,2.7857419089089799,null,null,null,null,null,null,null,null,null,null,null,null,null,null,null,null,null,null,null,4.9008845396000762,-67.200617305709045,60.167849372584257]
[0,74,0.74000000000000044,{"$f":"(Alfa1*SIN(miia*C95)-Alfa2*SIN(miib*C95))","v":45.695542144667755},{"$f":"-(Alfa1*COS(miia*C95)-Alfa2*COS(miib*C95))","v":-29.3452305030833},{"$f":"(miia*Alfa1*COS(miia*C95)-miib*Alfa2*COS(miib*C95))","v":300.21771716645196},{"$f":"miia*Alfa1*SIN(miia*C95)-miib*Alfa2*SIN(miib*C95)","v":-86.070122810731178},null,null,null,2.8274333882308138,-30.952131445062321,4.2157453159029643,{"$f":"N94+dfi","v":2.3247785636564484},{"$f":"Aktina*COS(N95)","v":-47.918297415008283},{"$f":"Aktina*(SIN(N95))","v":51.027803919498737},0,74,0.74000000000000044,-3.8659609952711138,-6.1881804383119254,null,null,null,null,null,null,null,null,null,null,null,null,null,null,null,null,null,null,null,4.9637163926718717,-70.310044143910673,59.472810127615048]
[0,75,0.75000000000000044,{"$f":"(Alfa1*SIN(miia*C96)-Alfa2*SIN(miib*C96))","v":48.559527666053405},{"$f":"-(Alfa1*COS(miia*C96)-Alfa2*COS(miib*C96))","v":-30.20461259302893},{"$f":"(miia*Alfa1*COS(miia*C96)-miib*Alfa2*COS(miib*C96))","v":272.34542420740223},{"$f":"miia*Alfa1*SIN(miia*C96)-miib*Alfa2*SIN(miib*C96)","v":-85.50235354089213},null,null,null,2.9059732045705586,-29.345474932977368,9.9125195955181091,{"$f":"N95+dfi","v":2.3876104167282444},{"$f":"Aktina*COS(N96)","v":-51.027803919498879},{"$f":"Aktina*(SIN(N96))","v":47.918297415008134},0,75,0.75000000000000044,-10.069924781617079,-14.456840825833213,null,null,null,null,null,null,null,null,null,null,null,null,null,null,null,null,null,null,null,5.0265482457436672,-73.369693363243243,58.583899857220104]
[0,76,0.76000000000000045,{"$f":"(Alfa1*SIN(miia*C97)-Alfa2*SIN(miib*C97))","v":51.138160591395021},{"$f":"-(Alfa1*COS(miia*C97)-Alfa2*COS(miib*C97))","v":-31.049096895753529},{"$f":"(miia*Alfa1*COS(miia*C97)-miib*Alfa2*COS(miib*C97))","v":243.18642938255533},{"$f":"miia*Alfa1*SIN(miia*C97)-miib*Alfa2*SIN(miib*C97)","v":-83.081082254045526},null,null,null,2.9845130209103035,-28.190734965268916,15.717789438314941,{"$f":"N96+dfi","v":2.4504422698000403},{"$f":"Aktina*COS(N97)","v":-53.935926994305319},{"$f":"Aktina*(SIN(N97))","v":44.6196792824082},0,76,0.76000000000000045,-16.853234411219404,-21.786699915009219,null,null,null,null,null,null,null,null,null,null,null,null,null,null,null,null,null,null,null,5.0893800988154627,-76.367489926058795,57.504626684132198]
[0,77,0.77000000000000046,{"$f":"(Alfa1*SIN(miia*C98)-Alfa2*SIN(miib*C98))","v":53.419765186837907},{"$f":"-(Alfa1*COS(miia*C98)-Alfa2*COS(miib*C98))","v":-31.859899312200231},{"$f":"(miia*Alfa1*COS(miia*C98)-miib*Alfa2*COS(miib*C98))","v":212.98034827425215},{"$f":"miia*Alfa1*SIN(miia*C98)-miib*Alfa2*SIN(miib*C98)","v":-78.760055922760813},null,null,null,3.0630528372500483,-27.495030897827888,21.595763425264501,{"$f":"N97+dfi","v":2.5132741228718363},{"$f":"Aktina*COS(N98)","v":-56.631189606246394},{"$f":"Aktina*(SIN(N98))","v":41.144967660473029},0,77,0.77000000000000046,-23.976745699595789,-27.985266919726346,null,null,null,null,null,null,null,null,null,null,null,null,null,null,null,null,null,null,null,5.1522119518872582,-79.291602898886879,56.239250006492497]
[0,78,0.78000000000000047,{"$f":"(Alfa1*SIN(miia*C99)-Alfa2*SIN(miib*C99))","v":55.395098820659641},{"$f":"-(Alfa1*COS(miia*C99)-Alfa2*COS(miib*C99))","v":-32.617881049544742},{"$f":"(miia*Alfa1*COS(miia*C99)-miib*Alfa2*COS(miib*C99))","v":181.97380244464958},{"$f":"miia*Alfa1*SIN(miia*C99)-miib*Alfa2*SIN(miib*C99)","v":-72.514676777813634},null,null,null,3.1415926535897931,-27.262651977575146,27.510201892112544,{"$f":"N98+dfi","v":2.5761059759436322},{"$f":"Aktina*COS(N99)","v":-59.102954785141122},{"$f":"Aktina*(SIN(N99))","v":37.507875648529655},0,78,0.78000000000000047,-31.177639257630943,-32.907777161740981,null,null,null,null,null,null,null,null,null,null,null,null,null,null,null,null,null,null,null,5.2150438049590537,-82.130492143723885,54.792763687952032]
[0,79,0.79000000000000048,{"$f":"(Alfa1*SIN(miia*C100)-Alfa2*SIN(miib*C100))","v":57.057410433631979},{"$f":"-(Alfa1*COS(miia*C100)-Alfa2*COS(miib*C100))","v":-33.303767437746245},{"$f":"(miia*Alfa1*COS(miia*C100)-miib*Alfa2*COS(miib*C100))","v":150.41809321489171},{"$f":"miia*Alfa1*SIN(miia*C100)-miib*Alfa2*SIN(miib*C100)","v":-64.342417475760215},null,null,null,3.2201324699295379,-27.495030897827888,33.424640358960588,{"$f":"N99+dfi","v":2.6389378290154282},{"$f":"Aktina*COS(N100)","v":-61.341467603070512},{"$f":"Aktina*(SIN(N100))","v":33.722757187119953},0,79,0.79000000000000048,-38.179686722361161,-36.461940707949005,null,null,null,null,null,null,null,null,null,null,null,null,null,null,null,null,null,null,null,5.2778756580308492,-84.872953861685573,53.170876349173341]
[0,80,0.80000000000000049,{"$f":"(Alfa1*SIN(miia*C101)-Alfa2*SIN(miib*C101))","v":58.402475535582283},{"$f":"-(Alfa1*COS(miia*C101)-Alfa2*COS(miib*C101))","v":-33.898369762502902},{"$f":"(miia*Alfa1*COS(miia*C101)-miib*Alfa2*COS(miib*C101))","v":118.56683697949792},{"$f":"miia*Alfa1*SIN(miia*C101)-miib*Alfa2*SIN(miib*C101)","v":-54.263008640271892},null,null,null,3.2986722862692828,-28.190734965268902,39.30261434591015,{"$f":"N100+dfi","v":2.7017696820872241},{"$f":"Aktina*COS(N101)","v":-63.337893672621426},{"$f":"Aktina*(SIN(N101))","v":29.804550409554963},0,80,0.80000000000000049,-44.704154715095953,-38.610582994619989,null,null,null,null,null,null,null,null,null,null,null,null,null,null,null,null,null,null,null,5.3407075111026447,-87.508164809282718,51.379988838512745]
[0,81,0.8100000000000005,{"$f":"(Alfa1*SIN(miia*C102)-Alfa2*SIN(miib*C102))","v":59.428607459607825},{"$f":"-(Alfa1*COS(miia*C102)-Alfa2*COS(miib*C102))","v":-34.382807825028621},{"$f":"(miia*Alfa1*COS(miia*C102)-miib*Alfa2*COS(miib*C102))","v":86.673585317614396},{"$f":"miia*Alfa1*SIN(miia*C102)-miib*Alfa2*SIN(miib*C102)","v":-42.31839649774065},null,null,null,3.3772121026090276,-29.345474932977353,45.107884188706983,{"$f":"N101+dfi","v":2.7646015351590201},{"$f":"Aktina*COS(N102)","v":-65.084354012177656},{"$f":"Aktina*(SIN(N102))","v":25.768718687927326},0,81,0.8100000000000005,-50.480912903524619,-39.372082543430913,null,null,null,null,null,null,null,null,null,null,null,null,null,null,null,null,null,null,null,5.4035393641744403,-90.025725012818526,49.427168970796139]
[0,82,0.82000000000000051,{"$f":"(Alfa1*SIN(miia*C103)-Alfa2*SIN(miib*C103))","v":60.136644838867213},{"$f":"-(Alfa1*COS(miia*C103)-Alfa2*COS(miib*C103))","v":-34.738730927842056},{"$f":"(miia*Alfa1*COS(miia*C103)-miib*Alfa2*COS(miib*C103))","v":54.989453294866408},{"$f":"miia*Alfa1*SIN(miia*C103)-miib*Alfa2*SIN(miib*C103)","v":-28.57247064358387},null,null,null,3.4557519189487724,-30.952131445062307,50.804658468322131,{"$f":"N102+dfi","v":2.827433388230816},{"$f":"Aktina*COS(N103)","v":-66.573956140660798},{"$f":"Aktina*(SIN(N103))","v":21.631189606246178},0,82,0.82000000000000051,-55.25930336597046,-38.818598753406668,null,null,null,null,null,null,null,null,null,null,null,null,null,null,null,null,null,null,null,5.4663712172462358,-92.415698812333488,47.320123633882865]
[0,83,0.83000000000000052,{"$f":"(Alfa1*SIN(miia*C104)-Alfa2*SIN(miib*C104))","v":60.52991550450102},{"$f":"-(Alfa1*COS(miia*C104)-Alfa2*COS(miib*C104))","v":-34.948534997715029},{"$f":"(miia*Alfa1*COS(miia*C104)-miib*Alfa2*COS(miib*C104))","v":23.76077924885675},{"$f":"miia*Alfa1*SIN(miia*C104)-miib*Alfa2*SIN(miib*C104)","v":-13.11056429219704},null,null,null,3.5342917352885173,-33.000798929859258,56.357814676952088,{"$f":"N103+dfi","v":2.890265241302612},{"$f":"Aktina*COS(N104)","v":-67.800821279004211},{"$f":"Aktina*(SIN(N104))","v":17.408292101539686},0,83,0.83000000000000052,-58.818336930170823,-37.072170807595164,null,null,null,null,null,null,null,null,null,null,null,null,null,null,null,null,null,null,null,5.5292030703180313,-94.668654073116102,45.06716837310028]
[0,84,0.84000000000000052,{"$f":"(Alfa1*SIN(miia*C105)-Alfa2*SIN(miib*C105))","v":60.614177234693983},{"$f":"-(Alfa1*COS(miia*C105)-Alfa2*COS(miib*C105))","v":-34.995573591955299},{"$f":"(miia*Alfa1*COS(miia*C105)-miib*Alfa2*COS(miib*C105))","v":-6.7731609810650468},{"$f":"miia*Alfa1*SIN(miia*C105)-miib*Alfa2*SIN(miib*C105)","v":3.9612683425727084},null,null,null,3.6128315516282621,-35.47884667107337,61.733115759958821,{"$f":"N104+dfi","v":2.9530970943744079},{"$f":"Aktina*COS(N105)","v":-68.760107551008232},{"$f":"Aktina*(SIN(N105))","v":13.116692021000567},0,84,0.84000000000000052,-60.975807958442545,-34.298853453481513,null,null,null,null,null,null,null,null,null,null,null,null,null,null,null,null,null,null,null,5.5920349233898268,-96.775699410029404,42.677194573585332]
[0,85,0.85000000000000053,{"$f":"(Alfa1*SIN(miia*C106)-Alfa2*SIN(miib*C106))","v":60.397536011881982},{"$f":"-(Alfa1*COS(miia*C106)-Alfa2*COS(miib*C106))","v":-34.864360591956199},{"$f":"(miia*Alfa1*COS(miia*C106)-miib*Alfa2*COS(miib*C106))","v":-36.38236297990872},{"$f":"miia*Alfa1*SIN(miia*C106)-miib*Alfa2*SIN(miib*C106)","v":22.517190641189472},null,null,null,3.6913713679680069,-38.370996680345556,66.897421198696591,{"$f":"N105+dfi","v":3.0159289474462039},{"$f":"Aktina*COS(N106)","v":-69.448029092013471},{"$f":"Aktina*(SIN(N106))","v":8.7733263495011329},0,85,0.85000000000000053,-61.595961157606652,-30.701133425774515,null,null,null,null,null,null,null,null,null,null,null,null,null,null,null,null,null,null,null,5.6548667764616223,-98.728519277746017,40.159634370049531]
[0,86,0.86000000000000054,{"$f":"(Alfa1*SIN(miia*C107)-Alfa2*SIN(miib*C107))","v":59.890342665370511},{"$f":"-(Alfa1*COS(miia*C107)-Alfa2*COS(miib*C107))","v":-34.54076246786579},{"$f":"(miia*Alfa1*COS(miia*C107)-miib*Alfa2*COS(miib*C107))","v":-64.84820422267677},{"$f":"miia*Alfa1*SIN(miia*C107)-miib*Alfa2*SIN(miib*C107)","v":42.412729070914111},null,null,null,3.7699111843077517,-41.659417891131163,71.818891332829793,{"$f":"N106+dfi","v":3.0787608005179998},{"$f":"Aktina*COS(N107)","v":-69.86187098997901},{"$f":"Aktina*(SIN(N107))","v":4.3953363670517653},0,86,0.86000000000000054,-60.595400737049737,-26.508938471814606,null,null,null,null,null,null,null,null,null,null,null,null,null,null,null,null,null,null,null,5.7176986295334178,-100.51940678840666,37.524423422452408]
[0,87,0.87000000000000055,{"$f":"(Alfa1*SIN(miia*C108)-Alfa2*SIN(miib*C108))","v":59.105068987978498},{"$f":"-(Alfa1*COS(miia*C108)-Alfa2*COS(miib*C108))","v":-34.012178099518749},{"$f":"(miia*Alfa1*COS(miia*C108)-miib*Alfa2*COS(miib*C108))","v":-91.965435461497421},{"$f":"miia*Alfa1*SIN(miia*C108)-miib*Alfa2*SIN(miib*C108)","v":63.486114411130188},null,null,null,3.8484510006474966,-45.323836093154718,76.46718366242655,{"$f":"N107+dfi","v":3.1415926535897958},{"$f":"Aktina*COS(N108)","v":-70},{"$f":"Aktina*(SIN(N108))","v":-1.7794142895266596E-13},0,87,0.87000000000000055,-57.947001369348385,-21.969606598412049,null,null,null,null,null,null,null,null,null,null,null,null,null,null,null,null,null,null,null,5.7805304826052133,-102.14129412718536,34.78196170449074]
[0,88,0.88000000000000056,{"$f":"(Alfa1*SIN(miia*C109)-Alfa2*SIN(miib*C109))","v":58.056164615651788},{"$f":"-(Alfa1*COS(miia*C109)-Alfa2*COS(miib*C109))","v":-33.267704260431493},{"$f":"(miia*Alfa1*COS(miia*C109)-miib*Alfa2*COS(miib*C109))","v":-117.54403361942319},{"$f":"miia*Alfa1*SIN(miia*C109)-miib*Alfa2*SIN(miib*C109)","v":85.559805566143893},null,null,null,3.9269908169872414,-49.341658929658017,80.813639919560899,{"$f":"N108+dfi","v":3.2044245066615917},{"$f":"Aktina*COS(N109)","v":-69.861870989978996},{"$f":"Aktina*(SIN(N109))","v":-4.3953363670521197},0,88,0.88000000000000056,-53.681659178345768,-17.33722406998421,null,null,null,null,null,null,null,null,null,null,null,null,null,null,null,null,null,null,null,5.8433623356770088,-103.58778044572585,31.943072459653745]
[0,89,0.89000000000000057,{"$f":"(Alfa1*SIN(miia*C110)-Alfa2*SIN(miib*C110))","v":56.759896146313707},{"$f":"-(Alfa1*COS(miia*C110)-Alfa2*COS(miib*C110))","v":-32.298285012475112},{"$f":"(miia*Alfa1*COS(miia*C110)-miib*Alfa2*COS(miib*C110))","v":-141.41089817201464},{"$f":"miia*Alfa1*SIN(miia*C110)-miib*Alfa2*SIN(miib*C110)","v":108.44218097131052},null,null,null,4.0055306333269858,-53.688115186792331,84.831462756064184,{"$f":"N109+dfi","v":3.2672563597333877},{"$f":"Aktina*COS(N110)","v":-69.448029092013428},{"$f":"Aktina*(SIN(N110))","v":-8.7733263495014864},0,89,0.89000000000000057,-47.887806258020966,-12.861765225844156,null,null,null,null,null,null,null,null,null,null,null,null,null,null,null,null,null,null,null,5.9061941887488043,-104.85315712336558,29.018959486825675]
[0,90,0.90000000000000058,{"$f":"(Alfa1*SIN(miia*C111)-Alfa2*SIN(miib*C111))","v":55.234170146678757},{"$f":"-(Alfa1*COS(miia*C111)-Alfa2*COS(miib*C111))","v":-31.09684341741211},{"$f":"(miia*Alfa1*COS(miia*C111)-miib*Alfa2*COS(miib*C111))","v":-163.41137457257713},{"$f":"miia*Alfa1*SIN(miia*C111)-miib*Alfa2*SIN(miib*C111)","v":131.92938089878072},null,null,null,4.0840704496667311,-58.33640751638913,88.495880958087753,{"$f":"N110+dfi","v":3.3300882128051836},{"$f":"Aktina*COS(N111)","v":-68.760107551008176},{"$f":"Aktina*(SIN(N111))","v":-13.116692021000917},0,90,0.90000000000000058,-40.708700620469678,-8.778474377420677,null,null,null,null,null,null,null,null,null,null,null,null,null,null,null,null,null,null,null,5.9690260418205998,-105.93243029645352,26.021162924010131]
[0,91,0.91000000000000059,{"$f":"(Alfa1*SIN(miia*C112)-Alfa2*SIN(miib*C112))","v":53.498341851635821},{"$f":"-(Alfa1*COS(miia*C112)-Alfa2*COS(miib*C112))","v":-29.658394146231231},{"$f":"(miia*Alfa1*COS(miia*C112)-miib*Alfa2*COS(miib*C112))","v":-183.41059001473357},{"$f":"miia*Alfa1*SIN(miia*C112)-miib*Alfa2*SIN(miib*C112)","v":155.80728243590764},null,null,null,4.1626102660064763,-63.257877650522346,91.784302168873381,{"$f":"N111+dfi","v":3.3929200658769796},{"$f":"Aktina*COS(N112)","v":-67.800821279004126},{"$f":"Aktina*(SIN(N112))","v":-17.408292101540031},0,91,0.91000000000000059,-32.337591466446682,-5.2979196143714224,null,null,null,null,null,null,null,null,null,null,null,null,null,null,null,null,null,null,null,6.0318578948923953,{"$f":"FRX+F_CURV_R*COS(AO112)","v":-106.82134056684848},22.961513704677579]
[0,92,0.9200000000000006,{"$f":"(Alfa1*SIN(miia*C113)-Alfa2*SIN(miib*C113))","v":51.573011498567304},{"$f":"-(Alfa1*COS(miia*C113)-Alfa2*COS(miib*C113))","v":-27.98013575639958},{"$f":"(miia*Alfa1*COS(miia*C113)-miib*Alfa2*COS(miib*C113))","v":-201.29458870945987},{"$f":"miia*Alfa1*SIN(miia*C113)-miib*Alfa2*SIN(miib*C113)","v":179.85358755775229},null,null,null,4.2411500823462216,-68.422183089260159,94.676452178145581,{"$f":"N112+dfi","v":3.4557519189487755},{"$f":"Aktina*COS(N113)","v":-66.573956140660684},{"$f":"Aktina*(SIN(N113))","v":-21.631189606246515},0,92,0.9200000000000006,-23.010943766024361,-2.5971207156786691,null,null,null,null,null,null,null,null,null,null,null,null,null,null,null,null,null,null,null,6.0946897479641908,{"$f":"FRX+F_CURV_R*COS(AO113)","v":-107.51637981181773},19.85208686647595]
[0,93,0.9300000000000006,{"$f":"(Alfa1*SIN(miia*C114)-Alfa2*SIN(miib*C114))","v":49.47981035724569},{"$f":"-(Alfa1*COS(miia*C114)-Alfa2*COS(miib*C114))","v":-26.061521608886913},{"$f":"(miia*Alfa1*COS(miia*C114)-miib*Alfa2*COS(miib*C114))","v":-216.97125586397686},{"$f":"miia*Alfa1*SIN(miia*C114)-miib*Alfa2*SIN(miib*C114)","v":203.8400035587587},null,null,null,4.3196898986859669,-73.79748417226692,97.154499919359694,{"$f":"N113+dfi","v":3.5185837720205715},{"$f":"Aktina*COS(N114)","v":-65.084354012177513},{"$f":"Aktina*(SIN(N114))","v":-25.768718687927656},0,93,0.9300000000000006,-12.999982983528282,-0.81210963797430458,null,null,null,null,null,null,null,null,null,null,null,null,null,null,null,null,null,null,null,6.1575216010359863,{"$f":"FRX+F_CURV_R*COS(AO114)","v":-108.01480502899456},16.705153896573634]
[0,94,0.94000000000000061,{"$f":"(Alfa1*SIN(miia*C115)-Alfa2*SIN(miib*C115))","v":47.241178613569595},{"$f":"-(Alfa1*COS(miia*C115)-Alfa2*COS(miib*C115))","v":-23.90430860908959},{"$f":"(miia*Alfa1*COS(miia*C115)-miib*Alfa2*COS(miib*C115))","v":-230.37102166687433},{"$f":"miia*Alfa1*SIN(miia*C115)-miib*Alfa2*SIN(miib*C115)","v":227.53449415917464},null,null,null,4.3982297150257121,-79.350640380896905,99.203167404156659,{"$f":"N114+dfi","v":3.5814156250923674},{"$f":"Aktina*COS(N115)","v":-63.33789367262127},{"$f":"Aktina*(SIN(N115))","v":-29.804550409555283},0,94,0.94000000000000061,-2.6008873216098225,-3.2223990679855131E-2,null,null,null,null,null,null,null,null,null,null,null,null,null,null,null,null,null,null,null,6.2203534541077818,{"$f":"FRX+F_CURV_R*COS(AO115)","v":-108.31464916175563},13.533134301705921]
[0,95,0.95000000000000062,{"$f":"(Alfa1*SIN(miia*C116)-Alfa2*SIN(miib*C116))","v":44.880137341408584},{"$f":"-(Alfa1*COS(miia*C116)-Alfa2*COS(miib*C116))","v":-21.512583176476411},{"$f":"(miia*Alfa1*COS(miia*C116)-miib*Alfa2*COS(miib*C116))","v":-241.4473387863502},{"$f":"miia*Alfa1*SIN(miia*C116)-miib*Alfa2*SIN(miib*C116)","v":250.70357886867862},null,null,null,4.4767695313654574,-85.047414660512089,100.80982391624161,{"$f":"N115+dfi","v":3.6442474781641634},{"$f":"Aktina*COS(N116)","v":-61.341467603070342},{"$f":"Aktina*(SIN(N116))","v":-33.722757187120266},0,95,0.95000000000000062,7.8759915543672729,-0.29636383033987396,null,null,null,null,null,null,null,null,null,null,null,null,null,null,null,null,null,null,null,6.2831853071795774,{"$f":"FRX+F_CURV_R*COS(AO116)","v":-108.41472886229465},10.348546594055842]
[0,96,0.96000000000000063,{"$f":"(Alfa1*SIN(miia*C117)-Alfa2*SIN(miib*C117))","v":42.420056850469521},{"$f":"-(Alfa1*COS(miia*C117)-Alfa2*COS(miib*C117))","v":-18.892764074688603},{"$f":"(miia*Alfa1*COS(miia*C117)-miib*Alfa2*COS(miib*C117))","v":-250.17692915450098},{"$f":"miia*Alfa1*SIN(miia*C117)-miib*Alfa2*SIN(miib*C117)","v":273.11465768039295},null,null,null,4.5553093477052027,-90.85268450330895,101.96456388395006,{"$f":"N116+dfi","v":3.7070793312359593},{"$f":"Aktina*COS(N117)","v":-59.10295478514093},{"$f":"Aktina*(SIN(N117))","v":-37.507875648529961},0,96,0.96000000000000063,18.117459851501273,-1.5913628184040884]
[0,97,0.97000000000000064,{"$f":"(Alfa1*SIN(miia*C118)-Alfa2*SIN(miib*C118))","v":39.884423728857776},{"$f":"-(Alfa1*COS(miia*C118)-Alfa2*COS(miib*C118))","v":-16.053581964688021},{"$f":"(miia*Alfa1*COS(miia*C118)-miib*Alfa2*COS(miib*C118))","v":-256.55979811751774},{"$f":"miia*Alfa1*SIN(miia*C118)-miib*Alfa2*SIN(miib*C118)","v":294.53833788812108},null,null,null,4.633849164044948,-96.730658490258548,102.66026795139106,{"$f":"N117+dfi","v":3.7699111843077553},{"$f":"Aktina*COS(N118)","v":-56.631189606246181},{"$f":"Aktina*(SIN(N118))","v":-41.144967660473313},0,97,0.97000000000000064,27.818923704903021,-3.8525394588047988]
[0,98,0.98000000000000065,{"$f":"(Alfa1*SIN(miia*C119)-Alfa2*SIN(miib*C119))","v":37.296608906590379},{"$f":"-(Alfa1*COS(miia*C119)-Alfa2*COS(miib*C119))","v":-13.006035776057205},{"$f":"(miia*Alfa1*COS(miia*C119)-miib*Alfa2*COS(miib*C119))","v":-260.6190163563769},{"$f":"miia*Alfa1*SIN(miia*C119)-miib*Alfa2*SIN(miib*C119)","v":314.75073977112856},null,null,null,4.7123889803846932,-102.64509695710663,102.89264687164379,{"$f":"N118+dfi","v":3.8327430373795512},{"$f":"Aktina*COS(N119)","v":-53.935926994305092},{"$f":"Aktina*(SIN(N119))","v":-44.61967928240847},0,98,0.98000000000000065,36.695496226202742,-6.9664061760741758]
[0,99,0.99000000000000066,{"$f":"(Alfa1*SIN(miia*C120)-Alfa2*SIN(miib*C120))","v":34.679639050660661},{"$f":"-(Alfa1*COS(miia*C120)-Alfa2*COS(miib*C120))","v":-9.7633262233838547},{"$f":"(miia*Alfa1*COS(miia*C120)-miib*Alfa2*COS(miib*C120))","v":-262.40027230195619},{"$f":"miia*Alfa1*SIN(miia*C120)-miib*Alfa2*SIN(miib*C120)","v":333.53575807466746},null,null,null,4.7909287967244385,-108.55953542395471,102.66026795139103,{"$f":"N119+dfi","v":3.8955748904513472},{"$f":"Aktina*COS(N120)","v":-51.027803919498638},{"$f":"Aktina*(SIN(N120))","v":-47.918297415008389},0,99,0.99000000000000066,44.492337094885414,-10.775426928382622]
[0,100,1.0000000000000007,{"$f":"(Alfa1*SIN(miia*C121)-Alfa2*SIN(miib*C121))","v":32.055973563527644},{"$f":"-(Alfa1*COS(miia*C121)-Alfa2*COS(miib*C121))","v":-6.3407670234997475},{"$f":"(miia*Alfa1*COS(miia*C121)-miib*Alfa2*COS(miib*C121))","v":-261.97120005925819},{"$f":"miia*Alfa1*SIN(miia*C121)-miib*Alfa2*SIN(miib*C121)","v":350.68725662891973},null,null,null,4.8694686130641838,-114.4375094109043,101.96456388394998,{"$f":"N120+dfi","v":3.9584067435231431},{"$f":"Aktina*COS(N121)","v":-47.91829741500802},{"$f":"Aktina*(SIN(N121))","v":-51.027803919498979},0,100,1.0000000000000007,50.99382265659532,-15.084631354207435]
[0,101,1.0100000000000007,{"$f":"(Alfa1*SIN(miia*C122)-Alfa2*SIN(miib*C122))","v":29.447289395508207},{"$f":"-(Alfa1*COS(miia*C122)-Alfa2*COS(miib*C122))","v":-2.7556745928988544},{"$f":"(miia*Alfa1*COS(miia*C122)-miib*Alfa2*COS(miib*C122))","v":-259.42049009471845},{"$f":"miia*Alfa1*SIN(miia*C122)-miib*Alfa2*SIN(miib*C122)","v":366.01117409005167},null,null,null,4.948008429403929,-120.24277925370116,100.8098239162415,{"$f":"N121+dfi","v":4.0212385965949391},{"$f":"Aktina*COS(N122)","v":-44.619679282408079},{"$f":"Aktina*(SIN(N122))","v":-53.935926994305412},0,101,1.0100000000000007,56.031190833095287,-19.669818433437559]
[0,102,1.0200000000000007,{"$f":"(Alfa1*SIN(miia*C123)-Alfa2*SIN(miib*C123))","v":26.874275798111345},{"$f":"-(Alfa1*COS(miia*C123)-Alfa2*COS(miib*C123))","v":0.97276277930467714},{"$f":"(miia*Alfa1*COS(miia*C123)-miib*Alfa2*COS(miib*C123))","v":-254.85679210604167},{"$f":"miia*Alfa1*SIN(miia*C123)-miib*Alfa2*SIN(miib*C123)","v":379.32751964829833},null,null,null,5.0265482457436743,{"$f":"RX+R_KAMP*COS(K123)","v":-125.93955353331633},{"$f":"RY+R_KAMP*SIN(K123)","v":99.203167404156488},{"$f":"N122+dfi","v":4.0840704496667346},{"$f":"Aktina*COS(N123)","v":-41.144967660472922},{"$f":"Aktina*(SIN(N123))","v":-56.631189606246458},0,102,1.0200000000000007,59.488365570767591,-24.287018304343427]
[0,103,1.0300000000000007,{"$f":"(Alfa1*SIN(miia*C124)-Alfa2*SIN(miib*C124))","v":24.356441040722441},{"$f":"-(Alfa1*COS(miia*C124)-Alfa2*COS(miib*C124))","v":4.8236350811570841},{"$f":"(miia*Alfa1*COS(miia*C124)-miib*Alfa2*COS(miib*C124))","v":-248.40742156403115},{"$f":"miia*Alfa1*SIN(miia*C124)-miib*Alfa2*SIN(miib*C124)","v":390.47223862086764},null,null,null,5.1050880620834196,-131.4927097419463,97.154499919359495,{"$f":"N123+dfi","v":4.1469023027385301},{"$f":"Aktina*COS(N124)","v":-37.507875648529584},{"$f":"Aktina*(SIN(N124))","v":-59.102954785141172},0,103,1.0300000000000007,61.305737653376994,-28.682829791690757]
[0,104,1.0400000000000007,{"$f":"(Alfa1*SIN(miia*C125)-Alfa2*SIN(miib*C125))","v":21.911932988275055},{"$f":"-(Alfa1*COS(miia*C125)-Alfa2*COS(miib*C125))","v":8.7744786540492115},{"$f":"(miia*Alfa1*COS(miia*C125)-miib*Alfa2*COS(miib*C125))","v":-240.21688336977405},{"$f":"miia*Alfa1*SIN(miia*C125)-miib*Alfa2*SIN(miib*C125)","v":399.2989291213554},null,null,null,{"$f":"K124+2*PI()/80","v":5.1836278784231649},-136.86801082495305,94.676452178145354,{"$f":"N124+dfi","v":4.2097341558103256},{"$f":"Aktina*COS(N125)","v":-33.722757187119903},{"$f":"Aktina*(SIN(N125))","v":-61.341467603070541},0,104,1.0400000000000007,61.481759610701239,-32.60521541427071]
[0,105,1.0500000000000007,{"$f":"(Alfa1*SIN(miia*C126)-Alfa2*SIN(miib*C126))","v":19.557375293901828},{"$f":"-(Alfa1*COS(miia*C126)-Alfa2*COS(miib*C126))","v":12.801460618046359},{"$f":"(miia*Alfa1*COS(miia*C126)-miib*Alfa2*COS(miib*C126))","v":-230.44522788882699},{"$f":"miia*Alfa1*SIN(miia*C126)-miib*Alfa2*SIN(miib*C126)","v":405.68039245959483},null,null,null,5.2621676947629101,-142.03231626369083,91.784302168873126,{"$f":"N125+dfi","v":4.2725660088821211},{"$f":"Aktina*COS(N126)","v":-29.804550409554938},{"$f":"Aktina*(SIN(N126))","v":-63.337893672621433},0,105,1.0500000000000007,60.072298947770264,-35.814316587709328]
[0,106,1.0600000000000007,{"$f":"(Alfa1*SIN(miia*C127)-Alfa2*SIN(miib*C127))","v":17.307720799483079},{"$f":"-(Alfa1*COS(miia*C127)-Alfa2*COS(miib*C127))","v":16.879577903685103},{"$f":"(miia*Alfa1*COS(miia*C127)-miib*Alfa2*COS(miib*C127))","v":-219.26625628856357},{"$f":"miia*Alfa1*SIN(miia*C127)-miib*Alfa2*SIN(miib*C127)","v":409.51000156189866},null,null,null,5.3407075111026554,-146.95378639782405,88.49588095808744,{"$f":"N126+dfi","v":4.3353978619539166},{"$f":"Aktina*COS(N127)","v":-25.768718687927329},{"$f":"Aktina*(SIN(N127))","v":-65.084354012177656},0,106,1.0600000000000007,57.187782558157352,-38.092850188302663]
[0,107,1.0700000000000007,{"$f":"(Alfa1*SIN(miia*C128)-Alfa2*SIN(miib*C128))","v":15.176123560129401},{"$f":"-(Alfa1*COS(miia*C128)-Alfa2*COS(miib*C128))","v":20.982868999303847},{"$f":"(miia*Alfa1*COS(miia*C128)-miib*Alfa2*COS(miib*C128))","v":-206.8655935989878},{"$f":"miia*Alfa1*SIN(miia*C128)-miib*Alfa2*SIN(miib*C128)","v":410.70287349521345},null,null,null,5.4192473274424007,-151.6020787274208,84.831462756063843,{"$f":"N127+dfi","v":4.3982297150257121},{"$f":"Aktina*COS(N128)","v":-21.631189606246213},{"$f":"Aktina*(SIN(N128))","v":-66.573956140660783},0,107,1.0700000000000007,52.98825244257435,-39.255663665045489]
[0,108,1.0800000000000007,{"$f":"(Alfa1*SIN(miia*C129)-Alfa2*SIN(miib*C129))","v":13.173830717727796},{"$f":"-(Alfa1*COS(miia*C129)-Alfa2*COS(miib*C129))","v":25.084636393365425},{"$f":"(miia*Alfa1*COS(miia*C129)-miib*Alfa2*COS(miib*C129))","v":-193.43864922619184},{"$f":"miia*Alfa1*SIN(miia*C129)-miib*Alfa2*SIN(miib*C129)","v":409.19683411191147},null,null,null,5.4977871437821459,-155.94853498455512,80.813639919560487,{"$f":"N128+dfi","v":4.4610615680975076},{"$f":"Aktina*COS(N129)","v":-17.40829210153975},{"$f":"Aktina*(SIN(N129))","v":-67.800821279004197},0,108,1.0800000000000007,47.67653526024975,-39.158058847930953]
[0,109,1.0900000000000007,{"$f":"(Alfa1*SIN(miia*C130)-Alfa2*SIN(miib*C130))","v":11.310095245666133},{"$f":"-(Alfa1*COS(miia*C130)-Alfa2*COS(miib*C130))","v":29.157677581573182},{"$f":"(miia*Alfa1*COS(miia*C130)-miib*Alfa2*COS(miib*C130))","v":-179.18848575819618},{"$f":"miia*Alfa1*SIN(miia*C130)-miib*Alfa2*SIN(miib*C130)","v":404.95316488556296},null,null,null,5.5763269601218912,-159.96635782105841,76.467183662426095,{"$f":"N129+dfi","v":4.5238934211693032},{"$f":"Aktina*COS(N130)","v":-13.116692021000663},{"$f":"Aktina*(SIN(N130))","v":-68.760107551008218},0,109,1.0900000000000007,41.489802518563039,-37.702543192797783]
[0,110,1.1000000000000008,{"$f":"(Alfa1*SIN(miia*C131)-Alfa2*SIN(miib*C131))","v":9.5921103737684206},{"$f":"-(Alfa1*COS(miia*C131)-Alfa2*COS(miib*C131))","v":33.174522419980271},{"$f":"(miia*Alfa1*COS(miia*C131)-miib*Alfa2*COS(miib*C131))","v":-164.32361780408107},{"$f":"miia*Alfa1*SIN(miia*C131)-miib*Alfa2*SIN(miib*C131)","v":397.9571241615883},null,null,null,5.6548667764616365,-163.63077602308198,71.818891332829267,{"$f":"N130+dfi","v":4.5867252742410987},{"$f":"Aktina*COS(N131)","v":-8.7733263495012608},{"$f":"Aktina*(SIN(N131))","v":-69.448029092013456},0,110,1.1000000000000008,34.68986140410999,-34.843729494230274]
[0,111,1.1100000000000008,{"$f":"(Alfa1*SIN(miia*C132)-Alfa2*SIN(miib*C132))","v":8.0249662814656766},{"$f":"-(Alfa1*COS(miia*C132)-Alfa2*COS(miib*C132))","v":37.107674538632395},{"$f":"(miia*Alfa1*COS(miia*C132)-miib*Alfa2*COS(miib*C132))","v":-149.05576329016498},{"$f":"miia*Alfa1*SIN(miia*C132)-miib*Alfa2*SIN(miib*C132)","v":388.21823727872425},null,null,null,5.7334065928013818,-166.91919723386755,66.897421198696023,{"$f":"N131+dfi","v":4.6495571273128942},{"$f":"Aktina*COS(N132)","v":-4.3953363670519243},{"$f":"Aktina*(SIN(N132))","v":-69.86187098997901},0,111,1.1100000000000008,27.552565865902423,-30.591178608927933]
[0,112,1.1200000000000008,{"$f":"(Alfa1*SIN(miia*C133)-Alfa2*SIN(miib*C133))","v":6.6116294205108197},{"$f":"-(Alfa1*COS(miia*C133)-Alfa2*COS(miib*C133))","v":40.929854486249489},{"$f":"(miia*Alfa1*COS(miia*C133)-miib*Alfa2*COS(miib*C133))","v":-133.59757009468177},{"$f":"miia*Alfa1*SIN(miia*C133)-miib*Alfa2*SIN(miib*C133)","v":375.77035230551451},null,null,null,5.811946409141127,-169.81134724313972,61.733115759958189,{"$f":"N132+dfi","v":4.7123889803846897},{"$f":"Aktina*COS(N133)","v":-1.286405877654051E-14},{"$f":"Aktina*(SIN(N133))","v":-70},0,112,1.1200000000000008,20.35677161104536,-25.010061534958371]
[0,113,1.1300000000000008,{"$f":"(Alfa1*SIN(miia*C134)-Alfa2*SIN(miib*C134))","v":5.3529445983982775},{"$f":"-(Alfa1*COS(miia*C134)-Alfa2*COS(miib*C134))","v":44.614242255484001},{"$f":"(miia*Alfa1*COS(miia*C134)-miib*Alfa2*COS(miib*C134))","v":-118.16034113046243},{"$f":"miia*Alfa1*SIN(miia*C134)-miib*Alfa2*SIN(miib*C134)","v":360.67146045772176},null,null,null,5.8904862254808723,-172.28939498435378,56.357814676951406,{"$f":"N133+dfi","v":4.7752208334564852},{"$f":"Aktina*COS(N134)","v":4.3953363670518986},{"$f":"Aktina*(SIN(N134))","v":-69.86187098997901},0,113,1.1300000000000008,13.373275817737968,-18.21960402816617]
[0,114,1.1400000000000008,{"$f":"(Alfa1*SIN(miia*C135)-Alfa2*SIN(miib*C135))","v":4.2476597223805825},{"$f":"-(Alfa1*COS(miia*C135)-Alfa2*COS(miib*C135))","v":48.134716840611816},{"$f":"(miia*Alfa1*COS(miia*C135)-miib*Alfa2*COS(miib*C135))","v":-102.95178098129499},{"$f":"miia*Alfa1*SIN(miia*C135)-miib*Alfa2*SIN(miib*C135)","v":343.0032825945384},null,null,null,5.9690260418206176,-174.33806246915066,50.804658468321392,{"$f":"N134+dfi","v":4.8380526865282807},{"$f":"Aktina*COS(N135)","v":8.7733263495012341},{"$f":"Aktina*(SIN(N135))","v":-69.448029092013456},0,114,1.1400000000000008,6.8541819367146006,-10.389365344878218]
[0,115,1.1500000000000008,{"$f":"(Alfa1*SIN(miia*C136)-Alfa2*SIN(miib*C136))","v":3.2924728739019962},{"$f":"-(Alfa1*COS(miia*C136)-Alfa2*COS(miib*C136))","v":51.466090505107999},{"$f":"(miia*Alfa1*COS(miia*C136)-miib*Alfa2*COS(miib*C136))","v":-88.173786961985769},{"$f":"miia*Alfa1*SIN(miia*C136)-miib*Alfa2*SIN(miib*C136)","v":322.87062551045875},null,null,null,6.0475658581603629,-175.94471898123558,45.107884188706194,{"$f":"N135+dfi","v":4.9008845396000762},{"$f":"Aktina*COS(N136)","v":13.116692021000638},{"$f":"Aktina*(SIN(N136))","v":-68.760107551008232},0,115,1.1500000000000008,1.0231119679636411,-1.7334891553130696]
[0,116,1.1600000000000008,{"$f":"(Alfa1*SIN(miia*C137)-Alfa2*SIN(miib*C137))","v":2.4821011567054079},{"$f":"-(Alfa1*COS(miia*C137)-Alfa2*COS(miib*C137))","v":54.584335485181199},{"$f":"(miia*Alfa1*COS(miia*C137)-miib*Alfa2*COS(miib*C137))","v":-74.020307007112677},{"$f":"miia*Alfa1*SIN(miia*C137)-miib*Alfa2*SIN(miib*C137)","v":300.4005140225733},null,null,null,6.1261056745001081,-177.09945894894398,39.302614345909319,{"$f":"N136+dfi","v":4.9637163926718717},{"$f":"Aktina*COS(N137)","v":17.408292101539725},{"$f":"Aktina*(SIN(N137))","v":-67.800821279004211},0,116,1.1600000000000008,-3.9333462079044494,7.4968542730073509]
[0,117,1.1700000000000008,{"$f":"(Alfa1*SIN(miia*C138)-Alfa2*SIN(miib*C138))","v":1.8093705410826217},{"$f":"-(Alfa1*COS(miia*C138)-Alfa2*COS(miib*C138))","v":57.466800926516626},{"$f":"(miia*Alfa1*COS(miia*C138)-miib*Alfa2*COS(miib*C138))","v":-60.675286103724233},{"$f":"miia*Alfa1*SIN(miia*C138)-miib*Alfa2*SIN(miib*C138)","v":275.74110707707268},null,null,null,6.2046454908398534,-177.79516301638495,33.424640358959721,{"$f":"N137+dfi","v":5.0265482457436672},{"$f":"Aktina*COS(N138)","v":21.631189606246188},{"$f":"Aktina*(SIN(N138))","v":-66.573956140660798},0,117,1.1700000000000008,-7.8726190970568171,17.022543101539846]
[0,118,1.1800000000000008,{"$f":"(Alfa1*SIN(miia*C139)-Alfa2*SIN(miib*C139))","v":1.2653257139447902},{"$f":"-(Alfa1*COS(miia*C139)-Alfa2*COS(miib*C139))","v":60.092417944508085},{"$f":"(miia*Alfa1*COS(miia*C139)-miib*Alfa2*COS(miib*C139))","v":-48.310722075745161},{"$f":"miia*Alfa1*SIN(miia*C139)-miib*Alfa2*SIN(miib*C139)","v":249.06040824171498},null,null,null,6.2831853071795987,-178.02754193663759,27.510201892111635,{"$f":"N138+dfi","v":5.0893800988154627},{"$f":"Aktina*COS(N139)","v":25.768718687927308},{"$f":"Aktina*(SIN(N139))","v":-65.084354012177656},0,118,1.1800000000000008,-10.701281757582889,26.546743739622098]
[0,119,1.1900000000000008,{"$f":"(Alfa1*SIN(miia*C140)-Alfa2*SIN(miib*C140))","v":0.83935874172375513},{"$f":"-(Alfa1*COS(miia*C140)-Alfa2*COS(miib*C140))","v":62.441890812221729},{"$f":"(miia*Alfa1*COS(miia*C140)-miib*Alfa2*COS(miib*C140))","v":-37.084850411742963},{"$f":"miia*Alfa1*SIN(miia*C140)-miib*Alfa2*SIN(miib*C140)","v":220.54478299157796},null,null,null,null,null,null,{"$f":"N139+dfi","v":5.1522119518872582},{"$f":"Aktina*COS(N140)","v":29.804550409554913},{"$f":"Aktina*(SIN(N140))","v":-63.337893672621448},0,119,1.1900000000000008,-12.378146672739113,35.765916098205366]
[0,120,1.2000000000000008,{"$f":"(Alfa1*SIN(miia*C141)-Alfa2*SIN(miib*C141))","v":0.51935516260636483},{"$f":"-(Alfa1*COS(miia*C141)-Alfa2*COS(miib*C141))","v":64.497872414108727},{"$f":"(miia*Alfa1*COS(miia*C141)-miib*Alfa2*COS(miib*C141))","v":-27.140476514169762},{"$f":"miia*Alfa1*SIN(miia*C141)-miib*Alfa2*SIN(miib*C141)","v":190.39729711318142},null,null,null,null,null,null,{"$f":"N140+dfi","v":5.2150438049590537},{"$f":"Aktina*COS(N141)","v":33.722757187119882},{"$f":"Aktina*(SIN(N141))","v":-61.341467603070555},0,120,1.2000000000000008,-12.915190540216622,44.381153812432899]
[0,121,1.2100000000000009,{"$f":"(Alfa1*SIN(miia*C142)-Alfa2*SIN(miib*C142))","v":0.29185594816425464},{"$f":"-(Alfa1*COS(miia*C142)-Alfa2*COS(miib*C142))","v":66.245122255739545},{"$f":"(miia*Alfa1*COS(miia*C142)-miib*Alfa2*COS(miib*C142))","v":-18.603472250433441},{"$f":"miia*Alfa1*SIN(miia*C142)-miib*Alfa2*SIN(miib*C142)","v":158.83589232792897},null,null,null,null,null,null,{"$f":"N141+dfi","v":5.2778756580308492},{"$f":"Aktina*COS(N142)","v":37.507875648529563},{"$f":"Aktina*(SIN(N142))","v":-59.102954785141179},0,121,1.2100000000000009,-12.376289175577273,52.109414937459221]
[0,122,1.2200000000000009,{"$f":"(Alfa1*SIN(miia*C143)-Alfa2*SIN(miib*C143))","v":0.14223361383846189},{"$f":"-(Alfa1*COS(miia*C143)-Alfa2*COS(miib*C143))","v":67.670645489062252},{"$f":"(miia*Alfa1*COS(miia*C143)-miib*Alfa2*COS(miib*C143))","v":-11.581452019187168},{"$f":"miia*Alfa1*SIN(miia*C143)-miib*Alfa2*SIN(miib*C143)","v":126.09141685207945},null,null,null,null,null,null,{"$f":"N142+dfi","v":5.3407075111026447},{"$f":"Aktina*COS(N143)","v":41.144967660472908},{"$f":"Aktina*(SIN(N143))","v":-56.63118960624648},0,122,1.2200000000000009,-10.873818834941666,58.694202236978867]
[0,123,1.2300000000000009,{"$f":"(Alfa1*SIN(miia*C144)-Alfa2*SIN(miib*C144))","v":5.4880614582087262E-2},{"$f":"-(Alfa1*COS(miia*C144)-Alfa2*COS(miib*C144))","v":68.763811597216176},{"$f":"(miia*Alfa1*COS(miia*C144)-miib*Alfa2*COS(miib*C144))","v":-6.1626417257668322},{"$f":"miia*Alfa1*SIN(miia*C144)-miib*Alfa2*SIN(miib*C144)","v":92.405530050938367},null,null,null,null,null,null,{"$f":"N143+dfi","v":5.4035393641744403},{"$f":"Aktina*COS(N144)","v":44.619679282408057},{"$f":"Aktina*(SIN(N144))","v":-53.935926994305426},0,123,1.2300000000000009,-8.5632679658685582,63.915273307036315]
[0,124,1.2400000000000009,{"$f":"(Alfa1*SIN(miia*C145)-Alfa2*SIN(miib*C145))","v":1.3408037689277119E-2},{"$f":"-(Alfa1*COS(miia*C145)-Alfa2*COS(miib*C145))","v":69.516451580923686},{"$f":"(miia*Alfa1*COS(miia*C145)-miib*Alfa2*COS(miib*C145))","v":-2.4149521070156368},{"$f":"miia*Alfa1*SIN(miia*C145)-miib*Alfa2*SIN(miib*C145)","v":58.028501595351599},null,null,null,null,null,null,{"$f":"N144+dfi","v":5.4663712172462358},{"$f":"Aktina*COS(N145)","v":47.918297415007977},{"$f":"Aktina*(SIN(N145))","v":-51.027803919499021},0,124,1.2400000000000009,-5.6360832729741652,67.596998574946426]
[0,125,1.2500000000000009,{"$f":"(Alfa1*SIN(miia*C146)-Alfa2*SIN(miib*C146))","v":8.5250069130138328E-4},{"$f":"-(Alfa1*COS(miia*C146)-Alfa2*COS(miib*C146))","v":69.922932697976876},{"$f":"(miia*Alfa1*COS(miia*C146)-miib*Alfa2*COS(miib*C146))","v":-0.38526577738093692},{"$f":"miia*Alfa1*SIN(miia*C146)-miib*Alfa2*SIN(miib*C146)","v":23.216926576373645},null,null,null,null,null,null,{"$f":"N145+dfi","v":5.5292030703180313},{"$f":"Aktina*COS(N146)","v":51.027803919498574},{"$f":"Aktina*(SIN(N146))","v":-47.918297415008453},0,125,1.2500000000000009,-2.3110448461297262,69.615038186472006]
[0,126,1.2600000000000009,{"$f":"(Alfa1*SIN(miia*C147)-Alfa2*SIN(miib*C147))","v":-1.109207764637965E-4},{"$f":"-(Alfa1*COS(miia*C147)-Alfa2*COS(miib*C147))","v":69.980210026249466},{"$f":"(miia*Alfa1*COS(miia*C147)-miib*Alfa2*COS(miib*C147))","v":-9.8945205895830668E-2},{"$f":"miia*Alfa1*SIN(miia*C147)-miib*Alfa2*SIN(miib*C147)","v":-11.768621131283268},null,null,null,null,null,null,{"$f":"N146+dfi","v":5.5920349233898268},{"$f":"Aktina*COS(N147)","v":53.935926994305014},{"$f":"Aktina*(SIN(N147))","v":-44.619679282408562},0,126,1.2600000000000009,1.1754758856521477,69.901074841224684]
[0,127,1.2700000000000009,{"$f":"(Alfa1*SIN(miia*C148)-Alfa2*SIN(miib*C148))","v":-6.9519712072727557E-3},{"$f":"-(Alfa1*COS(miia*C148)-Alfa2*COS(miib*C148))","v":69.687854346824452},{"$f":"(miia*Alfa1*COS(miia*C148)-miib*Alfa2*COS(miib*C148))","v":-1.5595665991340866},{"$f":"miia*Alfa1*SIN(miia*C148)-miib*Alfa2*SIN(miib*C148)","v":-46.66597435301982},null,null,null,null,null,null,{"$f":"N147+dfi","v":5.6548667764616223},{"$f":"Aktina*COS(N148)","v":56.631189606246089},{"$f":"Aktina*(SIN(N148))","v":-41.144967660473434},0,127,1.2700000000000009,4.5799767987588016,68.445416133233849]
[0,128,1.2800000000000009,{"$f":"(Alfa1*SIN(miia*C149)-Alfa2*SIN(miib*C149))","v":-3.7066973987131213E-2},{"$f":"-(Alfa1*COS(miia*C149)-Alfa2*COS(miib*C149))","v":69.048056074989063},{"$f":"(miia*Alfa1*COS(miia*C149)-miib*Alfa2*COS(miib*C149))","v":-4.7488823808437246},{"$f":"miia*Alfa1*SIN(miia*C149)-miib*Alfa2*SIN(miib*C149)","v":-81.213773655477311},null,null,null,null,null,null,{"$f":"N148+dfi","v":5.7176986295334178},{"$f":"Aktina*COS(N149)","v":59.102954785140838},{"$f":"Aktina*(SIN(N149))","v":-37.507875648530117},0,128,1.2800000000000009,7.6625769210850176,65.297363861111748]
[{"$f":"IF(B150=$AC$1,1,0)","v":0},129,{"$f":"C149+dt","v":1.2900000000000009},{"$f":"(Alfa1*SIN(miia*C150)-Alfa2*SIN(miib*C150))","v":-0.10756136048517373},{"$f":"-(Alfa1*COS(miia*C150)-Alfa2*COS(miib*C150))","v":68.06560520071389},{"$f":"(miia*Alfa1*COS(miia*C150)-miib*Alfa2*COS(miib*C150))","v":-9.6270126476192672},{"$f":"miia*Alfa1*SIN(miia*C150)-miib*Alfa2*SIN(miib*C150)","v":-115.15386050062138},null,null,null,null,null,null,{"$f":"N149+dfi","v":5.7805304826052133},{"$f":"Aktina*COS(N150)","v":61.341467603070242},{"$f":"Aktina*(SIN(N150))","v":-33.72275718712045},{"$f":"IF(R150=$AC$1,1,0)","v":0},129,{"$f":"S149+dt","v":1.2900000000000009},{"$f":"IF(R150<MAX_TIME,Aktina*SIN(epsilon*S150)*COS(D*S150),Aktina*SIN(epsilon*MAX_TIME*dt)*COS(D*MAX_TIME*dt))","v":10.197620404382302},{"$f":"IF(R150<MAX_TIME,Aktina*COS(epsilon*S150)*COS(D*S150),Aktina*COS(epsilon*MAX_TIME*dt)*COS(D*MAX_TIME*dt))","v":60.563335755396317}]
[0,{"$f":"B150+1","v":130},1.3000000000000009,{"$f":"(Alfa1*SIN(miia*C151)-Alfa2*SIN(miib*C151))","v":-0.23503525147645199},{"$f":"-(Alfa1*COS(miia*C151)-Alfa2*COS(miib*C151))","v":66.747847434478871},{"$f":"(miia*Alfa1*COS(miia*C151)-miib*Alfa2*COS(miib*C151))","v":-16.132863664826971},{"$f":"miia*Alfa1*SIN(miia*C151)-miib*Alfa2*SIN(miib*C151)","v":-148.23363914670938},null,null,null,null,null,null,{"$f":"N150+dfi","v":5.8433623356770088},{"$f":"Aktina*COS(N151)","v":63.337893672621171},{"$f":"Aktina*(SIN(N151))","v":-29.804550409555507},0,{"$f":"R150+1","v":130},1.3000000000000009,11.983699477853776,54.402813632258628]
[0,131,1.3100000000000009,{"$f":"(Alfa1*SIN(miia*C152)-Alfa2*SIN(miib*C152))","v":-0.4353743420409586},{"$f":"-(Alfa1*COS(miia*C152)-Alfa2*COS(miib*C152))","v":65.104616986610495},{"$f":"(miia*Alfa1*COS(miia*C152)-miib*Alfa2*COS(miib*C152))","v":-24.184769171246813},{"$f":"miia*Alfa1*SIN(miia*C152)-miib*Alfa2*SIN(miib*C152)","v":-180.20838424053824},null,null,null,null,null,null,{"$f":"N151+dfi","v":5.9061941887488043},{"$f":"Aktina*COS(N152)","v":65.084354012177414},{"$f":"Aktina*(SIN(N152))","v":-25.768718687927912},0,131,1.3100000000000009,12.852686540348079,47.022277602558688]
[0,132,1.320000000000001,{"$f":"(Alfa1*SIN(miia*C153)-Alfa2*SIN(miib*C153))","v":-0.7235482874557988},{"$f":"-(Alfa1*COS(miia*C153)-Alfa2*COS(miib*C153))","v":63.148146636341671},{"$f":"(miia*Alfa1*COS(miia*C153)-miib*Alfa2*COS(miib*C153))","v":-33.681348007552828},{"$f":"miia*Alfa1*SIN(miia*C153)-miib*Alfa2*SIN(miib*C153)","v":-210.84347158481006},null,null,null,null,null,null,{"$f":"N152+dfi","v":5.9690260418205998},{"$f":"Aktina*COS(N153)","v":66.573956140660599},{"$f":"Aktina*(SIN(N153))","v":-21.631189606246807},0,132,1.320000000000001,12.677405292491512,38.667365240171343]
[0,133,1.330000000000001,{"$f":"(Alfa1*SIN(miia*C154)-Alfa2*SIN(miib*C154))","v":-1.1134187117433356},{"$f":"-(Alfa1*COS(miia*C154)-Alfa2*COS(miib*C154))","v":60.892955968335968},{"$f":"(miia*Alfa1*COS(miia*C154)-miib*Alfa2*COS(miib*C154))","v":-44.502569395397558},{"$f":"miia*Alfa1*SIN(miia*C154)-miib*Alfa2*SIN(miib*C154)","v":-239.91651032752981},null,null,null,null,null,null,{"$f":"N153+dfi","v":6.0318578948923953},{"$f":"Aktina*COS(N154)","v":67.80082127900404},{"$f":"Aktina*(SIN(N154))","v":-17.408292101540358},0,133,1.330000000000001,11.377625408843107,29.613564393266639]
[0,134,1.340000000000001,{"$f":"(Alfa1*SIN(miia*C155)-Alfa2*SIN(miib*C155))","v":-1.6175588632175035},{"$f":"-(Alfa1*COS(miia*C155)-Alfa2*COS(miib*C155))","v":58.355718867228916},{"$f":"(miia*Alfa1*COS(miia*C155)-miib*Alfa2*COS(miib*C155))","v":-56.51101509243307},{"$f":"miia*Alfa1*SIN(miia*C155)-miib*Alfa2*SIN(miib*C155)","v":-267.21935579944659},null,null,null,null,null,null,{"$f":"N154+dfi","v":6.0946897479641908},{"$f":"Aktina*COS(N155)","v":68.760107551008105},{"$f":"Aktina*(SIN(N155))","v":-13.116692021001278},0,134,1.340000000000001,8.9241325235685522,20.155805834768802]
[0,135,1.350000000000001,{"$f":"(Alfa1*SIN(miia*C156)-Alfa2*SIN(miib*C156))","v":-2.2470868235577406},{"$f":"-(Alfa1*COS(miia*C156)-Alfa2*COS(miib*C156))","v":55.555111562720739},{"$f":"(miia*Alfa1*COS(miia*C156)-miib*Alfa2*COS(miib*C156))","v":-69.553325655144533},{"$f":"miia*Alfa1*SIN(miia*C156)-miib*Alfa2*SIN(miib*C156)","v":-292.55998341085825},null,null,null,null,null,null,{"$f":"N155+dfi","v":6.1575216010359863},{"$f":"Aktina*COS(N156)","v":69.448029092013371},{"$f":"Aktina*(SIN(N156))","v":-8.7733263495018807},0,135,1.350000000000001,5.3407025648504893,10.597364910161051]
[0,136,1.360000000000001,{"$f":"(Alfa1*SIN(miia*C157)-Alfa2*SIN(miib*C157))","v":-3.0115140398169018},{"$f":"-(Alfa1*COS(miia*C157)-Alfa2*COS(miib*C157))","v":52.511642706898321},{"$f":"(miia*Alfa1*COS(miia*C157)-miib*Alfa2*COS(miib*C157))","v":-83.461816175892622},{"$f":"miia*Alfa1*SIN(miia*C157)-miib*Alfa2*SIN(miib*C157)","v":-315.76420539885993},null,null,null,null,null,null,{"$f":"N156+dfi","v":6.2203534541077818},{"$f":"Aktina*COS(N157)","v":69.861870989978968},{"$f":"Aktina*(SIN(N157))","v":-4.3953363670525487},0,136,1.360000000000001,0.70389363779741954,1.2385080483336515]
[0,137,1.370000000000001,{"$f":"(Alfa1*SIN(miia*C158)-Alfa2*SIN(miib*C158))","v":-3.918610793709842},{"$f":"-(Alfa1*COS(miia*C158)-Alfa2*COS(miib*C158))","v":49.247467139895946},{"$f":"(miia*Alfa1*COS(miia*C158)-miib*Alfa2*COS(miib*C158))","v":-98.05624514175021},{"$f":"miia*Alfa1*SIN(miia*C158)-miib*Alfa2*SIN(miib*C158)","v":-336.67721377651242},null,null,null,null,null,null,{"$f":"N157+dfi","v":6.2831853071795774},{"$f":"Aktina*COS(N158)","v":70},{"$f":"Aktina*(SIN(N158))","v":-6.3887697215880834E-13},0,137,1.370000000000001,-4.8593436385532467,-7.6346706020110231]
[0,138,1.380000000000001,{"$f":"(Alfa1*SIN(miia*C159)-Alfa2*SIN(miib*C159))","v":-4.9742900510869958},{"$f":"-(Alfa1*COS(miia*C159)-Alfa2*COS(miib*C159))","v":45.786185157994097},{"$f":"(miia*Alfa1*COS(miia*C159)-miib*Alfa2*COS(miib*C159))","v":-113.145718507807},{"$f":"miia*Alfa1*SIN(miia*C159)-miib*Alfa2*SIN(miib*C159)","v":-355.16493456087267},null,null,null,null,null,null,null,null,null,0,138,1.380000000000001,-11.176148690970521,-15.760785428712989]
[0,139,1.390000000000001,{"$f":"(Alfa1*SIN(miia*C160)-Alfa2*SIN(miib*C160))","v":-6.1825109483917906},{"$f":"-(Alfa1*COS(miia*C160)-Alfa2*COS(miib*C160))","v":42.152629238233054},{"$f":"(miia*Alfa1*COS(miia*C160)-miib*Alfa2*COS(miib*C160))","v":-128.53070970223021},{"$f":"miia*Alfa1*SIN(miia*C160)-miib*Alfa2*SIN(miib*C160)","v":-371.11518023020119},null,null,null,null,null,null,null,null,null,0,139,1.390000000000001,-18.034153523778105,-22.91265714487416]
[0,140,1.400000000000001,{"$f":"(Alfa1*SIN(miia*C161)-Alfa2*SIN(miib*C161))","v":-7.5452029739966697},{"$f":"-(Alfa1*COS(miia*C161)-Alfa2*COS(miib*C161))","v":38.372640294203258},{"$f":"(miia*Alfa1*COS(miia*C161)-miib*Alfa2*COS(miib*C161))","v":-144.00517509827824},{"$f":"miia*Alfa1*SIN(miia*C161)-miib*Alfa2*SIN(miib*C161)","v":-384.43858936318844},null,null,null,null,null,null,null,null,null,0,140,1.400000000000001,-25.189554858545741,-28.905402683701144]
[0,141,1.410000000000001,{"$f":"(Alfa1*SIN(miia*C162)-Alfa2*SIN(miib*C162))","v":-9.0622116926043965},{"$f":"-(Alfa1*COS(miia*C162)-Alfa2*COS(miib*C162))","v":34.472835637669256},{"$f":"(miia*Alfa1*COS(miia*C162)-miib*Alfa2*COS(miib*C162))","v":-159.35874351156076},{"$f":"miia*Alfa1*SIN(miia*C162)-miib*Alfa2*SIN(miib*C162)","v":-395.06934452479328},null,null,null,null,null,null,null,null,null,0,141,1.410000000000001,-32.376538010725262,-33.602804343103124]
[0,142,1.420000000000001,{"$f":"(Alfa1*SIN(miia*C163)-Alfa2*SIN(miib*C163))","v":-10.731266642492621},{"$f":"-(Alfa1*COS(miia*C163)-Alfa2*COS(miib*C163))","v":30.480370899101967},{"$f":"(miia*Alfa1*COS(miia*C163)-miib*Alfa2*COS(miib*C163))","v":-174.37895751894217},{"$f":"miia*Alfa1*SIN(miia*C163)-miib*Alfa2*SIN(miib*C163)","v":-402.96566166318945},null,null,null,null,null,null,null,null,null,0,142,1.420000000000001,-39.317679758448399,-36.921714269598908]
[0,143,1.430000000000001,{"$f":"(Alfa1*SIN(miia*C164)-Alfa2*SIN(miib*C164))","v":-12.54797181045841},{"$f":"-(Alfa1*COS(miia*C164)-Alfa2*COS(miib*C164))","v":26.422698216266568},{"$f":"(miia*Alfa1*COS(miia*C164)-miib*Alfa2*COS(miib*C164))","v":-188.85354385623791},{"$f":"miia*Alfa1*SIN(miia*C164)-miib*Alfa2*SIN(miib*C164)","v":-408.1100465484061},null,null,null,null,null,null,null,null,null,0,143,1.430000000000001,-45.734917415559039,-38.834328940976782]
[0,144,1.4400000000000011,{"$f":"(Alfa1*SIN(miia*C165)-Alfa2*SIN(miib*C165))","v":-14.505818860144224},{"$f":"-(Alfa1*COS(miia*C165)-Alfa2*COS(miib*C165))","v":22.327323033183806},{"$f":"(miia*Alfa1*COS(miia*C165)-miib*Alfa2*COS(miib*C165))","v":-202.57268984073716},{"$f":"miia*Alfa1*SIN(miia*C165)-miib*Alfa2*SIN(miib*C165)","v":-410.5093160929672},null,null,null,null,null,null,null,null,null,0,144,1.4400000000000011,-51.360647714945337,-39.368253366188021]
[0,145,1.4500000000000011,{"$f":"(Alfa1*SIN(miia*C166)-Alfa2*SIN(miib*C166))","v":-16.596223058294552},{"$f":"-(Alfa1*COS(miia*C166)-Alfa2*COS(miib*C166))","v":18.221561861735537},{"$f":"(miia*Alfa1*COS(miia*C166)-miib*Alfa2*COS(miib*C166))","v":-215.33130268472792},{"$f":"miia*Alfa1*SIN(miia*C166)-miib*Alfa2*SIN(miib*C166)","v":-410.19438472511047},null,null,null,null,null,null,null,null,null,0,145,1.4500000000000011,-55.948512890818172,-38.60436287671952]
[0,146,1.4600000000000011,{"$f":"(Alfa1*SIN(miia*C167)-Alfa2*SIN(miib*C167))","v":-18.808581612721483},{"$f":"-(Alfa1*COS(miia*C167)-Alfa2*COS(miib*C167))","v":14.132303344831614},{"$f":"(miia*Alfa1*COS(miia*C167)-miib*Alfa2*COS(miib*C167))","v":-226.93122871845435},{"$f":"miia*Alfa1*SIN(miia*C167)-miib*Alfa2*SIN(miib*C167)","v":-407.21981831278219},null,null,null,null,null,null,null,null,null,0,146,1.4600000000000011,-59.283442778004414,-36.672558121269446]
[0,147,1.4700000000000011,{"$f":"(Alfa1*SIN(miia*C168)-Alfa2*SIN(miib*C168))","v":-21.130353907666294},{"$f":"-(Alfa1*COS(miia*C168)-Alfa2*COS(miib*C168))","v":10.085774923530591},{"$f":"(miia*Alfa1*COS(miia*C168)-miib*Alfa2*COS(miib*C168))","v":-237.18340992384731},{"$f":"miia*Alfa1*SIN(miia*C168)-miib*Alfa2*SIN(miib*C168)","v":-401.66316043835639},null,null,null,null,null,null,null,null,null,0,147,1.4700000000000011,-61.190550377359315,-33.745592697800809]
[0,148,1.4800000000000011,{"$f":"(Alfa1*SIN(miia*C169)-Alfa2*SIN(miib*C169))","v":-23.547162899118806},{"$f":"-(Alfa1*COS(miia*C169)-Alfa2*COS(miib*C169))","v":6.1073173511943093},{"$f":"(miia*Alfa1*COS(miia*C169)-miib*Alfa2*COS(miib*C169))","v":-245.90995579012673},{"$f":"miia*Alfa1*SIN(miia*C169)-miib*Alfa2*SIN(miib*C169)","v":-393.62403807695239},null,null,null,null,null,null,null,null,null,0,148,1.4800000000000011,-61.542523037887506,-30.031229423917001]
[0,149,1.4900000000000011,{"$f":"(Alfa1*SIN(miia*C170)-Alfa2*SIN(miib*C170))","v":-26.042916716739455},{"$f":"-(Alfa1*COS(miia*C170)-Alfa2*COS(miib*C170))","v":2.2211692162505585},{"$f":"(miia*Alfa1*COS(miia*C170)-miib*Alfa2*COS(miib*C170))","v":-252.9461093329495},{"$f":"miia*Alfa1*SIN(miia*C170)-miib*Alfa2*SIN(miib*C170)","v":-383.22305591288631},null,null,null,null,null,null,null,null,null,0,149,1.4900000000000011,-60.265210406062188,-25.763047508226833]
[0,150,1.5000000000000011,{"$f":"(Alfa1*SIN(miia*C171)-Alfa2*SIN(miib*C171))","v":-28.59994931248869},{"$f":"-(Alfa1*COS(miia*C171)-Alfa2*COS(miib*C171))","v":-1.5497364677383523},{"$f":"(miia*Alfa1*COS(miia*C171)-miib*Alfa2*COS(miib*C171))","v":-258.14208716189808},{"$f":"miia*Alfa1*SIN(miia*C171)-miib*Alfa2*SIN(miib*C171)","v":-370.60049061743149},null,null,null,null,null,null,null,null,null,0,150,1.5000000000000011,-57.341181248748796,-21.190276203992788]
[0,151,1.5100000000000011,{"$f":"(Alfa1*SIN(miia*C172)-Alfa2*SIN(miib*C172))","v":-31.19917880097795},{"$f":"-(Alfa1*COS(miia*C172)-Alfa2*COS(miib*C172))","v":-5.1839616692097028},{"$f":"(miia*Alfa1*COS(miia*C172)-miib*Alfa2*COS(miib*C172))","v":-261.36477472638785},{"$f":"miia*Alfa1*SIN(miia*C172)-miib*Alfa2*SIN(miib*C172)","v":-355.91479838588214},null,null,null,null,null,null,null,null,null,0,151,1.5100000000000011,-52.811101348608851,-16.567068780898747]
[0,152,1.5200000000000011,{"$f":"(Alfa1*SIN(miia*C173)-Alfa2*SIN(miib*C173))","v":-33.820281954881025},{"$f":"-(Alfa1*COS(miia*C173)-Alfa2*COS(miib*C173))","v":-8.661736949753692},{"$f":"(miia*Alfa1*COS(miia*C173)-miib*Alfa2*COS(miib*C173))","v":-262.49925930511171},{"$f":"miia*Alfa1*SIN(miia*C173)-miib*Alfa2*SIN(miib*C173)","v":-339.34095087323118},null,null,null,null,null,null,null,null,null,0,152,1.5200000000000011,-46.772870715658591,-12.141652321695947]
[0,153,1.5300000000000011,{"$f":"(Alfa1*SIN(miia*C174)-Alfa2*SIN(miib*C174))","v":-36.441883152308662},{"$f":"-(Alfa1*COS(miia*C174)-Alfa2*COS(miib*C174))","v":-11.965117646076447},{"$f":"(miia*Alfa1*COS(miia*C174)-miib*Alfa2*COS(miib*C174))","v":-261.45018491462184},{"$f":"miia*Alfa1*SIN(miia*C174)-miib*Alfa2*SIN(miib*C174)","v":-321.06861635725409},null,null,null,null,null,null,null,null,null,0,153,1.5300000000000011,-39.37854693367634,-8.1457930802603258]
[0,154,1.5400000000000011,{"$f":"(Alfa1*SIN(miia*C175)-Alfa2*SIN(miib*C175))","v":-39.041755923527241},{"$f":"-(Alfa1*COS(miia*C175)-Alfa2*COS(miib*C175))","v":-15.078121165600859},{"$f":"(miia*Alfa1*COS(miia*C175)-miib*Alfa2*COS(miib*C175))","v":-258.14291508250994},{"$f":"miia*Alfa1*SIN(miia*C175)-miib*Alfa2*SIN(miib*C175)","v":-301.30020447862842},null,null,null,null,null,null,null,null,null,0,154,1.5400000000000011,-30.829169041699281,-4.7850037647860386]
[0,155,1.5500000000000012,{"$f":"(Alfa1*SIN(miia*C176)-Alfa2*SIN(miib*C176))","v":-41.597035113306561},{"$f":"-(Alfa1*COS(miia*C176)-Alfa2*COS(miib*C176))","v":-17.986844128875791},{"$f":"(miia*Alfa1*COS(miia*C176)-miib*Alfa2*COS(miib*C176))","v":-252.52449134223127},{"$f":"miia*Alfa1*SIN(miia*C176)-miib*Alfa2*SIN(miib*C176)","v":-280.24879424475796},null,null,null,null,null,null,null,null,null,0,155,1.5500000000000012,-21.367679454128993,-2.2298886755021163]
[0,156,1.5600000000000012,{"$f":"(Alfa1*SIN(miia*C177)-Alfa2*SIN(miib*C177))","v":-44.084437563828168},{"$f":"-(Alfa1*COS(miia*C177)-Alfa2*COS(miib*C177))","v":-20.679558294699017},{"$f":"(miia*Alfa1*COS(miia*C177)-miib*Alfa2*COS(miib*C177))","v":-244.56437734084065},{"$f":"miia*Alfa1*SIN(miia*C177)-miib*Alfa2*SIN(miib*C177)","v":-258.13596612394196},null,null,null,null,null,null,null,null,null,0,156,1.5600000000000012,-11.270216740835451,-0.60897635230426261]
[0,157,1.5700000000000012,{"$f":"(Alfa1*SIN(miia*C178)-Alfa2*SIN(miib*C178))","v":-46.480489132604632},{"$f":"-(Alfa1*COS(miia*C178)-Alfa2*COS(miib*C178))","v":-23.146784416961165},{"$f":"(miia*Alfa1*COS(miia*C178)-miib*Alfa2*COS(miib*C178))","v":-234.25498058746311},{"$f":"miia*Alfa1*SIN(miia*C178)-miib*Alfa2*SIN(miib*C178)","v":-235.18955998809682},null,null,null,null,null,null,null,null,null,0,157,1.5700000000000012,-0.83611662351000238,-3.3291279474869828E-3]
[0,158,1.5800000000000012,{"$f":"(Alfa1*SIN(miia*C179)-Alfa2*SIN(miib*C179))","v":-48.761755791168831},{"$f":"-(Alfa1*COS(miia*C179)-Alfa2*COS(miib*C179))","v":-25.381343403555348},{"$f":"(miia*Alfa1*COS(miia*C179)-miib*Alfa2*COS(miib*C179))","v":-221.61194608787389},{"$f":"miia*Alfa1*SIN(miia*C179)-miib*Alfa2*SIN(miib*C179)","v":-211.64138137615188},null,null,null,null,null,null,null,null,null,0,158,1.5800000000000012,9.6229902722905418,-0.44314714887934564]
[0,159,1.5900000000000012,{"$f":"(Alfa1*SIN(miia*C180)-Alfa2*SIN(miib*C180))","v":-50.905076504086928},{"$f":"-(Alfa1*COS(miia*C180)-Alfa2*COS(miib*C180))","v":-27.37838437505243},{"$f":"(miia*Alfa1*COS(miia*C180)-miib*Alfa2*COS(miib*C180))","v":-206.67421838697152},{"$f":"miia*Alfa1*SIN(miia*C180)-miib*Alfa2*SIN(miib*C180)","v":-187.7248790394641},null,null,null,null,null,null,null,null,null,0,159,1.5900000000000012,19.794559575829034,-1.9065038921154611]
[0,160,1.6000000000000012,{"$f":"(Alfa1*SIN(miia*C181)-Alfa2*SIN(miib*C181))","v":-52.88779556460954},{"$f":"-(Alfa1*COS(miia*C181)-Alfa2*COS(miib*C181))","v":-29.135389451947781},{"$f":"(miia*Alfa1*COS(miia*C181)-miib*Alfa2*COS(miib*C181))","v":-189.50387085344465},{"$f":"miia*Alfa1*SIN(miia*C181)-miib*Alfa2*SIN(miib*C181)","v":-163.67281699027126},null,null,null,null,null,null,null,null,null,0,160,1.6000000000000012,29.376549926737546,-4.3202641935909245]
[0,161,1.6100000000000012,{"$f":"(Alfa1*SIN(miia*C182)-Alfa2*SIN(miib*C182))","v":-54.687992063245702},{"$f":"-(Alfa1*COS(miia*C182)-Alfa2*COS(miib*C182))","v":-30.652155331827366},{"$f":"(miia*Alfa1*COS(miia*C182)-miib*Alfa2*COS(miib*C182))","v":-170.18570336645706},{"$f":"miia*Alfa1*SIN(miia*C182)-miib*Alfa2*SIN(miib*C182)","v":-139.71496430182188},null,null,null,null,null,null,null,null,null,0,161,1.6100000000000012,38.088430602753,-7.5631477505897395]
[0,162,1.6200000000000012,{"$f":"(Alfa1*SIN(miia*C183)-Alfa2*SIN(miib*C183))","v":-56.284704188735112},{"$f":"-(Alfa1*COS(miia*C183)-Alfa2*COS(miib*C183))","v":-31.930751949455892},{"$f":"(miia*Alfa1*COS(miia*C183)-miib*Alfa2*COS(miib*C183))","v":-148.82661187950032},{"$f":"miia*Alfa1*SIN(miia*C183)-miib*Alfa2*SIN(miib*C183)","v":-116.07582570420804},null,null,null,null,null,null,null,null,null,0,162,1.6200000000000012,45.681351509719505,-11.470814488965862]
[0,163,1.6300000000000012,{"$f":"(Alfa1*SIN(miia*C184)-Alfa2*SIN(miib*C184))","v":-57.658146107095405},{"$f":"-(Alfa1*COS(miia*C184)-Alfa2*COS(miib*C184))","v":-32.975458741248481},{"$f":"(miia*Alfa1*COS(miia*C184)-miib*Alfa2*COS(miib*C184))","v":-125.55473561848268},{"$f":"miia*Alfa1*SIN(miia*C184)-miib*Alfa2*SIN(miib*C184)","v":-92.972435585101181},null,null,null,null,null,null,null,null,null,0,163,1.6300000000000012,51.947080218856364,-15.842766556656525]
[0,164,1.6400000000000012,{"$f":"(Alfa1*SIN(miia*C185)-Alfa2*SIN(miib*C185))","v":-58.789915233174995},{"$f":"-(Alfa1*COS(miia*C185)-Alfa2*COS(miib*C185))","v":-33.792679258560717},{"$f":"(miia*Alfa1*COS(miia*C185)-miib*Alfa2*COS(miib*C185))","v":-100.51838989691834},{"$f":"miia*Alfa1*SIN(miia*C185)-miib*Alfa2*SIN(miib*C185)","v":-70.612237344089522},null,null,null,null,null,null,null,null,null,0,164,1.6400000000000012,56.725359589923613,-20.450788282970475]
[0,165,1.6500000000000012,{"$f":"(Alfa1*SIN(miia*C186)-Alfa2*SIN(miib*C186))","v":-59.663187799782179},{"$f":"-(Alfa1*COS(miia*C186)-Alfa2*COS(miib*C186))","v":-34.390835089500399},{"$f":"(miia*Alfa1*COS(miia*C186)-miib*Alfa2*COS(miib*C186))","v":-73.884794678444166},{"$f":"miia*Alfa1*SIN(miia*C186)-miib*Alfa2*SIN(miib*C186)","v":-49.191069169714353},null,null,null,null,null,null,null,null,null,0,165,1.6500000000000012,59.9094020866739,-25.048583165402658]
[0,166,1.6600000000000013,{"$f":"(Alfa1*SIN(miia*C187)-Alfa2*SIN(miib*C187))","v":-60.262900741094036},{"$f":"-(Alfa1*COS(miia*C187)-Alfa2*COS(miib*C187))","v":-34.780240254378008},{"$f":"(miia*Alfa1*COS(miia*C187)-miib*Alfa2*COS(miib*C187))","v":-45.838611064342146},{"$f":"miia*Alfa1*SIN(miia*C187)-miib*Alfa2*SIN(miib*C187)","v":-28.891276218463361},null,null,null,null,null,null,null,null,null,0,166,1.6600000000000013,61.449310682429605,-29.382218304730351]
[0,167,1.6700000000000013,{"$f":"(Alfa1*SIN(miia*C188)-Alfa2*SIN(miib*C188))","v":-60.575918038567806},{"$f":"-(Alfa1*COS(miia*C188)-Alfa2*COS(miib*C188))","v":-34.972957433419957},{"$f":"(miia*Alfa1*COS(miia*C188)-miib*Alfa2*COS(miib*C188))","v":-16.5802998108785},{"$f":"miia*Alfa1*SIN(miia*C188)-miib*Alfa2*SIN(miib*C188)","v":-9.8799678859249411},null,null,null,null,null,null,null,null,null,0,167,1.6700000000000013,61.353298331869667,-33.200953653223152]
[0,168,1.6800000000000013,{"$f":"(Alfa1*SIN(miia*C189)-Alfa2*SIN(miib*C189))","v":-60.59117982768818},{"$f":"-(Alfa1*COS(miia*C189)-Alfa2*COS(miib*C189))","v":-34.982637565043774},{"$f":"(miia*Alfa1*COS(miia*C189)-miib*Alfa2*COS(miib*C189))","v":13.675682231245304},{"$f":"miia*Alfa1*SIN(miia*C189)-miib*Alfa2*SIN(miib*C189)","v":7.6925626150873825},null,null,null,null,null,null,null,null,null,0,168,1.6800000000000013,59.686665083777854,-36.268017296444974]
[0,169,1.6900000000000013,{"$f":"(Alfa1*SIN(miia*C190)-Alfa2*SIN(miib*C190))","v":-60.299832731094448},{"$f":"-(Alfa1*COS(miia*C190)-Alfa2*COS(miib*C190))","v":-34.824344517044011},{"$f":"(miia*Alfa1*COS(miia*C190)-miib*Alfa2*COS(miib*C190))","v":44.702830233114071},{"$f":"miia*Alfa1*SIN(miia*C190)-miib*Alfa2*SIN(miib*C190)","v":23.694240801558493},null,null,null,null,null,null,null,null,null,0,169,1.6900000000000013,56.568580562868405,-38.370889407984315]
[0,170,1.7000000000000013,{"$f":"(Alfa1*SIN(miia*C191)-Alfa2*SIN(miib*C191))","v":-59.695340066285766},{"$f":"-(Alfa1*COS(miia*C191)-Alfa2*COS(miib*C191))","v":-34.514366679828974},{"$f":"(miia*Alfa1*COS(miia*C191)-miib*Alfa2*COS(miib*C191))","v":76.26466508109074},{"$f":"miia*Alfa1*SIN(miia*C191)-miib*Alfa2*SIN(miib*C191)","v":38.012421826417437},null,null,null,null,null,null,null,null,null,0,170,1.7000000000000013,52.166806229984687,-39.330676449267173]
[0,171,1.7100000000000013,{"$f":"(Alfa1*SIN(miia*C192)-Alfa2*SIN(miib*C192))","v":-58.773570772387636},{"$f":"-(Alfa1*COS(miia*C192)-Alfa2*COS(miib*C192))","v":-34.070017458920731},{"$f":"(miia*Alfa1*COS(miia*C192)-miib*Alfa2*COS(miib*C192))","v":108.11691240151683},{"$f":"miia*Alfa1*SIN(miia*C192)-miib*Alfa2*SIN(miib*C192)","v":50.554897916637657},null,null,null,null,null,null,null,null,null,0,171,1.7100000000000013,46.690573091340013,-39.010192885152335]
[0,172,1.7200000000000013,{"$f":"(Alfa1*SIN(miia*C193)-Alfa2*SIN(miib*C193))","v":-57.532866108429005},{"$f":"-(Alfa1*COS(miia*C193)-Alfa2*COS(miib*C193))","v":-33.509426752010093},{"$f":"(miia*Alfa1*COS(miia*C193)-miib*Alfa2*COS(miib*C193))","v":140.00976560391138},{"$f":"miia*Alfa1*SIN(miia*C193)-miib*Alfa2*SIN(miib*C193)","v":61.25069257241401},null,null,null,null,null,null,null,null,null,0,172,1.7200000000000013,40.381903138149326,-37.320418732775828]
[0,173,1.7300000000000013,{"$f":"(Alfa1*SIN(miia*C194)-Alfa2*SIN(miib*C194))","v":-55.974083393161251},{"$f":"-(Alfa1*COS(miia*C194)-Alfa2*COS(miib*C194))","v":-32.851325582873812},{"$f":"(miia*Alfa1*COS(miia*C194)-miib*Alfa2*COS(miib*C194))","v":171.69021077514887},{"$f":"miia*Alfa1*SIN(miia*C194)-miib*Alfa2*SIN(miib*C194)","v":70.050633909747546},null,null,null,null,null,null,null,null,null,0,173,1.7300000000000013,33.505723872461203,-34.225065625837267]
[0,174,1.7400000000000013,{"$f":"(Alfa1*SIN(miia*C195)-Alfa2*SIN(miib*C195))","v":-54.100616281483035},{"$f":"-(Alfa1*COS(miia*C195)-Alfa2*COS(miib*C195))","v":-32.114826129547431},{"$f":"(miia*Alfa1*COS(miia*C195)-miib*Alfa2*COS(miib*C195))","v":202.90439062270801},{"$f":"miia*Alfa1*SIN(miia*C195)-miib*Alfa2*SIN(miib*C195)","v":76.927701757305783},null,null,null,null,null,null,null,null,null,0,174,1.7400000000000013,26.339172388089025,-29.743059197046556]
[0,175,1.7500000000000013,{"$f":"(Alfa1*SIN(miia*C196)-Alfa2*SIN(miib*C196))","v":-51.918391302785658},{"$f":"-(Alfa1*COS(miia*C196)-Alfa2*COS(miib*C196))","v":-31.319199426667456},{"$f":"(miia*Alfa1*COS(miia*C196)-miib*Alfa2*COS(miib*C196))","v":233.39998425735291},{"$f":"miia*Alfa1*SIN(miia*C196)-miib*Alfa2*SIN(miib*C196)","v":81.877145399925752},null,null,null,null,null,null,null,null,null,0,175,1.7500000000000013,19.160516759019224,-23.948828465800752]
[0,176,1.7600000000000013,{"$f":"(Alfa1*SIN(miia*C197)-Alfa2*SIN(miib*C197))","v":-49.43584061970482},{"$f":"-(Alfa1*COS(miia*C197)-Alfa2*COS(miib*C197))","v":-30.483653041428177},{"$f":"(miia*Alfa1*COS(miia*C197)-miib*Alfa2*COS(miib*C197))","v":262.92857942887957},{"$f":"miia*Alfa1*SIN(miia*C197)-miib*Alfa2*SIN(miib*C197)","v":84.916371172818117},null,null,null,null,null,null,null,null,null,0,176,1.7600000000000013,12.23813670463427,-16.970380263890362]
[0,177,1.7700000000000014,{"$f":"(Alfa1*SIN(miia*C198)-Alfa2*SIN(miib*C198))","v":-46.663851199544681},{"$f":"-(Alfa1*COS(miia*C198)-Alfa2*COS(miib*C198))","v":-29.627111018961919},{"$f":"(miia*Alfa1*COS(miia*C198)-miib*Alfa2*COS(miib*C198))","v":291.24801388442205},{"$f":"miia*Alfa1*SIN(miia*C198)-miib*Alfa2*SIN(miib*C198)","v":86.084601429189107},null,null,null,null,null,null,null,null,null,0,177,1.7700000000000014,5.8200020951185891,-8.9852250577196937]
[0,178,1.7800000000000014,{"$f":"(Alfa1*SIN(miia*C199)-Alfa2*SIN(miib*C199))","v":-43.615690822697729},{"$f":"-(Alfa1*COS(miia*C199)-Alfa2*COS(miib*C199))","v":-28.767998366188756},{"$f":"(miia*Alfa1*COS(miia*C199)-miib*Alfa2*COS(miib*C199))","v":318.12466280689353},{"$f":"miia*Alfa1*SIN(miia*C199)-miib*Alfa2*SIN(miib*C199)","v":85.442308706462342},null,null,null,null,null,null,null,null,null,0,178,1.7800000000000014,0.12406697774120104,-0.2143063097222502]
[0,179,1.7900000000000014,{"$f":"(Alfa1*SIN(miia*C200)-Alfa2*SIN(miib*C200))","v":-40.306911580408176},{"$f":"-(Alfa1*COS(miia*C200)-Alfa2*COS(miib*C200))","v":-27.924032293570818},{"$f":"(miia*Alfa1*COS(miia*C200)-miib*Alfa2*COS(miib*C200))","v":343.33564980860098},{"$f":"miia*Alfa1*SIN(miia*C200)-miib*Alfa2*SIN(miib*C200)","v":83.070431179477154},null,null,null,null,null,null,null,null,null,0,179,1.7900000000000014,-4.6700407118221285,9.0858346568798183]
[0,180,1.8000000000000014,{"$f":"(Alfa1*SIN(miia*C201)-Alfa2*SIN(miib*C201))","v":-36.755231735953892},{"$f":"-(Alfa1*COS(miia*C201)-Alfa2*COS(miib*C201))","v":-27.112022362256273},{"$f":"(miia*Alfa1*COS(miia*C201)-miib*Alfa2*COS(miib*C201))","v":366.67095969671317},{"$f":"miia*Alfa1*SIN(miia*C201)-miib*Alfa2*SIN(miib*C201)","v":79.069377690313885},null,null,null,null,null,null,null,null,null,0,180,1.8000000000000014,-8.4277062335008424,18.632355651585002]
[0,181,1.8100000000000014,{"$f":"(Alfa1*SIN(miia*C202)-Alfa2*SIN(miib*C202))","v":-32.980397036540296},{"$f":"-(Alfa1*COS(miia*C202)-Alfa2*COS(miib*C202))","v":-26.347681590535803},{"$f":"(miia*Alfa1*COS(miia*C202)-miib*Alfa2*COS(miib*C202))","v":387.93543218581374},{"$f":"miia*Alfa1*SIN(miia*C202)-miib*Alfa2*SIN(miib*C202)","v":73.557832761719879},null,null,null,null,null,null,null,null,null,0,181,1.8100000000000014,-11.064130066435391,28.126511123835222]
[0,182,1.8200000000000014,{"$f":"(Alfa1*SIN(miia*C203)-Alfa2*SIN(miib*C203))","v":-29.00402276578248},{"$f":"-(Alfa1*COS(miia*C203)-Alfa2*COS(miib*C203))","v":-25.645450459306918},{"$f":"(miia*Alfa1*COS(miia*C203)-miib*Alfa2*COS(miib*C203))","v":406.95061689871068},{"$f":"miia*Alfa1*SIN(miia*C203)-miib*Alfa2*SIN(miib*C203)","v":66.671374013283071},null,null,null,null,null,null,null,null,null,0,182,1.8200000000000014,-12.547059072361847,37.264744446022057]
[0,183,1.8300000000000014,{"$f":"(Alfa1*SIN(miia*C204)-Alfa2*SIN(miib*C204))","v":-24.849418016592658},{"$f":"-(Alfa1*COS(miia*C204)-Alfa2*COS(miib*C204))","v":-25.018335622503947},{"$f":"(miia*Alfa1*COS(miia*C204)-miib*Alfa2*COS(miib*C204))","v":423.55647135832794},{"$f":"miia*Alfa1*SIN(miia*C204)-miib*Alfa2*SIN(miib*C204)","v":58.560916286388498},null,null,null,null,null,null,null,null,null,0,183,1.8300000000000014,-12.897344405754493,45.750040928731039]
[0,184,1.8400000000000014,{"$f":"(Alfa1*SIN(miia*C205)-Alfa2*SIN(miib*C205))","v":-20.541393839688524},{"$f":"-(Alfa1*COS(miia*C205)-Alfa2*COS(miib*C205))","v":-24.477764976549629},{"$f":"(miia*Alfa1*COS(miia*C205)-miib*Alfa2*COS(miib*C205))","v":437.61288521741926},{"$f":"miia*Alfa1*SIN(miia*C205)-miib*Alfa2*SIN(miib*C205)","v":49.39099852671675},null,null,null,null,null,null,null,null,null,0,184,1.8400000000000014,-12.187311201756382,53.303096441396619]
[0,185,1.8500000000000014,{"$f":"(Alfa1*SIN(miia*C206)-Alfa2*SIN(miib*C206))","v":-16.106057082043886},{"$f":"-(Alfa1*COS(miia*C206)-Alfa2*COS(miib*C206))","v":-24.033460574349071},{"$f":"(miia*Alfa1*COS(miia*C206)-miib*Alfa2*COS(miib*C206))","v":449.00101568363664},{"$f":"miia*Alfa1*SIN(miia*C206)-miib*Alfa2*SIN(miib*C206)","v":39.337931054140277},null,null,null,null,null,null,null,null,null,0,185,1.8500000000000014,-10.537013021058248,59.672863099276796]
[0,186,1.8600000000000014,{"$f":"(Alfa1*SIN(miia*C207)-Alfa2*SIN(miib*C207))","v":-11.57059187085005},{"$f":"-(Alfa1*COS(miia*C207)-Alfa2*COS(miib*C207))","v":-23.693330685876955},{"$f":"(miia*Alfa1*COS(miia*C207)-miib*Alfa2*COS(miib*C207))","v":457.62442095805341},{"$f":"miia*Alfa1*SIN(miia*C207)-miib*Alfa2*SIN(miib*C207)","v":28.587822253562241},null,null,null,null,null,null,null,null,null,0,186,1.8600000000000014,-8.10852898981239,64.646057481455614]
[0,187,1.8700000000000014,{"$f":"(Alfa1*SIN(miia*C208)-Alfa2*SIN(miib*C208))","v":-6.9630308205089362},{"$f":"-(Alfa1*COS(miia*C208)-Alfa2*COS(miib*C208))","v":-23.463382110846457},{"$f":"(miia*Alfa1*COS(miia*C208)-miib*Alfa2*COS(miib*C208))","v":463.40998049718405},{"$f":"miia*Alfa1*SIN(miia*C208)-miib*Alfa2*SIN(miib*C208)","v":17.334504932419975},null,null,null,null,null,null,null,null,null,0,187,1.8700000000000014,-5.0985401490116011,68.055257315744882]
[0,188,1.8800000000000014,{"$f":"(Alfa1*SIN(miia*C209)-Alfa2*SIN(miib*C209))","v":-2.3120181416512731},{"$f":"-(Alfa1*COS(miia*C209)-Alfa2*COS(miib*C209))","v":-23.347653641274722},{"$f":"(miia*Alfa1*COS(miia*C209)-miib*Alfa2*COS(miib*C209))","v":466.30859301189741},{"$f":"miia*Alfa1*SIN(miia*C209)-miib*Alfa2*SIN(miib*C209)","v":5.7773835991672655},null,null,null,null,null,null,null,null,null,0,188,1.8800000000000014,-1.7294905835167809,69.785267900346327]
[0,189,1.8900000000000015,{"$f":"(Alfa1*SIN(miia*C210)-Alfa2*SIN(miib*C210))","v":2.3534330888636648},{"$f":"-(Alfa1*COS(miia*C210)-Alfa2*COS(miib*C210))","v":-23.34817135506027},{"$f":"(miia*Alfa1*COS(miia*C210)-miib*Alfa2*COS(miib*C210))","v":466.29564531052665},{"$f":"miia*Alfa1*SIN(miia*C210)-miib*Alfa2*SIN(miib*C210)","v":-5.880775288070569},null,null,null,null,null,null,null,null,null,0,189,1.8900000000000015,1.7603043214996184,69.777507532325984]
[0,190,1.9000000000000015,{"$f":"(Alfa1*SIN(miia*C211)-Alfa2*SIN(miib*C211))","v":7.0041871803539806},{"$f":"-(Alfa1*COS(miia*C211)-Alfa2*COS(miib*C211))","v":-23.464926198142066},{"$f":"(miia*Alfa1*COS(miia*C211)-miib*Alfa2*COS(miib*C211))","v":463.3712473560438},{"$f":"miia*Alfa1*SIN(miia*C211)-miib*Alfa2*SIN(miib*C211)","v":-17.436087480268327},null,null,null,null,null,null,null,null,null,0,190,1.9000000000000015,5.1271979166256125,68.032239178188377]
[0,191,1.9100000000000015,{"$f":"(Alfa1*SIN(miia*C212)-Alfa2*SIN(miib*C212))","v":11.611233251718154},{"$f":"-(Alfa1*COS(miia*C212)-Alfa2*COS(miib*C212))","v":-23.695874084665846},{"$f":"(miia*Alfa1*COS(miia*C212)-miib*Alfa2*COS(miib*C212))","v":457.56023121585145},{"$f":"miia*Alfa1*SIN(miia*C212)-miib*Alfa2*SIN(miib*C212)","v":-28.685806535449981},null,null,null,null,null,null,null,null,null,0,191,1.9100000000000015,8.1329700359358625,64.608560453993888]
[0,192,1.9200000000000015,{"$f":"(Alfa1*SIN(miia*C213)-Alfa2*SIN(miib*C213))","v":16.145931462870578},{"$f":"-(Alfa1*COS(miia*C213)-Alfa2*COS(miib*C213))","v":-24.03695851413233},{"$f":"(miia*Alfa1*COS(miia*C213)-miib*Alfa2*COS(miib*C213))","v":448.91191391456471},{"$f":"miia*Alfa1*SIN(miia*C213)-miib*Alfa2*SIN(miib*C213)","v":-39.430567772615142},null,null,null,null,null,null,null,null,null,0,192,1.9200000000000015,10.555363144374301,59.622152309846925]
[{"$f":"IF(B214=$AC$1,1,0)","v":0},193,{"$f":"C213+dt","v":1.9300000000000015},{"$f":"(Alfa1*SIN(miia*C214)-Alfa2*SIN(miib*C214))","v":20.580255703011378},{"$f":"-(Alfa1*COS(miia*C214)-Alfa2*COS(miib*C214))","v":-24.482155474062463},{"$f":"(miia*Alfa1*COS(miia*C214)-miib*Alfa2*COS(miib*C214))","v":437.49962653186674},{"$f":"miia*Alfa1*SIN(miia*C214)-miib*Alfa2*SIN(miib*C214)","v":-49.476597615460221},null,null,null,null,null,null,null,null,null,{"$f":"IF(R214=$AC$1,1,0)","v":0},193,{"$f":"S213+dt","v":1.9300000000000015},{"$f":"IF(R214<MAX_TIME,Aktina*SIN(epsilon*S214)*COS(D*S214),Aktina*SIN(epsilon*MAX_TIME*dt)*COS(D*MAX_TIME*dt))","v":12.197966459889143},{"$f":"IF(R214<MAX_TIME,Aktina*COS(epsilon*S214)*COS(D*S214),Aktina*COS(epsilon*MAX_TIME*dt)*COS(D*MAX_TIME*dt))","v":53.240875125271238}]
[0,{"$f":"B214+1","v":194},1.9400000000000015,{"$f":"(Alfa1*SIN(miia*C215)-Alfa2*SIN(miib*C215))","v":24.887030419524315},{"$f":"-(Alfa1*COS(miia*C215)-Alfa2*COS(miib*C215))","v":-25.023540168600416},{"$f":"(miia*Alfa1*COS(miia*C215)-miib*Alfa2*COS(miib*C215))","v":423.42001419591134},{"$f":"miia*Alfa1*SIN(miia*C215)-miib*Alfa2*SIN(miib*C215)","v":-58.637865707577447},null,null,null,null,null,null,null,null,null,0,{"$f":"R214+1","v":194},1.9400000000000015,12.899043775931105,45.678385707689458]
[0,195,1.9500000000000015,{"$f":"(Alfa1*SIN(miia*C216)-Alfa2*SIN(miib*C216))","v":29.040159329164041},{"$f":"-(Alfa1*COS(miia*C216)-Alfa2*COS(miib*C216))","v":-25.651374889981081},{"$f":"(miia*Alfa1*COS(miia*C216)-miib*Alfa2*COS(miib*C216))","v":406.79211388478279},{"$f":"miia*Alfa1*SIN(miia*C216)-miib*Alfa2*SIN(miib*C216)","v":-66.738157756044146},null,null,null,null,null,null,null,null,null,0,195,1.9500000000000015,12.538943079756907,37.186026576084586]
[0,196,1.9600000000000015,{"$f":"(Alfa1*SIN(miia*C217)-Alfa2*SIN(miib*C217))","v":33.014843833347037},{"$f":"-(Alfa1*COS(miia*C217)-Alfa2*COS(miib*C217))","v":-26.354217133160333},{"$f":"(miia*Alfa1*COS(miia*C217)-miib*Alfa2*COS(miib*C217))","v":387.75621914172211},{"$f":"miia*Alfa1*SIN(miia*C217)-miib*Alfa2*SIN(miib*C217)","v":-73.613047857115859},null,null,null,null,null,null,null,null,null,0,196,1.9600000000000015,11.04578295938814,28.043306810840509]
[0,197,1.9700000000000015,{"$f":"(Alfa1*SIN(miia*C218)-Alfa2*SIN(miib*C218))","v":36.787789061015104},{"$f":"-(Alfa1*COS(miia*C218)-Alfa2*COS(miib*C218))","v":-27.119046846320785},{"$f":"(miia*Alfa1*COS(miia*C218)-miib*Alfa2*COS(miib*C218))","v":366.47254291231093},{"$f":"miia*Alfa1*SIN(miia*C218)-miib*Alfa2*SIN(miib*C218)","v":-79.111750068180484},null,null,null,null,null,null,null,null,null,0,197,1.9700000000000015,8.3991799451692728,18.547348961583189]
[0,198,1.9800000000000015,{"$f":"(Alfa1*SIN(miia*C219)-Alfa2*SIN(miib*C219))","v":40.337395584681275},{"$f":"-(Alfa1*COS(miia*C219)-Alfa2*COS(miib*C219))","v":-27.93141151351346},{"$f":"(miia*Alfa1*COS(miia*C219)-miib*Alfa2*COS(miib*C219))","v":343.11969170261568},{"$f":"miia*Alfa1*SIN(miia*C219)-miib*Alfa2*SIN(miib*C219)","v":-83.09883020408337},null,null,null,null,null,null,null,null,null,0,198,1.9800000000000015,4.6318595791924277,9.0017168358890665]
[0,199,1.9900000000000015,{"$f":"(Alfa1*SIN(miia*C220)-Alfa2*SIN(miib*C220))","v":43.643934996668676},{"$f":"-(Alfa1*COS(miia*C220)-Alfa2*COS(miib*C220))","v":-28.77558758234872},{"$f":"(miia*Alfa1*COS(miia*C220)-miib*Alfa2*COS(miib*C220))","v":317.89296611666003},{"$f":"miia*Alfa1*SIN(miia*C220)-miib*Alfa2*SIN(miib*C220)","v":-85.455760241243269},null,null,null,null,null,null,null,null,null,0,199,1.9900000000000015,-0.1709209934604736,-0.29493715598946441]
[0,200,2.0000000000000013,{"$f":"(Alfa1*SIN(miia*C221)-Alfa2*SIN(miib*C221))","v":46.689707691815649},{"$f":"-(Alfa1*COS(miia*C221)-Alfa2*COS(miib*C221))","v":-29.63475658125542},{"$f":"(miia*Alfa1*COS(miia*C221)-miib*Alfa2*COS(miib*C221))","v":291.00250454095976},{"$f":"miia*Alfa1*SIN(miia*C221)-miib*Alfa2*SIN(miib*C221)","v":-86.082299295593444},null,null,null,null,null,null,null,null,null,0,200,2.0000000000000013,-5.8741231586906268,-9.0599599943616411]
[0,201,2.0100000000000011,{"$f":"(Alfa1*SIN(miia*C222)-Alfa2*SIN(miib*C222))","v":49.459181378459512},{"$f":"-(Alfa1*COS(miia*C222)-Alfa2*COS(miib*C222))","v":-30.491194119081797},{"$f":"(miia*Alfa1*COS(miia*C222)-miib*Alfa2*COS(miib*C222))","v":262.6712882861824},{"$f":"miia*Alfa1*SIN(miia*C222)-miib*Alfa2*SIN(miib*C222)","v":-84.89768688446668},null,null,null,null,null,null,null,null,null,0,201,2.0100000000000011,-12.297746535993037,-17.037087514535063]
[0,202,2.0200000000000009,{"$f":"(Alfa1*SIN(miia*C223)-Alfa2*SIN(miib*C223))","v":51.939109029564165},{"$f":"-(Alfa1*COS(miia*C223)-Alfa2*COS(miib*C223))","v":-31.326469826239197},{"$f":"(miia*Alfa1*COS(miia*C223)-miib*Alfa2*COS(miib*C223))","v":233.13302785603423},{"$f":"miia*Alfa1*SIN(miia*C223)-miib*Alfa2*SIN(miib*C223)","v":-81.841636070621377},null,null,null,null,null,null,null,null,null,0,202,2.0200000000000009,-19.223531737284841,-24.005729930167071]
[0,203,2.0300000000000007,{"$f":"(Alfa1*SIN(miia*C224)-Alfa2*SIN(miib*C224))","v":54.118625188551214},{"$f":"-(Alfa1*COS(miia*C224)-Alfa2*COS(miib*C224))","v":-32.121656182542942},{"$f":"(miia*Alfa1*COS(miia*C224)-miib*Alfa2*COS(miib*C224))","v":202.62995117756159},{"$f":"miia*Alfa1*SIN(miia*C224)-miib*Alfa2*SIN(miib*C224)","v":-76.87511609981172},null,null,null,null,null,null,null,null,null,0,203,2.0300000000000007,-26.403283693045974,-29.788792532459514]
[0,204,2.0400000000000005,{"$f":"(Alfa1*SIN(miia*C225)-Alfa2*SIN(miib*C225))","v":55.989319757694375},{"$f":"-(Alfa1*COS(miia*C225)-Alfa2*COS(miib*C225))","v":-32.857544083530115},{"$f":"(miia*Alfa1*COS(miia*C225)-miib*Alfa2*COS(miib*C225))","v":171.41051558373715},{"$f":"miia*Alfa1*SIN(miia*C225)-miib*Alfa2*SIN(miib*C225)","v":-69.980916261462369},null,null,null,null,null,null,null,null,null,0,204,2.0400000000000005,-33.568487497748656,-34.258729505689615]
[0,205,2.0500000000000003,{"$f":"(Alfa1*SIN(miia*C226)-Alfa2*SIN(miib*C226))","v":57.545288618729153},{"$f":"-(Alfa1*COS(miia*C226)-Alfa2*COS(miib*C226))","v":-33.514862925278734},{"$f":"(miia*Alfa1*COS(miia*C226)-miib*Alfa2*COS(miib*C226))","v":139.72706607890342},{"$f":"miia*Alfa1*SIN(miia*C226)-miib*Alfa2*SIN(miib*C226)","v":-61.16398490393388},null,null,null,null,null,null,null,null,null,0,205,2.0500000000000003,-40.440836207922963,-37.341599568082856]
[0,206,2.06,{"$f":"(Alfa1*SIN(miia*C227)-Alfa2*SIN(miib*C227))","v":58.78316066340156},{"$f":"-(Alfa1*COS(miia*C227)-Alfa2*COS(miib*C227))","v":-34.074502938343493},{"$f":"(miia*Alfa1*COS(miia*C227)-miib*Alfa2*COS(miib*C227))","v":107.83346293306036},{"$f":"miia*Alfa1*SIN(miia*C227)-miib*Alfa2*SIN(miib*C227)","v":-50.451539799507827},null,null,null,null,null,null,null,null,null,0,206,2.06,-46.743252651740129,-39.018972035938859]
[0,207,2.0699999999999998,{"$f":"(Alfa1*SIN(miia*C228)-Alfa2*SIN(miib*C228))","v":59.702101043762738},{"$f":"-(Alfa1*COS(miia*C228)-Alfa2*COS(miib*C228))","v":-34.517737474865655},{"$f":"(miia*Alfa1*COS(miia*C228)-miib*Alfa2*COS(miib*C228))","v":75.982701937014809},{"$f":"miia*Alfa1*SIN(miia*C228)-miib*Alfa2*SIN(miib*C228)","v":-37.892948356927093},null,null,null,null,null,null,null,null,null,0,207,2.0699999999999998,-52.210966578831169,-39.327617730980222]
[0,208,2.0799999999999996,{"$f":"(Alfa1*SIN(miia*C229)-Alfa2*SIN(miib*C229))","v":60.303790685799427},{"$f":"-(Alfa1*COS(miia*C229)-Alfa2*COS(miib*C229))","v":-34.826442949482299},{"$f":"(miia*Alfa1*COS(miia*C229)-miib*Alfa2*COS(miib*C229))","v":44.424550704238143},{"$f":"miia*Alfa1*SIN(miia*C229)-miib*Alfa2*SIN(miib*C229)","v":-23.559378498037404},null,null,null,null,null,null,null,null,null,0,208,2.0799999999999996,-56.602205230021745,-38.357007483439205]
[0,209,2.0899999999999994,{"$f":"(Alfa1*SIN(miia*C230)-Alfa2*SIN(miib*C230))","v":60.592382343148046},{"$f":"-(Alfa1*COS(miia*C230)-Alfa2*COS(miib*C230))","v":-34.983314154399196},{"$f":"(miia*Alfa1*COS(miia*C230)-miib*Alfa2*COS(miib*C230))","v":13.403224226428833},{"$f":"miia*Alfa1*SIN(miia*C230)-miib*Alfa2*SIN(miib*C230)","v":-7.5432233265831883},null,null,null,null,null,null,null,null,null,0,209,2.0899999999999994,-59.708069778671728,-36.244728304643303]
[0,210,2.0999999999999992,{"$f":"(Alfa1*SIN(miia*C231)-Alfa2*SIN(miib*C231))","v":60.574433697852584},{"$f":"-(Alfa1*COS(miia*C231)-Alfa2*COS(miib*C231))","v":-34.972072711712585},{"$f":"(miia*Alfa1*COS(miia*C231)-miib*Alfa2*COS(miib*C231))","v":-16.844877519928929},{"$f":"miia*Alfa1*SIN(miia*C231)-miib*Alfa2*SIN(miib*C231)","v":10.04269500164196},null,null,null,null,null,null,null,null,null,0,210,2.0999999999999992,-61.361201525809079,-33.170010132441938]
[0,211,2.109999999999999,{"$f":"(Alfa1*SIN(miia*C232)-Alfa2*SIN(miib*C232))","v":60.258818240103977},{"$f":"-(Alfa1*COS(miia*C232)-Alfa2*COS(miib*C232))","v":-34.777666491350615},{"$f":"(miia*Alfa1*COS(miia*C232)-miib*Alfa2*COS(miib*C232))","v":-46.093347755134801},{"$f":"miia*Alfa1*SIN(miia*C232)-miib*Alfa2*SIN(miib*C232)","v":29.066134570135091},null,null,null,null,null,null,null,null,null,0,211,2.109999999999999,-61.442888977439083,-29.345631090420053]
[0,212,2.1199999999999988,{"$f":"(Alfa1*SIN(miia*C233)-Alfa2*SIN(miib*C233))","v":59.656614876403978},{"$f":"-(Alfa1*COS(miia*C233)-Alfa2*COS(miib*C233))","v":-34.386457910211107},{"$f":"(miia*Alfa1*COS(miia*C233)-miib*Alfa2*COS(miib*C233))","v":-74.127845561826874},{"$f":"miia*Alfa1*SIN(miia*C233)-miib*Alfa2*SIN(miib*C233)","v":49.376646364923431},null,null,null,null,null,null,null,null,null,0,212,2.1199999999999988,-59.888328120767774,-25.008533458848266]
[0,213,2.1299999999999986,{"$f":"(Alfa1*SIN(miia*C234)-Alfa2*SIN(miib*C234))","v":58.78097742346808},{"$f":"-(Alfa1*COS(miia*C234)-Alfa2*COS(miib*C234))","v":-33.786399136334502},{"$f":"(miia*Alfa1*COS(miia*C234)-miib*Alfa2*COS(miib*C234))","v":-100.74804279882338},{"$f":"miia*Alfa1*SIN(miia*C234)-miib*Alfa2*SIN(miib*C234)","v":70.806978464752973},null,null,null,null,null,null,null,null,null,0,213,2.1299999999999986,-56.689820916886191,-20.409533473854324]
[0,214,2.1399999999999983,{"$f":"(Alfa1*SIN(miia*C235)-Alfa2*SIN(miib*C235))","v":57.646985341354373},{"$f":"-(Alfa1*COS(miia*C235)-Alfa2*COS(miib*C235))","v":-32.967192350195177},{"$f":"(miia*Alfa1*COS(miia*C235)-miib*Alfa2*COS(miib*C235))","v":-125.76942629700514},{"$f":"miia*Alfa1*SIN(miia*C235)-miib*Alfa2*SIN(miib*C235)","v":93.174657975586257},null,null,null,null,null,null,null,null,null,0,214,2.1399999999999983,-51.897778351615663,-15.802543626216638]
[0,215,2.1499999999999981,{"$f":"(Alfa1*SIN(miia*C236)-Alfa2*SIN(miib*C236))","v":56.271477241829828},{"$f":"-(Alfa1*COS(miia*C236)-Alfa2*COS(miib*C236))","v":-31.920433362145836},{"$f":"(miia*Alfa1*COS(miia*C236)-miib*Alfa2*COS(miib*C236))","v":-149.02493782873131},{"$f":"miia*Alfa1*SIN(miia*C236)-miib*Alfa2*SIN(miib*C236)","v":116.28373512617506},null,null,null,null,null,null,null,null,null,0,215,2.1499999999999981,-45.619481100299126,-11.43374491072521]
[0,216,2.1599999999999979,{"$f":"(Alfa1*SIN(miia*C237)-Alfa2*SIN(miib*C237))","v":54.672868875051897},{"$f":"-(Alfa1*COS(miia*C237)-Alfa2*COS(miib*C237))","v":-30.639737049245426},{"$f":"(miia*Alfa1*COS(miia*C237)-miib*Alfa2*COS(miib*C237))","v":-170.36643597371258},{"$f":"miia*Alfa1*SIN(miia*C237)-miib*Alfa2*SIN(miib*C237)","v":139.92667229602358},null,null,null,null,null,null,null,null,null,0,216,2.1599999999999979,-38.015639517423338,-7.5311477390943766]
[0,217,2.1699999999999977,{"$f":"(Alfa1*SIN(miia*C238)-Alfa2*SIN(miib*C238))","v":52.870957447593788},{"$f":"-(Alfa1*COS(miia*C238)-Alfa2*COS(miib*C238))","v":-29.1208432545066},{"$f":"(miia*Alfa1*COS(miia*C238)-miib*Alfa2*COS(miib*C238))","v":-189.66596579306531},{"$f":"miia*Alfa1*SIN(miia*C238)-miib*Alfa2*SIN(miib*C238)","v":163.8863592732568},null,null,null,null,null,null,null,null,null,0,217,2.1699999999999977,-29.294881731084512,-4.2949639309601286]
[0,218,2.1799999999999975,{"$f":"(Alfa1*SIN(miia*C239)-Alfa2*SIN(miib*C239))","v":50.886714256191667},{"$f":"-(Alfa1*COS(miia*C239)-Alfa2*COS(miib*C239))","v":-27.361701985221288},{"$f":"(miia*Alfa1*COS(miia*C239)-miib*Alfa2*COS(miib*C239))","v":-206.81682415153875},{"$f":"miia*Alfa1*SIN(miia*C239)-miib*Alfa2*SIN(miib*C239)","v":187.93823475254661},null,null,null,null,null,null,null,null,null,0,218,2.1799999999999975,-19.706380640944804,-1.8891789963512455]
[0,219,2.1899999999999973,{"$f":"(Alfa1*SIN(miia*C240)-Alfa2*SIN(miib*C240))","v":48.742067733041786},{"$f":"-(Alfa1*COS(miia*C240)-Alfa2*COS(miib*C240))","v":-25.362536952532484},{"$f":"(miia*Alfa1*COS(miia*C240)-miib*Alfa2*COS(miib*C240))","v":-221.73441057635958},{"$f":"miia*Alfa1*SIN(miia*C240)-miib*Alfa2*SIN(miib*C240)","v":211.85249299525347},null,null,null,null,null,null,null,null,null,0,219,2.1899999999999973,-9.5309043224366956,-0.43466515146260576]
[0,220,2.1999999999999971,{"$f":"(Alfa1*SIN(miia*C241)-Alfa2*SIN(miib*C241))","v":46.459679088924069},{"$f":"-(Alfa1*COS(miia*C241)-Alfa2*COS(miib*C241))","v":-23.125886709766498},{"$f":"(miia*Alfa1*COS(miia*C241)-miib*Alfa2*COS(miib*C241))","v":-234.35685568929057},{"$f":"miia*Alfa1*SIN(miia*C241)-miib*Alfa2*SIN(miib*C241)","v":235.39635369625174},null,null,null,null,null,null,null,null,null,0,220,2.1999999999999971,0.92936320385062698,-4.1131211430803097E-3]
[0,221,2.2099999999999969,{"$f":"(Alfa1*SIN(miia*C242)-Alfa2*SIN(miib*C242))","v":44.062712808987705},{"$f":"-(Alfa1*COS(miia*C242)-Alfa2*COS(miib*C242))","v":-20.656622870073605},{"$f":"(miia*Alfa1*COS(miia*C242)-miib*Alfa2*COS(miib*C242))","v":-244.64542147487475},{"$f":"miia*Alfa1*SIN(miia*C242)-miib*Alfa2*SIN(miib*C242)","v":258.33637244335529},null,null,null,null,null,null,null,null,null,0,221,2.2099999999999969,11.361835156427457,-0.61898727309726964]
[0,222,2.2199999999999966,{"$f":"(Alfa1*SIN(miia*C243)-Alfa2*SIN(miib*C243))","v":41.574604302029265},{"$f":"-(Alfa1*COS(miia*C243)-Alfa2*COS(miib*C243))","v":-17.961945112420217},{"$f":"(miia*Alfa1*COS(miia*C243)-miib*Alfa2*COS(miib*C243))","v":-252.58466993017882},{"$f":"miia*Alfa1*SIN(miia*C243)-miib*Alfa2*SIN(miib*C243)","v":280.44076872250093},null,null,null,null,null,null,null,null,null,0,222,2.2199999999999966,21.454940400669937,-2.2486269409286543]
[0,223,2.2299999999999964,{"$f":"(Alfa1*SIN(miia*C244)-Alfa2*SIN(miib*C244))","v":39.018827027081727},{"$f":"-(Alfa1*COS(miia*C244)-Alfa2*COS(miib*C244))","v":-15.051352916649776},{"$f":"(miia*Alfa1*COS(miia*C244)-miib*Alfa2*COS(miib*C244))","v":-258.18239895684883},{"$f":"miia*Alfa1*SIN(miia*C244)-miib*Alfa2*SIN(miib*C244)","v":301.48174821926324},null,null,null,null,null,null,null,null,null,0,223,2.2299999999999964,30.909502289932806,-4.8115301926840166]
[0,224,2.2399999999999962,{"$f":"(Alfa1*SIN(miia*C245)-Alfa2*SIN(miib*C245))","v":36.418661420895639},{"$f":"-(Alfa1*COS(miia*C245)-Alfa2*COS(miib*C245))","v":-11.936594200869552},{"$f":"(miia*Alfa1*COS(miia*C245)-miib*Alfa2*COS(miib*C245))","v":-261.46934668180859},{"$f":"miia*Alfa1*SIN(miia*C245)-miib*Alfa2*SIN(miib*C245)","v":321.23779619696825},null,null,null,null,null,null,null,null,null,0,224,2.2399999999999962,39.449634717997185,-8.1787682513642643]
[0,225,2.249999999999996,{"$f":"(Alfa1*SIN(miia*C246)-Alfa2*SIN(miib*C246))","v":33.796967926448005},{"$f":"-(Alfa1*COS(miia*C246)-Alfa2*COS(miib*C246))","v":-8.6315912655014859},{"$f":"(miia*Alfa1*COS(miia*C246)-miib*Alfa2*COS(miib*C246))","v":-262.49866770522971},{"$f":"miia*Alfa1*SIN(miia*C246)-miib*Alfa2*SIN(miib*C246)","v":339.49591899340635},null,null,null,null,null,null,null,null,null,0,225,2.249999999999996,46.832731294809427,-12.179392794650866]
[0,226,2.2599999999999958,{"$f":"(Alfa1*SIN(miia*C247)-Alfa2*SIN(miib*C247))","v":31.17596637620878},{"$f":"-(Alfa1*COS(miia*C247)-Alfa2*COS(miib*C247))","v":-5.1523446756488962},{"$f":"(miia*Alfa1*COS(miia*C247)-miib*Alfa2*COS(miib*C247))","v":-261.34518705038516},{"$f":"miia*Alfa1*SIN(miia*C247)-miib*Alfa2*SIN(miib*C247)","v":356.05381116937895},null,null,null,null,null,null,null,null,null,0,226,2.2599999999999958,52.858159495506747,-16.607617890935391]
[0,227,2.2699999999999956,{"$f":"(Alfa1*SIN(miia*C248)-Alfa2*SIN(miib*C248))","v":28.577023915005199},{"$f":"-(Alfa1*COS(miia*C248)-Alfa2*COS(miib*C248))","v":-1.5168159347035584},{"$f":"(miia*Alfa1*COS(miia*C248)-miib*Alfa2*COS(miib*C248))","v":-258.10443980692833},{"$f":"miia*Alfa1*SIN(miia*C248)-miib*Alfa2*SIN(miib*C248)","v":370.72192655820101},null,null,null,null,null,null,null,null,null,0,227,2.2699999999999956,57.374322944324291,-21.231486585923786]
[0,228,2.2799999999999954,{"$f":"(Alfa1*SIN(miia*C249)-Alfa2*SIN(miib*C249))","v":26.020453556653649},{"$f":"-(Alfa1*COS(miia*C249)-Alfa2*COS(miib*C249))","v":2.2552099848631144},{"$f":"(miia*Alfa1*COS(miia*C249)-miib*Alfa2*COS(miib*C249))","v":-252.89150659487763},{"$f":"miia*Alfa1*SIN(miia*C249)-miib*Alfa2*SIN(miib*C249)","v":383.32543239874281},null,null,null,null,null,null,null,null,null,0,228,2.2799999999999954,60.283819637623345,-25.802672008699489]
[0,229,2.2899999999999952,{"$f":"(Alfa1*SIN(miia*C250)-Alfa2*SIN(miib*C250))","v":23.525325356995683},{"$f":"-(Alfa1*COS(miia*C250)-Alfa2*COS(miib*C250))","v":6.1422809849464013},{"$f":"(miia*Alfa1*COS(miia*C250)-miib*Alfa2*COS(miib*C250))","v":-245.83965700980917},{"$f":"miia*Alfa1*SIN(miia*C250)-miib*Alfa2*SIN(miib*C250)","v":393.70602687636426},null,null,null,null,null,null,null,null,null,0,229,2.2899999999999952,61.546499311056628,-30.067016725547436]
[0,230,2.2999999999999949,{"$f":"(Alfa1*SIN(miia*C251)-Alfa2*SIN(miib*C251))","v":21.109292054707197},{"$f":"-(Alfa1*COS(miia*C251)-Alfa2*COS(miib*C251))","v":10.121451600692334},{"$f":"(miia*Alfa1*COS(miia*C251)-miib*Alfa2*COS(miib*C251))","v":-237.09881512016551},{"$f":"miia*Alfa1*SIN(miia*C251)-miib*Alfa2*SIN(miib*C251)","v":401.72360173483639},null,null,null,null,null,null,null,null,null,0,230,2.2999999999999949,61.180306313839857,-33.775383782634485]
[0,231,2.3099999999999947,{"$f":"(Alfa1*SIN(miia*C252)-Alfa2*SIN(miib*C252))","v":18.788430881572388},{"$f":"-(Alfa1*COS(miia*C252)-Alfa2*COS(miib*C252))","v":14.16847254011536},{"$f":"(miia*Alfa1*COS(miia*C252)-miib*Alfa2*COS(miib*C252))","v":-226.8338628561101},{"$f":"miia*Alfa1*SIN(miia*C252)-miib*Alfa2*SIN(miib*C252)","v":407.25773314474225},null,null,null,null,null,null,null,null,null,0,231,2.3099999999999947,59.259881958982369,-36.694379660825476]
[0,232,2.3199999999999945,{"$f":"(Alfa1*SIN(miia*C253)-Alfa2*SIN(miib*C253))","v":16.577103077334982},{"$f":"-(Alfa1*COS(miia*C253)-Alfa2*COS(miib*C253))","v":18.257994209921542},{"$f":"(miia*Alfa1*COS(miia*C253)-miib*Alfa2*COS(miib*C253))","v":-215.22279873835078},{"$f":"miia*Alfa1*SIN(miia*C253)-miib*Alfa2*SIN(miib*C253)","v":410.20898570475686},null,null,null,null,null,null,null,null,null,0,232,2.3199999999999945,55.912988886329494,-38.616513752344211]
[0,233,2.3299999999999943,{"$f":"(Alfa1*SIN(miia*C254)-Alfa2*SIN(miib*C254))","v":14.487832462435101},{"$f":"-(Alfa1*COS(miia*C254)-Alfa2*COS(miib*C254))","v":22.363782290866943},{"$f":"(miia*Alfa1*COS(miia*C254)-miib*Alfa2*COS(miib*C254))","v":-202.45477082876786},{"$f":"miia*Alfa1*SIN(miia*C254)-miib*Alfa2*SIN(miib*C254)","v":410.50001629479493},null,null,null,null,null,null,null,null,null,0,233,2.3299999999999943,51.314905982015901,-39.369380791990707]
[0,234,2.3399999999999941,{"$f":"(Alfa1*SIN(miia*C255)-Alfa2*SIN(miib*C255))","v":12.531204226740822},{"$f":"-(Alfa1*COS(miia*C255)-Alfa2*COS(miib*C255))","v":26.458943302947482},{"$f":"(miia*Alfa1*COS(miia*C255)-miib*Alfa2*COS(miib*C255))","v":-188.72800402822313},{"$f":"miia*Alfa1*SIN(miia*C255)-miib*Alfa2*SIN(miib*C255)","v":408.07646647592787},null,null,null,null,null,null,null,null,null,0,234,2.3399999999999941,45.681022422813342,-38.823491071588798]
[0,235,2.3499999999999939,{"$f":"(Alfa1*SIN(miia*C256)-Alfa2*SIN(miib*C256))","v":10.715784885749738},{"$f":"-(Alfa1*COS(miia*C256)-Alfa2*COS(miib*C256))","v":30.516157998026905},{"$f":"(miia*Alfa1*COS(miia*C256)-miib*Alfa2*COS(miib*C256))","v":-174.24764288820279},{"$f":"miia*Alfa1*SIN(miia*C256)-miib*Alfa2*SIN(miib*C256)","v":402.90763422153606},null,null,null,null,null,null,null,null,null,0,235,2.3499999999999939,39.257930275365837,-36.898426710088863]
[0,236,2.3599999999999937,{"$f":"(Alfa1*SIN(miia*C257)-Alfa2*SIN(miib*C257))","v":9.0480641397454136},{"$f":"-(Alfa1*COS(miia*C257)-Alfa2*COS(miib*C257))","v":34.507920336197927},{"$f":"(miia*Alfa1*COS(miia*C257)-miib*Alfa2*COS(miib*C257))","v":-159.2235319315923},{"$f":"miia*Alfa1*SIN(miia*C257)-miib*Alfa2*SIN(miib*C257)","v":394.98691794654758},null,null,null,null,null,null,null,null,null,0,236,2.3599999999999937,32.313373962744137,-33.567068617305523]
[0,237,2.3699999999999934,{"$f":"(Alfa1*SIN(miia*C258)-Alfa2*SIN(miib*C258))","v":7.5324191482146503},{"$f":"-(Alfa1*COS(miia*C258)-Alfa2*COS(miib*C258))","v":38.406779743057278},{"$f":"(miia*Alfa1*COS(miia*C258)-miib*Alfa2*COS(miib*C258))","v":-143.867956085652},{"$f":"miia*Alfa1*SIN(miia*C258)-miib*Alfa2*SIN(miib*C258)","v":384.33202805508108},null,null,null,null,null,null,null,null,null,0,237,2.3699999999999934,25.125459476397442,-28.857715434521499]
[0,238,2.3799999999999932,{"$f":"(Alfa1*SIN(miia*C259)-Alfa2*SIN(miib*C259))","v":6.1711015037056072},{"$f":"-(Alfa1*COS(miia*C259)-Alfa2*COS(miib*C259))","v":42.185584308758195},{"$f":"(miia*Alfa1*COS(miia*C259)-miib*Alfa2*COS(miib*C259))","v":-128.393364211131},{"$f":"miia*Alfa1*SIN(miia*C259)-miib*Alfa2*SIN(miib*C259)","v":370.98496352888571},null,null,null,null,null,null,null,null,null,0,238,2.3799999999999932,17.971554693828306,-22.853999607249538]
[0,239,2.389999999999993,{"$f":"(Alfa1*SIN(miia*C260)-Alfa2*SIN(miib*C260))","v":4.9642469585232369},{"$f":"-(Alfa1*COS(miia*C260)-Alfa2*COS(miib*C260))","v":45.817722576554452},{"$f":"(miia*Alfa1*COS(miia*C260)-miib*Alfa2*COS(miib*C260))","v":-113.01009886165727},{"$f":"miia*Alfa1*SIN(miia*C260)-miib*Alfa2*SIN(miib*C260)","v":355.01175340671841},null,null,null,null,null,null,null,null,null,0,239,2.389999999999993,11.117323435932402,-15.692593502259912]
[0,240,2.3999999999999928,{"$f":"(Alfa1*SIN(miia*C261)-Alfa2*SIN(miib*C261))","v":3.9099077265331026},{"$f":"-(Alfa1*COS(miia*C261)-Alfa2*COS(miib*C261))","v":49.277361578710497},{"$f":"(miia*Alfa1*COS(miia*C261)-miib*Alfa2*COS(miib*C261))","v":-97.924155325626089},{"$f":"miia*Alfa1*SIN(miia*C261)-miib*Alfa2*SIN(miib*C261)","v":336.50196533499434},null,null,null,null,null,null,null,null,null,0,240,2.3999999999999928,4.8063295239077357,-7.5587866246331705]
[0,241,2.4099999999999926,{"$f":"(Alfa1*SIN(miia*C262)-Alfa2*SIN(miib*C262))","v":3.0041069531968141},{"$f":"-(Alfa1*COS(miia*C262)-Alfa2*COS(miib*C262))","v":52.539678811029219},{"$f":"(miia*Alfa1*COS(miia*C262)-miib*Alfa2*COS(miib*C262))","v":-83.334992689638725},{"$f":"miia*Alfa1*SIN(miia*C262)-miib*Alfa2*SIN(miib*C262)","v":315.56798567947271},null,null,null,null,null,null,null,null,null,0,241,2.4099999999999926,-0.74937666155188087,1.3198999933531912]
[0,242,2.4199999999999924,{"$f":"(Alfa1*SIN(miia*C263)-Alfa2*SIN(miib*C263))","v":2.2409147220896415},{"$f":"-(Alfa1*COS(miia*C263)-Alfa2*COS(miib*C263))","v":55.581085893521063},{"$f":"(miia*Alfa1*COS(miia*C263)-miib*Alfa2*COS(miib*C263))","v":-69.433419121303331},{"$f":"miia*Alfa1*SIN(miia*C263)-miib*Alfa2*SIN(miib*C263)","v":292.34407795334789},null,null,null,null,null,null,null,null,null,0,242,2.4199999999999924,-5.3773167989254711,10.681817661960652]
[0,243,2.4299999999999922,{"$f":"(Alfa1*SIN(miia*C264)-Alfa2*SIN(miib*C264))","v":1.6125447478094657},{"$f":"-(Alfa1*COS(miia*C264)-Alfa2*COS(miib*C264))","v":58.379441743352153},{"$f":"(miia*Alfa1*COS(miia*C264)-miib*Alfa2*COS(miib*C264))","v":-56.399572805359668},{"$f":"miia*Alfa1*SIN(miia*C264)-miib*Alfa2*SIN(miib*C264)","v":266.98522851632845},null,null,null,null,null,null,null,null,null,0,243,2.4299999999999922,-8.9509710990193643,20.24069874534506]
[0,244,2.439999999999992,{"$f":"(Alfa1*SIN(miia*C265)-Alfa2*SIN(miib*C265))","v":1.1094706955651201},{"$f":"-(Alfa1*COS(miia*C265)-Alfa2*COS(miib*C265))","v":60.914253186391903},{"$f":"(miia*Alfa1*COS(miia*C265)-miib*Alfa2*COS(miib*C265))","v":-44.401018988317247},{"$f":"miia*Alfa1*SIN(miia*C265)-miib*Alfa2*SIN(miib*C265)","v":239.6657906101544},null,null,null,null,null,null,null,null,null,0,244,2.439999999999992,-11.394242916925732,29.696200348487537]
[0,245,2.4499999999999917,{"$f":"(Alfa1*SIN(miia*C266)-Alfa2*SIN(miib*C266))","v":0.72056086893331361},{"$f":"-(Alfa1*COS(miia*C266)-Alfa2*COS(miib*C266))","v":63.166861054442322},{"$f":"(miia*Alfa1*COS(miia*C266)-miib*Alfa2*COS(miib*C266))","v":-33.590982402939375},{"$f":"miia*Alfa1*SIN(miia*C266)-miib*Alfa2*SIN(miib*C266)","v":210.57793979748317},null,null,null,null,null,null,null,null,null,0,245,2.4499999999999917,-12.683829301301605,38.745071317949161]
[0,246,2.4599999999999915,{"$f":"(Alfa1*SIN(miia*C267)-Alfa2*SIN(miib*C267))","v":0.43322982128973386},{"$f":"-(Alfa1*COS(miia*C267)-Alfa2*COS(miib*C267))","v":65.120609955376651},{"$f":"(miia*Alfa1*COS(miia*C267)-miib*Alfa2*COS(miib*C267))","v":-24.106732966852462},{"$f":"miia*Alfa1*SIN(miia*C267)-miib*Alfa2*SIN(miib*C267)","v":179.9299557431921},null,null,null,null,null,null,null,null,null,0,246,2.4599999999999915,-12.849409600959131,47.092505423868332]
[0,247,2.4699999999999913,{"$f":"(Alfa1*SIN(miia*C268)-Alfa2*SIN(miib*C268))","v":0.23360527511607998},{"$f":"-(Alfa1*COS(miia*C268)-Alfa2*COS(miib*C268))","v":66.761000061556942},{"$f":"(miia*Alfa1*COS(miia*C268)-miib*Alfa2*COS(miib*C268))","v":-16.068141093128901},{"$f":"miia*Alfa1*SIN(miia*C268)-miib*Alfa2*SIN(miib*C268)","v":147.94434700123844},null,null,null,null,null,null,null,null,null,0,247,2.4699999999999913,-11.97165200753698,54.463235466376382]
[0,248,2.4799999999999911,{"$f":"(Alfa1*SIN(miia*C269)-Alfa2*SIN(miib*C269))","v":0.10670857847767135},{"$f":"-(Alfa1*COS(miia*C269)-Alfa2*COS(miib*C269))","v":68.075819436469942},{"$f":"(miia*Alfa1*COS(miia*C269)-miib*Alfa2*COS(miib*C269))","v":-9.576417230499942},{"$f":"miia*Alfa1*SIN(miia*C269)-miib*Alfa2*SIN(miib*C269)","v":114.8558370290705},null,null,null,null,null,null,null,null,null,0,248,2.4799999999999911,-10.178125602707837,60.611932602799776]
[0,249,2.4899999999999909,{"$f":"(Alfa1*SIN(miia*C270)-Alfa2*SIN(miib*C270))","v":3.6646791008871027E-2},{"$f":"-(Alfa1*COS(miia*C270)-Alfa2*COS(miib*C270))","v":69.055255608788059},{"$f":"(miia*Alfa1*COS(miia*C270)-miib*Alfa2*COS(miib*C270))","v":-4.7130483841476689},{"$f":"miia*Alfa1*SIN(miia*C270)-miib*Alfa2*SIN(miib*C270)","v":80.909231029663076},null,null,null,null,null,null,null,null,null,0,249,2.4899999999999909,-7.6372895961033471,65.332502049584249]
[0,250,2.4999999999999907,{"$f":"(Alfa1*SIN(miia*C271)-Alfa2*SIN(miib*C271))","v":6.8143741080088915E-3},{"$f":"-(Alfa1*COS(miia*C271)-Alfa2*COS(miib*C271))","v":69.691985305147711},{"$f":"(miia*Alfa1*COS(miia*C271)-miib*Alfa2*COS(miib*C271))","v":-1.5389423735271066},{"$f":"miia*Alfa1*SIN(miia*C271)-miib*Alfa2*SIN(miib*C271)","v":46.357184404792648},null,null,null,null,null,null,null,null,null,0,250,2.4999999999999907,-4.5508086262184833,68.465909412443366]
[0,251,2.5099999999999905,{"$f":"(Alfa1*SIN(miia*C272)-Alfa2*SIN(miib*C272))","v":1.0236290954035443E-4},{"$f":"-(Alfa1*COS(miia*C272)-Alfa2*COS(miib*C272))","v":69.98124146583595},{"$f":"(miia*Alfa1*COS(miia*C272)-miib*Alfa2*COS(miib*C272))","v":-9.3788481367425902E-2},{"$f":"miia*Alfa1*SIN(miia*C272)-miib*Alfa2*SIN(miib*C272)","v":11.457894580377118},null,null,null,null,null,null,null,null,null,0,251,2.5099999999999905,-1.1445101685485017,69.906229530585378]
[0,252,2.5199999999999902,{"$f":"(Alfa1*SIN(miia*C273)-Alfa2*SIN(miib*C273))","v":-8.8717805862703614E-4},{"$f":"-(Alfa1*COS(miia*C273)-Alfa2*COS(miib*C273))","v":69.920856889173493},{"$f":"(miia*Alfa1*COS(miia*C273)-miib*Alfa2*COS(miib*C273))","v":-0.39564095896955109},{"$f":"miia*Alfa1*SIN(miia*C273)-miib*Alfa2*SIN(miib*C273)","v":-23.52726127417586},null,null,null,null,null,null,null,null,null,0,252,2.5199999999999902,2.3416454292030733,69.604679597809422]
[0,253,2.52999999999999,{"$f":"(Alfa1*SIN(miia*C274)-Alfa2*SIN(miib*C274))","v":-1.3623667051307908E-2},{"$f":"-(Alfa1*COS(miia*C274)-Alfa2*COS(miib*C274))","v":69.511284078478496},{"$f":"(miia*Alfa1*COS(miia*C274)-miib*Alfa2*COS(miib*C274))","v":-2.4407295990995976},{"$f":"miia*Alfa1*SIN(miia*C274)-miib*Alfa2*SIN(miib*C274)","v":-58.336119573227947},null,null,null,null,null,null,null,null,null,0,253,2.52999999999999,5.6641721609953981,67.571477668890253]
[0,254,2.5399999999999898,{"$f":"(Alfa1*SIN(miia*C275)-Alfa2*SIN(miib*C275))","v":-5.5429767292955567E-2},{"$f":"-(Alfa1*COS(miia*C275)-Alfa2*COS(miib*C275))","v":68.755591097822901},{"$f":"(miia*Alfa1*COS(miia*C275)-miib*Alfa2*COS(miib*C275))","v":-6.2034992917529337},{"$f":"miia*Alfa1*SIN(miia*C275)-miib*Alfa2*SIN(miib*C275)","v":-92.708131320995477},null,null,null,null,null,null,null,null,null,0,254,2.5399999999999898,8.5868095504059738,63.875453320847321]
[0,255,2.5499999999999896,{"$f":"(Alfa1*SIN(miia*C276)-Alfa2*SIN(miib*C276))","v":-0.14326468893554001},{"$f":"-(Alfa1*COS(miia*C276)-Alfa2*COS(miib*C276))","v":67.659433477047088},{"$f":"(miia*Alfa1*COS(miia*C276)-miib*Alfa2*COS(miib*C276))","v":-11.636878162849854},{"$f":"miia*Alfa1*SIN(miia*C276)-miib*Alfa2*SIN(miib*C276)","v":-126.38674735240295},null,null,null,null,null,null,null,null,null,0,255,2.5499999999999896,10.89097876374025,58.641425810725849]
[0,256,2.5599999999999894,{"$f":"(Alfa1*SIN(miia*C277)-Alfa2*SIN(miib*C277))","v":-0.29351130497920153},{"$f":"-(Alfa1*COS(miia*C277)-Alfa2*COS(miib*C277))","v":66.231002440349897},{"$f":"(miia*Alfa1*COS(miia*C277)-miib*Alfa2*COS(miib*C277))","v":-18.672771584714326},{"$f":"miia*Alfa1*SIN(miia*C277)-miib*Alfa2*SIN(miib*C277)","v":-159.12176452124893},null,null,null,null,null,null,null,null,null,0,256,2.5599999999999894,12.385516433167263,52.045453033727902]
[{"$f":"IF(B278=$AC$1,1,0)","v":0},257,{"$f":"C277+dt","v":2.5699999999999892},{"$f":"(Alfa1*SIN(miia*C278)-Alfa2*SIN(miib*C278))","v":-0.52176931678351224},{"$f":"-(Alfa1*COS(miia*C278)-Alfa2*COS(miib*C278))","v":64.48094996389699},{"$f":"(miia*Alfa1*COS(miia*C278)-miib*Alfa2*COS(miib*C278))","v":-27.222777063149891},{"$f":"miia*Alfa1*SIN(miia*C278)-miib*Alfa2*SIN(miib*C278)","v":-190.67160993615124},null,null,null,null,null,null,null,null,null,{"$f":"IF(R278=$AC$1,1,0)","v":0},257,{"$f":"S277+dt","v":2.5699999999999892},{"$f":"IF(R278<MAX_TIME,Aktina*SIN(epsilon*S278)*COS(D*S278),Aktina*SIN(epsilon*MAX_TIME*dt)*COS(D*MAX_TIME*dt))","v":12.915287943816685},{"$f":"IF(R278<MAX_TIME,Aktina*COS(epsilon*S278)*COS(D*S278),Aktina*COS(epsilon*MAX_TIME*dt)*COS(D*MAX_TIME*dt))","v":44.308138441531561}]
[0,{"$f":"B278+1","v":258},2.579999999999989,{"$f":"(Alfa1*SIN(miia*C279)-Alfa2*SIN(miib*C279))","v":-0.84265664362435011},{"$f":"-(Alfa1*COS(miia*C279)-Alfa2*COS(miib*C279))","v":62.422291393997085},{"$f":"(miia*Alfa1*COS(miia*C279)-miib*Alfa2*COS(miib*C279))","v":-37.179112771944204},{"$f":"miia*Alfa1*SIN(miia*C279)-miib*Alfa2*SIN(miib*C279)","v":-220.80554096010519},null,null,null,null,null,null,null,null,null,0,{"$f":"R278+1","v":258},2.579999999999989,12.368326886458782,35.686259497650155]
[0,259,2.5899999999999888,{"$f":"(Alfa1*SIN(miia*C280)-Alfa2*SIN(miib*C280))","v":-1.269621127582468},{"$f":"-(Alfa1*COS(miia*C280)-Alfa2*COS(miib*C280))","v":60.070286576234544},{"$f":"(miia*Alfa1*COS(miia*C280)-miib*Alfa2*COS(miib*C280))","v":-48.41575034410198},{"$f":"miia*Alfa1*SIN(miia*C280)-miib*Alfa2*SIN(miib*C280)","v":-249.30573952616928},null,null,null,null,null,null,null,null,null,0,259,2.5899999999999888,10.681206509019928,26.463047188232725]
[0,260,2.5999999999999885,{"$f":"(Alfa1*SIN(miia*C281)-Alfa2*SIN(miib*C281))","v":-1.8147645407184889},{"$f":"-(Alfa1*COS(miia*C281)-Alfa2*COS(miib*C281))","v":57.442300655347232},{"$f":"(miia*Alfa1*COS(miia*C281)-miib*Alfa2*COS(miib*C281))","v":-60.789740461681703},{"$f":"miia*Alfa1*SIN(miia*C281)-miib*Alfa2*SIN(miib*C281)","v":-275.96928037142766},null,null,null,null,null,null,null,null,null,0,260,2.5999999999999885,7.842419954634761,16.937498953663606]
[0,261,2.6099999999999883,{"$f":"(Alfa1*SIN(miia*C282)-Alfa2*SIN(miib*C282))","v":-2.4886807570408855},{"$f":"-(Alfa1*COS(miia*C282)-Alfa2*COS(miib*C282))","v":54.55764590352004},{"$f":"(miia*Alfa1*COS(miia*C282)-miib*Alfa2*COS(miib*C282))","v":-74.142717833526063},{"$f":"miia*Alfa1*SIN(miia*C282)-miib*Alfa2*SIN(miib*C282)","v":-300.60995404350962},null,null,null,null,null,null,null,null,null,0,261,2.6099999999999883,3.8936260177668527,7.4131450611088088]
[0,262,2.6199999999999881,{"$f":"(Alfa1*SIN(miia*C283)-Alfa2*SIN(miib*C283))","v":-3.3003098084556513},{"$f":"-(Alfa1*COS(miia*C283)-Alfa2*COS(miib*C283))","v":51.437406119163867},{"$f":"(miia*Alfa1*COS(miia*C283)-miib*Alfa2*COS(miib*C283))","v":-88.302570331996705},{"$f":"miia*Alfa1*SIN(miia*C283)-miib*Alfa2*SIN(miib*C283)","v":-323.05992697606968},null,null,null,null,null,null,null,null,null,0,262,2.6199999999999881,-1.0712971095496935,-1.8132905915588491]
[0,263,2.6299999999999879,{"$f":"(Alfa1*SIN(miia*C284)-Alfa2*SIN(miib*C284))","v":-4.2568093831353941},{"$f":"-(Alfa1*COS(miia*C284)-Alfa2*COS(miib*C284))","v":48.104245307336868},{"$f":"(miia*Alfa1*COS(miia*C284)-miib*Alfa2*COS(miib*C284))","v":-103.08525539428892},{"$f":"miia*Alfa1*SIN(miia*C284)-miib*Alfa2*SIN(miib*C284)","v":-343.17122254736728},null,null,null,null,null,null,null,null,null,0,263,2.6299999999999879,-6.9093595167551625,-10.462890792129876]
[0,264,2.6399999999999877,{"$f":"(Alfa1*SIN(miia*C285)-Alfa2*SIN(miib*C285))","v":-5.3634451481727119},{"$f":"-(Alfa1*COS(miia*C285)-Alfa2*COS(miib*C285))","v":44.582202505063059},{"$f":"(miia*Alfa1*COS(miia*C285)-miib*Alfa2*COS(miib*C285))","v":-118.29674529770989},{"$f":"miia*Alfa1*SIN(miia*C285)-miib*Alfa2*SIN(miib*C285)","v":-360.81700881329482},null,null,null,null,null,null,null,null,null,0,264,2.6399999999999877,-13.433611129927948,-18.284776187200126]
[0,265,2.6499999999999875,{"$f":"(Alfa1*SIN(miia*C286)-Alfa2*SIN(miib*C286))","v":-6.6235010877580756},{"$f":"-(Alfa1*COS(miia*C286)-Alfa2*COS(miib*C286))","v":40.896474748405687},{"$f":"(miia*Alfa1*COS(miia*C286)-miib*Alfa2*COS(miib*C286))","v":-133.73508160647214},{"$f":"miia*Alfa1*SIN(miia*C286)-miib*Alfa2*SIN(miib*C286)","v":-375.89268052515251},null,null,null,null,null,null,null,null,null,0,265,2.6499999999999875,-20.420137252264098,-25.065168303865168]
[0,266,2.6599999999999873,{"$f":"(Alfa1*SIN(miia*C287)-Alfa2*SIN(miib*C287))","v":-8.0382108453566445},{"$f":"-(Alfa1*COS(miia*C287)-Alfa2*COS(miib*C287))","v":37.073190291935532},{"$f":"(miia*Alfa1*COS(miia*C287)-miib*Alfa2*COS(miib*C287))","v":-149.19251797324333},{"$f":"miia*Alfa1*SIN(miia*C287)-miib*Alfa2*SIN(miib*C287)","v":-388.31672508402193},null,null,null,null,null,null,null,null,null,0,266,2.6599999999999873,-27.616623771623932,-30.63493248552928]
[0,267,2.6699999999999871,{"$f":"(Alfa1*SIN(miia*C288)-Alfa2*SIN(miib*C288))","v":-9.6067108454850825},{"$f":"-(Alfa1*COS(miia*C288)-Alfa2*COS(miib*C288))","v":33.139174284073604},{"$f":"(miia*Alfa1*COS(miia*C288)-miib*Alfa2*COS(miib*C288))","v":-164.45772957310479},{"$f":"miia*Alfa1*SIN(miia*C288)-miib*Alfa2*SIN(miib*C288)","v":-398.03136422738248},null,null,null,null,null,null,null,null,null,0,267,2.6699999999999871,-34.752154179989105,-34.875309817997078]
[0,268,2.6799999999999868,{"$f":"(Alfa1*SIN(miia*C289)-Alfa2*SIN(miib*C289))","v":-11.326015749842199},{"$f":"-(Alfa1*COS(miia*C289)-Alfa2*COS(miib*C289))","v":29.121709172766082},{"$f":"(miia*Alfa1*COS(miia*C289)-miib*Alfa2*COS(miib*C289))","v":-179.31806675980081},{"$f":"miia*Alfa1*SIN(miia*C289)-miib*Alfa2*SIN(miib*C289)","v":-405.0029654682611},null,null,null,null,null,null,null,null,null,0,268,2.6799999999999868,-41.547850445873792,-37.721619633005112]
[0,269,2.6899999999999866,{"$f":"(Alfa1*SIN(miia*C290)-Alfa2*SIN(miib*C290))","v":-13.191016575941365},{"$f":"-(Alfa1*COS(miia*C290)-Alfa2*COS(miib*C290))","v":25.048292164369315},{"$f":"(miia*Alfa1*COS(miia*C290)-miib*Alfa2*COS(miib*C290))","v":-193.56183007114424},{"$f":"miia*Alfa1*SIN(miia*C290)-miib*Alfa2*SIN(miib*C290)","v":-409.22221959051933},null,null,null,null,null,null,null,null,null,0,269,2.6899999999999866,-47.727935117499499,-39.164795293866732]
[0,270,2.6999999999999864,{"$f":"(Alfa1*SIN(miia*C291)-Alfa2*SIN(miib*C291))","v":-15.194501576301107},{"$f":"-(Alfa1*COS(miia*C291)-Alfa2*COS(miib*C291))","v":20.946392084010995},{"$f":"(miia*Alfa1*COS(miia*C291)-miib*Alfa2*COS(miib*C291))","v":-206.98054347685243},{"$f":"miia*Alfa1*SIN(miia*C291)-miib*Alfa2*SIN(miib*C291)","v":-410.7040828230954},null,null,null,null,null,null,null,null,null,0,270,2.6999999999999864,-53.030774203957655,-39.250702455895237]
[0,271,2.7099999999999862,{"$f":"(Alfa1*SIN(miia*C292)-Alfa2*SIN(miib*C292))","v":-17.327199744980145},{"$f":"-(Alfa1*COS(miia*C292)-Alfa2*COS(miib*C292))","v":16.843207987806515},{"$f":"(miia*Alfa1*COS(miia*C292)-miib*Alfa2*COS(miib*C292))","v":-219.37120276031428},{"$f":"miia*Alfa1*SIN(miia*C292)-miib*Alfa2*SIN(miib*C292)","v":-409.48748464799945},null,null,null,null,null,null,null,null,null,0,271,2.7099999999999862,-57.219460104897941,-38.077277403701203]
[0,272,2.719999999999986,{"$f":"(Alfa1*SIN(miia*C293)-Alfa2*SIN(miib*C293))","v":-19.577846588116373},{"$f":"-(Alfa1*COS(miia*C293)-Alfa2*COS(miib*C293))","v":12.765431856135551},{"$f":"(miia*Alfa1*COS(miia*C293)-miib*Alfa2*COS(miib*C293))","v":-230.53847615589044},{"$f":"miia*Alfa1*SIN(miia*C293)-miib*Alfa2*SIN(miib*C293)","v":-405.63480451835846},null,null,null,null,null,null,null,null,null,0,272,2.719999999999986,-60.091511157918326,-35.789609873654086]
[0,273,2.7299999999999858,{"$f":"(Alfa1*SIN(miia*C294)-Alfa2*SIN(miib*C294))","v":-21.933271568454057},{"$f":"-(Alfa1*COS(miia*C294)-Alfa2*COS(miib*C294))","v":8.7390176529439696},{"$f":"(miia*Alfa1*COS(miia*C294)-miib*Alfa2*COS(miib*C294))","v":-240.2968348230811},{"$f":"miia*Alfa1*SIN(miia*C294)-miib*Alfa2*SIN(miib*C294)","v":-399.23112305068071},null,null,null,null,null,null,null,null,null,0,273,2.7299999999999858,-61.487298567546922,-32.573176513094339]
[0,274,2.7399999999999856,{"$f":"(Alfa1*SIN(miia*C295)-Alfa2*SIN(miib*C295))","v":-24.37850641289565},{"$f":"-(Alfa1*COS(miia*C295)-Alfa2*COS(miib*C295))","v":4.7889589691810013},{"$f":"(miia*Alfa1*COS(miia*C295)-miib*Alfa2*COS(miib*C295))","v":-248.47259142370086},{"$f":"miia*Alfa1*SIN(miia*C295)-miib*Alfa2*SIN(miib*C295)","v":-390.3832554869457},null,null,null,null,null,null,null,null,null,0,274,2.7399999999999856,-61.296861217461107,-28.645504551448138]
[0,275,2.7499999999999853,{"$f":"(Alfa1*SIN(miia*C296)-Alfa2*SIN(miib*C296))","v":-26.896913259113276},{"$f":"-(Alfa1*COS(miia*C296)-Alfa2*COS(miib*C296))","v":0.93907737968702776},{"$f":"(miia*Alfa1*COS(miia*C296)-miib*Alfa2*COS(miib*C296))","v":-254.90582597128224},{"$f":"miia*Alfa1*SIN(miia*C296)-miib*Alfa2*SIN(miib*C296)","v":-379.21857737488699},null,null,null,null,null,null,null,null,null,0,275,2.7499999999999853,-59.464832175484034,-24.246607438126475]
[0,276,2.7599999999999851,{"$f":"(Alfa1*SIN(miia*C297)-Alfa2*SIN(miib*C297))","v":-29.470331414338549},{"$f":"-(Alfa1*COS(miia*C297)-Alfa2*COS(miib*C297))","v":-2.7881764669916826},{"$f":"(miia*Alfa1*COS(miia*C297)-miib*Alfa2*COS(miib*C297))","v":-259.45217923429897},{"$f":"miia*Alfa1*SIN(miia*C297)-miib*Alfa2*SIN(miib*C297)","v":-365.88365446747054},null,null,null,null,null,null,null,null,null,0,276,2.7599999999999851,-55.993275064650163,-19.628582663090445]
[0,277,2.7699999999999849,{"$f":"(Alfa1*SIN(miia*C298)-Alfa2*SIN(miib*C298))","v":-32.079241308658503},{"$f":"-(Alfa1*COS(miia*C298)-Alfa2*COS(miib*C298))","v":-6.3719071361638182},{"$f":"(miia*Alfa1*COS(miia*C298)-miib*Alfa2*COS(miib*C298))","v":-261.98449528537958},{"$f":"miia*Alfa1*SIN(miia*C298)-miib*Alfa2*SIN(miib*C298)","v":-350.54269077462311},null,null,null,null,null,null,null,null,null,0,277,2.7699999999999849,-50.942310937752943,-15.04479479121165]
[0,278,2.7799999999999847,{"$f":"(Alfa1*SIN(miia*C299)-Alfa2*SIN(miib*C299))","v":-34.702944048397036},{"$f":"-(Alfa1*COS(miia*C299)-Alfa2*COS(miib*C299))","v":-9.7929423306480263},{"$f":"(miia*Alfa1*COS(miia*C299)-miib*Alfa2*COS(miib*C299))","v":-262.39429628440837},{"$f":"miia*Alfa1*SIN(miia*C299)-miib*Alfa2*SIN(miib*C299)","v":-333.37581049250025},null,null,null,null,null,null,null,null,null,0,278,2.7799999999999847,-44.428503578326705,-10.739082608669653]
[0,279,2.7899999999999845,{"$f":"(Alfa1*SIN(miia*C300)-Alfa2*SIN(miib*C300))","v":-37.319754814235303},{"$f":"-(Alfa1*COS(miia*C300)-Alfa2*COS(miib*C300))","v":-13.033982874804646},{"$f":"(miia*Alfa1*COS(miia*C300)-miib*Alfa2*COS(miib*C300))","v":-260.59307424936651},{"$f":"miia*Alfa1*SIN(miia*C300)-miib*Alfa2*SIN(miib*C300)","v":-314.57719117014369},null,null,null,null,null,null,null,null,null,0,279,2.7899999999999845,-36.621059786154134,-6.9354275727145547]
[0,280,2.7999999999999843,{"$f":"(Alfa1*SIN(miia*C301)-Alfa2*SIN(miib*C301))","v":-39.907208205239655},{"$f":"-(Alfa1*COS(miia*C301)-Alfa2*COS(miib*C301))","v":-16.079733364279718},{"$f":"(miia*Alfa1*COS(miia*C301)-miib*Alfa2*COS(miib*C301))","v":-256.51338638833488},{"$f":"miia*Alfa1*SIN(miia*C301)-miib*Alfa2*SIN(miib*C301)","v":-294.35306693400508},null,null,null,null,null,null,null,null,null,0,280,2.7999999999999843,-27.735987663831935,-3.8285015506886122]
[0,281,2.8099999999999841,{"$f":"(Alfa1*SIN(miia*C302)-Alfa2*SIN(miib*C302))","v":-42.442273505370665},{"$f":"-(Alfa1*COS(miia*C302)-Alfa2*COS(miib*C302))","v":-18.917012281525039},{"$f":"(miia*Alfa1*COS(miia*C302)-miib*Alfa2*COS(miib*C302))","v":-250.1097425210985},{"$f":"miia*Alfa1*SIN(miia*C302)-miib*Alfa2*SIN(miib*C302)","v":-272.91962186297064},null,null,null,null,null,null,null,null,null,0,281,2.8099999999999841,-18.028436762321938,-1.5754759040373392]
[0,282,2.8199999999999839,{"$f":"(Alfa1*SIN(miia*C303)-Alfa2*SIN(miib*C303))","v":-44.901577744597205},{"$f":"-(Alfa1*COS(miia*C303)-Alfa2*COS(miib*C303))","v":-21.534840583611818},{"$f":"(miia*Alfa1*COS(miia*C303)-miib*Alfa2*COS(miib*C303))","v":-241.35927518975254},{"$f":"miia*Alfa1*SIN(miia*C303)-miib*Alfa2*SIN(miib*C303)","v":-250.50079467756828},null,null,null,null,null,null,null,null,null,0,282,2.8199999999999839,-7.7835159505768141,-0.2894227593318941]
[0,283,2.8299999999999836,{"$f":"(Alfa1*SIN(miia*C304)-Alfa2*SIN(miib*C304))","v":-47.261634343494762},{"$f":"-(Alfa1*COS(miia*C304)-Alfa2*COS(miib*C304))","v":-23.924507984969292},{"$f":"(miia*Alfa1*COS(miia*C304)-miib*Alfa2*COS(miib*C304))","v":-230.26218522392836},{"$f":"miia*Alfa1*SIN(miia*C304)-miib*Alfa2*SIN(miib*C304)","v":-227.32601676633516},null,null,null,null,null,null,null,null,null,0,283,2.8299999999999836,2.6940548187267974,-3.4574862058208151E-2]
[0,284,2.8399999999999834,{"$f":"(Alfa1*SIN(miia*C305)-Alfa2*SIN(miib*C305))","v":-49.499075069010011},{"$f":"-(Alfa1*COS(miia*C305)-Alfa2*COS(miib*C305))","v":-26.079616381291},{"$f":"(miia*Alfa1*COS(miia*C305)-miib*Alfa2*COS(miib*C305))","v":-216.84195776610989},{"$f":"miia*Alfa1*SIN(miia*C305)-miib*Alfa2*SIN(miib*C305)","v":-203.62790621135665},null,null,null,null,null,null,null,null,null,0,284,2.8399999999999834,13.091056468980048,-0.82363530908251781]
[0,285,2.8499999999999832,{"$f":"(Alfa1*SIN(miia*C306)-Alfa2*SIN(miib*C306))","v":-51.590882990550803},{"$f":"-(Alfa1*COS(miia*C306)-Alfa2*COS(miib*C306))","v":-27.996100089724667},{"$f":"(miia*Alfa1*COS(miia*C306)-miib*Alfa2*COS(miib*C306))","v":-201.1453460536199},{"$f":"miia*Alfa1*SIN(miia*C306)-miib*Alfa2*SIN(miib*C306)","v":-179.63994088743226},null,null,null,null,null,null,null,null,null,0,285,2.8499999999999832,23.097213840195646,-2.6172457062974601]
[0,286,2.859999999999983,{"$f":"(Alfa1*SIN(miia*C307)-Alfa2*SIN(miib*C307))","v":-53.51462411011012},{"$f":"-(Alfa1*COS(miia*C307)-Alfa2*COS(miib*C307))","v":-29.67222281230854},{"$f":"(miia*Alfa1*COS(miia*C307)-miib*Alfa2*COS(miib*C307))","v":-183.24212257334153},{"$f":"miia*Alfa1*SIN(miia*C307)-miib*Alfa2*SIN(miib*C307)","v":-155.5941338911378},null,null,null,null,null,null,null,null,null,0,286,2.859999999999983,32.416524043858672,-5.3256342082135051]
[0,287,2.8699999999999828,{"$f":"(Alfa1*SIN(miia*C308)-Alfa2*SIN(miib*C308))","v":-55.248675347921669},{"$f":"-(Alfa1*COS(miia*C308)-Alfa2*COS(miib*C308))","v":-31.108551462120623},{"$f":"(miia*Alfa1*COS(miia*C308)-miib*Alfa2*COS(miib*C308))","v":-163.22459952992307},{"$f":"miia*Alfa1*SIN(miia*C308)-miib*Alfa2*SIN(miib*C308)","v":-131.71873450547366},null,null,null,null,null,null,null,null,null,0,287,2.8699999999999828,40.778028911012115,-8.8123769485695309]
[0,288,2.8799999999999826,{"$f":"(Alfa1*SIN(miia*C309)-Alfa2*SIN(miib*C309))","v":-56.772446596110548},{"$f":"-(Alfa1*COS(miia*C309)-Alfa2*COS(miib*C309))","v":-32.307907222444456},{"$f":"(miia*Alfa1*COS(miia*C309)-miib*Alfa2*COS(miib*C309))","v":-141.20692287487429},{"$f":"miia*Alfa1*SIN(miia*C309)-miib*Alfa2*SIN(miib*C309)","v":-108.23597762340452},null,null,null,null,null,null,null,null,null,0,288,2.8799999999999826,47.94561234402353,-12.900121082009226]
[0,289,2.8899999999999824,{"$f":"(Alfa1*SIN(miia*C310)-Alfa2*SIN(miib*C310))","v":-58.066594606647797},{"$f":"-(Alfa1*COS(miia*C310)-Alfa2*COS(miib*C310))","v":-33.27529443612066},{"$f":"(miia*Alfa1*COS(miia*C310)-miib*Alfa2*COS(miib*C310))","v":-117.3241464095388},{"$f":"miia*Alfa1*SIN(miia*C310)-miib*Alfa2*SIN(miib*C310)","v":-85.359904042284228},null,null,null,null,null,null,null,null,null,0,289,2.8899999999999824,53.726442023126253,-17.378038437054638]
[0,290,2.8999999999999821,{"$f":"(Alfa1*SIN(miia*C311)-Alfa2*SIN(miib*C311))","v":-59.113226556119479},{"$f":"-(Alfa1*COS(miia*C311)-Alfa2*COS(miib*C311))","v":-34.017808142881776},{"$f":"(miia*Alfa1*COS(miia*C311)-miib*Alfa2*COS(miib*C311))","v":-91.731094676782462},{"$f":"miia*Alfa1*SIN(miia*C311)-miib*Alfa2*SIN(miib*C311)","v":-63.294273306105282},null,null,null,null,null,null,null,null,null,0,290,2.8999999999999821,57.977728630406418,-22.010708798398074]
[0,291,2.9099999999999819,{"$f":"(Alfa1*SIN(miia*C312)-Alfa2*SIN(miib*C312))","v":-59.896091227630137},{"$f":"-(Alfa1*COS(miia*C312)-Alfa2*COS(miib*C312))","v":-34.54452129465696},{"$f":"(miia*Alfa1*COS(miia*C312)-miib*Alfa2*COS(miib*C312))","v":-64.601025472357321},{"$f":"miia*Alfa1*SIN(miia*C312)-miib*Alfa2*SIN(miib*C312)","v":-42.230589821121498},null,null,null,null,null,null,null,null,null,0,291,2.9099999999999819,60.611542398496177,-26.548073891780994]
[0,292,2.9199999999999817,{"$f":"(Alfa1*SIN(miia*C313)-Alfa2*SIN(miib*C313))","v":-60.400755868613857},{"$f":"-(Alfa1*COS(miia*C313)-Alfa2*COS(miib*C313))","v":-34.866352880465598},{"$f":"(miia*Alfa1*COS(miia*C313)-miib*Alfa2*COS(miib*C313))","v":-36.124104816126831},{"$f":"miia*Alfa1*SIN(miia*C313)-miib*Alfa2*SIN(miib*C313)","v":-22.346261812242602},null,null,null,null,null,null,null,null,null,0,292,2.9199999999999817,61.597503716182892,-30.736059556990991]
[0,293,2.9299999999999815,{"$f":"(Alfa1*SIN(miia*C314)-Alfa2*SIN(miib*C314))","v":-60.614766921253235},{"$f":"-(Alfa1*COS(miia*C314)-Alfa2*COS(miib*C314))","v":-34.995918381583884},{"$f":"(miia*Alfa1*COS(miia*C314)-miib*Alfa2*COS(miib*C314))","v":-6.5057091055785321},{"$f":"miia*Alfa1*SIN(miia*C314)-miib*Alfa2*SIN(miib*C314)","v":-3.8029113343251595},null,null,null,null,null,null,null,null,null,0,293,2.9299999999999815,60.963248666963068,-34.327436110515528]
[0,294,2.9399999999999813,{"$f":"(Alfa1*SIN(miia*C315)-Alfa2*SIN(miib*C315))","v":-60.527792978241699},{"$f":"-(Alfa1*COS(miia*C315)-Alfa2*COS(miib*C315))","v":-34.947364152280436},{"$f":"(miia*Alfa1*COS(miia*C315)-miib*Alfa2*COS(miib*C315))","v":24.035429089523362},{"$f":"miia*Alfa1*SIN(miia*C315)-miib*Alfa2*SIN(miib*C315)","v":13.255147982328509},null,null,null,null,null,null,null,null,null,0,294,2.9399999999999813,58.792658390779792,-37.092476623278742]
[0,295,2.9499999999999811,{"$f":"(Alfa1*SIN(miia*C316)-Alfa2*SIN(miib*C316))","v":-60.131748489222346},{"$f":"-(Alfa1*COS(miia*C316)-Alfa2*COS(miib*C316))","v":-34.736187479837291},{"$f":"(miia*Alfa1*COS(miia*C316)-miib*Alfa2*COS(miib*C316))","v":55.269213559255093},{"$f":"miia*Alfa1*SIN(miia*C316)-miib*Alfa2*SIN(miib*C316)","v":28.70225047389971},null,null,null,null,null,null,null,null,null,0,295,2.9499999999999811,55.22192954188116,-38.828980188139347]
[0,296,2.9599999999999809,{"$f":"(Alfa1*SIN(miia*C317)-Alfa2*SIN(miib*C317))","v":-59.42089693068408},{"$f":"-(Alfa1*COS(miia*C317)-Alfa2*COS(miib*C317))","v":-34.379044218222589},{"$f":"(miia*Alfa1*COS(miia*C317)-miib*Alfa2*COS(miib*C317))","v":86.956295886025728},{"$f":"miia*Alfa1*SIN(miia*C317)-miib*Alfa2*SIN(miib*C317)","v":42.432522144078149},null,null,null,null,null,null,null,null,null,0,296,2.9599999999999809,50.433648351025241,-39.37125194051135]
[0,297,2.9699999999999807,{"$f":"(Alfa1*SIN(miia*C318)-Alfa2*SIN(miib*C318))","v":-58.391932352532727},{"$f":"-(Alfa1*COS(miia*C318)-Alfa2*COS(miib*C318))","v":-33.893546011262586},{"$f":"(miia*Alfa1*COS(miia*C318)-miib*Alfa2*COS(miib*C318))","v":118.85028514964335},{"$f":"miia*Alfa1*SIN(miia*C318)-miib*Alfa2*SIN(miib*C318)","v":54.360817376413934},null,null,null,null,null,null,null,null,null,0,297,2.9699999999999807,44.649109498406958,-38.597672645592787]
[0,298,2.9799999999999804,{"$f":"(Alfa1*SIN(miia*C319)-Alfa2*SIN(miib*C319))","v":-57.044038425990635},{"$f":"-(Alfa1*COS(miia*C319)-Alfa2*COS(miib*C319))","v":-33.298049222265732},{"$f":"(miia*Alfa1*COS(miia*C319)-miib*Alfa2*COS(miib*C319))","v":150.70003428068134},{"$f":"miia*Alfa1*SIN(miia*C319)-miib*Alfa2*SIN(miib*C319)","v":64.423439601475962},null,null,null,null,null,null,null,null,null,0,298,2.9799999999999804,38.119190036157946,-36.43654644611815]
[0,299,2.9899999999999802,{"$f":"(Alfa1*SIN(miia*C320)-Alfa2*SIN(miib*C320))","v":-55.378924337811391},{"$f":"-(Alfa1*COS(miia*C320)-Alfa2*COS(miib*C320))","v":-32.611437766777449},{"$f":"(miia*Alfa1*COS(miia*C320)-miib*Alfa2*COS(miib*C320))","v":182.25198065632401},{"$f":"miia*Alfa1*SIN(miia*C320)-miib*Alfa2*SIN(miib*C320)","v":72.578639043281896},null,null,null,null,null,null,null,null,null,0,299,2.9899999999999802,31.114145223368006,-32.869983655981152]
[0,300,2.99999999999998,{"$f":"(Alfa1*SIN(miia*C321)-Alfa2*SIN(miib*C321))","v":-53.400837102836469},{"$f":"-(Alfa1*COS(miia*C321)-Alfa2*COS(miib*C321))","v":-31.852902102702931},{"$f":"(miia*Alfa1*COS(miia*C321)-miib*Alfa2*COS(miib*C321))","v":213.25251797410027},{"$f":"miia*Alfa1*SIN(miia*C321)-miib*Alfa2*SIN(miib*C321)","v":78.80688291832999},null,null,null,null,null,null,null,null,null,0,300,2.99999999999998,23.912735104686917,-27.935653568476155]
[0,301,3.0099999999999798,{"$f":"(Alfa1*SIN(miia*C322)-Alfa2*SIN(miib*C322))","v":-51.116550098410954},{"$f":"-(Alfa1*COS(miia*C322)-Alfa2*COS(miib*C322))","v":-31.041716666858587},{"$f":"(miia*Alfa1*COS(miia*C322)-miib*Alfa2*COS(miib*C322))","v":243.45037610854385},{"$f":"miia*Alfa1*SIN(miia*C322)-miib*Alfa2*SIN(miib*C322)","v":83.110895754794939},null,null,null,null,null,null,null,null,null,0,301,3.0099999999999798,16.791116312644924,-21.726327012852625]
[0,302,3.0199999999999796,{"$f":"(Alfa1*SIN(miia*C323)-Alfa2*SIN(miib*C323))","v":-48.535327857811552},{"$f":"-(Alfa1*COS(miia*C323)-Alfa2*COS(miib*C323))","v":-30.197018058763518},{"$f":"(miia*Alfa1*COS(miia*C323)-miib*Alfa2*COS(miib*C323))","v":272.59898555719212},{"$f":"miia*Alfa1*SIN(miia*C323)-miib*Alfa2*SIN(miib*C323)","v":85.515469816065291},null,null,null,null,null,null,null,null,null,0,302,3.0199999999999796,10.011941891668776,-14.387216461587872]
[0,303,3.0299999999999794,{"$f":"(Alfa1*SIN(miia*C324)-Alfa2*SIN(miib*C324))","v":-45.668867393299465},{"$f":"-(Alfa1*COS(miia*C324)-Alfa2*COS(miib*C324))","v":-29.337586261050969},{"$f":"(miia*Alfa1*COS(miia*C324)-miib*Alfa2*COS(miib*C324))","v":300.45880321649042},{"$f":"miia*Alfa1*SIN(miia*C324)-miib*Alfa2*SIN(miib*C324)","v":86.067047928608474},null,null,null,null,null,null,null,null,null,0,303,3.0299999999999794,3.8141026071452164,-6.1112093526813371]
[0,304,3.0399999999999792,{"$f":"(Alfa1*SIN(miia*C325)-Alfa2*SIN(miib*C325))","v":-42.53121655036837},{"$f":"-(Alfa1*COS(miia*C325)-Alfa2*COS(miib*C325))","v":-28.481631151391277},{"$f":"(miia*Alfa1*COS(miia*C325)-miib*Alfa2*COS(miib*C325))","v":326.79957659380824},{"$f":"miia*Alfa1*SIN(miia*C325)-miib*Alfa2*SIN(miib*C325)","v":84.833083305960955},null,null,null,null,null,null,null,null,null,0,304,3.0399999999999792,-1.5964834016302523,2.8678255569611992]
[0,305,3.049999999999979,{"$f":"(Alfa1*SIN(miia*C326)-Alfa2*SIN(miib*C326))","v":-39.138670120915855},{"$f":"-(Alfa1*COS(miia*C326)-Alfa2*COS(miib*C326))","v":-27.646586503626885},{"$f":"(miia*Alfa1*COS(miia*C326)-miib*Alfa2*COS(miib*C326))","v":351.40252415530085},{"$f":"miia*Alfa1*SIN(miia*C326)-miib*Alfa2*SIN(miib*C326)","v":81.901183205515196},null,null,null,null,null,null,null,null,null,0,305,3.049999999999979,-6.0546685692805715,12.283401905863219]
[0,306,3.0599999999999787,{"$f":"(Alfa1*SIN(miia*C327)-Alfa2*SIN(miib*C327))","v":-35.509644662173713},{"$f":"-(Alfa1*COS(miia*C327)-Alfa2*COS(miib*C327))","v":-26.848913596508979},{"$f":"(miia*Alfa1*COS(miia*C327)-miib*Alfa2*COS(miib*C327))","v":374.06241032488595},{"$f":"miia*Alfa1*SIN(miia*C327)-miib*Alfa2*SIN(miib*C327)","v":77.378045430240249},null,null,null,null,null,null,null,null,null,0,306,3.0599999999999787,-9.4421546835327437,21.846125666083015]
[0,307,3.0699999999999785,{"$f":"(Alfa1*SIN(miia*C328)-Alfa2*SIN(miib*C328))","v":-31.664533178106808},{"$f":"-(Alfa1*COS(miia*C328)-Alfa2*COS(miib*C328))","v":-26.103916447797527},{"$f":"(miia*Alfa1*COS(miia*C328)-miib*Alfa2*COS(miib*C328))","v":394.58949467905779},{"$f":"miia*Alfa1*SIN(miia*C328)-miib*Alfa2*SIN(miib*C328)","v":71.38819877174889},null,null,null,null,null,null,null,null,null,0,307,3.0699999999999785,-11.691615201144165,31.254373333210538]
[0,308,3.0799999999999783,{"$f":"(Alfa1*SIN(miia*C329)-Alfa2*SIN(miib*C329))","v":-27.625541018542123},{"$f":"-(Alfa1*COS(miia*C329)-Alfa2*COS(miib*C329))","v":-25.425570570559827},{"$f":"(miia*Alfa1*COS(miia*C329)-miib*Alfa2*COS(miib*C329))","v":412.81133611540491},{"$f":"miia*Alfa1*SIN(miia*C329)-miib*Alfa2*SIN(miib*C329)","v":64.072560463357377},null,null,null,null,null,null,null,null,null,0,308,3.0799999999999783,-12.788702690496859,40.205521245720902]
[0,309,3.0899999999999781,{"$f":"(Alfa1*SIN(miia*C330)-Alfa2*SIN(miib*C330))","v":-23.416504536542252},{"$f":"-(Alfa1*COS(miia*C330)-Alfa2*COS(miib*C330))","v":-24.826367008495652},{"$f":"(miia*Alfa1*COS(miia*C330)-miib*Alfa2*COS(miib*C330))","v":428.57443419726405},{"$f":"miia*Alfa1*SIN(miia*C330)-miib*Alfa2*SIN(miib*C330)","v":55.586825552227104},null,null,null,null,null,null,null,null,null,0,309,3.0899999999999781,-12.771868131367594,48.407286304119573]
[0,310,3.0999999999999779,{"$f":"(Alfa1*SIN(miia*C331)-Alfa2*SIN(miib*C331))","v":-19.062694214645084},{"$f":"-(Alfa1*COS(miia*C331)-Alfa2*COS(miib*C331))","v":-24.317173249443215},{"$f":"(miia*Alfa1*COS(miia*C331)-miib*Alfa2*COS(miib*C331))","v":441.74569147877082},{"$f":"miia*Alfa1*SIN(miia*C331)-miib*Alfa2*SIN(miib*C331)","v":46.099704789917823},null,null,null,null,null,null,null,null,null,0,310,3.0999999999999779,-11.730006796418827,55.588733204469463]
[0,311,3.1099999999999777,{"$f":"(Alfa1*SIN(miia*C332)-Alfa2*SIN(miib*C332))","v":-14.590604123860953},{"$f":"-(Alfa1*COS(miia*C332)-Alfa2*COS(miib*C332))","v":-23.907112442464907},{"$f":"(miia*Alfa1*COS(miia*C332)-miib*Alfa2*COS(miib*C332))","v":452.21368237770241},{"$f":"miia*Alfa1*SIN(miia*C332)-miib*Alfa2*SIN(miib*C332)","v":35.791029163799983},null,null,null,null,null,null,null,null,null,0,311,3.1099999999999777,-9.7980327708401216,61.510515808977523]
[0,312,3.1199999999999775,{"$f":"(Alfa1*SIN(miia*C333)-Alfa2*SIN(miib*C333))","v":-10.027729714221728},{"$f":"-(Alfa1*COS(miia*C333)-Alfa2*COS(miib*C333))","v":-23.603462155825845},{"$f":"(miia*Alfa1*COS(miia*C333)-miib*Alfa2*COS(miib*C333))","v":459.88971607040378},{"$f":"miia*Alfa1*SIN(miia*C333)-miib*Alfa2*SIN(miib*C333)","v":24.849740532528568},null,null,null,null,null,null,null,null,null,0,312,3.1199999999999775,-7.1505673477953975,65.973949957494028]
[0,313,3.1299999999999772,{"$f":"(Alfa1*SIN(miia*C334)-Alfa2*SIN(miib*C334))","v":-5.4023360508711855},{"$f":"-(Alfa1*COS(miia*C334)-Alfa2*COS(miib*C334))","v":-23.411573712653109},{"$f":"(miia*Alfa1*COS(miia*C334)-miib*Alfa2*COS(miib*C334))","v":464.70868291475887},{"$f":"miia*Alfa1*SIN(miia*C334)-miib*Alfa2*SIN(miib*C334)","v":13.471788973756045},null,null,null,null,null,null,null,null,null,0,313,3.1299999999999772,-3.9940022457183755,68.828560703295935]
[0,314,3.139999999999977,{"$f":"(Alfa1*SIN(miia*C335)-Alfa2*SIN(miib*C335))","v":-0.74321870402339452},{"$f":"-(Alfa1*COS(miia*C335)-Alfa2*COS(miib*C335))","v":-23.334812930116303},{"$f":"(miia*Alfa1*COS(miia*C335)-miib*Alfa2*COS(miib*C335))","v":466.62967604337416},{"$f":"miia*Alfa1*SIN(miia*C335)-miib*Alfa2*SIN(miib*C335)","v":1.8579583899982268},null,null,null,null,null,null,null,null,null,0,314,3.139999999999977,-0.55726380563963929,69.977806822309745]
[0,315,3.1499999999999768,{"$f":"(Alfa1*SIN(miia*C336)-Alfa2*SIN(miib*C336))","v":3.9205404263425772},{"$f":"-(Alfa1*COS(miia*C336)-Alfa2*COS(miib*C336))","v":-23.374522868721115},{"$f":"(miia*Alfa1*COS(miia*C336)-miib*Alfa2*COS(miib*C336))","v":465.63638198860605},{"$f":"miia*Alfa1*SIN(miia*C336)-miib*Alfa2*SIN(miib*C336)","v":-9.788357360317967},null,null,null,null,null,null,null,null,null,0,315,3.1499999999999768,2.9183435613792206,69.382757119892005]
[0,316,3.1599999999999766,{"$f":"(Alfa1*SIN(miia*C337)-Alfa2*SIN(miib*C337))","v":8.5598200201613679},{"$f":"-(Alfa1*COS(miia*C337)-Alfa2*COS(miib*C337))","v":-23.530008972962392},{"$f":"(miia*Alfa1*COS(miia*C337)-miib*Alfa2*COS(miib*C337))","v":461.7372364816855},{"$f":"miia*Alfa1*SIN(miia*C337)-miib*Alfa2*SIN(miib*C337)","v":-21.263405042318265},null,null,null,null,null,null,null,null,null,0,316,3.1599999999999766,6.1897994757671686,67.063573695851389]
[0,317,3.1699999999999764,{"$f":"(Alfa1*SIN(miia*C338)-Alfa2*SIN(miib*C338))","v":13.145706623438432},{"$f":"-(Alfa1*COS(miia*C338)-Alfa2*COS(miib*C338))","v":-23.798546755405411},{"$f":"(miia*Alfa1*COS(miia*C338)-miib*Alfa2*COS(miib*C338))","v":454.96534388724149},{"$f":"miia*Alfa1*SIN(miia*C338)-miib*Alfa2*SIN(miib*C338)","v":-32.365326301885879},null,null,null,null,null,null,null,null,null,0,317,3.1699999999999764,9.0230997636990988,63.098743722032907]
[0,318,3.1799999999999762,{"$f":"(Alfa1*SIN(miia*C339)-Alfa2*SIN(miib*C339))","v":17.649739949272348},{"$f":"-(Alfa1*COS(miia*C339)-Alfa2*COS(miib*C339))","v":-24.175411945558089},{"$f":"(miia*Alfa1*COS(miia*C339)-miib*Alfa2*COS(miib*C339))","v":445.37816106890398},{"$f":"miia*Alfa1*SIN(miia*C339)-miib*Alfa2*SIN(miib*C339)","v":-42.896392530872703},null,null,null,null,null,null,null,null,null,0,318,3.1799999999999762,11.203620417673466,57.622090003594728]
[0,319,3.189999999999976,{"$f":"(Alfa1*SIN(miia*C340)-Alfa2*SIN(miib*C340))","v":22.044153851734571},{"$f":"-(Alfa1*COS(miia*C340)-Alfa2*COS(miib*C340))","v":-24.653932794981461},{"$f":"(miia*Alfa1*COS(miia*C340)-miib*Alfa2*COS(miib*C340))","v":433.05694880812246},{"$f":"miia*Alfa1*SIN(miia*C340)-miib*Alfa2*SIN(miib*C340)","v":-52.6651974654878},null,null,null,null,null,null,null,null,null,0,319,3.189999999999976,12.545689824104628,50.817678108656239]
[0,320,3.1999999999999758,{"$f":"(Alfa1*SIN(miia*C341)-Alfa2*SIN(miib*C341))","v":26.30211067333239},{"$f":"-(Alfa1*COS(miia*C341)-Alfa2*COS(miib*C341))","v":-25.22556400327122},{"$f":"(miia*Alfa1*COS(miia*C341)-miib*Alfa2*COS(miib*C341))","v":418.10599619368134},{"$f":"miia*Alfa1*SIN(miia*C341)-miib*Alfa2*SIN(miib*C341)","v":-61.488785067859169},null,null,null,null,null,null,null,null,null,0,320,3.1999999999999758,12.900977493428933,42.912820682782332]
[{"$f":"IF(B342=$AC$1,1,0)","v":0},321,{"$f":"C341+dt","v":3.2099999999999755},{"$f":"(Alfa1*SIN(miia*C342)-Alfa2*SIN(miib*C342))","v":30.397926732216881},{"$f":"-(Alfa1*COS(miia*C342)-Alfa2*COS(miib*C342))","v":-25.879981508110035},{"$f":"(miia*Alfa1*COS(miia*C342)-miib*Alfa2*COS(miib*C342))","v":400.65162564077548},{"$f":"miia*Alfa1*SIN(miia*C342)-miib*Alfa2*SIN(miib*C342)","v":-69.194690891257878},null,null,null,null,null,null,null,null,null,{"$f":"IF(R342=$AC$1,1,0)","v":0},321,{"$f":"S341+dt","v":3.2099999999999755},{"$f":"IF(R342<MAX_TIME,Aktina*SIN(epsilon*S342)*COS(D*S342),Aktina*SIN(epsilon*MAX_TIME*dt)*COS(D*MAX_TIME*dt))","v":12.165355002857456},{"$f":"IF(R342<MAX_TIME,Aktina*COS(epsilon*S342)*COS(D*S342),Aktina*COS(epsilon*MAX_TIME*dt)*COS(D*MAX_TIME*dt))","v":34.16945442277877}]
[0,{"$f":"B342+1","v":322},3.2199999999999753,{"$f":"(Alfa1*SIN(miia*C343)-Alfa2*SIN(miib*C343))","v":34.30728680278542},{"$f":"-(Alfa1*COS(miia*C343)-Alfa2*COS(miib*C343))","v":-26.605197168764033},{"$f":"(miia*Alfa1*COS(miia*C343)-miib*Alfa2*COS(miib*C343))","v":380.84098836358362},{"$f":"miia*Alfa1*SIN(miia*C343)-miib*Alfa2*SIN(miib*C343)","v":-75.622875999128283},null,null,null,null,null,null,null,null,null,0,{"$f":"R342+1","v":322},3.2199999999999753,10.283946160790734,24.874229094188205]
[0,323,3.2299999999999751,{"$f":"(Alfa1*SIN(miia*C344)-Alfa2*SIN(miib*C344))","v":38.007445551990145},{"$f":"-(Alfa1*COS(miia*C344)-Alfa2*COS(miib*C344))","v":-27.387692168327412},{"$f":"(miia*Alfa1*COS(miia*C344)-miib*Alfa2*COS(miib*C344))","v":358.84066219251179},{"$f":"miia*Alfa1*SIN(miia*C344)-miib*Alfa2*SIN(miib*C344)","v":-80.627533588171289},null,null,null,null,null,null,null,null,null,0,323,3.2299999999999751,7.2541560773347955,15.327698400438194]
[0,324,3.2399999999999749,{"$f":"(Alfa1*SIN(miia*C345)-Alfa2*SIN(miib*C345))","v":41.477414022434957},{"$f":"-(Alfa1*COS(miia*C345)-Alfa2*COS(miib*C345))","v":-28.212567767760245},{"$f":"(miia*Alfa1*COS(miia*C345)-miib*Alfa2*COS(miib*C345))","v":334.83506557600288},{"$f":"miia*Alfa1*SIN(miia*C345)-miib*Alfa2*SIN(miib*C345)","v":-84.078749745499948},null,null,null,null,null,null,null,null,null,0,324,3.2399999999999749,3.1265499751500907,5.8330374478307476]
[0,325,3.2499999999999747,{"$f":"(Alfa1*SIN(miia*C346)-Alfa2*SIN(miib*C346))","v":44.698129400906581},{"$f":"-(Alfa1*COS(miia*C346)-Alfa2*COS(miib*C346))","v":-29.063711866245395},{"$f":"(miia*Alfa1*COS(miia*C346)-miib*Alfa2*COS(miib*C346))","v":309.02470341778189},{"$f":"miia*Alfa1*SIN(miia*C346)-miib*Alfa2*SIN(miib*C346)","v":-85.864001236465953},null,null,null,null,null,null,null,null,null,0,325,3.2499999999999747,-1.9964610419364479,-3.3152703846661522]
[0,326,3.2599999999999745,{"$f":"(Alfa1*SIN(miia*C347)-Alfa2*SIN(miib*C347))","v":47.652606475921502},{"$f":"-(Alfa1*COS(miia*C347)-Alfa2*COS(miib*C347))","v":-29.923979659416968},{"$f":"(miia*Alfa1*COS(miia*C347)-miib*Alfa2*COS(miib*C347))","v":281.6242620553345},{"$f":"miia*Alfa1*SIN(miia*C347)-miib*Alfa2*SIN(miib*C347)","v":-85.889474858543707},null,null,null,null,null,null,null,null,null,0,326,3.2599999999999745,-7.9640818788929391,-11.842333880620366]
[0,327,3.2699999999999743,{"$f":"(Alfa1*SIN(miia*C348)-Alfa2*SIN(miib*C348))","v":50.326069368476283},{"$f":"-(Alfa1*COS(miia*C348)-Alfa2*COS(miib*C348))","v":-30.775386541212576},{"$f":"(miia*Alfa1*COS(miia*C348)-miib*Alfa2*COS(miib*C348))","v":252.86057216817858},{"$f":"miia*Alfa1*SIN(miia*C348)-miib*Alfa2*SIN(miib*C348)","v":-84.081194691170651},null,null,null,null,null,null,null,null,null,0,327,3.2699999999999743,-14.582611187396376,-19.502915550265126]
[0,328,3.279999999999974,{"$f":"(Alfa1*SIN(miia*C349)-Alfa2*SIN(miib*C349))","v":52.706062314728428},{"$f":"-(Alfa1*COS(miia*C349)-Alfa2*COS(miib*C349))","v":-31.599311267959493},{"$f":"(miia*Alfa1*COS(miia*C349)-miib*Alfa2*COS(miib*C349))","v":222.97045969991237},{"$f":"miia*Alfa1*SIN(miia*C349)-miib*Alfa2*SIN(miib*C349)","v":-80.385945503790055},null,null,null,null,null,null,null,null,null,0,328,3.279999999999974,-21.622721906988062,-26.090262168074474]
[0,329,3.2899999999999738,{"$f":"(Alfa1*SIN(miia*C350)-Alfa2*SIN(miib*C350))","v":54.782538485810349},{"$f":"-(Alfa1*COS(miia*C350)-Alfa2*COS(miib*C350))","v":-32.376707296087091},{"$f":"(miia*Alfa1*COS(miia*C350)-miib*Alfa2*COS(miib*C350))","v":192.19850597369472},{"$f":"miia*Alfa1*SIN(miia*C350)-miib*Alfa2*SIN(miib*C350)","v":-74.771982635142535},null,null,null,null,null,null,null,null,null,0,329,3.2899999999999738,-28.82825877079793,-31.443361693315932]
[0,330,3.2999999999999736,{"$f":"(Alfa1*SIN(miia*C351)-Alfa2*SIN(miib*C351))","v":56.547926046391076},{"$f":"-(Alfa1*COS(miia*C351)-Alfa2*COS(miib*C351))","v":-33.088320118662914},{"$f":"(miia*Alfa1*COS(miia*C351)-miib*Alfa2*COS(miib*C351))","v":160.79473906533579},{"$f":"miia*Alfa1*SIN(miia*C351)-miib*Alfa2*SIN(miib*C351)","v":-67.229520805589317},null,null,null,null,null,null,null,null,null,0,330,3.2999999999999736,-35.926205494574788,-35.452347111620497]
[0,331,3.3099999999999734,{"$f":"(Alfa1*SIN(miia*C352)-Alfa2*SIN(miib*C352))","v":57.997170877742114},{"$f":"-(Alfa1*COS(miia*C352)-Alfa2*COS(miib*C352))","v":-33.714908361635501},{"$f":"(miia*Alfa1*COS(miia*C352)-miib*Alfa2*COS(miib*C352))","v":129.01227916330242},{"$f":"miia*Alfa1*SIN(miia*C352)-miib*Alfa2*SIN(miib*C352)","v":-57.770996549438308},null,null,null,null,null,null,null,null,null,0,331,3.3099999999999734,-42.637426735740554,-38.061841907012131]
[0,332,3.3199999999999732,{"$f":"(Alfa1*SIN(miia*C353)-Alfa2*SIN(miib*C353))","v":59.127755620750669},{"$f":"-(Alfa1*COS(miia*C353)-Alfa2*COS(miib*C353))","v":-34.237466358901017},{"$f":"(miia*Alfa1*COS(miia*C353)-miib*Alfa2*COS(miib*C353))","v":97.10496108353351},{"$f":"miia*Alfa1*SIN(miia*C353)-miib*Alfa2*SIN(miib*C353)","v":-46.431101233557143},null,null,null,null,null,null,null,null,null,0,332,3.3199999999999732,-48.68775799665903,-39.272124128149834]
[0,333,3.329999999999973,{"$f":"(Alfa1*SIN(miia*C354)-Alfa2*SIN(miib*C354))","v":59.939694927228764},{"$f":"-(Alfa1*COS(miia*C354)-Alfa2*COS(miib*C354))","v":-34.63744590650748},{"$f":"(miia*Alfa1*COS(miia*C354)-miib*Alfa2*COS(miib*C354))","v":65.324957315239814},{"$f":"miia*Alfa1*SIN(miia*C354)-miib*Alfa2*SIN(miib*C354)","v":-33.26658393925922},null,null,null,null,null,null,null,null,null,0,333,3.329999999999973,-53.819001735773888,-39.138073068656475]
[0,334,3.3399999999999728,{"$f":"(Alfa1*SIN(miia*C355)-Alfa2*SIN(miib*C355))","v":60.43550704170638},{"$f":"-(Alfa1*COS(miia*C355)-Alfa2*COS(miib*C355))","v":-34.896974900680107},{"$f":"(miia*Alfa1*COS(miia*C355)-miib*Alfa2*COS(miib*C355))","v":33.920424949242943},{"$f":"miia*Alfa1*SIN(miia*C355)-miib*Alfa2*SIN(miib*C355)","v":-18.355825803292731},null,null,null,null,null,null,null,null,null,0,334,3.3399999999999728,-57.799390646537404,-37.765950967722411]
[0,335,3.3499999999999726,{"$f":"(Alfa1*SIN(miia*C356)-Alfa2*SIN(miib*C356))","v":60.620162068316276},{"$f":"-(Alfa1*COS(miia*C356)-Alfa2*COS(miib*C356))","v":-34.999070591848863},{"$f":"(miia*Alfa1*COS(miia*C356)-miib*Alfa2*COS(miib*C356))","v":3.1331995837446556},{"$f":"miia*Alfa1*SIN(miia*C356)-miib*Alfa2*SIN(miib*C356)","v":-1.7981897176779},null,null,null,null,null,null,null,null,null,0,335,3.3499999999999726,-60.433099270052168,-35.308158330199241]
[0,336,3.3599999999999723,{"$f":"(Alfa1*SIN(miia*C357)-Alfa2*SIN(miib*C357))","v":60.50100750608793},{"$f":"-(Alfa1*COS(miia*C357)-Alfa2*COS(miib*C357))","v":-34.927845237228709},{"$f":"(miia*Alfa1*COS(miia*C357)-miib*Alfa2*COS(miib*C357))","v":-26.803441184247262},{"$f":"miia*Alfa1*SIN(miia*C357)-miib*Alfa2*SIN(miib*C357)","v":16.286848446129198},null,null,null,null,null,null,null,null,null,0,336,3.3599999999999723,-61.568422027897547,-31.956182030011696]
[0,337,3.3699999999999721,{"$f":"(Alfa1*SIN(miia*C358)-Alfa2*SIN(miib*C358))","v":60.087671858675563},{"$f":"-(Alfa1*COS(miia*C358)-Alfa2*COS(miib*C358))","v":-34.668702007241706},{"$f":"(miia*Alfa1*COS(miia*C358)-miib*Alfa2*COS(miib*C358))","v":-55.666922784799283},{"$f":"miia*Alfa1*SIN(miia*C358)-miib*Alfa2*SIN(miib*C358)","v":35.760778718190693},null,null,null,null,null,null,null,null,null,0,337,3.3699999999999721,-61.104287934970451,-27.932027087320535]
[0,338,3.3799999999999719,{"$f":"(Alfa1*SIN(miia*C359)-Alfa2*SIN(miib*C359))","v":59.391947339050198},{"$f":"-(Alfa1*COS(miia*C359)-Alfa2*COS(miib*C359))","v":-34.208519095465},{"$f":"(miia*Alfa1*COS(miia*C359)-miib*Alfa2*COS(miib*C359))","v":-83.247406250338699},{"$f":"miia*Alfa1*SIN(miia*C359)-miib*Alfa2*SIN(miib*C359)","v":56.467335523520006},null,null,null,null,null,null,null,null,null,0,338,3.3799999999999719,-58.994847608287181,-23.478483042106291]
[0,339,3.3899999999999717,{"$f":"(Alfa1*SIN(miia*C360)-Alfa2*SIN(miib*C360))","v":58.427652893846769},{"$f":"-(Alfa1*COS(miia*C360)-Alfa2*COS(miib*C360))","v":-33.535820096900856},{"$f":"(miia*Alfa1*COS(miia*C360)-miib*Alfa2*COS(miib*C360))","v":-109.34968850964981},{"$f":"miia*Alfa1*SIN(miia*C360)-miib*Alfa2*SIN(miib*C360)","v":78.23396327724646},null,null,null,null,null,null,null,null,null,0,339,3.3899999999999717,-55.251944130545496,-18.848621795662478]
[0,340,3.3999999999999715,{"$f":"(Alfa1*SIN(miia*C361)-Alfa2*SIN(miib*C361))","v":57.210478963850335},{"$f":"-(Alfa1*COS(miia*C361)-Alfa2*COS(miib*C361))","v":-32.640928854051509},{"$f":"(miia*Alfa1*COS(miia*C361)-miib*Alfa2*COS(miib*C361))","v":-133.79495190430163},{"$f":"miia*Alfa1*SIN(miia*C361)-miib*Alfa2*SIN(miib*C361)","v":100.87345467715897},null,null,null,null,null,null,null,null,null,0,340,3.3999999999999715,-49.945362838343222,-14.294953830112357]
[0,341,3.4099999999999713,{"$f":"(Alfa1*SIN(miia*C362)-Alfa2*SIN(miib*C362))","v":55.757815574629007},{"$f":"-(Alfa1*COS(miia*C362)-Alfa2*COS(miib*C362))","v":-31.516107123205877},{"$f":"(miia*Alfa1*COS(miia*C362)-miib*Alfa2*COS(miib*C362))","v":-156.42234594897133},{"$f":"miia*Alfa1*SIN(miia*C362)-miib*Alfa2*SIN(miib*C362)","v":124.18574553882524},null,null,null,null,null,null,null,null,null,0,341,3.4099999999999713,-43.200842863447527,-10.058682653000634]
[0,342,3.4199999999999711,{"$f":"(Alfa1*SIN(miia*C363)-Alfa2*SIN(miib*C363))","v":54.08856551280396},{"$f":"-(Alfa1*COS(miia*C363)-Alfa2*COS(miib*C363))","v":-30.155673582978661},{"$f":"(miia*Alfa1*COS(miia*C363)-miib*Alfa2*COS(miib*C363))","v":-177.09038604350533},{"$f":"miia*Alfa1*SIN(miia*C363)-miib*Alfa2*SIN(miib*C363)","v":147.95984842909252},null,null,null,null,null,null,null,null,null,0,342,3.4199999999999711,-35.195921770682155,-6.3594926402782068]
[0,343,3.4299999999999708,{"$f":"(Alfa1*SIN(miia*C364)-Alfa2*SIN(miib*C364))","v":52.222944487304666},{"$f":"-(Alfa1*COS(miia*C364)-Alfa2*COS(miib*C364))","v":-28.556102891805207},{"$f":"(miia*Alfa1*COS(miia*C364)-miib*Alfa2*COS(miib*C364))","v":-195.67815568221826},{"$f":"miia*Alfa1*SIN(miia*C364)-miib*Alfa2*SIN(miib*C364)","v":171.97590594101246},null,null,null,null,null,null,null,null,null,0,343,3.4299999999999708,-26.153770386142305,-3.3862833605360385]
[0,344,3.4399999999999706,{"$f":"(Alfa1*SIN(miia*C365)-Alfa2*SIN(miib*C365))","v":50.182270299743564},{"$f":"-(Alfa1*COS(miia*C365)-Alfa2*COS(miib*C365))","v":-26.716103698932717},{"$f":"(miia*Alfa1*COS(miia*C365)-miib*Alfa2*COS(miib*C365))","v":-212.08630067693744},{"$f":"miia*Alfa1*SIN(miia*C365)-miib*Alfa2*SIN(miib*C365)","v":196.00734323167359},null,null,null,null,null,null,null,null,null,0,344,3.4399999999999706,-16.335254482384681,-1.2892248450387671]
[0,345,3.4499999999999704,{"$f":"(Alfa1*SIN(miia*C366)-Alfa2*SIN(miib*C366))","v":47.988743152551791},{"$f":"-(Alfa1*COS(miia*C366)-Alfa2*COS(miib*C366))","v":-24.636674722505944},{"$f":"(miia*Alfa1*COS(miia*C366)-miib*Alfa2*COS(miib*C366))","v":-226.23780599452405},{"$f":"miia*Alfa1*SIN(miia*C366)-miib*Alfa2*SIN(miib*C366)","v":219.82309842593105},null,null,null,null,null,null,null,null,null,0,345,3.4499999999999704,-6.0295302161145967,-0.17345467042825502]
[0,346,3.4599999999999702,{"$f":"(Alfa1*SIN(miia*C367)-Alfa2*SIN(miib*C367))","v":45.665219306685422},{"$f":"-(Alfa1*COS(miia*C367)-Alfa2*COS(miib*C367))","v":-22.321138226514055},{"$f":"(miia*Alfa1*COS(miia*C367)-miib*Alfa2*COS(miib*C367))","v":-238.07854798658832},{"$f":"miia*Alfa1*SIN(miia*C367)-miib*Alfa2*SIN(miib*C367)","v":243.18990868425578},null,null,null,null,null,null,null,null,null,0,346,3.4599999999999702,4.4564616964384083,-9.4671290004494299E-2]
[0,347,3.46999999999997,{"$f":"(Alfa1*SIN(miia*C368)-Alfa2*SIN(miib*C368))","v":43.23498036175463},{"$f":"-(Alfa1*COS(miia*C368)-Alfa2*COS(miib*C368))","v":-19.775150453495417},{"$f":"(miia*Alfa1*COS(miia*C368)-miib*Alfa2*COS(miib*C368))","v":-247.57761703674927},{"$f":"miia*Alfa1*SIN(miia*C368)-miib*Alfa2*SIN(miib*C368)","v":265.87462914956785},null,null,null,null,null,null,null,null,null,0,347,3.46999999999997,14.809194443062411,-1.0568014434222768]
[0,348,3.4799999999999698,{"$f":"(Alfa1*SIN(miia*C369)-Alfa2*SIN(miib*C369))","v":40.721500469715735},{"$f":"-(Alfa1*COS(miia*C369)-Alfa2*COS(miib*C369))","v":-17.006688799709046},{"$f":"(miia*Alfa1*COS(miia*C369)-miib*Alfa2*COS(miib*C369))","v":-254.72740794691867},{"$f":"miia*Alfa1*SIN(miia*C369)-miib*Alfa2*SIN(miib*C369)","v":287.64656163229836},null,null,null,null,null,null,null,null,null,0,348,3.4799999999999698,24.720010144904506,-3.0118357575707062]
[0,349,3.4899999999999696,{"$f":"(Alfa1*SIN(miia*C370)-Alfa2*SIN(miib*C370))","v":38.148213808465556},{"$f":"-(Alfa1*COS(miia*C370)-Alfa2*COS(miib*C370))","v":-14.026015751715871},{"$f":"(miia*Alfa1*COS(miia*C370)-miib*Alfa2*COS(miib*C370))","v":-259.54347770548941},{"$f":"miia*Alfa1*SIN(miia*C370)-miib*Alfa2*SIN(miib*C370)","v":308.27976976822674},null,null,null,null,null,null,null,null,null,0,349,3.4899999999999696,33.896385210003423,-5.861839171168346]
[0,350,3.4999999999999694,{"$f":"(Alfa1*SIN(miia*C371)-Alfa2*SIN(miib*C371))","v":35.538284633611838},{"$f":"-(Alfa1*COS(miia*C371)-Alfa2*COS(miib*C371))","v":-10.845619835610398},{"$f":"(miia*Alfa1*COS(miia*C371)-miib*Alfa2*COS(miib*C371))","v":-262.06417260402117},{"$f":"miia*Alfa1*SIN(miia*C371)-miib*Alfa2*SIN(miib*C371)","v":327.55535749161538},null,null,null,null,null,null,null,null,null,0,350,3.4999999999999694,42.072567286868008,-9.4630550701702276]
[0,351,3.5099999999999691,{"$f":"(Alfa1*SIN(miia*C372)-Alfa2*SIN(miib*C372))","v":32.914382195498447},{"$f":"-(Alfa1*COS(miia*C372)-Alfa2*COS(miib*C372))","v":-7.4801340602259181},{"$f":"(miia*Alfa1*COS(miia*C372)-miib*Alfa2*COS(miib*C372))","v":-262.35002897162713},{"$f":"miia*Alfa1*SIN(miia*C372)-miib*Alfa2*SIN(miib*C372)","v":345.26368800537296},null,null,null,null,null,null,null,null,null,0,351,3.5099999999999691,49.019169998184971,-13.631937518986213]
[0,352,3.5199999999999689,{"$f":"(Alfa1*SIN(miia*C373)-Alfa2*SIN(miib*C373))","v":30.298462754521076},{"$f":"-(Alfa1*COS(miia*C373)-Alfa2*COS(miib*C373))","v":-3.9462325611564566},{"$f":"(miia*Alfa1*COS(miia*C373)-miib*Alfa2*COS(miib*C373))","v":-260.48295405493104},{"$f":"miia*Alfa1*SIN(miia*C373)-miib*Alfa2*SIN(miib*C373)","v":361.20652099751055},null,null,null,null,null,null,null,null,null,0,352,3.5199999999999689,54.551352934302777,-18.152868092911614]
[0,353,3.5299999999999687,{"$f":"(Alfa1*SIN(miia*C374)-Alfa2*SIN(miib*C374))","v":27.711560851477053},{"$f":"-(Alfa1*COS(miia*C374)-Alfa2*COS(miib*C374))","v":-0.26250637119326115},{"$f":"(miia*Alfa1*COS(miia*C374)-miib*Alfa2*COS(miib*C374))","v":-256.56519576350502},{"$f":"miia*Alfa1*SIN(miia*C374)-miib*Alfa2*SIN(miib*C374)","v":375.19904664302209},null,null,null,null,null,null,null,null,null,0,353,3.5299999999999687,58.535270437110498,-22.787245674985925]
[0,354,3.5399999999999685,{"$f":"(Alfa1*SIN(miia*C375)-Alfa2*SIN(miib*C375))","v":25.173591891881731},{"$f":"-(Alfa1*COS(miia*C375)-Alfa2*COS(miib*C375))","v":3.5506805474812388},{"$f":"(miia*Alfa1*COS(miia*C375)-miib*Alfa2*COS(miib*C375))","v":-250.7181121043036},{"$f":"miia*Alfa1*SIN(miia*C375)-miib*Alfa2*SIN(miib*C375)","v":387.07179593505646},null,null,null,null,null,null,null,null,null,0,354,3.5399999999999685,60.892541276174953,-27.283581902173708]
[0,355,3.5499999999999683,{"$f":"(Alfa1*SIN(miia*C376)-Alfa2*SIN(miib*C376))","v":22.703167984889777},{"$f":"-(Alfa1*COS(miia*C376)-Alfa2*COS(miib*C376))","v":7.4713536753026073},{"$f":"(miia*Alfa1*COS(miia*C376)-miib*Alfa2*COS(miib*C376))","v":-243.080753122739},{"$f":"miia*Alfa1*SIN(miia*C376)-miib*Alfa2*SIN(miib*C376)","v":396.67240809855036},null,null,null,null,null,null,null,null,null,0,355,3.5499999999999683,61.602569681320212,-31.388193960413805]
[0,356,3.5599999999999681,{"$f":"(Alfa1*SIN(miia*C377)-Alfa2*SIN(miib*C377))","v":20.317428839832303},{"$f":"-(Alfa1*COS(miia*C377)-Alfa2*COS(miib*C377))","v":11.476107191901155},{"$f":"(miia*Alfa1*COS(miia*C377)-miib*Alfa2*COS(miib*C377))","v":-233.80827003278216},{"$f":"miia*Alfa1*SIN(miia*C377)-miib*Alfa2*SIN(miib*C377)","v":403.86723724163971},null,null,null,null,null,null,null,null,null,0,356,3.5599999999999681,60.702633230501306,-34.856061778624365]
[0,357,3.5699999999999679,{"$f":"(Alfa1*SIN(miia*C378)-Alfa2*SIN(miib*C378))","v":18.031889367853754},{"$f":"-(Alfa1*COS(miia*C378)-Alfa2*COS(miib*C378))","v":15.540298426908057},{"$f":"(miia*Alfa1*COS(miia*C378)-miib*Alfa2*COS(miib*C378))","v":-223.07016793526427},{"$f":"miia*Alfa1*SIN(miia*C378)-miib*Alfa2*SIN(miib*C378)","v":408.54278198095608},null,null,null,null,null,null,null,null,null,0,357,3.5699999999999679,58.285741415063072,-37.461409349183221]
[0,358,3.5799999999999677,{"$f":"(Alfa1*SIN(miia*C379)-Alfa2*SIN(miib*C379))","v":15.860305464227135},{"$f":"-(Alfa1*COS(miia*C379)-Alfa2*COS(miib*C379))","v":19.638255660622043},{"$f":"(miia*Alfa1*COS(miia*C379)-miib*Alfa2*COS(miib*C379))","v":-211.04842007517425},{"$f":"miia*Alfa1*SIN(miia*C379)-miib*Alfa2*SIN(miib*C379)","v":410.60692352083572},null,null,null,null,null,null,null,null,null,0,358,3.5799999999999677,54.496356802118292,-39.007580206372296]
[0,359,3.5899999999999674,{"$f":"(Alfa1*SIN(miia*C380)-Alfa2*SIN(miib*C380))","v":13.814559260416797},{"$f":"-(Alfa1*COS(miia*C380)-Alfa2*COS(miib*C380))","v":23.743497294283909},{"$f":"(miia*Alfa1*COS(miia*C380)-miib*Alfa2*COS(miib*C380))","v":-197.9354629598507},{"$f":"miia*Alfa1*SIN(miia*C380)-miib*Alfa2*SIN(miib*C380)","v":409.98995955597229},null,null,null,null,null,null,null,null,null,0,359,3.5899999999999674,49.524155081474007,-39.335804620887828]
[0,360,3.5999999999999672,{"$f":"(Alfa1*SIN(miia*C381)-Alfa2*SIN(miib*C381))","v":11.904564935678192},{"$f":"-(Alfa1*COS(miia*C381)-Alfa2*COS(miib*C381))","v":27.828960293404339},{"$f":"(miia*Alfa1*COS(miia*C381)-miib*Alfa2*COS(miib*C381))","v":-183.93209283672675},{"$f":"miia*Alfa1*SIN(miia*C381)-miib*Alfa2*SIN(miib*C381)","v":406.64542338346678},null,null,null,null,null,null,null,null,null,0,360,3.5999999999999672,43.596077567200986,-38.332499726550587]
[0,361,3.609999999999967,{"$f":"(Alfa1*SIN(miia*C382)-Alfa2*SIN(miib*C382))","v":10.1381959679766},{"$f":"-(Alfa1*COS(miia*C382)-Alfa2*COS(miib*C382))","v":31.867235711966796},{"$f":"(miia*Alfa1*COS(miia*C382)-miib*Alfa2*COS(miib*C382))","v":-169.24528500015953},{"$f":"miia*Alfa1*SIN(miia*C382)-miib*Alfa2*SIN(miib*C382)","v":400.55067973336065},null,null,null,null,null,null,null,null,null,0,361,3.609999999999967,36.966996849590288,-35.934801849491919]
[0,362,3.6199999999999668,{"$f":"(Alfa1*SIN(miia*C383)-Alfa2*SIN(miib*C383))","v":8.5212344853433564},{"$f":"-(Alfa1*COS(miia*C383)-Alfa2*COS(miib*C383))","v":35.830809031418404},{"$f":"(miia*Alfa1*COS(miia*C383)-miib*Alfa2*COS(miib*C383))","v":-154.08595815199894},{"$f":"miia*Alfa1*SIN(miia*C383)-miib*Alfa2*SIN(miib*C383)","v":391.70729103550195},null,null,null,null,null,null,null,null,null,0,362,3.6199999999999668,29.909370595244166,-32.134100450293737]
[0,363,3.6299999999999666,{"$f":"(Alfa1*SIN(miia*C384)-Alfa2*SIN(miib*C384))","v":7.0573431537018365},{"$f":"-(Alfa1*COS(miia*C384)-Alfa2*COS(miib*C384))","v":39.6923029968397},{"$f":"(miia*Alfa1*COS(miia*C384)-miib*Alfa2*COS(miib*C384))","v":-138.66670657263631},{"$f":"miia*Alfa1*SIN(miia*C384)-miib*Alfa2*SIN(miib*C384)","v":380.14115011295041},null,null,null,null,null,null,null,null,null,0,363,3.6299999999999666,22.702297816441973,-26.977422522857651]
[0,364,3.6399999999999664,{"$f":"(Alfa1*SIN(miia*C385)-Alfa2*SIN(miib*C385))","v":5.7480598079096197},{"$f":"-(Alfa1*COS(miia*C385)-Alfa2*COS(miib*C385))","v":43.424720604146451},{"$f":"(miia*Alfa1*COS(miia*C385)-miib*Alfa2*COS(miib*C385))","v":-123.199523162811},{"$f":"miia*Alfa1*SIN(miia*C385)-miib*Alfa2*SIN(miib*C385)","v":365.90237760539571},null,null,null,null,null,null,null,null,null,0,364,3.6399999999999664,15.620414718138253,-20.566601855832346]
[0,365,3.6499999999999662,{"$f":"(Alfa1*SIN(miia*C386)-Alfa2*SIN(miib*C386))","v":4.5928148016137946},{"$f":"-(Alfa1*COS(miia*C386)-Alfa2*COS(miib*C386))","v":47.001685886844037},{"$f":"(miia*Alfa1*COS(miia*C386)-miib*Alfa2*COS(miib*C386))","v":-107.89353648870959},{"$f":"miia*Alfa1*SIN(miia*C386)-miib*Alfa2*SIN(miib*C386)","v":349.06498475725925},null,null,null,null,null,null,null,null,null,0,365,3.6499999999999662,8.9230725838805665,-13.055255843420756]
[0,366,3.6599999999999659,{"$f":"(Alfa1*SIN(miia*C387)-Alfa2*SIN(miib*C387))","v":3.5889708207905429},{"$f":"-(Alfa1*COS(miia*C387)-Alfa2*COS(miib*C387))","v":50.397680168862443},{"$f":"(miia*Alfa1*COS(miia*C387)-miib*Alfa2*COS(miib*C387))","v":-92.952784802924356},{"$f":"miia*Alfa1*SIN(miia*C387)-miib*Alfa2*SIN(miib*C387)","v":329.72630453090841},null,null,null,null,null,null,null,null,null,0,366,3.6599999999999659,2.8442278775937964,-4.6436800131964278]
[0,367,3.6699999999999657,{"$f":"(Alfa1*SIN(miia*C388)-Alfa2*SIN(miib*C388))","v":2.7318846778815171},{"$f":"-(Alfa1*COS(miia*C388)-Alfa2*COS(miib*C388))","v":53.588271491106624},{"$f":"(miia*Alfa1*COS(miia*C388)-miib*Alfa2*COS(miib*C388))","v":-78.574049623570403},{"$f":"miia*Alfa1*SIN(miia*C388)-miib*Alfa2*SIN(miib*C388)","v":308.00619630270904},null,null,null,null,null,null,null,null,null,0,367,3.6699999999999657,-2.4165546833088234,4.4281463692109675]
[0,368,3.6799999999999655,{"$f":"(Alfa1*SIN(miia*C389)-Alfa2*SIN(miib*C389))","v":2.0149903805087916},{"$f":"-(Alfa1*COS(miia*C389)-Alfa2*COS(miib*C389))","v":56.550334983231885},{"$f":"(miia*Alfa1*COS(miia*C389)-miib*Alfa2*COS(miib*C389))","v":-64.944770836967109},{"$f":"miia*Alfa1*SIN(miia*C389)-miib*Alfa2*SIN(miib*C389)","v":284.04603164534728},null,null,null,null,null,null,null,null,null,0,368,3.6799999999999655,-6.7016307034416815,13.889174673383522]
[0,369,3.6899999999999653,{"$f":"(Alfa1*SIN(miia*C390)-Alfa2*SIN(miib*C390))","v":1.4299025531058653},{"$f":"-(Alfa1*COS(miia*C390)-Alfa2*COS(miib*C390))","v":59.262262038103096},{"$f":"(miia*Alfa1*COS(miia*C390)-miib*Alfa2*COS(miib*C390))","v":-52.241064452264396},{"$f":"miia*Alfa1*SIN(miia*C390)-miib*Alfa2*SIN(miib*C390)","v":258.00747087184436},null,null,null,null,null,null,null,null,null,0,369,3.6899999999999653,-9.9010404638853657,23.447187347957108]
[0,370,3.6999999999999651,{"$f":"(Alfa1*SIN(miia*C391)-Alfa2*SIN(miib*C391))","v":0.96653908358668161},{"$f":"-(Alfa1*COS(miia*C391)-Alfa2*COS(miib*C391))","v":61.704156253635276},{"$f":"(miia*Alfa1*COS(miia*C391)-miib*Alfa2*COS(miib*C391))","v":-40.625863087384658},{"$f":"miia*Alfa1*SIN(miia*C391)-miib*Alfa2*SIN(miib*C391)","v":230.07104209297648},null,null,null,null,null,null,null,null,null,0,370,3.6999999999999651,-11.956284448888463,32.799598782132179]
[0,371,3.7099999999999649,{"$f":"(Alfa1*SIN(miia*C392)-Alfa2*SIN(miib*C392))","v":0.6132616724726585},{"$f":"-(Alfa1*COS(miia*C392)-Alfa2*COS(miib*C392))","v":63.858014234123232},{"$f":"(miia*Alfa1*COS(miia*C392)-miib*Alfa2*COS(miib*C392))","v":-30.247198015461265},{"$f":"miia*Alfa1*SIN(miia*C392)-miib*Alfa2*SIN(miib*C392)","v":200.43453650005785},null,null,null,null,null,null,null,null,null,0,371,3.7099999999999649,-12.861965603637067,41.644734470822506]
[0,372,3.7199999999999647,{"$f":"(Alfa1*SIN(miia*C393)-Alfa2*SIN(miib*C393))","v":0.35703278064671373},{"$f":"-(Alfa1*COS(miia*C393)-Alfa2*COS(miib*C393))","v":65.707889489541884},{"$f":"(miia*Alfa1*COS(miia*C393)-miib*Alfa2*COS(miib*C393))","v":-21.236640161885305},{"$f":"miia*Alfa1*SIN(miia*C393)-miib*Alfa2*SIN(miib*C393)","v":169.31123540928797},null,null,null,null,null,null,null,null,null,0,372,3.7199999999999647,-12.66523974503812,49.693146651867174]
[0,373,3.7299999999999645,{"$f":"(Alfa1*SIN(miia*C394)-Alfa2*SIN(miib*C394))","v":0.18358730593211448},{"$f":"-(Alfa1*COS(miia*C394)-Alfa2*COS(miib*C394))","v":67.240037835137841},{"$f":"(miia*Alfa1*COS(miia*C394)-miib*Alfa2*COS(miib*C394))","v":-13.707915828794285},{"$f":"miia*Alfa1*SIN(miia*C394)-miib*Alfa2*SIN(miib*C394)","v":136.9279862743453},null,null,null,null,null,null,null,null,null,0,373,3.7299999999999645,-11.46310367706738,56.678522402374554]
[0,374,3.7399999999999642,{"$f":"(Alfa1*SIN(miia*C395)-Alfa2*SIN(miib*C395))","v":7.7617169656877039E-2},{"$f":"-(Alfa1*COS(miia*C395)-Alfa2*COS(miib*C395))","v":68.443042873356049},{"$f":"(miia*Alfa1*COS(miia*C395)-miib*Alfa2*COS(miib*C395))","v":-7.7557111523231015},{"$f":"miia*Alfa1*SIN(miia*C395)-miib*Alfa2*SIN(miib*C395)","v":103.52314637349335},null,null,null,null,null,null,null,null,null,0,374,3.7399999999999642,-9.3976374373387248,62.36775563028074]
[0,375,3.749999999999964,{"$f":"(Alfa1*SIN(miia*C396)-Alfa2*SIN(miib*C396))","v":2.2966863762254874E-2},{"$f":"-(Alfa1*COS(miia*C396)-Alfa2*COS(miib*C396))","v":69.307920333931008},{"$f":"(miia*Alfa1*COS(miia*C396)-miib*Alfa2*COS(miib*C396))","v":-3.4546773861423503},{"$f":"miia*Alfa1*SIN(miia*C396)-miib*Alfa2*SIN(miib*C396)","v":69.344414191697382},null,null,null,null,null,null,null,null,null,0,375,3.749999999999964,-6.6493992520648435,66.569786868707737]
[0,376,3.7599999999999638,{"$f":"(Alfa1*SIN(miia*C397)-Alfa2*SIN(miib*C397))","v":2.8378981504211254E-3},{"$f":"-(Alfa1*COS(miia*C397)-Alfa2*COS(miib*C397))","v":69.828200253931115},{"$f":"(miia*Alfa1*COS(miia*C397)-miib*Alfa2*COS(miib*C397))","v":-0.85864707172959243},{"$f":"miia*Alfa1*SIN(miia*C397)-miib*Alfa2*SIN(miib*C397)","v":34.646569633479658},null,null,null,null,null,null,null,null,null,0,376,3.7599999999999638,-3.4292459214910491,69.142862988735246]
[0,377,3.7699999999999636,{"$f":"(Alfa1*SIN(miia*C398)-Alfa2*SIN(miib*C398))","v":-2.0434117765921744E-9},{"$f":"-(Alfa1*COS(miia*C398)-Alfa2*COS(miib*C398))","v":69.999986195603114},{"$f":"(miia*Alfa1*COS(miia*C398)-miib*Alfa2*COS(miib*C398))","v":-6.9021982199046761E-5},{"$f":"miia*Alfa1*SIN(miia*C398)-miib*Alfa2*SIN(miib*C398)","v":-0.31085489208889716},null,null,null,null,null,null,null,null,null,0,377,3.7699999999999636,3.1085463666246153E-2,69.999930978027592]
[0,378,3.7799999999999634,{"$f":"(Alfa1*SIN(miia*C399)-Alfa2*SIN(miib*C399))","v":-2.9931678261454486E-3},{"$f":"-(Alfa1*COS(miia*C399)-Alfa2*COS(miib*C399))","v":69.821990923900401},{"$f":"(miia*Alfa1*COS(miia*C399)-miib*Alfa2*COS(miib*C399))","v":-0.88966783145349382},{"$f":"miia*Alfa1*SIN(miia*C399)-miib*Alfa2*SIN(miib*C399)","v":-35.265949786379721},null,null,null,null,null,null,null,null,null,0,378,3.7799999999999634,3.4892488850876409,69.111953324948203]
[0,379,3.7899999999999632,{"$f":"(Alfa1*SIN(miia*C400)-Alfa2*SIN(miib*C400))","v":-2.3585990759075415E-2},{"$f":"-(Alfa1*COS(miia*C400)-Alfa2*COS(miib*C400))","v":69.29554819535042},{"$f":"(miia*Alfa1*COS(miia*C400)-miib*Alfa2*COS(miib*C400))","v":-3.5163313559510812},{"$f":"miia*Alfa1*SIN(miia*C400)-miib*Alfa2*SIN(miib*C400)","v":-69.956826787244239},null,null,null,null,null,null,null,null,null,0,379,3.7899999999999632,6.7029940334330043,66.509014384415394]
[0,380,3.799999999999963,{"$f":"(Alfa1*SIN(miia*C401)-Alfa2*SIN(miib*C401))","v":-7.9002947718494809E-2},{"$f":"-(Alfa1*COS(miia*C401)-Alfa2*COS(miib*C401))","v":68.424600543151954},{"$f":"(miia*Alfa1*COS(miia*C401)-miib*Alfa2*COS(miib*C401))","v":-7.847227299168253},{"$f":"miia*Alfa1*SIN(miia*C401)-miib*Alfa2*SIN(miib*C401)","v":-104.12401728675383},null,null,null,null,null,null,null,null,null,0,380,3.799999999999963,9.4408670365988563,62.279174130438321]
[0,381,3.8099999999999627,{"$f":"(Alfa1*SIN(miia*C402)-Alfa2*SIN(miib*C402))","v":-0.18603293310998659},{"$f":"-(Alfa1*COS(miia*C402)-Alfa2*COS(miib*C402))","v":67.215663177772186},{"$f":"(miia*Alfa1*COS(miia*C402)-miib*Alfa2*COS(miib*C402))","v":-13.828147727560207},{"$f":"miia*Alfa1*SIN(miia*C402)-miib*Alfa2*SIN(miib*C402)","v":-137.51284702320973},null,null,null,null,null,null,null,null,null,0,381,3.8099999999999627,11.492470254335332,56.565114461836437]
[0,382,3.8199999999999625,{"$f":"(Alfa1*SIN(miia*C403)-Alfa2*SIN(miib*C403))","v":-0.36081816231127384},{"$f":"-(Alfa1*COS(miia*C403)-Alfa2*COS(miib*C403))","v":65.67776435550428},{"$f":"(miia*Alfa1*COS(miia*C403)-miib*Alfa2*COS(miib*C403))","v":-21.384078030036818},{"$f":"miia*Alfa1*SIN(miia*C403)-miib*Alfa2*SIN(miib*C403)","v":-169.87576396483141},null,null,null,null,null,null,null,null,null,0,382,3.8199999999999625,12.677861797605217,49.558710193867867]
[0,383,3.8299999999999623,{"$f":"(Alfa1*SIN(miia*C404)-Alfa2*SIN(miib*C404))","v":-0.61864986389663379},{"$f":"-(Alfa1*COS(miia*C404)-Alfa2*COS(miib*C404))","v":63.822362797142219},{"$f":"(miia*Alfa1*COS(miia*C404)-miib*Alfa2*COS(miib*C404))","v":-30.419984569290307},{"$f":"miia*Alfa1*SIN(miia*C404)-miib*Alfa2*SIN(miib*C404)","v":-200.97459666733243},null,null,null,null,null,null,null,null,null,0,383,3.8299999999999623,12.855709935636055,41.49373858267036]
[0,384,3.8399999999999621,{"$f":"(Alfa1*SIN(miia*C405)-Alfa2*SIN(miib*C405))","v":-0.97377290954667473},{"$f":"-(Alfa1*COS(miia*C405)-Alfa2*COS(miib*C405))","v":61.66324296283419},{"$f":"(miia*Alfa1*COS(miia*C405)-miib*Alfa2*COS(miib*C405))","v":-40.821813059512834},{"$f":"miia*Alfa1*SIN(miia*C405)-miib*Alfa2*SIN(miib*C405)","v":-230.58272107833619},null,null,null,null,null,null,null,null,null,0,384,3.8399999999999621,11.929867501448481,32.63701444408435]
[{"$f":"IF(B406=$AC$1,1,0)","v":0},385,{"$f":"C405+dt","v":3.8499999999999619},{"$f":"(Alfa1*SIN(miia*C406)-Alfa2*SIN(miib*C406))","v":-1.4392014401572908},{"$f":"-(Alfa1*COS(miia*C406)-Alfa2*COS(miib*C406))","v":59.216389205085783},{"$f":"(miia*Alfa1*COS(miia*C406)-miib*Alfa2*COS(miib*C406))","v":-52.457687572971111},{"$f":"miia*Alfa1*SIN(miia*C406)-miib*Alfa2*SIN(miib*C406)","v":-258.48711467076839},null,null,null,null,null,null,null,null,null,{"$f":"IF(R406=$AC$1,1,0)","v":0},385,{"$f":"S405+dt","v":3.8499999999999619},{"$f":"IF(R406<MAX_TIME,Aktina*SIN(epsilon*S406)*COS(D*S406),Aktina*SIN(epsilon*MAX_TIME*dt)*COS(D*MAX_TIME*dt))","v":9.8540948033280475},{"$f":"IF(R406<MAX_TIME,Aktina*COS(epsilon*S406)*COS(D*S406),Aktina*COS(epsilon*MAX_TIME*dt)*COS(D*MAX_TIME*dt))","v":23.278299734679628}]
[0,{"$f":"B406+1","v":386},3.8599999999999617,{"$f":"(Alfa1*SIN(miia*C407)-Alfa2*SIN(miib*C407))","v":-2.0265474354390136},{"$f":"-(Alfa1*COS(miia*C407)-Alfa2*COS(miib*C407))","v":56.49984002762956},{"$f":"(miia*Alfa1*COS(miia*C407)-miib*Alfa2*COS(miib*C407))","v":-65.179298046875971},{"$f":"miia*Alfa1*SIN(miia*C407)-miib*Alfa2*SIN(miib*C407)","v":-284.49027790651422},null,null,null,null,null,null,null,null,null,0,{"$f":"R406+1","v":386},3.8599999999999617,6.6347338638097719,13.719384406247395]
[0,387,3.8699999999999615,{"$f":"(Alfa1*SIN(miia*C408)-Alfa2*SIN(miib*C408))","v":-2.7458640433538442},{"$f":"-(Alfa1*COS(miia*C408)-Alfa2*COS(miib*C408))","v":53.533523871447272},{"$f":"(miia*Alfa1*COS(miia*C408)-miib*Alfa2*COS(miib*C408))","v":-78.823462252435689},{"$f":"miia*Alfa1*SIN(miia*C408)-miib*Alfa2*SIN(miib*C408)","v":-308.41200434900213},null,null,null,null,null,null,null,null,null,0,387,3.8699999999999615,2.3312190715375856,4.2627675234070681]
[0,388,3.8799999999999613,{"$f":"(Alfa1*SIN(miia*C409)-Alfa2*SIN(miib*C409))","v":-3.6055053363886387},{"$f":"-(Alfa1*COS(miia*C409)-Alfa2*COS(miib*C409))","v":50.339078028667373},{"$f":"(miia*Alfa1*COS(miia*C409)-miib*Alfa2*COS(miib*C409))","v":-93.213846419221611},{"$f":"miia*Alfa1*SIN(miia*C409)-miib*Alfa2*SIN(miib*C409)","v":-330.0909822463866},null,null,null,null,null,null,null,null,null,0,388,3.8799999999999613,-2.9456037405958666,-4.7996172269149628]
[0,389,3.889999999999961,{"$f":"(Alfa1*SIN(miia*C410)-Alfa2*SIN(miib*C410))","v":-4.6120039954020164},{"$f":"-(Alfa1*COS(miia*C410)-Alfa2*COS(miib*C410))","v":46.939652448625068},{"$f":"(miia*Alfa1*COS(miia*C410)-miib*Alfa2*COS(miib*C410))","v":-108.16282709755129},{"$f":"miia*Alfa1*SIN(miia*C410)-miib*Alfa2*SIN(miib*C410)","v":-349.38621208012671},null,null,null,null,null,null,null,null,null,0,389,3.889999999999961,-9.037289657645621,-13.197190001168835]
[0,390,3.8999999999999608,{"$f":"(Alfa1*SIN(miia*C411)-Alfa2*SIN(miib*C411))","v":-5.7699682402811732},{"$f":"-(Alfa1*COS(miia*C411)-Alfa2*COS(miib*C411))","v":43.359700346396899},{"$f":"(miia*Alfa1*COS(miia*C411)-miib*Alfa2*COS(miib*C411))","v":-123.47347540587461},{"$f":"miia*Alfa1*SIN(miia*C411)-miib*Alfa2*SIN(miib*C411)","v":-366.1782264008001},null,null,null,null,null,null,null,null,null,0,390,3.8999999999999608,-15.743592560352086,-20.690605630949346]
[0,391,3.9099999999999606,{"$f":"(Alfa1*SIN(miia*C412)-Alfa2*SIN(miib*C412))","v":-7.0819991317143511},{"$f":"-(Alfa1*COS(miia*C412)-Alfa2*COS(miib*C412))","v":39.624757651210608},{"$f":"(miia*Alfa1*COS(miia*C412)-miib*Alfa2*COS(miib*C412))","v":-138.94164356330322},{"$f":"miia*Alfa1*SIN(miia*C412)-miib*Alfa2*SIN(miib*C412)","v":-380.37010023526977},null,null,null,null,null,null,null,null,null,0,391,3.9099999999999606,-22.830022559221796,-27.080341959048855]
[0,392,3.9199999999999604,{"$f":"(Alfa1*SIN(miia*C413)-Alfa2*SIN(miib*C413))","v":-8.5486291619913963},{"$f":"-(Alfa1*COS(miia*C413)-Alfa2*COS(miib*C413))","v":35.761213438971744},{"$f":"(miia*Alfa1*COS(miia*C413)-miib*Alfa2*COS(miib*C413))","v":-154.35813256222522},{"$f":"miia*Alfa1*SIN(miia*C413)-miib*Alfa2*SIN(miib*C413)","v":-391.88824242767907},null,null,null,null,null,null,null,null,null,0,392,3.9199999999999604,-30.036865947821024,-32.213662817992933]
[0,393,3.9299999999999602,{"$f":"(Alfa1*SIN(miia*C414)-Alfa2*SIN(miib*C414))","v":-10.168282836942467},{"$f":"-(Alfa1*COS(miia*C414)-Alfa2*COS(miib*C414))","v":31.796073578742782},{"$f":"(miia*Alfa1*COS(miia*C414)-miib*Alfa2*COS(miib*C414))","v":-169.5109190026308},{"$f":"miia*Alfa1*SIN(miia*C414)-miib*Alfa2*SIN(miib*C414)","v":-400.68296045007867},null,null,null,null,null,null,null,null,null,0,393,3.9299999999999602,-37.089311359662574,-35.989687964230484]
[0,394,3.93999999999996,{"$f":"(Alfa1*SIN(miia*C415)-Alfa2*SIN(miib*C415))","v":-11.937259728096297},{"$f":"-(Alfa1*COS(miia*C415)-Alfa2*COS(miib*C415))","v":27.756719886453411},{"$f":"(miia*Alfa1*COS(miia*C415)-miib*Alfa2*COS(miib*C415))","v":-184.18741849699393},{"$f":"miia*Alfa1*SIN(miia*C415)-miib*Alfa2*SIN(miib*C415)","v":-406.72879346544892},null,null,null,null,null,null,null,null,null,0,394,3.93999999999996,-43.708280706956202,-38.362378028951191]
[0,395,3.9499999999999598,{"$f":"(Alfa1*SIN(miia*C416)-Alfa2*SIN(miib*C416))","v":-13.849740246099067},{"$f":"-(Alfa1*COS(miia*C416)-Alfa2*COS(miib*C416))","v":23.670667119853647},{"$f":"(miia*Alfa1*COS(miia*C416)-miib*Alfa2*COS(miib*C416))","v":-198.17676266821502},{"$f":"miia*Alfa1*SIN(miia*C416)-miib*Alfa2*SIN(miib*C416)","v":-410.02461072376997},null,null,null,null,null,null,null,null,null,0,395,3.9499999999999598,-49.621534354064941,-39.341325844591047]
[0,396,3.9599999999999596,{"$f":"(Alfa1*SIN(miia*C417)-Alfa2*SIN(miib*C417))","v":-15.897814155695169},{"$f":"-(Alfa1*COS(miia*C417)-Alfa2*COS(miib*C417))","v":19.565320166280479},{"$f":"(miia*Alfa1*COS(miia*C417)-miib*Alfa2*COS(miib*C417))","v":-211.27206660741552},{"$f":"miia*Alfa1*SIN(miia*C417)-miib*Alfa2*SIN(miib*C417)","v":-410.5934746979396},null,null,null,null,null,null,null,null,null,0,396,3.9599999999999596,-54.574608005165103,-38.990333031808994]
[0,397,3.9699999999999593,{"$f":"(Alfa1*SIN(miia*C418)-Alfa2*SIN(miib*C418))","v":-18.071531621419464},{"$f":"-(Alfa1*COS(miia*C418)-Alfa2*COS(miib*C418))","v":15.467733769098009},{"$f":"(miia*Alfa1*COS(miia*C418)-miib*Alfa2*COS(miib*C418))","v":-223.27266373461856},{"$f":"miia*Alfa1*SIN(miia*C418)-miib*Alfa2*SIN(miib*C418)","v":-408.48227069735231},null,null,null,null,null,null,null,null,null,0,397,3.9699999999999593,-58.341144452083988,-37.423838995027069]
[0,398,3.9799999999999591,{"$f":"(Alfa1*SIN(miia*C419)-Alfa2*SIN(miib*C419))","v":-20.358976343935833},{"$f":"-(Alfa1*COS(miia*C419)-Alfa2*COS(miib*C419))","v":11.404377109685834},{"$f":"(miia*Alfa1*COS(miia*C419)-miib*Alfa2*COS(miib*C419))","v":-233.98628531310831},{"$f":"miia*Alfa1*SIN(miia*C419)-miib*Alfa2*SIN(miib*C419)","v":-403.76110700973834},null,null,null,null,null,null,null,null,null,0,398,3.9799999999999591,-60.732206419098056,-34.801354956997528]
[0,399,3.9899999999999589,{"$f":"(Alfa1*SIN(miia*C420)-Alfa2*SIN(miib*C420))","v":-22.746360121947426},{"$f":"-(Alfa1*COS(miia*C420)-Alfa2*COS(miib*C420))","v":7.4009055099619534},{"$f":"(miia*Alfa1*COS(miia*C420)-miib*Alfa2*COS(miib*C420))","v":-243.23116240424201},{"$f":"miia*Alfa1*SIN(miia*C420)-miib*Alfa2*SIN(miib*C420)","v":-396.52249189326693},null,null,null,null,null,null,null,null,null,0,399,3.9899999999999589,-61.604196346387795,-31.320134957795585]
[0,400,3.9999999999999587,{"$f":"(Alfa1*SIN(miia*C421)-Alfa2*SIN(miib*C421))","v":-25.218137956094147},{"$f":"-(Alfa1*COS(miia*C421)-Alfa2*COS(miib*C421))","v":3.4819414460881237},{"$f":"(miia*Alfa1*COS(miia*C421)-miib*Alfa2*COS(miib*C421))","v":-250.83802880862476},{"$f":"miia*Alfa1*SIN(miia*C421)-miib*Alfa2*SIN(miib*C421)","v":-386.88029594833893},null,null,null,null,null,null,null,null,null,0,400,3.9999999999999587,-60.865063504101769,-27.206385692213754]
[0,401,4.0099999999999589,{"$f":"(Alfa1*SIN(miia*C422)-Alfa2*SIN(miib*C422))","v":-27.757142601398233},{"$f":"-(Alfa1*COS(miia*C422)-Alfa2*COS(miib*C422))","v":-0.32913303195824639},{"$f":"(miia*Alfa1*COS(miia*C422)-miib*Alfa2*COS(miib*C422))","v":-256.65200451407986},{"$f":"miia*Alfa1*SIN(miia*C422)-miib*Alfa2*SIN(miib*C422)","v":-374.968510519951},null,null,null,null,null,null,null,null,null,0,401,4.0099999999999589,-58.478546159669392,-22.705374876557311]
[0,402,4.0199999999999587,{"$f":"(Alfa1*SIN(miia*C423)-Alfa2*SIN(miib*C423))","v":-30.344737275768395},{"$f":"-(Alfa1*COS(miia*C423)-Alfa2*COS(miib*C423))","v":-4.0103704969562344},{"$f":"(miia*Alfa1*COS(miia*C423)-miib*Alfa2*COS(miib*C423))","v":-260.53434035125315},{"$f":"miia*Alfa1*SIN(miia*C423)-miib*Alfa2*SIN(miib*C423)","v":-360.93981479579679},null,null,null,null,null,null,null,null,null,0,402,4.0199999999999587,-54.466273957357593,-18.070841220620519]
[0,403,4.0299999999999585,{"$f":"(Alfa1*SIN(miia*C424)-Alfa2*SIN(miib*C424))","v":-32.960985045789023},{"$f":"-(Alfa1*COS(miia*C424)-Alfa2*COS(miib*C424))","v":-7.541437115356965},{"$f":"(miia*Alfa1*COS(miia*C424)-miib*Alfa2*COS(miib*C424))","v":-262.36400593205781},{"$f":"miia*Alfa1*SIN(miia*C424)-miib*Alfa2*SIN(miib*C424)","v":-344.96396615241213},null,null,null,null,null,null,null,null,null,0,403,4.0299999999999585,-48.907640132915326,-13.554136308863388]
[0,404,4.0399999999999583,{"$f":"(Alfa1*SIN(miia*C425)-Alfa2*SIN(miib*C425))","v":-35.584833239407835},{"$f":"-(Alfa1*COS(miia*C425)-Alfa2*COS(miib*C425))","v":-10.903774705107745},{"$f":"(miia*Alfa1*COS(miia*C425)-miib*Alfa2*COS(miib*C425))","v":-262.0391045009045},{"$f":"miia*Alfa1*SIN(miia*C425)-miib*Alfa2*SIN(miib*C425)","v":-327.22603004277249},null,null,null,null,null,null,null,null,null,0,404,4.0399999999999583,-41.937441318621332,-9.3935386871070286]
[0,405,4.0499999999999581,{"$f":"(Alfa1*SIN(miia*C426)-Alfa2*SIN(miib*C426))","v":-38.194311079898227},{"$f":"-(Alfa1*COS(miia*C426)-Alfa2*COS(miib*C426))","v":-14.0807443639103},{"$f":"(miia*Alfa1*COS(miia*C426)-miib*Alfa2*COS(miib*C426))","v":-259.47810004820849},{"$f":"miia*Alfa1*SIN(miia*C426)-miib*Alfa2*SIN(miib*C426)","v":-307.92446729657661},null,null,null,null,null,null,null,null,null,0,405,4.0499999999999581,-33.741370989337021,-5.8041728160373607]
[0,406,4.0599999999999579,{"$f":"(Alfa1*SIN(miia*C427)-Alfa2*SIN(miib*C427))","v":-40.766738598190841},{"$f":"-(Alfa1*COS(miia*C427)-Alfa2*COS(miib*C427))","v":-17.057750337304146},{"$f":"(miia*Alfa1*COS(miia*C427)-miib*Alfa2*COS(miib*C427))","v":-254.62084390288584},{"$f":"miia*Alfa1*SIN(miia*C427)-miib*Alfa2*SIN(miib*C427)","v":-287.26909810320893},null,null,null,null,null,null,null,null,null,0,406,4.0599999999999579,-24.549537545251532,-2.9689406025098926]
[0,407,4.0699999999999577,{"$f":"(Alfa1*SIN(miia*C428)-Alfa2*SIN(miib*C428))","v":-43.278944762717643},{"$f":"-(Alfa1*COS(miia*C428)-Alfa2*COS(miib*C428))","v":-19.822342994860694},{"$f":"(miia*Alfa1*COS(miia*C428)-miib*Alfa2*COS(miib*C428))","v":-247.42939001679369},{"$f":"miia*Alfa1*SIN(miia*C428)-miib*Alfa2*SIN(miib*C428)","v":-265.478963153211},null,null,null,null,null,null,null,null,null,0,407,4.0699999999999577,-14.628256241619633,-1.0308319571379301]
[0,408,4.0799999999999574,{"$f":"(Alfa1*SIN(miia*C429)-Alfa2*SIN(miib*C429))","v":-45.707492668484242},{"$f":"-(Alfa1*COS(miia*C429)-Alfa2*COS(miib*C429))","v":-22.364299992709942},{"$f":"(miia*Alfa1*COS(miia*C429)-miib*Alfa2*COS(miib*C429))","v":-237.88859025942671},{"$f":"miia*Alfa1*SIN(miia*C429)-miib*Alfa2*SIN(miib*C429)","v":-242.78010341502298},null,null,null,null,null,null,null,null,null,0,408,4.0799999999999574,-4.2704325471470836,-8.6924905862023213E-2]
[0,409,4.0899999999999572,{"$f":"(Alfa1*SIN(miia*C430)-Alfa2*SIN(miib*C430))","v":-48.028909551172255},{"$f":"-(Alfa1*COS(miia*C430)-Alfa2*COS(miib*C430))","v":-24.675684919502672},{"$f":"(miia*Alfa1*COS(miia*C430)-miib*Alfa2*COS(miib*C430))","v":-226.00646323462124},{"$f":"miia*Alfa1*SIN(miia*C430)-miib*Alfa2*SIN(miib*C430)","v":-219.40328080982499},null,null,null,null,null,null,null,null,null,0,409,4.0899999999999572,6.215089680567516,-0.18431744294301455]
[0,410,4.099999999999957,{"$f":"(Alfa1*SIN(miia*C431)-Alfa2*SIN(miib*C431))","v":-50.219919338444811},{"$f":"-(Alfa1*COS(miia*C431)-Alfa2*COS(miib*C431))","v":-26.750882948546145},{"$f":"(miia*Alfa1*COS(miia*C431)-miib*Alfa2*COS(miib*C431))","v":-211.81433239063216},{"$f":"miia*Alfa1*SIN(miia*C431)-miib*Alfa2*SIN(miib*C431)","v":-195.58166261072324},null,null,null,null,null,null,null,null,null,0,410,4.099999999999957,16.514800793279239,-1.3181552874378946]
[0,411,4.1099999999999568,{"$f":"(Alfa1*SIN(miia*C432)-Alfa2*SIN(miib*C432))","v":-52.257675419830797},{"$f":"-(Alfa1*COS(miia*C432)-Alfa2*COS(miib*C432))","v":-28.586613248981521},{"$f":"(miia*Alfa1*COS(miia*C432)-miib*Alfa2*COS(miib*C432))","v":-195.36673149816824},{"$f":"miia*Alfa1*SIN(miia*C432)-miib*Alfa2*SIN(miib*C432)","v":-171.5484927277443},null,null,null,null,null,null,null,null,null,0,411,4.1099999999999568,26.321979712760918,-3.4318351154470008]
[0,412,4.1199999999999566,{"$f":"(Alfa1*SIN(miia*C433)-Alfa2*SIN(miib*C433))","v":-54.119991308920007},{"$f":"-(Alfa1*COS(miia*C433)-Alfa2*COS(miib*C433))","v":-30.181918141196544},{"$f":"(miia*Alfa1*COS(miia*C433)-miib*Alfa2*COS(miib*C433))","v":-176.74107789480294},{"$f":"miia*Alfa1*SIN(miia*C433)-miib*Alfa2*SIN(miib*C433)","v":-147.53477314385867},null,null,null,null,null,null,null,null,null,0,412,4.1199999999999566,35.34788383877811,-6.4193750689118492]
[0,413,4.1299999999999564,{"$f":"(Alfa1*SIN(miia*C434)-Alfa2*SIN(miib*C434))","v":-55.785566887203288},{"$f":"-(Alfa1*COS(miia*C434)-Alfa2*COS(miib*C434))","v":-31.538129213870114},{"$f":"(miia*Alfa1*COS(miia*C434)-miib*Alfa2*COS(miib*C434))","v":-156.03711621539651},{"$f":"miia*Alfa1*SIN(miia*C434)-miib*Alfa2*SIN(miib*C434)","v":-123.76697863854011},null,null,null,null,null,null,null,null,null,0,413,4.1299999999999564,43.332238770335572,-10.129856898077744]
[0,414,4.1399999999999562,{"$f":"(Alfa1*SIN(miia*C435)-Alfa2*SIN(miib*C435))","v":-57.234207957597732},{"$f":"-(Alfa1*COS(miia*C435)-Alfa2*COS(miib*C435))","v":-32.658810849803373},{"$f":"(miia*Alfa1*COS(miia*C435)-miib*Alfa2*COS(miib*C435))","v":-133.37613762355261},{"$f":"miia*Alfa1*SIN(miia*C435)-miib*Alfa2*SIN(miib*C435)","v":-100.464827575546},null,null,null,null,null,null,null,null,null,0,414,4.1399999999999562,50.0526198549545,-14.37376047542417]
[0,415,4.1499999999999559,{"$f":"(Alfa1*SIN(miia*C436)-Alfa2*SIN(miib*C436))","v":-58.447036897130133},{"$f":"-(Alfa1*COS(miia*C436)-Alfa2*COS(miib*C436))","v":-33.549681832709879},{"$f":"(miia*Alfa1*COS(miia*C436)-miib*Alfa2*COS(miib*C436))","v":-108.89998180578047},{"$f":"miia*Alfa1*SIN(miia*C436)-miib*Alfa2*SIN(miib*C436)","v":-77.839130944358118},null,null,null,null,null,null,null,null,null,0,415,4.1499999999999559,55.332361492628053,-18.930934967836293]
[0,416,4.1599999999999557,{"$f":"(Alfa1*SIN(miia*C437)-Alfa2*SIN(miib*C437))","v":-59.40669228181315},{"$f":"-(Alfa1*COS(miia*C437)-Alfa2*COS(miib*C437))","v":-34.218515925168553},{"$f":"(miia*Alfa1*COS(miia*C437)-miib*Alfa2*COS(miib*C437))","v":-82.769831165482074},{"$f":"miia*Alfa1*SIN(miia*C437)-miib*Alfa2*SIN(miib*C437)","v":-56.089741035994791},null,null,null,null,null,null,null,null,null,0,416,4.1599999999999557,59.04668844812938,-23.559884728970637]
[0,417,4.1699999999999555,{"$f":"(Alfa1*SIN(miia*C438)-Alfa2*SIN(miib*C438))","v":-60.097515461619366},{"$f":"-(Alfa1*COS(miia*C438)-Alfa2*COS(miib*C438))","v":-34.675022516814273},{"$f":"(miia*Alfa1*COS(miia*C438)-miib*Alfa2*COS(miib*C438))","v":-55.16480873637606},{"$f":"miia*Alfa1*SIN(miia*C438)-miib*Alfa2*SIN(miib*C438)","v":-35.403620111808408},null,null,null,null,null,null,null,null,null,0,417,4.1699999999999555,61.126833845887418,-28.007994625098256]
[0,418,4.1799999999999553,{"$f":"(Alfa1*SIN(miia*C439)-Alfa2*SIN(miib*C439))","v":-60.505722188601567},{"$f":"-(Alfa1*COS(miia*C439)-Alfa2*COS(miib*C439))","v":-34.93070863946599},{"$f":"(miia*Alfa1*COS(miia*C439)-miib*Alfa2*COS(miib*C439))","v":-26.280393303660134},{"$f":"miia*Alfa1*SIN(miia*C439)-miib*Alfa2*SIN(miib*C439)","v":-15.95304819870114},null,null,null,null,null,null,null,null,null,0,418,4.1799999999999553,61.561988232830629,-32.022281171365314]
[0,419,4.1899999999999551,{"$f":"(Alfa1*SIN(miia*C440)-Alfa2*SIN(miib*C440))","v":-60.619557545385796},{"$f":"-(Alfa1*COS(miia*C440)-Alfa2*COS(miib*C440))","v":-34.998723830299895},{"$f":"(miia*Alfa1*COS(miia*C440)-miib*Alfa2*COS(miib*C440))","v":3.6733329435539162},{"$f":"miia*Alfa1*SIN(miia*C440)-miib*Alfa2*SIN(miib*C440)","v":2.1060122717400986},null,null,null,null,null,null,null,null,null,0,419,4.1899999999999551,60.39900992416667,-35.360234068581761]
[0,420,4.1999999999999549,{"$f":"(Alfa1*SIN(miia*C441)-Alfa2*SIN(miib*C441))","v":-60.429432583048964},{"$f":"-(Alfa1*COS(miia*C441)-Alfa2*COS(miib*C441))","v":-34.893689493528235},{"$f":"(miia*Alfa1*COS(miia*C441)-miib*Alfa2*COS(miib*C441))","v":34.473587221572359},{"$f":"miia*Alfa1*SIN(miia*C441)-miib*Alfa2*SIN(miib*C441)","v":18.63537885516331},null,null,null,null,null,null,null,null,null,0,420,4.1999999999999549,57.739915379627618,-37.800308370140357]
[0,421,4.2099999999999547,{"$f":"(Alfa1*SIN(miia*C442)-Alfa2*SIN(miib*C442))","v":-59.92804125518451},{"$f":"-(Alfa1*COS(miia*C442)-Alfa2*COS(miib*C442))","v":-34.631514563656339},{"$f":"(miia*Alfa1*COS(miia*C442)-miib*Alfa2*COS(miib*C442))","v":65.886920901522302},{"$f":"miia*Alfa1*SIN(miia*C442)-miib*Alfa2*SIN(miib*C442)","v":33.515924145466272},null,null,null,null,null,null,null,null,null,0,421,4.2099999999999547,53.737256070920132,-39.151640755877864]
[0,422,4.2199999999999545,{"$f":"(Alfa1*SIN(miia*C443)-Alfa2*SIN(miib*C443))","v":-59.110456426989259},{"$f":"-(Alfa1*COS(miia*C443)-Alfa2*COS(miib*C443))","v":-34.229199407741241},{"$f":"(miia*Alfa1*COS(miia*C443)-miib*Alfa2*COS(miib*C443))","v":97.671366346245378},{"$f":"miia*Alfa1*SIN(miia*C443)-miib*Alfa2*SIN(miib*C443)","v":46.648651009027617},null,null,null,null,null,null,null,null,null,0,422,4.2199999999999545,48.587571706036968,-39.262593723307077]
[0,423,4.2299999999999542,{"$f":"(Alfa1*SIN(miia*C444)-Alfa2*SIN(miib*C444))","v":-57.97420394256882},{"$f":"-(Alfa1*COS(miia*C444)-Alfa2*COS(miib*C444))","v":-33.704630018828475},{"$f":"(miia*Alfa1*COS(miia*C444)-miib*Alfa2*COS(miib*C444))","v":129.57867484837291},{"$f":"miia*Alfa1*SIN(miia*C444)-miib*Alfa2*SIN(miib*C444)","v":57.955557546329203},null,null,null,null,null,null,null,null,null,0,423,4.2299999999999542,42.523185456140524,-38.027777723337884]
[0,424,4.239999999999954,{"$f":"(Alfa1*SIN(miia*C445)-Alfa2*SIN(miib*C445))","v":-56.519313948325383},{"$f":"-(Alfa1*COS(miia*C445)-Alfa2*COS(miib*C445))","v":-33.076364646760638},{"$f":"(miia*Alfa1*COS(miia*C445)-miib*Alfa2*COS(miib*C445))","v":161.35662375804884},{"$f":"miia*Alfa1*SIN(miia*C445)-miib*Alfa2*SIN(miib*C445)","v":67.380283448952468},null,null,null,null,null,null,null,null,null,0,424,4.239999999999954,35.802671973908481,-35.393261529963979]
[0,425,4.2499999999999538,{"$f":"(Alfa1*SIN(miia*C446)-Alfa2*SIN(miib*C446))","v":-54.748348893130142},{"$f":"-(Alfa1*COS(miia*C446)-Alfa2*COS(miib*C446))","v":-32.363415084900126},{"$f":"(miia*Alfa1*COS(miia*C446)-miib*Alfa2*COS(miib*C446))","v":192.75137018137156},{"$f":"miia*Alfa1*SIN(miia*C446)-miib*Alfa2*SIN(miib*C446)","v":74.888531626221464},null,null,null,null,null,null,null,null,null,0,425,4.2499999999999538,28.700380911018634,-31.359753043110217]
[0,426,4.2599999999999536,{"$f":"(Alfa1*SIN(miia*C447)-Alfa2*SIN(miib*C447))","v":-52.666407854772935},{"$f":"-(Alfa1*COS(miia*C447)-Alfa2*COS(miib*C447))","v":-31.585024881272751},{"$f":"(miia*Alfa1*COS(miia*C447)-miib*Alfa2*COS(miib*C447))","v":223.5098281481676},{"$f":"miia*Alfa1*SIN(miia*C447)-miib*Alfa2*SIN(miib*C447)","v":80.468261242437677},null,null,null,null,null,null,null,null,null,0,426,4.2599999999999536,21.49543527694204,-25.983613417305563]
[0,427,4.2699999999999534,{"$f":"(Alfa1*SIN(miia*C448)-Alfa2*SIN(miib*C448))","v":-50.281107074651729},{"$f":"-(Alfa1*COS(miia*C448)-Alfa2*COS(miib*C448))","v":-30.760446769729644},{"$f":"(miia*Alfa1*COS(miia*C448)-miib*Alfa2*COS(miib*C448))","v":253.38204589501521},{"$f":"miia*Alfa1*SIN(miia*C448)-miib*Alfa2*SIN(miib*C448)","v":84.129650609985447},null,null,null,null,null,null,null,null,null,0,427,4.2699999999999534,14.460643881093416,-19.375653671254856]
[0,428,4.2799999999999532,{"$f":"(Alfa1*SIN(miia*C449)-Alfa2*SIN(miib*C449))","v":-47.602536816501811},{"$f":"-(Alfa1*COS(miia*C449)-Alfa2*COS(miib*C449))","v":-29.908721620680247},{"$f":"(miia*Alfa1*COS(miia*C449)-miib*Alfa2*COS(miib*C449))","v":282.1235598890737},{"$f":"miia*Alfa1*SIN(miia*C449)-miib*Alfa2*SIN(miib*C449)","v":85.904830702518836},null,null,null,null,null,null,null,null,null,0,428,4.2799999999999532,7.8517694826548849,-11.697751326866342]
[0,429,4.289999999999953,{"$f":"(Alfa1*SIN(miia*C450)-Alfa2*SIN(miib*C450))","v":-44.643194897842022},{"$f":"-(Alfa1*COS(miia*C450)-Alfa2*COS(miib*C450))","v":-29.048461191738671},{"$f":"(miia*Alfa1*COS(miia*C450)-miib*Alfa2*COS(miib*C450))","v":309.49770243053649},{"$f":"miia*Alfa1*SIN(miia*C450)-miib*Alfa2*SIN(miib*C450)","v":85.847392362763458},null,null,null,null,null,null,null,null,null,0,429,4.289999999999953,1.8975790525151581,-3.1574116270312533]
[0,430,4.2999999999999527,{"$f":"(Alfa1*SIN(miia*C451)-Alfa2*SIN(miib*C451))","v":-41.417897472412172},{"$f":"-(Alfa1*COS(miia*C451)-Alfa2*COS(miib*C451))","v":-28.197636916451138},{"$f":"(miia*Alfa1*COS(miia*C451)-miib*Alfa2*COS(miib*C451))","v":335.27784011433812},{"$f":"miia*Alfa1*SIN(miia*C451)-miib*Alfa2*SIN(miib*C451)","v":84.031672558039659},null,null,null,null,null,null,null,null,null,0,430,4.2999999999999527,-3.2089296531192124,5.9995199799365313]
[0,431,4.3099999999999525,{"$f":"(Alfa1*SIN(miia*C452)-Alfa2*SIN(miib*C452))","v":-37.943667865910257},{"$f":"-(Alfa1*COS(miia*C452)-Alfa2*COS(miib*C452))","v":-27.373376904566058},{"$f":"(miia*Alfa1*COS(miia*C452)-miib*Alfa2*COS(miib*C452))","v":359.24952110069489},{"$f":"miia*Alfa1*SIN(miia*C452)-miib*Alfa2*SIN(miib*C452)","v":80.551827260617102},null,null,null,null,null,null,null,null,null,0,431,4.3099999999999525,-7.3177789036464223,15.497713401399819]
[0,432,4.3199999999999523,{"$f":"(Alfa1*SIN(miia*C453)-Alfa2*SIN(miib*C453))","v":-34.239604483581417},{"$f":"-(Alfa1*COS(miia*C453)-Alfa2*COS(miib*C453))","v":-26.591773240728894},{"$f":"(miia*Alfa1*COS(miia*C453)-miib*Alfa2*COS(miib*C453))","v":381.21251003253172},{"$f":"miia*Alfa1*SIN(miia*C453)-miib*Alfa2*SIN(miib*C453)","v":75.520700677199713},null,null,null,null,null,null,null,null,null,0,432,4.3199999999999523,-10.327454552872643,25.04243391107202]
[0,433,4.3299999999999521,{"$f":"(Alfa1*SIN(miia*C454)-Alfa2*SIN(miib*C454))","v":-30.32672901450541},{"$f":"-(Alfa1*COS(miia*C454)-Alfa2*COS(miib*C454))","v":-25.867701560905655},{"$f":"(miia*Alfa1*COS(miia*C454)-miib*Alfa2*COS(miib*C454))","v":400.9826905370461},{"$f":"miia*Alfa1*SIN(miia*C454)-miib*Alfa2*SIN(miib*C454)","v":69.068502600717068},null,null,null,null,null,null,null,null,null,0,433,4.3299999999999521,-12.188330679538295,34.330453708918753]
[0,434,4.3399999999999519,{"$f":"(Alfa1*SIN(miia*C455)-Alfa2*SIN(miib*C455))","v":-26.227816351722026},{"$f":"-(Alfa1*COS(miia*C455)-Alfa2*COS(miib*C455))","v":-25.214654758349315},{"$f":"(miia*Alfa1*COS(miia*C455)-miib*Alfa2*COS(miib*C455))","v":418.39381654765998},{"$f":"miia*Alfa1*SIN(miia*C455)-miib*Alfa2*SIN(miib*C455)","v":61.341307587650732},null,null,null,null,null,null,null,null,null,0,434,4.3399999999999519,-12.903944998841641,43.061368399655251]
[0,435,4.3499999999999517,{"$f":"(Alfa1*SIN(miia*C456)-Alfa2*SIN(miib*C456))","v":-21.967207827690771},{"$f":"-(Alfa1*COS(miia*C456)-Alfa2*COS(miib*C456))","v":-24.644592524808722},{"$f":"(miia*Alfa1*COS(miia*C456)-miib*Alfa2*COS(miib*C456))","v":433.29909516845873},{"$f":"miia*Alfa1*SIN(miia*C456)-miib*Alfa2*SIN(miib*C456)","v":52.499391456035561},null,null,null,null,null,null,null,null,null,0,435,4.3499999999999517,-12.530081222649118,50.948874953699629]
[0,436,4.3599999999999515,{"$f":"(Alfa1*SIN(miia*C457)-Alfa2*SIN(miib*C457))","v":-17.570609529210124},{"$f":"-(Alfa1*COS(miia*C457)-Alfa2*COS(miib*C457))","v":-24.167808269412376},{"$f":"(miia*Alfa1*COS(miia*C457)-miib*Alfa2*COS(miib*C457))","v":445.57258546113735},{"$f":"miia*Alfa1*SIN(miia*C457)-miib*Alfa2*SIN(miib*C457)","v":42.715422235126347},null,null,null,null,null,null,null,null,null,0,436,4.3599999999999515,-11.17170271134888,57.731568510200795]
[0,437,4.3699999999999513,{"$f":"(Alfa1*SIN(miia*C458)-Alfa2*SIN(miib*C458))","v":-13.064877603176253},{"$f":"-(Alfa1*COS(miia*C458)-Alfa2*COS(miib*C458))","v":-23.792814778882033},{"$f":"(miia*Alfa1*COS(miia*C458)-miib*Alfa2*COS(miib*C458))","v":455.11039934799726},{"$f":"miia*Alfa1*SIN(miia*C458)-miib*Alfa2*SIN(miib*C458)","v":32.172524161126127},null,null,null,null,null,null,null,null,null,0,437,4.3699999999999513,-8.9778680802262052,63.182833754472469]
[0,438,4.379999999999951,{"$f":"(Alfa1*SIN(miia*C459)-Alfa2*SIN(miib*C459))","v":-8.47779259297476},{"$f":"-(Alfa1*COS(miia*C459)-Alfa2*COS(miib*C459))","v":-23.526249790244115},{"$f":"(miia*Alfa1*COS(miia*C459)-miib*Alfa2*COS(miib*C459))","v":461.83169277558903},{"$f":"miia*Alfa1*SIN(miia*C459)-miib*Alfa2*SIN(miib*C459)","v":21.062234589685691},null,null,null,null,null,null,null,null,null,0,438,4.379999999999951,-6.1348404499537894,67.119441827518017]
[0,439,4.3899999999999508,{"$f":"(Alfa1*SIN(miia*C460)-Alfa2*SIN(miib*C460))","v":-3.837824953597103},{"$f":"-(Alfa1*COS(miia*C460)-Alfa2*COS(miib*C460))","v":-23.372802442945865},{"$f":"(miia*Alfa1*COS(miia*C460)-miib*Alfa2*COS(miib*C460))","v":465.67943735272547},{"$f":"miia*Alfa1*SIN(miia*C460)-miib*Alfa2*SIN(miib*C460)","v":9.5823747723406942},null,null,null,null,null,null,null,null,null,0,439,4.3899999999999508,-2.8576745282625464,69.408514407628715]
[0,440,4.3999999999999506,{"$f":"(Alfa1*SIN(miia*C461)-Alfa2*SIN(miib*C461))","v":0.82610601932195538},{"$f":"-(Alfa1*COS(miia*C461)-Alfa2*COS(miib*C461))","v":-23.335161363303499},{"$f":"(miia*Alfa1*COS(miia*C461)-miib*Alfa2*COS(miib*C461))","v":466.62096484321251},{"$f":"miia*Alfa1*SIN(miia*C461)-miib*Alfa2*SIN(miib*C461)","v":-2.0651436901109186},null,null,null,null,null,null,null,null,null,0,440,4.3999999999999506,0.61937321697125935,69.972580732000083]
[0,441,4.4099999999999504,{"$f":"(Alfa1*SIN(miia*C462)-Alfa2*SIN(miib*C462))","v":5.4848775463115924},{"$f":"-(Alfa1*COS(miia*C462)-Alfa2*COS(miib*C462))","v":-23.413984912660762},{"$f":"(miia*Alfa1*COS(miia*C462)-miib*Alfa2*COS(miib*C462))","v":464.64827913618467},{"$f":"miia*Alfa1*SIN(miia*C462)-miib*Alfa2*SIN(miib*C462)","v":-13.676554257752665},null,null,null,null,null,null,null,null,null,0,441,4.4099999999999504,4.0532188228060937,68.792528353054607]
[0,442,4.4199999999999502,{"$f":"(Alfa1*SIN(miia*C463)-Alfa2*SIN(miib*C463))","v":10.109410664159416},{"$f":"-(Alfa1*COS(miia*C463)-Alfa2*COS(miib*C463))","v":-23.607893903746607},{"$f":"(miia*Alfa1*COS(miia*C463)-miib*Alfa2*COS(miib*C463))","v":459.77813261303601},{"$f":"miia*Alfa1*SIN(miia*C463)-miib*Alfa2*SIN(miib*C463)","v":-25.048489844911373},null,null,null,null,null,null,null,null,null,0,442,4.4199999999999502,7.2026856019073699,65.908331368562585]
[0,443,4.42999999999995,{"$f":"(Alfa1*SIN(miia*C464)-Alfa2*SIN(miib*C464))","v":14.670917107543744},{"$f":"-(Alfa1*COS(miia*C464)-Alfa2*COS(miib*C464))","v":-23.913486859771528},{"$f":"(miia*Alfa1*COS(miia*C464)-miib*Alfa2*COS(miib*C464))","v":452.05186615672812},{"$f":"miia*Alfa1*SIN(miia*C464)-miib*Alfa2*SIN(miib*C464)","v":-35.980233125637689},null,null,null,null,null,null,null,null,null,0,443,4.42999999999995,9.8391610282754201,61.417527430273331]
[0,444,4.4399999999999498,{"$f":"(Alfa1*SIN(miia*C465)-Alfa2*SIN(miib*C465))","v":19.141143414584302},{"$f":"-(Alfa1*COS(miia*C465)-Alfa2*COS(miib*C465))","v":-24.325377660102408},{"$f":"(miia*Alfa1*COS(miia*C465)-miib*Alfa2*COS(miib*C465))","v":441.53501438356773},{"$f":"miia*Alfa1*SIN(miia*C465)-miib*Alfa2*SIN(miib*C465)","v":-46.275939721284637},null,null,null,null,null,null,null,null,null,0,444,4.4399999999999498,11.756740470980553,55.471503542004001]
[0,445,4.4499999999999496,{"$f":"(Alfa1*SIN(miia*C466)-Alfa2*SIN(miib*C466))","v":23.492609926108585},{"$f":"-(Alfa1*COS(miia*C466)-Alfa2*COS(miib*C466))","v":-24.836255187226755},{"$f":"(miia*Alfa1*COS(miia*C466)-miib*Alfa2*COS(miib*C466))","v":428.31667999611881},{"$f":"miia*Alfa1*SIN(miia*C466)-miib*Alfa2*SIN(miib*C466)","v":-55.746811512723454},null,null,null,null,null,null,null,null,null,0,445,4.4499999999999496,12.781443089091162,48.269736978987119]
[0,446,4.4599999999999493,{"$f":"(Alfa1*SIN(miia*C467)-Alfa2*SIN(miib*C467))","v":27.698842398861036},{"$f":"-(Alfa1*COS(miia*C467)-Alfa2*COS(miib*C467))","v":-25.436964364459755},{"$f":"(miia*Alfa1*COS(miia*C467)-miib*Alfa2*COS(miib*C467))","v":412.508683435644},{"$f":"miia*Alfa1*SIN(miia*C467)-miib*Alfa2*SIN(miib*C467)","v":-64.213197821045668},null,null,null,null,null,null,null,null,null,0,446,4.4599999999999493,12.779122416267796,40.052218164735699]
[0,447,4.4699999999999491,{"$f":"(Alfa1*SIN(miia*C468)-Alfa2*SIN(miib*C468))","v":31.734594025817383},{"$f":"-(Alfa1*COS(miia*C468)-Alfa2*COS(miib*C468))","v":-26.116607754728012},{"$f":"(miia*Alfa1*COS(miia*C468)-miib*Alfa2*COS(miib*C468))","v":394.2444962306356},{"$f":"miia*Alfa1*SIN(miia*C468)-miib*Alfa2*SIN(miib*C468)","v":-71.506602925632436},null,null,null,null,null,null,null,null,null,0,447,4.4699999999999491,11.661746527920082,31.090353830468914]
[0,448,4.4799999999999489,{"$f":"(Alfa1*SIN(miia*C469)-Alfa2*SIN(miib*C469))","v":35.576055751480993},{"$f":"-(Alfa1*COS(miia*C469)-Alfa2*COS(miib*C469))","v":-26.862666679983192},{"$f":"(miia*Alfa1*COS(miia*C469)-miib*Alfa2*COS(miib*C469))","v":373.67796857254211},{"$f":"miia*Alfa1*SIN(miia*C469)-miib*Alfa2*SIN(miib*C469)","v":-77.471579329971263},null,null,null,null,null,null,null,null,null,0,448,4.4799999999999489,9.3917881065404973,21.67670841516188]
[{"$f":"IF(B470=$AC$1,1,0)","v":0},449,{"$f":"C469+dt","v":4.4899999999999487},{"$f":"(Alfa1*SIN(miia*C470)-Alfa2*SIN(miib*C470))","v":39.201052885593484},{"$f":"-(Alfa1*COS(miia*C470)-Alfa2*COS(miib*C470))","v":-27.661140620476601},{"$f":"(miia*Alfa1*COS(miia*C470)-miib*Alfa2*COS(miib*C470))","v":350.98186367942196},{"$f":"miia*Alfa1*SIN(miia*C470)-miib*Alfa2*SIN(miib*C470)","v":-81.96748733416041},null,null,null,null,null,null,null,null,null,{"$f":"IF(R470=$AC$1,1,0)","v":0},449,{"$f":"S469+dt","v":4.4899999999999487},{"$f":"IF(R470<MAX_TIME,Aktina*SIN(epsilon*S470)*COS(D*S470),Aktina*SIN(epsilon*MAX_TIME*dt)*COS(D*MAX_TIME*dt))","v":5.9845405893894315},{"$f":"IF(R470<MAX_TIME,Aktina*COS(epsilon*S470)*COS(D*S470),Aktina*COS(epsilon*MAX_TIME*dt)*COS(D*MAX_TIME*dt))","v":12.113987073584376}]
[0,{"$f":"B470+1","v":450},4.4999999999999485,{"$f":"(Alfa1*SIN(miia*C471)-Alfa2*SIN(miib*C471))","v":42.589226153936508},{"$f":"-(Alfa1*COS(miia*C471)-Alfa2*COS(miib*C471))","v":-28.496703465279356},{"$f":"(miia*Alfa1*COS(miia*C471)-miib*Alfa2*COS(miib*C471))","v":326.34621341275454},{"$f":"miia*Alfa1*SIN(miia*C471)-miib*Alfa2*SIN(miib*C471)","v":-84.87010281716482},null,null,null,null,null,null,null,null,null,0,{"$f":"R470+1","v":450},4.4999999999999485,1.5082598673508336,2.7036930441468359]
[0,451,4.5099999999999483,{"$f":"(Alfa1*SIN(miia*C472)-Alfa2*SIN(miib*C472))","v":45.722195478483314},{"$f":"-(Alfa1*COS(miia*C472)-Alfa2*COS(miib*C472))","v":-29.352875011948015},{"$f":"(miia*Alfa1*COS(miia*C472)-miib*Alfa2*COS(miib*C472))","v":299.97651137305076},{"$f":"miia*Alfa1*SIN(miia*C472)-miib*Alfa2*SIN(miib*C472)","v":-86.073056658107646},null,null,null,null,null,null,null,null,null,0,451,4.5099999999999483,-3.9178816218687538,-6.2650956751326481]
[0,452,4.5199999999999481,{"$f":"(Alfa1*SIN(miia*C473)-Alfa2*SIN(miib*C473))","v":48.583704949548277},{"$f":"-(Alfa1*COS(miia*C473)-Alfa2*COS(miib*C473))","v":-30.212205955861833},{"$f":"(miia*Alfa1*COS(miia*C473)-miib*Alfa2*COS(miib*C473))","v":272.09176129872918},{"$f":"miia*Alfa1*SIN(miia*C473)-miib*Alfa2*SIN(miib*C473)","v":-85.489090918939013},null,null,null,null,null,null,null,null,null,0,452,4.5199999999999481,-10.127953589132684,-14.526390863986038]
[0,453,4.5299999999999478,{"$f":"(Alfa1*SIN(miia*C474)-Alfa2*SIN(miib*C474))","v":51.159747638088646},{"$f":"-(Alfa1*COS(miia*C474)-Alfa2*COS(miib*C474))","v":-31.056474470078051},{"$f":"(miia*Alfa1*COS(miia*C474)-miib*Alfa2*COS(miib*C474))","v":242.92240001401598},{"$f":"miia*Alfa1*SIN(miia*C474)-miib*Alfa2*SIN(miib*C474)","v":-83.05111875377753},null,null,null,null,null,null,null,null,null,0,453,4.5299999999999478,-16.91537950218957,-21.846983262848411]
[0,454,4.5399999999999476,{"$f":"(Alfa1*SIN(miia*C475)-Alfa2*SIN(miib*C475))","v":53.438669095085345},{"$f":"-(Alfa1*COS(miia*C475)-Alfa2*COS(miib*C475))","v":-31.866892355975533},{"$f":"(miia*Alfa1*COS(miia*C475)-miib*Alfa2*COS(miib*C475))","v":212.70811540123572},{"$f":"miia*Alfa1*SIN(miia*C475)-miib*Alfa2*SIN(miib*C475)","v":-78.713076984618453},null,null,null,null,null,null,null,null,null,0,454,4.5399999999999476,-24.040762487269625,-28.034779265925192]
[0,455,4.5499999999999474,{"$f":"(Alfa1*SIN(miia*C476)-Alfa2*SIN(miib*C476))","v":55.411248594985608},{"$f":"-(Alfa1*COS(miia*C476)-Alfa2*COS(miib*C476))","v":-32.624318644700317},{"$f":"(miia*Alfa1*COS(miia*C476)-miib*Alfa2*COS(miib*C476))","v":181.69558089859396},{"$f":"miia*Alfa1*SIN(miia*C476)-miib*Alfa2*SIN(miib*C476)","v":-72.450562369181796},null,null,null,null,null,null,null,null,null,0,455,4.5499999999999474,-31.241117623083642,-32.945462364973643]
[0,456,4.5599999999999472,{"$f":"(Alfa1*SIN(miia*C477)-Alfa2*SIN(miib*C477))","v":57.070757399440588},{"$f":"-(Alfa1*COS(miia*C477)-Alfa2*COS(miib*C477))","v":-33.309478450500968},{"$f":"(miia*Alfa1*COS(miia*C477)-miib*Alfa2*COS(miib*C477))","v":150.13612883622605},{"$f":"miia*Alfa1*SIN(miia*C477)-miib*Alfa2*SIN(miib*C477)","v":-64.261244763563155},null,null,null,null,null,null,null,null,null,0,456,4.5599999999999472,-38.240145679229187,-36.487223731960398]
[0,457,4.569999999999947,{"$f":"(Alfa1*SIN(miia*C478)-Alfa2*SIN(miib*C478))","v":58.412993543834574},{"$f":"-(Alfa1*COS(miia*C478)-Alfa2*COS(miib*C478))","v":-33.903184820250232},{"$f":"(miia*Alfa1*COS(miia*C478)-miib*Alfa2*COS(miib*C478))","v":118.2833855128118},{"$f":"miia*Alfa1*SIN(miia*C478)-miib*Alfa2*SIN(miib*C478)","v":-54.165052628260383},null,null,null,null,null,null,null,null,null,0,457,4.569999999999947,-44.759140822129538,-38.623383567291889]
[0,458,4.5799999999999468,{"$f":"(Alfa1*SIN(miia*C479)-Alfa2*SIN(miib*C479))","v":59.436292880126373},{"$f":"-(Alfa1*COS(miia*C479)-Alfa2*COS(miib*C479))","v":-34.386561289368267},{"$f":"(miia*Alfa1*COS(miia*C479)-miib*Alfa2*COS(miib*C479))","v":86.39089127659139},{"$f":"miia*Alfa1*SIN(miia*C479)-miib*Alfa2*SIN(miib*C479)","v":-42.204128618585401},null,null,null,null,null,null,null,null,null,0,458,4.5799999999999468,-50.528098506524493,-39.372809087885429]
[0,459,4.5899999999999466,{"$f":"(Alfa1*SIN(miia*C480)-Alfa2*SIN(miib*C480))","v":60.141516343004866},{"$f":"-(Alfa1*COS(miia*C480)-Alfa2*COS(miib*C480))","v":-34.74126284334271},{"$f":"(miia*Alfa1*COS(miia*C480)-miib*Alfa2*COS(miib*C480))","v":54.709729004638817},{"$f":"miia*Alfa1*SIN(miia*C480)-miib*Alfa2*SIN(miib*C480)","v":-28.442555316491166},null,null,null,null,null,null,null,null,null,0,459,4.5899999999999466,-55.296580748201158,-38.808122925702008]
[0,460,4.5999999999999464,{"$f":"(Alfa1*SIN(miia*C481)-Alfa2*SIN(miib*C481))","v":60.532013639978913},{"$f":"-(Alfa1*COS(miia*C481)-Alfa2*COS(miib*C481))","v":-34.949692996202678},{"$f":"(miia*Alfa1*COS(miia*C481)-miib*Alfa2*COS(miib*C481))","v":23.486184271511419},{"$f":"miia*Alfa1*SIN(miia*C481)-miib*Alfa2*SIN(miib*C481)","v":-12.965853477270343},null,null,null,null,null,null,null,null,null,0,460,4.5999999999999464,-58.843904604245978,-37.051783747841533]
[0,461,4.6099999999999461,{"$f":"(Alfa1*SIN(miia*C482)-Alfa2*SIN(miib*C482))","v":60.613563797453047},{"$f":"-(Alfa1*COS(miia*C482)-Alfa2*COS(miib*C482))","v":-34.995214732534656},{"$f":"(miia*Alfa1*COS(miia*C482)-miib*Alfa2*COS(miib*C482))","v":-7.0405398360711189},{"$f":"miia*Alfa1*SIN(miia*C482)-miib*Alfa2*SIN(miib*C482)","v":4.119742541791652},null,null,null,null,null,null,null,null,null,0,461,4.6099999999999461,-60.988245636872406,-34.270205584416551]
[0,462,4.6199999999999459,{"$f":"(Alfa1*SIN(miia*C483)-Alfa2*SIN(miib*C483))","v":60.394293221781837},{"$f":"-(Alfa1*COS(miia*C483)-Alfa2*COS(miib*C483))","v":-34.862353117586849},{"$f":"(miia*Alfa1*COS(miia*C483)-miib*Alfa2*COS(miib*C483))","v":-36.640530864666133},{"$f":"miia*Alfa1*SIN(miia*C483)-miib*Alfa2*SIN(miib*C483)","v":22.688225255874528},null,null,null,null,null,null,null,null,null,0,462,4.6199999999999459,-61.59429038168777,-30.666160286045336]
[0,463,4.6299999999999457,{"$f":"(Alfa1*SIN(miia*C484)-Alfa2*SIN(miib*C484))","v":59.884572154489078},{"$f":"-(Alfa1*COS(miia*C484)-Alfa2*COS(miib*C484))","v":-34.536987460121168},{"$f":"(miia*Alfa1*COS(miia*C484)-miib*Alfa2*COS(miib*C484))","v":-65.095276491252449},{"$f":"miia*Alfa1*SIN(miia*C484)-miib*Alfa2*SIN(miib*C484)","v":42.594961335686094},null,null,null,null,null,null,null,null,null,0,463,4.6299999999999457,-60.579128706982353,-26.46977562438471]
[0,464,4.6399999999999455,{"$f":"(Alfa1*SIN(miia*C485)-Alfa2*SIN(miib*C485))","v":59.096890612095862},{"$f":"-(Alfa1*COS(miia*C485)-Alfa2*COS(miib*C485))","v":-34.006531014148479},{"$f":"(miia*Alfa1*COS(miia*C485)-miib*Alfa2*COS(miib*C485))","v":-92.19965476385444},{"$f":"miia*Alfa1*SIN(miia*C485)-miib*Alfa2*SIN(miib*C485)","v":63.678034515150841},null,null,null,null,null,null,null,null,null,0,464,4.6399999999999455,-57.916146180033671,-21.928497085637893]
[0,465,4.6499999999999453,{"$f":"(Alfa1*SIN(miia*C486)-Alfa2*SIN(miib*C486))","v":58.045715101226271},{"$f":"-(Alfa1*COS(miia*C486)-Alfa2*COS(miib*C486))","v":-33.260096327515981},{"$f":"(miia*Alfa1*COS(miia*C486)-miib*Alfa2*COS(miib*C486))","v":-117.76378568236682},{"$f":"miia*Alfa1*SIN(miia*C486)-miib*Alfa2*SIN(miib*C486)","v":85.759770961325984},null,null,null,null,null,null,null,null,null,0,465,4.6499999999999453,-53.636755398940991,-17.296422178841482]
[0,466,4.6599999999999451,{"$f":"(Alfa1*SIN(miia*C487)-Alfa2*SIN(miib*C487))","v":56.747327586858063},{"$f":"-(Alfa1*COS(miia*C487)-Alfa2*COS(miib*C487))","v":-32.288644486294068},{"$f":"(miia*Alfa1*COS(miia*C487)-miib*Alfa2*COS(miib*C487))","v":-141.61472611392787},{"$f":"miia*Alfa1*SIN(miia*C487)-miib*Alfa2*SIN(miib*C487)","v":108.64843209661906},null,null,null,null,null,null,null,null,null,0,466,4.6599999999999451,-47.82989056985803,-12.823440467942532]
[0,467,4.6699999999999449,{"$f":"(Alfa1*SIN(miia*C488)-Alfa2*SIN(miib*C488))","v":55.219648363903403},{"$f":"-(Alfa1*COS(miia*C488)-Alfa2*COS(miib*C488))","v":-31.085116662631375},{"$f":"(miia*Alfa1*COS(miia*C488)-miib*Alfa2*COS(miib*C488))","v":-163.59799161346501},{"$f":"miia*Alfa1*SIN(miia*C488)-miib*Alfa2*SIN(miib*C488)","v":132.14005816524173},null,null,null,null,null,null,null,null,null,0,467,4.6699999999999449,-40.639278016473291,-8.7446195732553651]
[0,468,4.6799999999999446,{"$f":"(Alfa1*SIN(miia*C489)-Alfa2*SIN(miib*C489))","v":53.482044638031837},{"$f":"-(Alfa1*COS(miia*C489)-Alfa2*COS(miib*C489))","v":-29.644546548631737},{"$f":"(miia*Alfa1*COS(miia*C489)-miib*Alfa2*COS(miib*C489))","v":-183.5788904591937},{"$f":"miia*Alfa1*SIN(miia*C489)-miib*Alfa2*SIN(miib*C489)","v":156.02044430410444},null,null,null,null,null,null,null,null,null,0,468,4.6799999999999446,-32.258583284344958,-5.2702668003976232]
[0,469,4.6899999999999444,{"$f":"(Alfa1*SIN(miia*C490)-Alfa2*SIN(miib*C490))","v":51.555126759240544},{"$f":"-(Alfa1*COS(miia*C490)-Alfa2*COS(miib*C490))","v":-27.964152448112305},{"$f":"(miia*Alfa1*COS(miia*C490)-miib*Alfa2*COS(miib*C490))","v":-201.44365709751878},{"$f":"miia*Alfa1*SIN(miia*C490)-miib*Alfa2*SIN(miib*C490)","v":180.06722952843472},null,null,null,null,null,null,null,null,null,0,469,4.6899999999999444,-22.924619546850071,-2.577068273146784]
[0,470,4.6999999999999442,{"$f":"(Alfa1*SIN(miia*C491)-Alfa2*SIN(miib*C491))","v":49.460534169772409},{"$f":"-(Alfa1*COS(miia*C491)-Alfa2*COS(miib*C491))","v":-26.043407999939273},{"$f":"(miia*Alfa1*COS(miia*C491)-miib*Alfa2*COS(miib*C491))","v":-217.10037420310471},{"$f":"miia*Alfa1*SIN(miia*C491)-miib*Alfa2*SIN(miib*C491)","v":204.05207788784116},null,null,null,null,null,null,null,null,null,0,470,4.6999999999999442,-12.90887878750809,-0.80066358684008687]
[0,471,4.709999999999944,{"$f":"(Alfa1*SIN(miia*C492)-Alfa2*SIN(miib*C492))","v":47.220713225415473},{"$f":"-(Alfa1*COS(miia*C492)-Alfa2*COS(miib*C492))","v":-23.884090718994766},{"$f":"(miia*Alfa1*COS(miia*C492)-miib*Alfa2*COS(miib*C492))","v":-230.47967467770647},{"$f":"miia*Alfa1*SIN(miia*C492)-miib*Alfa2*SIN(miib*C492)","v":227.74293010092234},null,null,null,null,null,null,null,null,null,0,471,4.709999999999944,-2.5077136700404723,-2.9955818560520975E-2]
[0,472,4.7199999999999438,{"$f":"(Alfa1*SIN(miia*C493)-Alfa2*SIN(miib*C493))","v":44.8586891250281},{"$f":"-(Alfa1*COS(miia*C493)-Alfa2*COS(miib*C493))","v":-21.490307761588245},{"$f":"(miia*Alfa1*COS(miia*C493)-miib*Alfa2*COS(miib*C493))","v":-241.53521711452296},{"$f":"miia*Alfa1*SIN(miia*C493)-miib*Alfa2*SIN(miib*C493)","v":250.90630324536585},null,null,null,null,null,null,null,null,null,0,472,4.7199999999999438,7.9684485315709637,-0.30338655836894762]
[0,473,4.7299999999999436,{"$f":"(Alfa1*SIN(miia*C494)-Alfa2*SIN(miib*C494))","v":42.397834236578881},{"$f":"-(Alfa1*COS(miia*C494)-Alfa2*COS(miib*C494))","v":-18.868498549081771},{"$f":"(miia*Alfa1*COS(miia*C494)-miib*Alfa2*COS(miib*C494))","v":-250.24393052134596},{"$f":"miia*Alfa1*SIN(miia*C494)-miib*Alfa2*SIN(miib*C494)","v":273.30961557320245},null,null,null,null,null,null,null,null,null,0,473,4.7299999999999436,18.206440213650112,-1.6073262696611021]
[0,474,4.7399999999999434,{"$f":"(Alfa1*SIN(miia*C495)-Alfa2*SIN(miib*C495))","v":39.861635138543321},{"$f":"-(Alfa1*COS(miia*C495)-Alfa2*COS(miib*C495))","v":-16.027414114384868},{"$f":"(miia*Alfa1*COS(miia*C495)-miib*Alfa2*COS(miib*C495))","v":-256.60602640296713},{"$f":"miia*Alfa1*SIN(miia*C495)-miib*Alfa2*SIN(miib*C495)","v":294.72351324260336},null,null,null,null,null,null,null,null,null,0,474,4.7399999999999434,27.901794478104978,-3.8766449202084816]
[0,475,4.7499999999999432,{"$f":"(Alfa1*SIN(miia*C496)-Alfa2*SIN(miib*C496))","v":37.273460702876768},{"$f":"-(Alfa1*COS(miia*C496)-Alfa2*COS(miib*C496))","v":-12.978073268485991},{"$f":"(miia*Alfa1*COS(miia*C496)-miib*Alfa2*COS(miib*C496))","v":-260.64477862809434},{"$f":"miia*Alfa1*SIN(miia*C496)-miib*Alfa2*SIN(miib*C496)","v":314.92417571116573},null,null,null,null,null,null,null,null,null,0,475,4.7499999999999432,36.769847235413373,-6.9974398622065559]
[0,476,4.7599999999999429,{"$f":"(Alfa1*SIN(miia*C497)-Alfa2*SIN(miib*C497))","v":34.65633352992085},{"$f":"-(Alfa1*COS(miia*C497)-Alfa2*COS(miib*C497))","v":-9.7336959160036081},{"$f":"(miia*Alfa1*COS(miia*C497)-miib*Alfa2*COS(miib*C497))","v":-262.40607382520614},{"$f":"miia*Alfa1*SIN(miia*C497)-miib*Alfa2*SIN(miib*C497)","v":333.69557672154326},null,null,null,null,null,null,null,null,null,0,476,4.7599999999999429,44.556068121216576,-10.81181089694546]
[0,477,4.7699999999999427,{"$f":"(Alfa1*SIN(miia*C498)-Alfa2*SIN(miib*C498))","v":32.032707006671373},{"$f":"-(Alfa1*COS(miia*C498)-Alfa2*COS(miib*C498))","v":-6.3096140775397256},{"$f":"(miia*Alfa1*COS(miia*C498)-miib*Alfa2*COS(miib*C498))","v":-261.95773734217551},{"$f":"miia*Alfa1*SIN(miia*C498)-miib*Alfa2*SIN(miib*C498)","v":350.83167822679684},null,null,null,null,null,null,null,null,null,0,477,4.7699999999999427,51.045218534398948,-15.124489818035537]
[0,478,4.7799999999999425,{"$f":"(Alfa1*SIN(miia*C499)-Alfa2*SIN(miib*C499))","v":29.424250198239616},{"$f":"-(Alfa1*COS(miia*C499)-Alfa2*COS(miib*C499))","v":-2.7231614001147442},{"$f":"(miia*Alfa1*COS(miia*C499)-miib*Alfa2*COS(miib*C499))","v":-259.38864204323437},{"$f":"miia*Alfa1*SIN(miia*C499)-miib*Alfa2*SIN(miib*C499)","v":366.13853524585863},null,null,null,null,null,null,null,null,null,0,478,4.7799999999999425,56.068981579188502,-19.711056791401742]
[0,479,4.7899999999999423,{"$f":"(Alfa1*SIN(miia*C500)-Alfa2*SIN(miib*C500))","v":26.851642698708641},{"$f":"-(Alfa1*COS(miia*C500)-Alfa2*COS(miib*C500))","v":1.0064578470773569},{"$f":"(miia*Alfa1*COS(miia*C500)-miib*Alfa2*COS(miib*C500))","v":-254.80760938155743},{"$f":"miia*Alfa1*SIN(miia*C500)-miib*Alfa2*SIN(miib*C500)","v":379.43629050263866},null,null,null,null,null,null,null,null,null,0,479,4.7899999999999423,59.511769231063617,-24.327411697975968]
[0,480,4.7999999999999421,{"$f":"(Alfa1*SIN(miia*C501)-Alfa2*SIN(miib*C501))","v":24.334381462771361},{"$f":"-(Alfa1*COS(miia*C501)-Alfa2*COS(miib*C501))","v":4.8583190880891092},{"$f":"(miia*Alfa1*COS(miia*C501)-miib*Alfa2*COS(miib*C501))","v":-248.34211425482209},{"$f":"miia*Alfa1*SIN(miia*C501)-miib*Alfa2*SIN(miib*C501)","v":390.56103877700957},null,null,null,null,null,null,null,null,null,0,480,4.7999999999999421,61.314484236524834,-28.720117606585532]
[0,481,4.8099999999999419,{"$f":"(Alfa1*SIN(miia*C502)-Alfa2*SIN(miib*C502))","v":21.890601514594177},{"$f":"-(Alfa1*COS(miia*C502)-Alfa2*COS(miib*C502))","v":8.8099456688083819},{"$f":"(miia*Alfa1*COS(miia*C502)-miib*Alfa2*COS(miib*C502))","v":-240.13680710388417},{"$f":"miia*Alfa1*SIN(miia*C502)-miib*Alfa2*SIN(miib*C502)","v":399.3665421715325},null,null,null,null,null,null,null,null,null,0,481,4.8099999999999419,61.476095226926098,-32.637197900802164]
[0,482,4.8199999999999417,{"$f":"(Alfa1*SIN(miia*C503)-Alfa2*SIN(miib*C503))","v":19.536912286541352},{"$f":"-(Alfa1*COS(miia*C503)-Alfa2*COS(miib*C503))","v":12.837493419918296},{"$f":"(miia*Alfa1*COS(miia*C503)-miib*Alfa2*COS(miib*C503))","v":-230.35186853170154},{"$f":"miia*Alfa1*SIN(miia*C503)-miib*Alfa2*SIN(miib*C503)","v":405.72577896164159},null,null,null,null,null,null,null,null,null,0,482,4.8199999999999417,60.052970054101415,-35.838949684187334]
[0,483,4.8299999999999415,{"$f":"(Alfa1*SIN(miia*C504)-Alfa2*SIN(miib*C504))","v":17.288251179173098},{"$f":"-(Alfa1*COS(miia*C504)-Alfa2*COS(miib*C504))","v":16.915949810157343},{"$f":"(miia*Alfa1*COS(miia*C504)-miib*Alfa2*COS(miib*C504))","v":-219.16121338270563},{"$f":"miia*Alfa1*SIN(miia*C504)-miib*Alfa2*SIN(miib*C504)","v":409.53231033451198},null,null,null,null,null,null,null,null,null,0,483,4.8299999999999415,57.156000997519953,-38.108334695064137]
[0,484,4.8399999999999412,{"$f":"(Alfa1*SIN(miia*C505)-Alfa2*SIN(miib*C505))","v":15.157755756918704},{"$f":"-(Alfa1*COS(miia*C505)-Alfa2*COS(miib*C505))","v":21.019345797709292},{"$f":"(miia*Alfa1*COS(miia*C505)-miib*Alfa2*COS(miib*C505))","v":-206.7505627153873},{"$f":"miia*Alfa1*SIN(miia*C505)-miib*Alfa2*SIN(miib*C505)","v":410.70145111670422},null,null,null,null,null,null,null,null,null,0,484,4.8399999999999412,52.94564272250269,-39.260525137618828]
[0,485,4.849999999999941,{"$f":"(Alfa1*SIN(miia*C506)-Alfa2*SIN(miib*C506))","v":13.156655802801762},{"$f":"-(Alfa1*COS(miia*C506)-Alfa2*COS(miib*C506))","v":25.120978358116581},{"$f":"(miia*Alfa1*COS(miia*C506)-miib*Alfa2*COS(miib*C506))","v":-193.31540340803471},{"$f":"miia*Alfa1*SIN(miia*C506)-miib*Alfa2*SIN(miib*C506)","v":409.1712325250528},null,null,null,null,null,null,null,null,null,0,485,4.849999999999941,47.625066217105761,-39.151214942603922]
[0,486,4.8599999999999408,{"$f":"(Alfa1*SIN(miia*C507)-Alfa2*SIN(miib*C507))","v":11.294186252480223},{"$f":"-(Alfa1*COS(miia*C507)-Alfa2*COS(miib*C507))","v":29.1936415576393},{"$f":"(miia*Alfa1*COS(miia*C507)-miib*Alfa2*COS(miib*C507))","v":-179.05885624629698},{"$f":"miia*Alfa1*SIN(miia*C507)-miib*Alfa2*SIN(miib*C507)","v":404.903147029862},null,null,null,null,null,null,null,null,null,0,486,4.8599999999999408,41.431706127282347,-37.683355694165911]
[0,487,4.8699999999999406,{"$f":"(Alfa1*SIN(miia*C508)-Alfa2*SIN(miib*C508))","v":9.5775218147022763},{"$f":"-(Alfa1*COS(miia*C508)-Alfa2*COS(miib*C508))","v":33.20986395256962},{"$f":"(miia*Alfa1*COS(miia*C508)-miib*Alfa2*COS(miib*C508))","v":-164.18947424052052},{"$f":"miia*Alfa1*SIN(miia*C508)-miib*Alfa2*SIN(miib*C508)","v":397.88266757381797},null,null,null,null,null,null,null,null,null,0,487,4.8699999999999406,34.627541997237437,-34.812038861843533]
[0,488,4.8799999999999404,{"$f":"(Alfa1*SIN(miia*C509)-Alfa2*SIN(miib*C509))","v":8.0117338642113261},{"$f":"-(Alfa1*COS(miia*C509)-Alfa2*COS(miib*C509))","v":37.142150028550745},{"$f":"(miia*Alfa1*COS(miia*C509)-miib*Alfa2*COS(miib*C509))","v":-148.91899360167395},{"$f":"miia*Alfa1*SIN(miia*C509)-miib*Alfa2*SIN(miib*C509)","v":388.11953562265899},null,null,null,null,null,null,null,null,null,0,488,4.8799999999999404,27.488503399048039,-30.547319574818534]
[0,489,4.8899999999999402,{"$f":"(Alfa1*SIN(miia*C510)-Alfa2*SIN(miib*C510))","v":6.5997699663768117},{"$f":"-(Alfa1*COS(miia*C510)-Alfa2*COS(miib*C510))","v":40.963223350115612},{"$f":"(miia*Alfa1*COS(miia*C510)-miib*Alfa2*COS(miib*C510))","v":-133.46006026036434},{"$f":"miia*Alfa1*SIN(miia*C510)-miib*Alfa2*SIN(miib*C510)","v":375.64781481232205},null,null,null,null,null,null,null,null,null,0,489,4.8899999999999402,20.293422840068285,-24.954859037930472]
[0,490,4.89999999999994,{"$f":"(Alfa1*SIN(miia*C511)-Alfa2*SIN(miib*C511))","v":5.3424561626585039},{"$f":"-(Alfa1*COS(miia*C511)-Alfa2*COS(miib*C511))","v":44.646269069901891},{"$f":"(miia*Alfa1*COS(miia*C511)-miib*Alfa2*COS(miib*C511))","v":-118.02395503943572},{"$f":"miia*Alfa1*SIN(miia*C511)-miib*Alfa2*SIN(miib*C511)","v":360.52570927917043},null,null,null,null,null,null,null,null,null,0,490,4.89999999999994,13.312977326957222,-18.154349554217657]
[0,491,4.9099999999999397,{"$f":"(Alfa1*SIN(miia*C512)-Alfa2*SIN(miib*C512))","v":4.2385219147437034},{"$f":"-(Alfa1*COS(miia*C512)-Alfa2*COS(miib*C512))","v":48.165173449526407},{"$f":"(miia*Alfa1*COS(miia*C512)-miib*Alfa2*COS(miib*C512))","v":-102.81834058473936},{"$f":"miia*Alfa1*SIN(miia*C512)-miib*Alfa2*SIN(miib*C512)","v":342.8351480918551},null,null,null,null,null,null,null,null,null,0,491,4.9099999999999397,6.7990588744066702,-10.315774524791278]
[0,492,4.9199999999999395,{"$f":"(Alfa1*SIN(miia*C513)-Alfa2*SIN(miib*C513))","v":3.2846473751473226},{"$f":"-(Alfa1*COS(miia*C513)-Alfa2*COS(miib*C513))","v":51.494758069900172},{"$f":"(miia*Alfa1*COS(miia*C513)-miib*Alfa2*COS(miib*C513))","v":-88.045052920981576},{"$f":"miia*Alfa1*SIN(miia*C513)-miib*Alfa2*SIN(miib*C513)","v":322.68113952214645},null,null,null,null,null,null,null,null,null,0,492,4.9199999999999395,0.97499610870521314,-1.6536422190782774]
[0,493,4.9299999999999393,{"$f":"(Alfa1*SIN(miia*C514)-Alfa2*SIN(miib*C514))","v":2.475532425541374},{"$f":"-(Alfa1*COS(miia*C514)-Alfa2*COS(miib*C514))","v":54.611006457590967},{"$f":"(miia*Alfa1*COS(miia*C514)-miib*Alfa2*COS(miib*C514))","v":-73.897960032497991},{"$f":"miia*Alfa1*SIN(miia*C514)-miib*Alfa2*SIN(miib*C514)","v":300.19090117454908},null,null,null,null,null,null,null,null,null,0,493,4.9299999999999393,-3.9729858352753351,7.5805868994689032]
[0,494,4.9399999999999391,{"$f":"(Alfa1*SIN(miia*C515)-Alfa2*SIN(miib*C515))","v":1.8039867033551644},{"$f":"-(Alfa1*COS(miia*C515)-Alfa2*COS(miib*C515))","v":57.491280925216081},{"$f":"(miia*Alfa1*COS(miia*C515)-miib*Alfa2*COS(miib*C515))","v":-60.560909177087211},{"$f":"miia*Alfa1*SIN(miia*C515)-miib*Alfa2*SIN(miib*C515)","v":275.51277421790218},null,null,null,null,null,null,null,null,null,0,494,4.9399999999999391,-7.9027302867395566,17.107587176352659]
[0,495,4.9499999999999389,{"$f":"(Alfa1*SIN(miia*C516)-Alfa2*SIN(miib*C516))","v":1.2610396244753979},{"$f":"-(Alfa1*COS(miia*C516)-Alfa2*COS(miib*C516))","v":60.11452751706733},{"$f":"(miia*Alfa1*COS(miia*C516)-miib*Alfa2*COS(miib*C516))","v":-48.205783731656084},{"$f":"miia*Alfa1*SIN(miia*C516)-miib*Alfa2*SIN(miib*C516)","v":248.81493210432467},null,null,null,null,null,null,null,null,null,0,495,4.9499999999999389,-10.721265798329481,26.630416199085598]
[0,496,4.9599999999999387,{"$f":"(Alfa1*SIN(miia*C517)-Alfa2*SIN(miib*C517))","v":0.83606920730854561},{"$f":"-(Alfa1*COS(miia*C517)-Alfa2*COS(miib*C517))","v":62.461467065313471},{"$f":"(miia*Alfa1*COS(miia*C517)-miib*Alfa2*COS(miib*C517))","v":-36.990689250514407},{"$f":"miia*Alfa1*SIN(miia*C517)-miib*Alfa2*SIN(miib*C517)","v":220.28389620042455},null,null,null,null,null,null,null,null,null,0,496,4.9599999999999387,-12.387876204325103,35.845524954215179]
[0,497,4.9699999999999385,{"$f":"(Alfa1*SIN(miia*C518)-Alfa2*SIN(miib*C518))","v":0.51694831307614209},{"$f":"-(Alfa1*COS(miia*C518)-Alfa2*COS(miib*C518))","v":64.514770496069332},{"$f":"(miia*Alfa1*COS(miia*C518)-miib*Alfa2*COS(miib*C518))","v":-27.058287101928101},{"$f":"miia*Alfa1*SIN(miia*C518)-miib*Alfa2*SIN(miib*C518)","v":190.12287267229357},null,null,null,null,null,null,null,null,null,0,497,4.9699999999999385,-12.91500794306371,44.454099041228162]
[0,498,4.9799999999999383,{"$f":"(Alfa1*SIN(miia*C519)-Alfa2*SIN(miib*C519))","v":0.29020674090649123},{"$f":"-(Alfa1*COS(miia*C519)-Alfa2*COS(miib*C519))","v":66.259216677035425},{"$f":"(miia*Alfa1*COS(miia*C519)-miib*Alfa2*COS(miib*C519))","v":-18.53429254919584},{"$f":"miia*Alfa1*SIN(miia*C519)-miib*Alfa2*SIN(miib*C519)","v":158.54992674032019},null,null,null,null,null,null,null,null,null,0,498,4.9799999999999383,-12.366985624548796,52.173286401843917]
[0,499,4.989999999999938,{"$f":"(Alfa1*SIN(miia*C520)-Alfa2*SIN(miib*C520))","v":0.14120745583175065},{"$f":"-(Alfa1*COS(miia*C520)-Alfa2*COS(miib*C520))","v":67.681831267786336},{"$f":"(miia*Alfa1*COS(miia*C520)-miib*Alfa2*COS(miib*C520))","v":-11.526152474119044},{"$f":"miia*Alfa1*SIN(miia*C520)-miib*Alfa2*SIN(miib*C520)","v":125.79601203459977},null,null,null,null,null,null,null,null,null,0,499,4.989999999999938,-10.856594925274266,58.746870795443051]
[0,500,4.9999999999999378,{"$f":"(Alfa1*SIN(miia*C521)-Alfa2*SIN(miib*C521))","v":5.4335084804786327E-2},{"$f":"-(Alfa1*COS(miia*C521)-Alfa2*COS(miib*C521))","v":68.772005218438977},{"$f":"(miia*Alfa1*COS(miia*C521)-miib*Alfa2*COS(miib*C521))","v":-6.1219161200126848},{"$f":"miia*Alfa1*SIN(miia*C521)-miib*Alfa2*SIN(miib*C521)","v":92.102874220610175},null,null,null,null,null,null,null,null,null,0,500,4.9999999999999378,-8.5396775592206744,63.954971527264988]
[0,501,5.0099999999999376,{"$f":"(Alfa1*SIN(miia*C522)-Alfa2*SIN(miib*C522))","v":1.3194691748925624E-2},{"$f":"-(Alfa1*COS(miia*C522)-Alfa2*COS(miib*C522))","v":69.521591760537348},{"$f":"(miia*Alfa1*COS(miia*C522)-miib*Alfa2*COS(miib*C522))","v":-2.3893102766001846},{"$f":"miia*Alfa1*SIN(miia*C522)-miib*Alfa2*SIN(miib*C522)","v":57.720849313456746},null,null,null,null,null,null,null,null,null,0,501,5.0099999999999376,-5.6079628851019487,67.622387875567426]
[0,502,5.0199999999999374,{"$f":"(Alfa1*SIN(miia*C523)-Alfa2*SIN(miib*C523))","v":8.1873868964277285E-4},{"$f":"-(Alfa1*COS(miia*C523)-Alfa2*COS(miib*C523))","v":69.924980943576742},{"$f":"(miia*Alfa1*COS(miia*C523)-miib*Alfa2*COS(miib*C523))","v":-0.3750282598521153},{"$f":"miia*Alfa1*SIN(miia*C523)-miib*Alfa2*SIN(miib*C523)","v":22.906578144914025},null,null,null,null,null,null,null,null,null,0,502,5.0199999999999374,-2.2804314778570887,69.625259763489041]
[0,503,5.0299999999999372,{"$f":"(Alfa1*SIN(miia*C524)-Alfa2*SIN(miib*C524))","v":-1.1994276738069853E-4},{"$f":"-(Alfa1*COS(miia*C524)-Alfa2*COS(miib*C524))","v":69.979150989577775},{"$f":"(miia*Alfa1*COS(miia*C524)-miib*Alfa2*COS(miib*C524))","v":-0.10423987682071356},{"$f":"miia*Alfa1*SIN(miia*C524)-miib*Alfa2*SIN(miib*C524)","v":-12.079340719699143},null,null,null,null,null,null,null,null,null,0,503,5.0299999999999372,1.2064351088946854,69.895782373228727]
[0,504,5.039999999999937,{"$f":"(Alfa1*SIN(miia*C525)-Alfa2*SIN(miib*C525))","v":-7.0914061233966486E-3},{"$f":"-(Alfa1*COS(miia*C525)-Alfa2*COS(miib*C525))","v":69.683695964334873},{"$f":"(miia*Alfa1*COS(miia*C525)-miib*Alfa2*COS(miib*C525))","v":-1.5803273304573509},{"$f":"miia*Alfa1*SIN(miia*C525)-miib*Alfa2*SIN(miib*C525)","v":-46.974736706377641},null,null,null,null,null,null,null,null,null,0,504,5.039999999999937,4.6091194850007051,68.424788976847722]
[0,505,5.0499999999999368,{"$f":"(Alfa1*SIN(miia*C526)-Alfa2*SIN(miib*C526))","v":-3.7490345508714107E-2},{"$f":"-(Alfa1*COS(miia*C526)-Alfa2*COS(miib*C526))","v":69.040829495159642},{"$f":"(miia*Alfa1*COS(miia*C526)-miib*Alfa2*COS(miib*C526))","v":-4.7848497346745376},{"$f":"miia*Alfa1*SIN(miia*C526)-miib*Alfa2*SIN(miib*C526)","v":-81.518268306747871},null,null,null,null,null,null,null,null,null,0,505,5.0499999999999368,7.6878208932823622,65.262100216718068]
[0,506,5.0599999999999365,{"$f":"(Alfa1*SIN(miia*C527)-Alfa2*SIN(miib*C527))","v":-0.10841864186740757},{"$f":"-(Alfa1*COS(miia*C527)-Alfa2*COS(miib*C527))","v":68.055364498818065},{"$f":"(miia*Alfa1*COS(miia*C527)-miib*Alfa2*COS(miib*C527))","v":-9.6777365984304424},{"$f":"miia*Alfa1*SIN(miia*C527)-miib*Alfa2*SIN(miib*C527)","v":-115.45181605711915},null,null,null,null,null,null,null,null,null,0,506,5.0599999999999365,10.217055906079157,60.514626072449367]
[0,507,5.0699999999999363,{"$f":"(Alfa1*SIN(miia*C528)-Alfa2*SIN(miib*C528))","v":-0.23647098163796798},{"$f":"-(Alfa1*COS(miia*C528)-Alfa2*COS(miib*C528))","v":66.734669117599708},{"$f":"(miia*Alfa1*COS(miia*C528)-miib*Alfa2*COS(miib*C528))","v":-16.197708322542525},{"$f":"miia*Alfa1*SIN(miia*C528)-miib*Alfa2*SIN(miib*C528)","v":-148.52284405795669},null,null,null,null,null,null,null,null,null,0,507,5.0699999999999363,11.995674335209744,54.342295302035566]
[0,508,5.0799999999999361,{"$f":"(Alfa1*SIN(miia*C529)-Alfa2*SIN(miib*C529))","v":-0.43752579869700625},{"$f":"-(Alfa1*COS(miia*C529)-Alfa2*COS(miib*C529))","v":65.088599293730198},{"$f":"(miia*Alfa1*COS(miia*C529)-miib*Alfa2*COS(miib*C529))","v":-24.262919457461749},{"$f":"miia*Alfa1*SIN(miia*C529)-miib*Alfa2*SIN(miib*C529)","v":-180.48670698194263},null,null,null,null,null,null,null,null,null,0,508,5.0799999999999361,12.855880795204358,46.951972723099445]
[0,509,5.0899999999999359,{"$f":"(Alfa1*SIN(miia*C530)-Alfa2*SIN(miib*C530))","v":-0.72654373650602189},{"$f":"-(Alfa1*COS(miia*C530)-Alfa2*COS(miib*C530))","v":63.129408640338639},{"$f":"(miia*Alfa1*COS(miia*C530)-miib*Alfa2*COS(miib*C530))","v":-33.771818217370594},{"$f":"miia*Alfa1*SIN(miia*C530)-miib*Alfa2*SIN(miib*C530)","v":-211.10888006025925},null,null,null,null,null,null,null,null,null,0,509,5.0899999999999359,12.670892243501898,38.589603904124914]
[0,510,5.0999999999999357,{"$f":"(Alfa1*SIN(miia*C531)-Alfa2*SIN(miib*C531))","v":-1.1173757513529257},{"$f":"-(Alfa1*COS(miia*C531)-Alfa2*COS(miib*C531))","v":60.871636488653309},{"$f":"(miia*Alfa1*COS(miia*C531)-miib*Alfa2*COS(miib*C531))","v":-44.604213558292656},{"$f":"miia*Alfa1*SIN(miia*C531)-miib*Alfa2*SIN(miib*C531)","v":-240.16709030177964},null,null,null,null,null,null,null,null,null,0,510,5.0999999999999357,11.360916543038332,29.530896517924084]
[0,511,5.1099999999999355,{"$f":"(Alfa1*SIN(miia*C532)-Alfa2*SIN(miib*C532))","v":-1.6225828800727378},{"$f":"-(Alfa1*COS(miia*C532)-Alfa2*COS(miib*C532))","v":58.331975203822537},{"$f":"(miia*Alfa1*COS(miia*C532)-miib*Alfa2*COS(miib*C532))","v":-56.622539027338036},{"$f":"miia*Alfa1*SIN(miia*C532)-miib*Alfa2*SIN(miib*C532)","v":-267.45332818081357},null,null,null,null,null,null,null,null,null,0,511,5.1099999999999355,8.8972044672701767,20.070905002139906]
[0,512,5.1199999999999353,{"$f":"(Alfa1*SIN(miia*C533)-Alfa2*SIN(miib*C533))","v":-2.2532695776422891},{"$f":"-(Alfa1*COS(miia*C533)-Alfa2*COS(miib*C533))","v":55.529118063633845},{"$f":"(miia*Alfa1*COS(miia*C533)-miib*Alfa2*COS(miib*C533))","v":-69.67330059780133},{"$f":"miia*Alfa1*SIN(miia*C533)-miib*Alfa2*SIN(miib*C533)","v":-292.77572021614537},null,null,null,null,null,null,null,null,null,0,512,5.1199999999999353,5.3040049047972406,10.51292799576929]
[{"$f":"IF(B534=$AC$1,1,0)","v":0},513,{"$f":"C533+dt","v":5.1299999999999351},{"$f":"(Alfa1*SIN(miia*C534)-Alfa2*SIN(miib*C534))","v":-3.0189323927546354},{"$f":"-(Alfa1*COS(miia*C534)-Alfa2*COS(miib*C534))","v":52.483589183427476},{"$f":"(miia*Alfa1*COS(miia*C534)-miib*Alfa2*COS(miib*C534))","v":-83.588693840565114},{"$f":"miia*Alfa1*SIN(miia*C534)-miib*Alfa2*SIN(miib*C534)","v":-315.96024424551865},null,null,null,null,null,null,null,null,null,{"$f":"IF(R534=$AC$1,1,0)","v":0},513,{"$f":"S533+dt","v":5.1299999999999351},{"$f":"IF(R534<MAX_TIME,Aktina*SIN(epsilon*S534)*COS(D*S534),Aktina*SIN(epsilon*MAX_TIME*dt)*COS(D*MAX_TIME*dt))","v":0.65833723184097848},{"$f":"IF(R534<MAX_TIME,Aktina*COS(epsilon*S534)*COS(D*S534),Aktina*COS(epsilon*MAX_TIME*dt)*COS(D*MAX_TIME*dt))","v":1.1571545780952857}]
[0,{"$f":"B534+1","v":514},5.1399999999999348,{"$f":"(Alfa1*SIN(miia*C535)-Alfa2*SIN(miib*C535))","v":-3.9273255942668506},{"$f":"-(Alfa1*COS(miia*C535)-Alfa2*COS(miib*C535))","v":49.217557144791371},{"$f":"(miia*Alfa1*COS(miia*C535)-miib*Alfa2*COS(miib*C535))","v":-98.18837406483793},{"$f":"miia*Alfa1*SIN(miia*C535)-miib*Alfa2*SIN(miib*C535)","v":-336.85227076167092},null,null,null,null,null,null,null,null,null,0,{"$f":"R534+1","v":514},5.1399999999999348,-4.9124174574565096,-7.7104954231660932]
[0,515,5.1499999999999346,{"$f":"(Alfa1*SIN(miia*C536)-Alfa2*SIN(miib*C536))","v":-4.9843451898348192},{"$f":"-(Alfa1*COS(miia*C536)-Alfa2*COS(miib*C536))","v":45.754634143459853},{"$f":"(miia*Alfa1*COS(miia*C536)-miib*Alfa2*COS(miib*C536))","v":-113.28136150788374},{"$f":"miia*Alfa1*SIN(miia*C536)-miib*Alfa2*SIN(miib*C536)","v":-355.31791540289032},null,null,null,null,null,null,null,null,null,0,515,5.1499999999999346,-11.23501684485362,-15.828900225078995]
[0,516,5.1599999999999344,{"$f":"(Alfa1*SIN(miia*C537)-Alfa2*SIN(miib*C537))","v":-6.1939325918207508},{"$f":"-(Alfa1*COS(miia*C537)-Alfa2*COS(miib*C537))","v":42.119662611652394},{"$f":"(miia*Alfa1*COS(miia*C537)-miib*Alfa2*COS(miib*C537))","v":-128.66806227965378},{"$f":"miia*Alfa1*SIN(miia*C537)-miib*Alfa2*SIN(miib*C537)","v":-371.24518956563827},null,null,null,null,null,null,null,null,null,0,516,5.1599999999999344,-18.096775958541251,-22.971222926341671]
[0,517,5.1699999999999342,{"$f":"(Alfa1*SIN(miia*C538)-Alfa2*SIN(miib*C538))","v":-7.5579989865496344},{"$f":"-(Alfa1*COS(miia*C538)-Alfa2*COS(miib*C538))","v":38.338491390495612},{"$f":"(miia*Alfa1*COS(miia*C538)-miib*Alfa2*COS(miib*C538))","v":-144.1423845879192},{"$f":"miia*Alfa1*SIN(miia*C538)-miib*Alfa2*SIN(miib*C538)","v":-384.54493811038361},null,null,null,null,null,null,null,null,null,0,517,5.1699999999999342,-25.253652808697929,-28.95298740247296]
[0,518,5.179999999999934,{"$f":"(Alfa1*SIN(miia*C539)-Alfa2*SIN(miib*C539))","v":-9.0763712531969603},{"$f":"-(Alfa1*COS(miia*C539)-Alfa2*COS(miib*C539))","v":34.437743627976921},{"$f":"(miia*Alfa1*COS(miia*C539)-miib*Alfa2*COS(miib*C539))","v":-159.49392879447757},{"$f":"miia*Alfa1*SIN(miia*C539)-miib*Alfa2*SIN(miib*C539)","v":-395.15155524443503},null,null,null,null,null,null,null,null,null,0,518,5.179999999999934,-32.439682670451717,-33.638430964588018]
[0,519,5.1899999999999338,{"$f":"(Alfa1*SIN(miia*C540)-Alfa2*SIN(miib*C540))","v":-10.74676006011353},{"$f":"-(Alfa1*COS(miia*C540)-Alfa2*COS(miib*C540))","v":30.444578656101761},{"$f":"(miia*Alfa1*COS(miia*C540)-miib*Alfa2*COS(miib*C540))","v":-174.51022909305101},{"$f":"miia*Alfa1*SIN(miia*C540)-miib*Alfa2*SIN(miib*C540)","v":-403.02347186613076},null,null,null,null,null,null,null,null,null,0,519,5.1899999999999338,-39.377387845763515,-36.944890531202589]
[0,520,5.1999999999999336,{"$f":"(Alfa1*SIN(miia*C541)-Alfa2*SIN(miib*C541))","v":-12.564750541424178},{"$f":"-(Alfa1*COS(miia*C541)-Alfa2*COS(miib*C541))","v":26.386450156797348},{"$f":"(miia*Alfa1*COS(miia*C541)-miib*Alfa2*COS(miib*C541))","v":-188.97902406225302},{"$f":"miia*Alfa1*SIN(miia*C541)-miib*Alfa2*SIN(miib*C541)","v":-408.14340992132884},null,null,null,null,null,null,null,null,null,0,520,5.1999999999999336,-39.377387845763515,-36.944890531202589]
[0,521,5.2099999999999334,{"$f":"(Alfa1*SIN(miia*C542)-Alfa2*SIN(miib*C542))","v":-14.523815727533481},{"$f":"-(Alfa1*COS(miia*C542)-Alfa2*COS(miib*C542))","v":22.290862959073571},{"$f":"(miia*Alfa1*COS(miia*C542)-miib*Alfa2*COS(miib*C542))","v":-202.69053303792035},{"$f":"miia*Alfa1*SIN(miia*C542)-miib*Alfa2*SIN(miib*C542)","v":-410.51840163313796},null,null,null,null,null,null,null,null,null,0,521,5.2099999999999334,-39.377387845763515,-36.944890531202589]
[0,522,5.2199999999999331,{"$f":"(Alfa1*SIN(miia*C543)-Alfa2*SIN(miib*C543))","v":-16.615352672033069},{"$f":"-(Alfa1*COS(miia*C543)-Alfa2*COS(miib*C543))","v":18.185130819695335},{"$f":"(miia*Alfa1*COS(miia*C543)-miib*Alfa2*COS(miib*C543))","v":-215.43971517131982},{"$f":"miia*Alfa1*SIN(miia*C543)-miib*Alfa2*SIN(miib*C543)","v":-410.17957379619361},null,null,null,null,null,null,null,null,null,0,522,5.2199999999999331,-39.377387845763515,-36.944890531202589]
[0,523,5.2299999999999329,{"$f":"(Alfa1*SIN(miia*C544)-Alfa2*SIN(miib*C544))","v":-18.828740986749079},{"$f":"-(Alfa1*COS(miia*C544)-Alfa2*COS(miib*C544))","v":14.096137526057914},{"$f":"(miia*Alfa1*COS(miia*C544)-miib*Alfa2*COS(miib*C544))","v":-227.02848819405767},{"$f":"miia*Alfa1*SIN(miia*C544)-miib*Alfa2*SIN(miib*C544)","v":-407.1816996542691},null,null,null,null,null,null,null,null,null,0,523,5.2299999999999329,-39.377387845763515,-36.944890531202589]
[0,524,5.2399999999999327,{"$f":"(Alfa1*SIN(miia*C545)-Alfa2*SIN(miib*C545))","v":-21.151423268608863},{"$f":"-(Alfa1*COS(miia*C545)-Alfa2*COS(miib*C545))","v":10.050103623233159},{"$f":"(miia*Alfa1*COS(miia*C545)-miib*Alfa2*COS(miib*C545))","v":-237.26788429544868},{"$f":"miia*Alfa1*SIN(miia*C545)-miib*Alfa2*SIN(miib*C545)","v":-401.60252318141988},null,null,null,null,null,null,null,null,null,0,524,5.2399999999999327,-39.377387845763515,-36.944890531202589]
[0,525,5.2499999999999325,{"$f":"(Alfa1*SIN(miia*C546)-Alfa2*SIN(miib*C546))","v":-23.569006678935782},{"$f":"-(Alfa1*COS(miia*C546)-Alfa2*COS(miib*C546))","v":6.0723610076397883},{"$f":"(miia*Alfa1*COS(miia*C546)-miib*Alfa2*COS(miib*C546))","v":-245.98012112985754},{"$f":"miia*Alfa1*SIN(miia*C546)-miib*Alfa2*SIN(miib*C546)","v":-393.54186283926572},null,null,null,null,null,null,null,null,null,0,525,5.2499999999999325,-39.377387845763515,-36.944890531202589]
[0,526,5.2599999999999323,{"$f":"(Alfa1*SIN(miia*C547)-Alfa2*SIN(miib*C547))","v":-26.065384719938542},{"$f":"-(Alfa1*COS(miia*C547)-Alfa2*COS(miib*C547))","v":2.1871375480896482},{"$f":"(miia*Alfa1*COS(miia*C547)-miib*Alfa2*COS(miib*C547))","v":-253.00056680403384},{"$f":"miia*Alfa1*SIN(miia*C547)-miib*Alfa2*SIN(miib*C547)","v":-383.12050406393564},null,null,null,null,null,null,null,null,null,0,526,5.2599999999999323,-39.377387845763515,-36.944890531202589]
[0,527,5.2699999999999321,{"$f":"(Alfa1*SIN(miia*C548)-Alfa2*SIN(miib*C548))","v":-28.622878046714021},{"$f":"-(Alfa1*COS(miia*C548)-Alfa2*COS(miib*C548))","v":-1.582646208098847},{"$f":"(miia*Alfa1*COS(miia*C548)-miib*Alfa2*COS(miib*C548))","v":-258.17957873942396},{"$f":"miia*Alfa1*SIN(miia*C548)-miib*Alfa2*SIN(miib*C548)","v":-370.47889182392009},null,null,null,null,null,null,null,null,null,0,527,5.2699999999999321,-39.377387845763515,-36.944890531202589]
[0,528,5.2799999999999319,{"$f":"(Alfa1*SIN(miia*C549)-Alfa2*SIN(miib*C549))","v":-31.222392958102539},{"$f":"-(Alfa1*COS(miia*C549)-Alfa2*COS(miib*C549))","v":-5.2155663096107148},{"$f":"(miia*Alfa1*COS(miia*C549)-miib*Alfa2*COS(miib*C549))","v":-261.38419755146509},{"$f":"miia*Alfa1*SIN(miia*C549)-miib*Alfa2*SIN(miib*C549)","v":-355.77563656379107},null,null,null,null,null,null,null,null,null,0,528,5.2799999999999319,-39.377387845763515,-36.944890531202589]
[0,529,5.2899999999999316,{"$f":"(Alfa1*SIN(miia*C550)-Alfa2*SIN(miib*C550))","v":-33.843596028185267},{"$f":"-(Alfa1*COS(miia*C550)-Alfa2*COS(miib*C550))","v":-8.6918688644278461},{"$f":"(miia*Alfa1*COS(miia*C550)-miib*Alfa2*COS(miib*C550))","v":-262.49967852453238},{"$f":"miia*Alfa1*SIN(miia*C550)-miib*Alfa2*SIN(miib*C550)","v":-339.1858486888076},null,null,null,null,null,null,null,null,null,0,529,5.2899999999999316,-39.377387845763515,-36.944890531202589]
[0,530,5.2999999999999314,{"$f":"(Alfa1*SIN(miia*C551)-Alfa2*SIN(miib*C551))","v":-36.465103173922159},{"$f":"-(Alfa1*COS(miia*C551)-Alfa2*COS(miib*C551))","v":-11.993626060192392},{"$f":"(miia*Alfa1*COS(miia*C551)-miib*Alfa2*COS(miib*C551))","v":-261.43084487318509},{"$f":"miia*Alfa1*SIN(miia*C551)-miib*Alfa2*SIN(miib*C551)","v":-320.89931843347199},null,null,null,null,null,null,null,null,null,0,530,5.2999999999999314,-39.377387845763515,-36.944890531202589]
[0,531,5.3099999999999312,{"$f":"(Alfa1*SIN(miia*C552)-Alfa2*SIN(miib*C552))","v":-39.064681305065406},{"$f":"-(Alfa1*COS(miia*C552)-Alfa2*COS(miib*C552))","v":-15.104873286100672},{"$f":"(miia*Alfa1*COS(miia*C552)-miib*Alfa2*COS(miib*C552))","v":-258.10324875155442},{"$f":"miia*Alfa1*SIN(miia*C552)-miib*Alfa2*SIN(miib*C552)","v":-301.11855947636138},null,null,null,null,null,null,null,null,null,0,531,5.3099999999999312,-39.377387845763515,-36.944890531202589]
[0,532,5.319999999999931,{"$f":"(Alfa1*SIN(miia*C553)-Alfa2*SIN(miib*C553))","v":-41.619460571554164},{"$f":"-(Alfa1*COS(miia*C553)-Alfa2*COS(miib*C553))","v":-18.011726091244995},{"$f":"(miia*Alfa1*COS(miia*C553)-miib*Alfa2*COS(miib*C553))","v":-252.46412788547195},{"$f":"miia*Alfa1*SIN(miia*C553)-miib*Alfa2*SIN(miib*C553)","v":-280.05673599891975},null,null,null,null,null,null,null,null,null,0,532,5.319999999999931,-39.377387845763515,-36.944890531202589]
[0,533,5.3299999999999308,{"$f":"(Alfa1*SIN(miia*C554)-Alfa2*SIN(miib*C554))","v":-44.10615511242468},{"$f":"-(Alfa1*COS(miia*C554)-Alfa2*COS(miib*C554))","v":-20.702475917158385},{"$f":"(miia*Alfa1*COS(miia*C554)-miib*Alfa2*COS(miib*C554))","v":-244.4831477371651},{"$f":"miia*Alfa1*SIN(miia*C554)-miib*Alfa2*SIN(miib*C554)","v":-257.93549402406421},null,null,null,null,null,null,null,null,null,0,533,5.3299999999999308,-39.377387845763515,-36.944890531202589]
[0,534,5.3399999999999306,{"$f":"(Alfa1*SIN(miia*C555)-Alfa2*SIN(miib*C555))","v":-46.501290119979771},{"$f":"-(Alfa1*COS(miia*C555)-Alfa2*COS(miib*C555))","v":-23.167663755503689},{"$f":"(miia*Alfa1*COS(miia*C555)-miib*Alfa2*COS(miib*C555))","v":-234.15292124971504},{"$f":"miia*Alfa1*SIN(miia*C555)-miib*Alfa2*SIN(miib*C555)","v":-234.98271880011589},null,null,null,null,null,null,null,null,null,0,534,5.3399999999999306,-39.377387845763515,-36.944890531202589]
[0,535,5.3499999999999304,{"$f":"(Alfa1*SIN(miia*C556)-Alfa2*SIN(miib*C556))","v":-48.781432964466909},{"$f":"-(Alfa1*COS(miia*C556)-Alfa2*COS(miib*C556))","v":-25.40013110324772},{"$f":"(miia*Alfa1*COS(miia*C556)-miib*Alfa2*COS(miib*C556))","v":-221.48930043664174},{"$f":"miia*Alfa1*SIN(miia*C556)-miib*Alfa2*SIN(miib*C556)","v":-211.43024070751912},null,null,null,null,null,null,null,null,null,0,535,5.3499999999999304,-39.377387845763515,-36.944890531202589]
[0,536,5.3599999999999302,{"$f":"(Alfa1*SIN(miia*C557)-Alfa2*SIN(miib*C557))","v":-50.923426078510104},{"$f":"-(Alfa1*COS(miia*C557)-Alfa2*COS(miib*C557))","v":-27.395047815059844},{"$f":"(miia*Alfa1*COS(miia*C557)-miib*Alfa2*COS(miib*C557))","v":-206.53143635881108},{"$f":"miia*Alfa1*SIN(miia*C557)-miib*Alfa2*SIN(miib*C557)","v":-187.51151265301411},null,null,null,null,null,null,null,null,null,0,536,5.3599999999999302,-39.377387845763515,-36.944890531202589]
[0,537,5.3699999999999299,{"$f":"(Alfa1*SIN(miia*C558)-Alfa2*SIN(miib*C558))","v":-52.904619277507024},{"$f":"-(Alfa1*COS(miia*C558)-Alfa2*COS(miib*C558))","v":-29.149916683802203},{"$f":"(miia*Alfa1*COS(miia*C558)-miib*Alfa2*COS(miib*C558))","v":-189.34160634360157},{"$f":"miia*Alfa1*SIN(miia*C558)-miib*Alfa2*SIN(miib*C558)","v":-163.45928217356064},null,null,null,null,null,null,null,null,null,0,537,5.3699999999999299,-39.377387845763515,-36.944890531202589]
[0,538,5.3799999999999297,{"$f":"(Alfa1*SIN(miia*C559)-Alfa2*SIN(miib*C559))","v":-54.70309919237976},{"$f":"-(Alfa1*COS(miia*C559)-Alfa2*COS(miib*C559))","v":-30.664554812524926},{"$f":"(miia*Alfa1*COS(miia*C559)-miib*Alfa2*COS(miib*C559))","v":-170.00480962680268},{"$f":"miia*Alfa1*SIN(miia*C559)-miib*Alfa2*SIN(miib*C559)","v":-139.50328149785693},null,null,null,null,null,null,null,null,null,0,538,5.3799999999999297,-39.377387845763515,-36.944890531202589]
[1,539,5.3899999999999295,{"$f":"(Alfa1*SIN(miia*C560)-Alfa2*SIN(miib*C560))","v":-56.297913514466224},{"$f":"-(Alfa1*COS(miia*C560)-Alfa2*COS(miib*C560))","v":-31.941052073016863},{"$f":"(miia*Alfa1*COS(miia*C560)-miib*Alfa2*COS(miib*C560))","v":-148.6281349128235},{"$f":"miia*Alfa1*SIN(miia*C560)-miib*Alfa2*SIN(miib*C560)","v":-115.86795860660031},null,null,null,null,null,null,null,null,null,1,539,5.3899999999999295,-39.377387845763515,-36.944890531202589]
[0,540,5.3999999999999293,{"$f":"(Alfa1*SIN(miia*C561)-Alfa2*SIN(miib*C561))","v":-57.669287798738942},{"$f":"-(Alfa1*COS(miia*C561)-Alfa2*COS(miib*C561))","v":-32.983707174379262},{"$f":"(miia*Alfa1*COS(miia*C561)-miib*Alfa2*COS(miib*C561))","v":-125.33990563034517},{"$f":"miia*Alfa1*SIN(miia*C561)-miib*Alfa2*SIN(miib*C561)","v":-92.770271895835293},null,null,null,null,null,null,null,null,null,0,540,5.3999999999999293,-39.377387845763515,-36.944890531202589]
[0,541,5.4099999999999291,{"$f":"(Alfa1*SIN(miia*C562)-Alfa2*SIN(miib*C562))","v":-58.798832640492051},{"$f":"-(Alfa1*COS(miia*C562)-Alfa2*COS(miib*C562))","v":-33.79894208800679},{"$f":"(miia*Alfa1*COS(miia*C562)-miib*Alfa2*COS(miib*C562))","v":-100.28861088573392},{"$f":"miia*Alfa1*SIN(miia*C562)-miib*Alfa2*SIN(miib*C562)","v":-70.41757038522627},null,null,null,null,null,null,null,null,null,0,541,5.4099999999999291,-39.377387845763515,-36.944890531202589]
[0,542,5.4199999999999289,{"$f":"(Alfa1*SIN(miia*C563)-Alfa2*SIN(miib*C563))","v":-59.669739131468695},{"$f":"-(Alfa1*COS(miia*C563)-Alfa2*COS(miib*C563))","v":-34.395195790550801},{"$f":"(miia*Alfa1*COS(miia*C563)-miib*Alfa2*COS(miib*C563))","v":-73.641632263084517},{"$f":"miia*Alfa1*SIN(miia*C563)-miib*Alfa2*SIN(miib*C563)","v":-49.00558053156908},null,null,null,null,null,null,null,null,null,0,542,5.4199999999999289,-39.377387845763515,-36.944890531202589]
[0,543,5.4299999999999287,{"$f":"(Alfa1*SIN(miia*C564)-Alfa2*SIN(miib*C564))","v":-60.266960613213982},{"$f":"-(Alfa1*COS(miia*C564)-Alfa2*COS(miib*C564))","v":-34.782798491755401},{"$f":"(miia*Alfa1*COS(miia*C564)-miib*Alfa2*COS(miib*C564))","v":-45.583778666253167},{"$f":"miia*Alfa1*SIN(miia*C564)-miib*Alfa2*SIN(miib*C564)","v":-28.716519616217909},null,null,null,null,null,null,null,null,null,0,543,5.4299999999999287,-39.377387845763515,-36.944890531202589]
[0,544,5.4399999999999284,{"$f":"(Alfa1*SIN(miia*C565)-Alfa2*SIN(miib*C565))","v":-60.577378877129938},{"$f":"-(Alfa1*COS(miia*C565)-Alfa2*COS(miib*C565))","v":-34.973827707449807},{"$f":"(miia*Alfa1*COS(miia*C565)-miib*Alfa2*COS(miib*C565))","v":-16.315643324208224},{"$f":"miia*Alfa1*SIN(miia*C565)-miib*Alfa2*SIN(miib*C565)","v":-9.7173543843272512},null,null,null,null,null,null,null,null,null,0,544,5.4399999999999284,-39.377387845763515,-36.944890531202589]
[0,545,5.4499999999999282,{"$f":"(Alfa1*SIN(miia*C566)-Alfa2*SIN(miib*C566))","v":-60.589953110977518},{"$f":"-(Alfa1*COS(miia*C566)-Alfa2*COS(miib*C566))","v":-34.981947717524363},{"$f":"(miia*Alfa1*COS(miia*C566)-miib*Alfa2*COS(miib*C566))","v":13.948201132812514},{"$f":"miia*Alfa1*SIN(miia*C566)-miib*Alfa2*SIN(miib*C566)","v":7.8417778631790327},null,null,null,null,null,null,null,null,null,0,545,5.4499999999999282,-39.377387845763515,-36.944890531202589]
[0,546,5.459999999999928,{"$f":"(Alfa1*SIN(miia*C567)-Alfa2*SIN(miib*C567))","v":-60.295850058927265},{"$f":"-(Alfa1*COS(miia*C567)-Alfa2*COS(miib*C567))","v":-34.822234112621345},{"$f":"(miia*Alfa1*COS(miia*C567)-miib*Alfa2*COS(miib*C567))","v":44.98115199038358},{"$f":"miia*Alfa1*SIN(miia*C567)-miib*Alfa2*SIN(miib*C567)","v":23.828970172366581},null,null,null,null,null,null,null,null,null,0,546,5.459999999999928,-39.377387845763515,-36.944890531202589]
[0,547,5.4699999999999278,{"$f":"(Alfa1*SIN(miia*C568)-Alfa2*SIN(miib*C568))","v":-59.688554045042487},{"$f":"-(Alfa1*COS(miia*C568)-Alfa2*COS(miib*C568))","v":-34.510985279902322},{"$f":"(miia*Alfa1*COS(miia*C568)-miib*Alfa2*COS(miib*C568))","v":76.546651169741835},{"$f":"miia*Alfa1*SIN(miia*C568)-miib*Alfa2*SIN(miib*C568)","v":38.131755084420547},null,null,null,null,null,null,null,null,null,0,547,5.4699999999999278,-39.377387845763515,-36.944890531202589]
[0,548,5.4799999999999276,{"$f":"(Alfa1*SIN(miia*C569)-Alfa2*SIN(miib*C569))","v":-58.763955706476636},{"$f":"-(Alfa1*COS(miia*C569)-Alfa2*COS(miib*C569))","v":-34.065522806154029},{"$f":"(miia*Alfa1*COS(miia*C569)-miib*Alfa2*COS(miib*C569))","v":108.4003650939332},{"$f":"miia*Alfa1*SIN(miia*C569)-miib*Alfa2*SIN(miib*C569)","v":50.658110219732549},null,null,null,null,null,null,null,null,null,0,548,5.4799999999999276,-39.377387845763515,-36.944890531202589]
[0,549,5.4899999999999274,{"$f":"(Alfa1*SIN(miia*C570)-Alfa2*SIN(miib*C570))","v":-57.520418490727948},{"$f":"-(Alfa1*COS(miia*C570)-Alfa2*COS(miib*C570))","v":-33.503982884391931},{"$f":"(miia*Alfa1*COS(miia*C570)-miib*Alfa2*COS(miib*C570))","v":140.29244837900791},{"$f":"miia*Alfa1*SIN(miia*C570)-miib*Alfa2*SIN(miib*C570)","v":61.337250545798923},null,null,null,null,null,null,null,null,null,0,549,5.4899999999999274,-39.377387845763515,-36.944890531202589]
[0,550,5.4999999999999272,{"$f":"(Alfa1*SIN(miia*C571)-Alfa2*SIN(miib*C571))","v":-55.958822188951487},{"$f":"-(Alfa1*COS(miia*C571)-Alfa2*COS(miib*C571))","v":-32.845100896943819},{"$f":"(miia*Alfa1*COS(miia*C571)-miib*Alfa2*COS(miib*C571))","v":171.96986917614998},{"$f":"miia*Alfa1*SIN(miia*C571)-miib*Alfa2*SIN(miib*C571)","v":70.120199730765108},null,null,null,null,null,null,null,null,null,0,550,5.4999999999999272,-39.377387845763515,-36.944890531202589]
[0,551,5.509999999999927,{"$f":"(Alfa1*SIN(miia*C572)-Alfa2*SIN(miib*C572))","v":-54.082583002418119},{"$f":"-(Alfa1*COS(miia*C572)-Alfa2*COS(miib*C572))","v":-32.107991412885191},{"$f":"(miia*Alfa1*COS(miia*C572)-miib*Alfa2*COS(miib*C572))","v":203.1787733581869},{"$f":"miia*Alfa1*SIN(miia*C572)-miib*Alfa2*SIN(miib*C572)","v":76.980135213539114},null,null,null,null,null,null,null,null,null,0,551,5.509999999999927,-39.377387845763515,-36.944890531202589]
[0,552,5.5199999999999267,{"$f":"(Alfa1*SIN(miia*C573)-Alfa2*SIN(miib*C573))","v":-51.897649869495595},{"$f":"-(Alfa1*COS(miia*C573)-Alfa2*COS(miib*C573))","v":-31.311925880014392},{"$f":"(miia*Alfa1*COS(miia*C573)-miib*Alfa2*COS(miib*C573))","v":233.66686433827454},{"$f":"miia*Alfa1*SIN(miia*C573)-miib*Alfa2*SIN(miib*C573)","v":81.912503903279855},null,null,null,null,null,null,null,null,null,0,552,5.5199999999999267,-39.377387845763515,-36.944890531202589]
[0,553,5.5299999999999265,{"$f":"(Alfa1*SIN(miia*C574)-Alfa2*SIN(miib*C574))","v":-49.412477013716405},{"$f":"-(Alfa1*COS(miia*C574)-Alfa2*COS(miib*C574))","v":-30.476110310883644},{"$f":"(miia*Alfa1*COS(miia*C574)-miib*Alfa2*COS(miib*C574))","v":263.18577513382542},{"$f":"miia*Alfa1*SIN(miia*C574)-miib*Alfa2*SIN(miib*C574)","v":84.934907732906879},null,null,null,null,null,null,null,null,null,0,553,5.5299999999999265,-39.377387845763515,-36.944890531202589]
[0,554,5.5399999999999263,{"$f":"(Alfa1*SIN(miia*C575)-Alfa2*SIN(miib*C575))","v":-46.637972907270012},{"$f":"-(Alfa1*COS(miia*C575)-Alfa2*COS(miib*C575))","v":-29.619465258558094},{"$f":"(miia*Alfa1*COS(miia*C575)-miib*Alfa2*COS(miib*C575))","v":291.49340934673404},{"$f":"miia*Alfa1*SIN(miia*C575)-miib*Alfa2*SIN(miib*C575)","v":86.086760609911593},null,null,null,null,null,null,null,null,null,0,554,5.5399999999999263,-39.377387845763515,-36.944890531202589]
[0,555,5.5499999999999261,{"$f":"(Alfa1*SIN(miia*C576)-Alfa2*SIN(miib*C576))","v":-43.587426076287279},{"$f":"-(Alfa1*COS(miia*C576)-Alfa2*COS(miib*C576))","v":-28.760410350807749},{"$f":"(miia*Alfa1*COS(miia*C576)-miib*Alfa2*COS(miib*C576))","v":318.35622802108452},{"$f":"miia*Alfa1*SIN(miia*C576)-miib*Alfa2*SIN(miib*C576)","v":85.428720609958333},null,null,null,null,null,null,null,null,null,0,555,5.5499999999999261,-39.377387845763515,-36.944890531202589]
[0,556,5.5599999999999259,{"$f":"(Alfa1*SIN(miia*C577)-Alfa2*SIN(miib*C577))","v":-40.276408402267151},{"$f":"-(Alfa1*COS(miia*C577)-Alfa2*COS(miib*C577))","v":-27.916655601626637},{"$f":"(miia*Alfa1*COS(miia*C577)-miib*Alfa2*COS(miib*C577))","v":343.5514598589603},{"$f":"miia*Alfa1*SIN(miia*C577)-miib*Alfa2*SIN(miib*C577)","v":83.04190352150421},null,null,null,null,null,null,null,null,null,0,556,5.5599999999999259,-39.377387845763515,-36.944890531202589]
[0,557,5.5699999999999257,{"$f":"(Alfa1*SIN(miia*C578)-Alfa2*SIN(miib*C578))","v":-36.722656795655595},{"$f":"-(Alfa1*COS(miia*C578)-Alfa2*COS(miib*C578))","v":-27.105001646826913},{"$f":"(miia*Alfa1*COS(miia*C578)-miib*Alfa2*COS(miib*C578))","v":366.86921301860855},{"$f":"miia*Alfa1*SIN(miia*C578)-miib*Alfa2*SIN(miib*C578)","v":79.026886050298117},null,null,null,null,null,null,null,null,null,0,557,5.5699999999999257,-39.377387845763515,-36.944890531202589]
[0,558,5.5799999999999255,{"$f":"(Alfa1*SIN(miia*C579)-Alfa2*SIN(miib*C579))","v":-32.945934330717328},{"$f":"-(Alfa1*COS(miia*C579)-Alfa2*COS(miib*C579))","v":-26.341150956705523},{"$f":"(miia*Alfa1*COS(miia*C579)-miib*Alfa2*COS(miib*C579))","v":388.11446767966879},{"$f":"miia*Alfa1*SIN(miia*C579)-miib*Alfa2*SIN(miib*C579)","v":73.502509109097602},null,null,null,null,null,null,null,null,null,0,558,5.5799999999999255,-39.377387845763515,-36.944890531202589]
[0,559,5.5899999999999253,{"$f":"(Alfa1*SIN(miia*C580)-Alfa2*SIN(miib*C580))","v":-28.967872133323038},{"$f":"-(Alfa1*COS(miia*C580)-Alfa2*COS(miib*C580))","v":-25.639531964374811},{"$f":"(miia*Alfa1*COS(miia*C580)-miib*Alfa2*COS(miib*C580))","v":407.10892972787423},{"$f":"miia*Alfa1*SIN(miia*C580)-miib*Alfa2*SIN(miib*C580)","v":66.604493629087358},null,null,null,null,null,null,null,null,null,0,559,5.5899999999999253,-39.377387845763515,-36.944890531202589]
[0,560,5.599999999999925,{"$f":"(Alfa1*SIN(miia*C581)-Alfa2*SIN(miib*C581))","v":-24.811793503093746},{"$f":"-(Alfa1*COS(miia*C581)-Alfa2*COS(miib*C581))","v":-25.013137914443881},{"$f":"(miia*Alfa1*COS(miia*C581)-miib*Alfa2*COS(miib*C581))","v":423.69272727498628},{"$f":"miia*Alfa1*SIN(miia*C581)-miib*Alfa2*SIN(miib*C581)","v":58.483883215175375},null,null,null,null,null,null,null,null,null,0,560,5.599999999999925,-39.377387845763515,-36.944890531202589]
[0,561,5.6099999999999248,{"$f":"(Alfa1*SIN(miia*C582)-Alfa2*SIN(miib*C582))","v":-20.502521926604754},{"$f":"-(Alfa1*COS(miia*C582)-Alfa2*COS(miib*C582))","v":-24.473382084680498},{"$f":"(miia*Alfa1*COS(miia*C582)-miib*Alfa2*COS(miib*C582))","v":437.72593327518598},{"$f":"miia*Alfa1*SIN(miia*C582)-miib*Alfa2*SIN(miib*C582)","v":49.305329708703148},null,null,null,null,null,null,null,null,null,0,561,5.6099999999999248,-39.377387845763515,-36.944890531202589]
[0,562,5.6199999999999246,{"$f":"(Alfa1*SIN(miia*C583)-Alfa2*SIN(miib*C583))","v":-16.066174797308655},{"$f":"-(Alfa1*COS(miia*C583)-Alfa2*COS(miib*C583))","v":-24.029970864608181},{"$f":"(miia*Alfa1*COS(miia*C583)-miib*Alfa2*COS(miib*C583))","v":449.08989921133923},{"$f":"miia*Alfa1*SIN(miia*C583)-miib*Alfa2*SIN(miib*C583)","v":39.245239300702494},null,null,null,null,null,null,null,null,null,0,562,5.6199999999999246,-39.377387845763515,-36.944890531202589]
[0,563,5.6299999999999244,{"$f":"(Alfa1*SIN(miia*C584)-Alfa2*SIN(miib*C584))","v":-11.529944798909957},{"$f":"-(Alfa1*COS(miia*C584)-Alfa2*COS(miib*C584))","v":-23.690795991397565},{"$f":"(miia*Alfa1*COS(miia*C584)-miib*Alfa2*COS(miib*C584))","v":457.68838668639887},{"$f":"miia*Alfa1*SIN(miia*C584)-miib*Alfa2*SIN(miib*C584)","v":28.489798240858914},null,null,null,null,null,null,null,null,null,0,563,5.6299999999999244,-39.377387845763515,-36.944890531202589]
[0,564,5.6399999999999242,{"$f":"(Alfa1*SIN(miia*C585)-Alfa2*SIN(miib*C585))","v":-6.9218710307102782},{"$f":"-(Alfa1*COS(miia*C585)-Alfa2*COS(miib*C585))","v":-23.461847046742793},{"$f":"(miia*Alfa1*COS(miia*C585)-miib*Alfa2*COS(miib*C585))","v":463.44848574818388},{"$f":"miia*Alfa1*SIN(miia*C585)-miib*Alfa2*SIN(miib*C585)","v":17.232898397784492},null,null,null,null,null,null,null,null,null,0,564,5.6399999999999242,-39.377387845763515,-36.944890531202589]
[0,565,5.649999999999924,{"$f":"(Alfa1*SIN(miia*C586)-Alfa2*SIN(miib*C586))","v":-2.2706020547235957},{"$f":"-(Alfa1*COS(miia*C586)-Alfa2*COS(miib*C586))","v":-23.347145110649375},{"$f":"(miia*Alfa1*COS(miia*C586)-miib*Alfa2*COS(miib*C586))","v":466.32131088005951},{"$f":"miia*Alfa1*SIN(miia*C586)-miib*Alfa2*SIN(miib*C586)","v":5.673983932928345},null,null,null,null,null,null,null,null,null,0,565,5.649999999999924,-39.377387845763515,-36.944890531202589]
[0,566,5.6599999999999238,{"$f":"(Alfa1*SIN(miia*C587)-Alfa2*SIN(miib*C587))","v":2.3948468758736468},{"$f":"-(Alfa1*COS(miia*C587)-Alfa2*COS(miib*C587))","v":-23.348698251290202},{"$f":"(miia*Alfa1*COS(miia*C587)-miib*Alfa2*COS(miib*C587))","v":466.28246778465154},{"$f":"miia*Alfa1*SIN(miia*C587)-miib*Alfa2*SIN(miib*C587)","v":-5.9841588566108399},null,null,null,null,null,null,null,null,null,0,566,5.6599999999999238,-39.377387845763515,-36.944890531202589]
[0,567,5.6699999999999235,{"$f":"(Alfa1*SIN(miia*C588)-Alfa2*SIN(miib*C588))","v":7.0453400899317664},{"$f":"-(Alfa1*COS(miia*C588)-Alfa2*COS(miib*C588))","v":-23.466479306490136},{"$f":"(miia*Alfa1*COS(miia*C588)-miib*Alfa2*COS(miib*C588))","v":463.33228635079354},{"$f":"miia*Alfa1*SIN(miia*C588)-miib*Alfa2*SIN(miib*C588)","v":-17.537645899884843},null,null,null,null,null,null,null,null,null,0,567,5.6699999999999235,-39.377387845763515,-36.944890531202589]
[0,568,5.6799999999999233,{"$f":"(Alfa1*SIN(miia*C589)-Alfa2*SIN(miib*C589))","v":11.651868921546106},{"$f":"-(Alfa1*COS(miia*C589)-Alfa2*COS(miib*C589))","v":-23.69842618422474},{"$f":"(miia*Alfa1*COS(miia*C589)-miib*Alfa2*COS(miib*C589))","v":457.49581750290179},{"$f":"miia*Alfa1*SIN(miia*C589)-miib*Alfa2*SIN(miib*C589)","v":-28.783750948227137},null,null,null,null,null,null,null,null,null,0,568,5.6799999999999233,-39.377387845763515,-36.944890531202589]
[0,569,5.6899999999999231,{"$f":"(Alfa1*SIN(miia*C590)-Alfa2*SIN(miib*C590))","v":16.185797920336196},{"$f":"-(Alfa1*COS(miia*C590)-Alfa2*COS(miib*C590))","v":-24.040464679057731},{"$f":"(miia*Alfa1*COS(miia*C590)-miib*Alfa2*COS(miib*C590))","v":448.82259396389645},{"$f":"miia*Alfa1*SIN(miia*C590)-miib*Alfa2*SIN(miib*C590)","v":-39.523149322519977},null,null,null,null,null,null,null,null,null,0,569,5.6899999999999231,-39.377387845763515,-36.944890531202589]
[0,570,5.6999999999999229,{"$f":"(Alfa1*SIN(miia*C591)-Alfa2*SIN(miib*C591))","v":20.619107497799519},{"$f":"-(Alfa1*COS(miia*C591)-Alfa2*COS(miib*C591))","v":-24.486553571012369},{"$f":"(miia*Alfa1*COS(miia*C591)-miib*Alfa2*COS(miib*C591))","v":437.38615729439675},{"$f":"miia*Alfa1*SIN(miia*C591)-miib*Alfa2*SIN(miib*C591)","v":-49.562126847499457},null,null,null,null,null,null,null,null,null,0,570,5.6999999999999229,-39.377387845763515,-36.944890531202589]
[0,571,5.7099999999999227,{"$f":"(Alfa1*SIN(miia*C592)-Alfa2*SIN(miib*C592))","v":24.92463069395037},{"$f":"-(Alfa1*COS(miia*C592)-Alfa2*COS(miib*C592))","v":-25.028751545289012},{"$f":"(miia*Alfa1*COS(miia*C592)-miib*Alfa2*COS(miib*C592))","v":423.28335587897942},{"$f":"miia*Alfa1*SIN(miia*C592)-miib*Alfa2*SIN(miib*C592)","v":-58.714731358903578},null,null,null,null,null,null,null,null,null,0,571,5.7099999999999227,-39.377387845763515,-36.944890531202589]
[0,572,5.7199999999999225,{"$f":"(Alfa1*SIN(miia*C593)-Alfa2*SIN(miib*C593))","v":29.076281806515528},{"$f":"-(Alfa1*COS(miia*C593)-Alfa2*COS(miib*C593))","v":-25.657305247798366},{"$f":"(miia*Alfa1*COS(miia*C593)-miib*Alfa2*COS(miib*C593))","v":406.63342079183417},{"$f":"miia*Alfa1*SIN(miia*C593)-miib*Alfa2*SIN(miib*C593)","v":-66.804844746475794},null,null,null,null,null,null,null,null,null,0,572,5.7199999999999225,-39.377387845763515,-36.944890531202589]
[0,573,5.7299999999999223,{"$f":"(Alfa1*SIN(miia*C594)-Alfa2*SIN(miib*C594))","v":33.049274705311049},{"$f":"-(Alfa1*COS(miia*C594)-Alfa2*COS(miib*C594))","v":-26.360757574921195},{"$f":"(miia*Alfa1*COS(miia*C594)-miib*Alfa2*COS(miib*C594))","v":387.57682866663333},{"$f":"miia*Alfa1*SIN(miia*C594)-miib*Alfa2*SIN(miib*C594)","v":-73.668154294588163},null,null,null,null,null,null,null,null,null,0,573,5.7299999999999223,-39.377387845763515,-36.944890531202589]
[0,574,5.7399999999999221,{"$f":"(Alfa1*SIN(miia*C595)-Alfa2*SIN(miib*C595))","v":36.820328756267912},{"$f":"-(Alfa1*COS(miia*C595)-Alfa2*COS(miib*C595))","v":-27.126075088411355},{"$f":"(miia*Alfa1*COS(miia*C595)-miib*Alfa2*COS(miib*C595))","v":366.27396279700156},{"$f":"miia*Alfa1*SIN(miia*C595)-miib*Alfa2*SIN(miib*C595)","v":-79.154003094547889},null,null,null,null,null,null,null,null,null,0,574,5.7399999999999221,-39.377387845763515,-36.944890531202589]
[0,575,5.7499999999999218,{"$f":"(Alfa1*SIN(miia*C596)-Alfa2*SIN(miib*C596))","v":40.367860401887867},{"$f":"-(Alfa1*COS(miia*C596)-Alfa2*COS(miib*C596))","v":-27.938793250013092},{"$f":"(miia*Alfa1*COS(miia*C596)-miib*Alfa2*COS(miib*C596))","v":342.90358568371266},{"$f":"miia*Alfa1*SIN(miia*C596)-miib*Alfa2*SIN(miib*C596)","v":-83.12710051835387},null,null,null,null,null,null,null,null,null,0,575,5.7499999999999218,-39.377387845763515,-36.944890531202589]
[0,576,5.7599999999999216,{"$f":"(Alfa1*SIN(miia*C597)-Alfa2*SIN(miib*C597))","v":43.67215858647824},{"$f":"-(Alfa1*COS(miia*C597)-Alfa2*COS(miib*C597))","v":-28.783177987142157},{"$f":"(miia*Alfa1*COS(miia*C597)-miib*Alfa2*COS(miib*C597))","v":317.66113810284895},{"$f":"miia*Alfa1*SIN(miia*C597)-miib*Alfa2*SIN(miib*C597)","v":-85.46907515061929},null,null,null,null,null,null,null,null,null,0,576,5.7599999999999216,-39.377387845763515,-36.944890531202589]
[{"$f":"IF(B598=$AC$1,1,0)","v":0},577,{"$f":"C597+dt","v":5.7699999999999214},{"$f":"(Alfa1*SIN(miia*C598)-Alfa2*SIN(miib*C598))","v":46.715542373928983},{"$f":"-(Alfa1*COS(miia*C598)-Alfa2*COS(miib*C598))","v":-29.642401932726145},{"$f":"(miia*Alfa1*COS(miia*C598)-miib*Alfa2*COS(miib*C598))","v":290.75688147711503},{"$f":"miia*Alfa1*SIN(miia*C598)-miib*Alfa2*SIN(miib*C598)","v":-86.0798541595003},null,null,null,null,null,null,null,null,null,{"$f":"IF(R598=$AC$1,1,0)","v":0},577,{"$f":"S597+dt","v":5.7699999999999214},{"$f":"IF(R598<MAX_TIME,Aktina*SIN(epsilon*S598)*COS(D*S598),Aktina*SIN(epsilon*MAX_TIME*dt)*COS(D*MAX_TIME*dt))","v":-39.377387845763515},{"$f":"IF(R598<MAX_TIME,Aktina*COS(epsilon*S598)*COS(D*S598),Aktina*COS(epsilon*MAX_TIME*dt)*COS(D*MAX_TIME*dt))","v":-36.944890531202589}]
[0,{"$f":"B598+1","v":578},5.7799999999999212,{"$f":"(Alfa1*SIN(miia*C599)-Alfa2*SIN(miib*C599))","v":49.482499281469728},{"$f":"-(Alfa1*COS(miia*C599)-Alfa2*COS(miib*C599))","v":-30.498733530708865},{"$f":"(miia*Alfa1*COS(miia*C599)-miib*Alfa2*COS(miib*C599))","v":262.41390187328432},{"$f":"miia*Alfa1*SIN(miia*C599)-miib*Alfa2*SIN(miib*C599)","v":-84.878854832910775},null,null,null,null,null,null,null,null,null,0,{"$f":"R598+1","v":578},5.7799999999999212,-39.377387845763515,-36.944890531202589]
[0,579,5.789999999999921,{"$f":"(Alfa1*SIN(miia*C600)-Alfa2*SIN(miib*C600))","v":51.959803043023072},{"$f":"-(Alfa1*COS(miia*C600)-Alfa2*COS(miib*C600))","v":-31.333737065319951},{"$f":"(miia*Alfa1*COS(miia*C600)-miib*Alfa2*COS(miib*C600))","v":232.86599530707281},{"$f":"miia*Alfa1*SIN(miia*C600)-miib*Alfa2*SIN(miib*C600)","v":-81.805975895582066},null,null,null,null,null,null,null,null,null,0,579,5.789999999999921,-39.377387845763515,-36.944890531202589]
[0,580,5.7999999999999208,{"$f":"(Alfa1*SIN(miia*C601)-Alfa2*SIN(miib*C601))","v":54.13660971856158},{"$f":"-(Alfa1*COS(miia*C601)-Alfa2*COS(miib*C601))","v":-32.128481558341456},{"$f":"(miia*Alfa1*COS(miia*C601)-miib*Alfa2*COS(miib*C601))","v":202.35545519907055},{"$f":"miia*Alfa1*SIN(miia*C601)-miib*Alfa2*SIN(miib*C601)","v":-76.822378236746886},null,null,null,null,null,null,null,null,null,0,580,5.7999999999999208,-39.377387845763515,-36.944890531202589]
[0,581,5.8099999999999206,{"$f":"(Alfa1*SIN(miia*C602)-Alfa2*SIN(miib*C602))","v":56.004531279264285},{"$f":"-(Alfa1*COS(miia*C602)-Alfa2*COS(miib*C602))","v":-32.863756385417624},{"$f":"(miia*Alfa1*COS(miia*C602)-miib*Alfa2*COS(miib*C602))","v":171.13078378014507},{"$f":"miia*Alfa1*SIN(miia*C602)-miib*Alfa2*SIN(miib*C602)","v":-69.911046797232018},null,null,null,null,null,null,null,null,null,0,581,5.8099999999999206,-39.377387845763515,-36.944890531202589]
[0,582,5.8199999999999203,{"$f":"(Alfa1*SIN(miia*C603)-Alfa2*SIN(miib*C603))","v":57.55768602012671},{"$f":"-(Alfa1*COS(miia*C603)-Alfa2*COS(miib*C603))","v":-33.520291390894165},{"$f":"(miia*Alfa1*COS(miia*C603)-miib*Alfa2*COS(miib*C603))","v":139.4443499824541},{"$f":"miia*Alfa1*SIN(miia*C603)-miib*Alfa2*SIN(miib*C603)","v":-61.077127567311607},null,null,null,null,null,null,null,null,null,0,582,5.8199999999999203,-39.377387845763515,-36.944890531202589]
[0,583,5.8299999999999201,{"$f":"(Alfa1*SIN(miia*C604)-Alfa2*SIN(miib*C604))","v":58.792725379795677},{"$f":"-(Alfa1*COS(miia*C604)-Alfa2*COS(miib*C604))","v":-34.078979231465716},{"$f":"(miia*Alfa1*COS(miia*C604)-miib*Alfa2*COS(miib*C604))","v":107.55001686560291},{"$f":"miia*Alfa1*SIN(miia*C604)-miib*Alfa2*SIN(miib*C604)","v":-50.348035910762093},null,null,null,null,null,null,null,null,null,0,583,5.8299999999999201,-39.377387845763515,-36.944890531202589]
[0,584,5.8399999999999199,{"$f":"(Alfa1*SIN(miia*C605)-Alfa2*SIN(miib*C605))","v":59.708836979507041},{"$f":"-(Alfa1*COS(miia*C605)-Alfa2*COS(miib*C605))","v":-34.52109765255598},{"$f":"(miia*Alfa1*COS(miia*C605)-miib*Alfa2*COS(miib*C605))","v":75.700761911473009},{"$f":"miia*Alfa1*SIN(miia*C605)-miib*Alfa2*SIN(miib*C605)","v":-37.773334733509756},null,null,null,null,null,null,null,null,null,0,584,5.8399999999999199,-39.377387845763515,-36.944890531202589]
[0,585,5.8499999999999197,{"$f":"(Alfa1*SIN(miia*C606)-Alfa2*SIN(miib*C606))","v":60.307723926793358},{"$f":"-(Alfa1*COS(miia*C606)-Alfa2*COS(miib*C606))","v":-34.828529398129263},{"$f":"(miia*Alfa1*COS(miia*C606)-miib*Alfa2*COS(miib*C606))","v":44.146313573014325},{"$f":"miia*Alfa1*SIN(miia*C606)-miib*Alfa2*SIN(miib*C606)","v":-23.424383334020064},null,null,null,null,null,null,null,null,null,0,585,5.8499999999999197,-39.377387845763515,-36.944890531202589]
[0,586,5.8599999999999195,{"$f":"(Alfa1*SIN(miia*C607)-Alfa2*SIN(miib*C607))","v":60.593560662770876},{"$f":"-(Alfa1*COS(miia*C607)-Alfa2*COS(miib*C607))","v":-34.983977474576562},{"$f":"(miia*Alfa1*COS(miia*C607)-miib*Alfa2*COS(miib*C607))","v":13.130827281360041},{"$f":"miia*Alfa1*SIN(miia*C607)-miib*Alfa2*SIN(miib*C607)","v":-7.3937600839053346},null,null,null,null,null,null,null,null,null,0,586,5.8599999999999195,-39.377387845763515,-36.944890531202589]
[0,587,5.8699999999999193,{"$f":"(Alfa1*SIN(miia*C608)-Alfa2*SIN(miib*C608))","v":60.572925861990456},{"$f":"-(Alfa1*COS(miia*C608)-Alfa2*COS(miib*C608))","v":-34.971173532242922},{"$f":"(miia*Alfa1*COS(miia*C608)-miib*Alfa2*COS(miib*C608))","v":-17.109376296115201},{"$f":"miia*Alfa1*SIN(miia*C608)-miib*Alfa2*SIN(miib*C608)","v":10.2055356319959},null,null,null,null,null,null,null,null,null,0,587,5.8699999999999193,-39.377387845763515,-36.944890531202589]
[0,588,5.8799999999999191,{"$f":"(Alfa1*SIN(miia*C609)-Alfa2*SIN(miib*C609))","v":60.254713118757685},{"$f":"-(Alfa1*COS(miia*C609)-Alfa2*COS(miib*C609))","v":-34.775077193645693},{"$f":"(miia*Alfa1*COS(miia*C609)-miib*Alfa2*COS(miib*C609))","v":-46.347988592560057},{"$f":"miia*Alfa1*SIN(miia*C609)-miib*Alfa2*SIN(miib*C609)","v":29.241094559430792},null,null,null,null,null,null,null,null,null,0,588,5.8799999999999191,-39.377387845763515,-36.944890531202589]
[0,589,5.8899999999999189,{"$f":"(Alfa1*SIN(miia*C610)-Alfa2*SIN(miib*C610))","v":59.650020371257185},{"$f":"-(Alfa1*COS(miia*C610)-Alfa2*COS(miib*C610))","v":-34.382064244830659},{"$f":"(miia*Alfa1*COS(miia*C610)-miib*Alfa2*COS(miib*C610))","v":-74.370784777653725},{"$f":"miia*Alfa1*SIN(miia*C610)-miib*Alfa2*SIN(miib*C610)","v":49.562311994124229},null,null,null,null,null,null,null,null,null,0,589,5.8899999999999189,-39.377387845763515,-36.944890531202589]
[0,590,5.8999999999999186,{"$f":"(Alfa1*SIN(miia*C611)-Alfa2*SIN(miib*C611))","v":58.772019222592562},{"$f":"-(Alfa1*COS(miia*C611)-Alfa2*COS(miib*C611))","v":-33.780101714758047},{"$f":"(miia*Alfa1*COS(miia*C611)-miib*Alfa2*COS(miib*C611))","v":-100.97756946757505},{"$f":"miia*Alfa1*SIN(miia*C611)-miib*Alfa2*SIN(miib*C611)","v":71.001793614045937},null,null,null,null,null,null,null,null,null,0,590,5.8999999999999186,-39.377387845763515,-36.944890531202589]
[0,591,5.9099999999999184,{"$f":"(Alfa1*SIN(miia*C612)-Alfa2*SIN(miib*C612))","v":57.635805513912686},{"$f":"-(Alfa1*COS(miia*C612)-Alfa2*COS(miib*C612))","v":-32.958907996026156},{"$f":"(miia*Alfa1*COS(miia*C612)-miib*Alfa2*COS(miib*C612))","v":-125.9839775548339},{"$f":"miia*Alfa1*SIN(miia*C612)-miib*Alfa2*SIN(miib*C612)","v":93.376938925298077},null,null,null,null,null,null,null,null,null,0,591,5.9099999999999184,-39.377387845763515,-36.944890531202589]
[0,592,5.9199999999999182,{"$f":"(Alfa1*SIN(miia*C613)-Alfa2*SIN(miib*C613))","v":56.258232687189967},{"$f":"-(Alfa1*COS(miia*C613)-Alfa2*COS(miib*C613))","v":-31.910096307351843},{"$f":"(miia*Alfa1*COS(miia*C613)-miib*Alfa2*COS(miib*C613))","v":-149.22311266319446},{"$f":"miia*Alfa1*SIN(miia*C613)-miib*Alfa2*SIN(miib*C613)","v":116.49168672306003},null,null,null,null,null,null,null,null,null,0,592,5.9199999999999182,-39.377387845763515,-36.944890531202589]
[0,593,5.929999999999918,{"$f":"(Alfa1*SIN(miia*C614)-Alfa2*SIN(miib*C614))","v":54.657729642138591},{"$f":"-(Alfa1*COS(miia*C614)-Alfa2*COS(miib*C614))","v":-30.62729996256963},{"$f":"(miia*Alfa1*COS(miia*C614)-miib*Alfa2*COS(miib*C614))","v":-170.54700736582998},{"$f":"miia*Alfa1*SIN(miia*C614)-miib*Alfa2*SIN(miib*C614)","v":140.13840532503161},null,null,null,null,null,null,null,null,null,0,593,5.929999999999918,-39.377387845763515,-36.944890531202589]
[0,594,5.9399999999999178,{"$f":"(Alfa1*SIN(miia*C615)-Alfa2*SIN(miib*C615))","v":52.854104941551398},{"$f":"-(Alfa1*COS(miia*C615)-Alfa2*COS(miib*C615))","v":-29.106278090846967},{"$f":"(miia*Alfa1*COS(miia*C615)-miib*Alfa2*COS(miib*C615))","v":-189.82789109498037},{"$f":"miia*Alfa1*SIN(miia*C615)-miib*Alfa2*SIN(miib*C615)","v":164.0999088626192},null,null,null,null,null,null,null,null,null,0,594,5.9399999999999178,-39.377387845763515,-36.944890531202589]
[0,595,5.9499999999999176,{"$f":"(Alfa1*SIN(miia*C616)-Alfa2*SIN(miib*C616))","v":50.868339350512429},{"$f":"-(Alfa1*COS(miia*C616)-Alfa2*COS(miib*C616))","v":-27.345000646549625},{"$f":"(miia*Alfa1*COS(miia*C616)-miib*Alfa2*COS(miib*C616))","v":-206.95925360080381},{"$f":"miia*Alfa1*SIN(miia*C616)-miib*Alfa2*SIN(miib*C616)","v":188.15157962946682},null,null,null,null,null,null,null,null,null,0,595,5.9499999999999176,-39.377387845763515,-36.944890531202589]
[0,596,5.9599999999999174,{"$f":"(Alfa1*SIN(miia*C617)-Alfa2*SIN(miib*C617))","v":48.72236880621027},{"$f":"-(Alfa1*COS(miia*C617)-Alfa2*COS(miib*C617))","v":-25.343711752797851},{"$f":"(miia*Alfa1*COS(miia*C617)-miib*Alfa2*COS(miib*C617))","v":-221.85669386652987},{"$f":"miia*Alfa1*SIN(miia*C617)-miib*Alfa2*SIN(miib*C617)","v":212.06357540074868},null,null,null,null,null,null,null,null,null,0,596,5.9599999999999174,-39.377387845763515,-36.944890531202589]
[0,597,5.9699999999999172,{"$f":"(Alfa1*SIN(miia*C618)-Alfa2*SIN(miib*C618))","v":46.438860005336416},{"$f":"-(Alfa1*COS(miia*C618)-Alfa2*COS(miib*C618))","v":-23.104970638178475},{"$f":"(miia*Alfa1*COS(miia*C618)-miib*Alfa2*COS(miib*C618))","v":-234.45854653596933},{"$f":"miia*Alfa1*SIN(miia*C618)-miib*Alfa2*SIN(miib*C618)","v":235.6030997608573},null,null,null,null,null,null,null,null,null,0,597,5.9699999999999172,-39.377387845763515,-36.944890531202589]
[0,598,5.9799999999999169,{"$f":"(Alfa1*SIN(miia*C619)-Alfa2*SIN(miib*C619))","v":44.040980864411829},{"$f":"-(Alfa1*COS(miia*C619)-Alfa2*COS(miib*C619))","v":-20.63366964916947},{"$f":"(miia*Alfa1*COS(miia*C619)-miib*Alfa2*COS(miib*C619))","v":-244.72628013641673},{"$f":"miia*Alfa1*SIN(miia*C619)-miib*Alfa2*SIN(miib*C619)","v":258.5367128205678},null,null,null,null,null,null,null,null,null,0,598,5.9799999999999169,-39.377387845763515,-36.944890531202589]
[0,599,5.9899999999999167,{"$f":"(Alfa1*SIN(miia*C620)-Alfa2*SIN(miib*C620))","v":41.552168154177799},{"$f":"-(Alfa1*COS(miia*C620)-Alfa2*COS(miib*C620))","v":-17.937029049366146},{"$f":"(miia*Alfa1*COS(miia*C620)-miib*Alfa2*COS(miib*C620))","v":-252.64466366271529},{"$f":"miia*Alfa1*SIN(miia*C620)-miib*Alfa2*SIN(miib*C620)","v":280.63265927402284},null,null,null,null,null,null,null,null,null,0,599,5.9899999999999167,-39.377387845763515,-36.944890531202589]
[0,600,5.9999999999999165,{"$f":"(Alfa1*SIN(miia*C621)-Alfa2*SIN(miib*C621))","v":38.995894631970145},{"$f":"-(Alfa1*COS(miia*C621)-Alfa2*COS(miib*C621))","v":-15.024568548291684},{"$f":"(miia*Alfa1*COS(miia*C621)-miib*Alfa2*COS(miib*C621))","v":-258.2217004039357},{"$f":"miia*Alfa1*SIN(miia*C621)-miib*Alfa2*SIN(miib*C621)","v":301.66319054534705},null,null,null,null,null,null,null,null,null,0,600,5.9999999999999165,-39.377387845763515,-36.944890531202589]
[0,601,6.0099999999999163,{"$f":"(Alfa1*SIN(miia*C622)-Alfa2*SIN(miib*C622))","v":36.395437995552356},{"$f":"-(Alfa1*COS(miia*C622)-Alfa2*COS(miib*C622))","v":-11.90805573511223},{"$f":"(miia*Alfa1*COS(miia*C622)-miib*Alfa2*COS(miib*C622))","v":-261.48833021962764},{"$f":"miia*Alfa1*SIN(miia*C622)-miib*Alfa2*SIN(miib*C622)","v":321.40685780645555},null,null,null,null,null,null,null,null,null,0,601,6.0099999999999163,-39.377387845763515,-36.944890531202589]
[0,602,6.0199999999999161,{"$f":"(Alfa1*SIN(miia*C623)-Alfa2*SIN(miib*C623))","v":33.773653958231357},{"$f":"-(Alfa1*COS(miia*C623)-Alfa2*COS(miib*C623))","v":-8.6014318236331366},{"$f":"(miia*Alfa1*COS(miia*C623)-miib*Alfa2*COS(miib*C623))","v":-262.4979037846864},{"$f":"miia*Alfa1*SIN(miia*C623)-miib*Alfa2*SIN(miib*C623)","v":339.65075291142409},null,null,null,null,null,null,null,null,null,0,602,6.0199999999999161,-39.377387845763515,-36.944890531202589]
[0,603,6.0299999999999159,{"$f":"(Alfa1*SIN(miia*C624)-Alfa2*SIN(miib*C624))","v":31.152755698470692},{"$f":"-(Alfa1*COS(miia*C624)-Alfa2*COS(miib*C624))","v":-5.1207153422221801},{"$f":"(miia*Alfa1*COS(miia*C624)-miib*Alfa2*COS(miib*C624))","v":-261.32543459742777},{"$f":"miia*Alfa1*SIN(miia*C624)-miib*Alfa2*SIN(miib*C624)","v":356.1926747860378},null,null,null,null,null,null,null,null,null,0,603,6.0299999999999159,-39.377387845763515,-36.944890531202589]
[0,604,6.0399999999999157,{"$f":"(Alfa1*SIN(miia*C625)-Alfa2*SIN(miib*C625))","v":28.554101868131994},{"$f":"-(Alfa1*COS(miia*C625)-Alfa2*COS(miib*C625))","v":-1.4838846235164844},{"$f":"(miia*Alfa1*COS(miia*C625)-miib*Alfa2*COS(miib*C625))","v":-258.0666367617693},{"$f":"miia*Alfa1*SIN(miia*C625)-miib*Alfa2*SIN(miib*C625)","v":370.84319952897965},null,null,null,null,null,null,null,null,null,0,604,6.0399999999999157,-39.377387845763515,-36.944890531202589]
[0,605,6.0499999999999154,{"$f":"(Alfa1*SIN(miia*C626)-Alfa2*SIN(miib*C626))","v":25.997995252614491},{"$f":"-(Alfa1*COS(miia*C626)-Alfa2*COS(miib*C626))","v":2.2892598382933933},{"$f":"(miia*Alfa1*COS(miia*C626)-miib*Alfa2*COS(miib*C626))","v":-252.83675868933946},{"$f":"miia*Alfa1*SIN(miia*C626)-miib*Alfa2*SIN(miib*C626)","v":383.42763341647571},null,null,null,null,null,null,null,null,null,0,605,6.0499999999999154,-39.377387845763515,-36.944890531202589]
[0,606,6.0599999999999152,{"$f":"(Alfa1*SIN(miia*C627)-Alfa2*SIN(miib*C627))","v":23.503494064447803},{"$f":"-(Alfa1*COS(miia*C627)-Alfa2*COS(miib*C627))","v":6.1772518922778143},{"$f":"(miia*Alfa1*COS(miia*C627)-miib*Alfa2*COS(miib*C627))","v":-245.76922489955669},{"$f":"miia*Alfa1*SIN(miia*C627)-miib*Alfa2*SIN(miib*C627)","v":393.78782914580017},null,null,null,null,null,null,null,null,null,0,606,6.0599999999999152,-39.377387845763515,-36.944890531202589]
[0,607,6.069999999999915,{"$f":"(Alfa1*SIN(miia*C628)-Alfa2*SIN(miib*C628))","v":21.088237720455837},{"$f":"-(Alfa1*COS(miia*C628)-Alfa2*COS(miib*C628))","v":10.157133637254073},{"$f":"(miia*Alfa1*COS(miia*C628)-miib*Alfa2*COS(miib*C628))","v":-237.01410000494158},{"$f":"miia*Alfa1*SIN(miia*C628)-miib*Alfa2*SIN(miib*C628)","v":401.78384699347089},null,null,null,null,null,null,null,null,null,0,607,6.069999999999915,-39.377387845763515,-36.944890531202589]
[0,608,6.0799999999999148,{"$f":"(Alfa1*SIN(miia*C629)-Alfa2*SIN(miib*C629))","v":18.768288802776674},{"$f":"-(Alfa1*COS(miia*C629)-Alfa2*COS(miib*C629))","v":14.204645093746313},{"$f":"(miia*Alfa1*COS(miia*C629)-miib*Alfa2*COS(miib*C629))","v":-226.73639073610957},{"$f":"miia*Alfa1*SIN(miia*C629)-miib*Alfa2*SIN(miib*C629)","v":407.29544408792009},null,null,null,null,null,null,null,null,null,0,608,6.0799999999999148,-39.377387845763515,-36.944890531202589]
[0,609,6.0899999999999146,{"$f":"(Alfa1*SIN(miia*C630)-Alfa2*SIN(miib*C630))","v":16.557992737301305},{"$f":"-(Alfa1*COS(miia*C630)-Alfa2*COS(miib*C630))","v":18.294427845547499},{"$f":"(miia*Alfa1*COS(miia*C630)-miib*Alfa2*COS(miib*C630))","v":-215.11420346839753},{"$f":"miia*Alfa1*SIN(miia*C630)-miib*Alfa2*SIN(miib*C630)","v":410.22337668876639},null,null,null,null,null,null,null,null,null,0,609,6.0899999999999146,-39.377387845763515,-36.944890531202589]
[0,610,6.0999999999999144,{"$f":"(Alfa1*SIN(miia*C631)-Alfa2*SIN(miib*C631))","v":14.469856541161388},{"$f":"-(Alfa1*COS(miia*C631)-Alfa2*COS(miib*C631))","v":22.40024071303538},{"$f":"(miia*Alfa1*COS(miia*C631)-miib*Alfa2*COS(miib*C631))","v":-202.3367761438588},{"$f":"miia*Alfa1*SIN(miia*C631)-miib*Alfa2*SIN(miib*C631)","v":410.49050220866741},null,null,null,null,null,null,null,null,null,0,610,6.0999999999999144,-39.377387845763515,-36.944890531202589]
[0,611,6.1099999999999142,{"$f":"(Alfa1*SIN(miia*C632)-Alfa2*SIN(miib*C632))","v":12.514447795586445},{"$f":"-(Alfa1*COS(miia*C632)-Alfa2*COS(miib*C632))","v":26.49518539753663},{"$f":"(miia*Alfa1*COS(miia*C632)-miib*Alfa2*COS(miib*C632))","v":-188.60240472415336},{"$f":"miia*Alfa1*SIN(miia*C632)-miib*Alfa2*SIN(miib*C632)","v":408.04266969074661},null,null,null,null,null,null,null,null,null,0,611,6.1099999999999142,-39.377387845763515,-36.944890531202589]
[0,612,6.119999999999914,{"$f":"(Alfa1*SIN(miia*C633)-Alfa2*SIN(miib*C633))","v":10.700314793726367},{"$f":"-(Alfa1*COS(miia*C633)-Alfa2*COS(miib*C633))","v":30.551939933527148},{"$f":"(miia*Alfa1*COS(miia*C633)-miib*Alfa2*COS(miib*C633))","v":-174.11628534929841},{"$f":"miia*Alfa1*SIN(miia*C633)-miib*Alfa2*SIN(miib*C633)","v":402.84938954505958},null,null,null,null,null,null,null,null,null,0,612,6.119999999999914,-39.377387845763515,-36.944890531202589]
[0,613,6.1299999999999137,{"$f":"(Alfa1*SIN(miia*C634)-Alfa2*SIN(miib*C634))","v":9.0339285969706786},{"$f":"-(Alfa1*COS(miia*C634)-Alfa2*COS(miib*C634))","v":34.542997704338418},{"$f":"(miia*Alfa1*COS(miia*C634)-miib*Alfa2*COS(miib*C634))","v":-159.08829420396216},{"$f":"miia*Alfa1*SIN(miia*C634)-miib*Alfa2*SIN(miib*C634)","v":394.90427553068969},null,null,null,null,null,null,null,null,null,0,613,6.1299999999999137,-39.377387845763515,-36.944890531202589]
[0,614,6.1399999999999135,{"$f":"(Alfa1*SIN(miia*C635)-Alfa2*SIN(miib*C635))","v":7.5196475100622884},{"$f":"-(Alfa1*COS(miia*C635)-Alfa2*COS(miib*C635))","v":38.440909718128452},{"$f":"(miia*Alfa1*COS(miia*C635)-miib*Alfa2*COS(miib*C635))","v":-143.73072769875631},{"$f":"miia*Alfa1*SIN(miia*C635)-miib*Alfa2*SIN(miib*C635)","v":384.22525422405738},null,null,null,null,null,null,null,null,null,0,614,6.1399999999999135,-39.377387845763515,-36.944890531202589]
[0,615,6.1499999999999133,{"$f":"(Alfa1*SIN(miia*C636)-Alfa2*SIN(miib*C636))","v":6.1597042571437122},{"$f":"-(Alfa1*COS(miia*C636)-Alfa2*COS(miib*C636))","v":42.218527804762665},{"$f":"(miia*Alfa1*COS(miia*C636)-miib*Alfa2*COS(miib*C636))","v":-128.25602595281063},{"$f":"miia*Alfa1*SIN(miia*C636)-miib*Alfa2*SIN(miib*C636)","v":370.85453951642859},null,null,null,null,null,null,null,null,null,0,615,6.1499999999999133,-39.377387845763515,-36.944890531202589]
[0,616,6.1599999999999131,{"$f":"(Alfa1*SIN(miia*C637)-Alfa2*SIN(miib*C637))","v":4.9542159100782683},{"$f":"-(Alfa1*COS(miia*C637)-Alfa2*COS(miib*C637))","v":45.849246381305356},{"$f":"(miia*Alfa1*COS(miia*C637)-miib*Alfa2*COS(miib*C637))","v":-112.87450271206893},{"$f":"miia*Alfa1*SIN(miia*C637)-miib*Alfa2*SIN(miib*C637)","v":354.85837201147922},null,null,null,null,null,null,null,null,null,0,616,6.1599999999999131,-39.377387845763515,-36.944890531202589]
[0,617,6.1699999999999129,{"$f":"(Alfa1*SIN(miia*C638)-Alfa2*SIN(miib*C638))","v":3.9012163892703171},{"$f":"-(Alfa1*COS(miia*C638)-Alfa2*COS(miib*C638))","v":49.307240444189596},{"$f":"(miia*Alfa1*COS(miia*C638)-miib*Alfa2*COS(miib*C638))","v":-97.792104753764335},{"$f":"miia*Alfa1*SIN(miia*C638)-miib*Alfa2*SIN(miib*C638)","v":336.32652552389749},null,null,null,null,null,null,null,null,null,0,617,6.1699999999999129,-39.377387845763515,-36.944890531202589]
[0,618,6.1799999999999127,{"$f":"(Alfa1*SIN(miia*C639)-Alfa2*SIN(miib*C639))","v":2.9967111280877887},{"$f":"-(Alfa1*COS(miia*C639)-Alfa2*COS(miib*C639))","v":52.567697479718376},{"$f":"(miia*Alfa1*COS(miia*C639)-miib*Alfa2*COS(miib*C639))","v":-83.208223512313026},{"$f":"miia*Alfa1*SIN(miia*C639)-miib*Alfa2*SIN(miib*C639)","v":315.37158518913083},null,null,null,null,null,null,null,null,null,0,618,6.1799999999999127,-39.377387845763515,-36.944890531202589]
[0,619,6.1899999999999125,{"$f":"(Alfa1*SIN(miia*C640)-Alfa2*SIN(miib*C640))","v":2.2347532671660346},{"$f":"-(Alfa1*COS(miia*C640)-Alfa2*COS(miib*C640))","v":55.607041041022043},{"$f":"(miia*Alfa1*COS(miia*C640)-miib*Alfa2*COS(miib*C640))","v":-69.31358111861914},{"$f":"miia*Alfa1*SIN(miia*C640)-miib*Alfa2*SIN(miib*C640)","v":292.12800395949995},null,null,null,null,null,null,null,null,null,0,619,6.1899999999999125,-39.377387845763515,-36.944890531202589]
[0,620,6.1999999999999122,{"$f":"(Alfa1*SIN(miia*C641)-Alfa2*SIN(miib*C641))","v":1.6075405265994576},{"$f":"-(Alfa1*COS(miia*C641)-Alfa2*COS(miib*C641))","v":58.403143818404963},{"$f":"(miia*Alfa1*COS(miia*C641)-miib*Alfa2*COS(miib*C641))","v":-56.288212278997605},{"$f":"miia*Alfa1*SIN(miia*C641)-miib*Alfa2*SIN(miib*C641)","v":266.75094646043294},null,null,null,null,null,null,null,null,null,0,620,6.1999999999999122,-39.377387845763515,-36.944890531202589]
[0,621,6.209999999999912,{"$f":"(Alfa1*SIN(miia*C642)-Alfa2*SIN(miib*C642))","v":1.1055316944925675},{"$f":"-(Alfa1*COS(miia*C642)-Alfa2*COS(miib*C642))","v":60.935528130384625},{"$f":"(miia*Alfa1*COS(miia*C642)-miib*Alfa2*COS(miib*C642))","v":-44.299562439279669},{"$f":"miia*Alfa1*SIN(miia*C642)-miib*Alfa2*SIN(miib*C642)","v":239.41493129056749},null,null,null,null,null,null,null,null,null,0,621,6.209999999999912,-39.377387845763515,-36.944890531202589]
[0,622,6.2199999999999118,{"$f":"(Alfa1*SIN(miia*C643)-Alfa2*SIN(miib*C643))","v":0.71758147164834973},{"$f":"-(Alfa1*COS(miia*C643)-Alfa2*COS(miib*C643))","v":63.185551883667799},{"$f":"(miia*Alfa1*COS(miia*C643)-miib*Alfa2*COS(miib*C643))","v":-33.500721494030699},{"$f":"miia*Alfa1*SIN(miia*C643)-miib*Alfa2*SIN(miib*C643)","v":210.3122848498702},null,null,null,null,null,null,null,null,null,0,622,6.2199999999999118,-39.377387845763515,-36.944890531202589]
[0,623,6.2299999999999116,{"$f":"(Alfa1*SIN(miia*C644)-Alfa2*SIN(miib*C644))","v":0.43109222631076172},{"$f":"-(Alfa1*COS(miia*C644)-Alfa2*COS(miib*C644))","v":65.136578190619616},{"$f":"(miia*Alfa1*COS(miia*C644)-miib*Alfa2*COS(miib*C644))","v":-24.02881092209941},{"$f":"miia*Alfa1*SIN(miia*C644)-miib*Alfa2*SIN(miib*C644)","v":179.65142165080579},null,null,null,null,null,null,null,null,null,0,623,6.2299999999999116,-39.377387845763515,-36.944890531202589]
[0,624,6.2399999999999114,{"$f":"(Alfa1*SIN(miia*C645)-Alfa2*SIN(miib*C645))","v":0.23218104171291998},{"$f":"-(Alfa1*COS(miia*C645)-Alfa2*COS(miib*C645))","v":66.774126991074482},{"$f":"(miia*Alfa1*COS(miia*C645)-miib*Alfa2*COS(miib*C645))","v":-16.003540671771248},{"$f":"miia*Alfa1*SIN(miia*C645)-miib*Alfa2*SIN(miib*C645)","v":147.65496779029581},null,null,null,null,null,null,null,null,null,0,624,6.2399999999999114,-39.377387845763515,-36.944890531202589]
[0,625,6.2499999999999112,{"$f":"(Alfa1*SIN(miia*C646)-Alfa2*SIN(miib*C646))","v":0.10586028442809248},{"$f":"-(Alfa1*COS(miia*C646)-Alfa2*COS(miib*C646))","v":68.086007200047305},{"$f":"(miia*Alfa1*COS(miia*C646)-miib*Alfa2*COS(miib*C646))","v":-9.5259503972217487},{"$f":"miia*Alfa1*SIN(miia*C646)-miib*Alfa2*SIN(miib*C646)","v":114.55774581753096},null,null,null,null,null,null,null,null,null,0,625,6.2499999999999112,-39.377387845763515,-36.944890531202589]
[0,626,6.259999999999911,{"$f":"(Alfa1*SIN(miia*C647)-Alfa2*SIN(miib*C647))","v":3.6229784728750936E-2},{"$f":"-(Alfa1*COS(miia*C647)-Alfa2*COS(miib*C647))","v":69.062428092293345},{"$f":"(miia*Alfa1*COS(miia*C647)-miib*Alfa2*COS(miib*C647))","v":-4.6773477800357739},{"$f":"miia*Alfa1*SIN(miia*C647)-miib*Alfa2*SIN(miib*C647)","v":80.604640609087113},null,null,null,null,null,null,null,null,null,0,626,6.259999999999911,-39.377387845763515,-36.944890531202589]
[0,627,6.2699999999999108,{"$f":"(Alfa1*SIN(miia*C648)-Alfa2*SIN(miib*C648))","v":6.6786027010503624E-3},{"$f":"-(Alfa1*COS(miia*C648)-Alfa2*COS(miib*C648))","v":69.696088836856006},{"$f":"(miia*Alfa1*COS(miia*C648)-miib*Alfa2*COS(miib*C648))","v":-1.5184546740141514},{"$f":"miia*Alfa1*SIN(miia*C648)-miib*Alfa2*SIN(miib*C648)","v":46.048367044554816},null,null,null,null,null,null,null,null,null,0,627,6.2699999999999108,-39.377387845763515,-36.944890531202589]
[0,628,6.2799999999999105,{"$f":"(Alfa1*SIN(miia*C649)-Alfa2*SIN(miib*C649))","v":9.4256914590862273E-5},{"$f":"-(Alfa1*COS(miia*C649)-Alfa2*COS(miib*C649))","v":69.98224530772552},{"$f":"(miia*Alfa1*COS(miia*C649)-miib*Alfa2*COS(miib*C649))","v":-8.8769708327731678E-2},{"$f":"miia*Alfa1*SIN(miia*C649)-miib*Alfa2*SIN(miib*C649)","v":11.147161251238659},null,null,null,null,null,null,null,null,null,0,628,6.2799999999999105,-39.377387845763515,-36.944890531202589]
[0,629,6.2899999999999103,{"$f":"(Alfa1*SIN(miia*C650)-Alfa2*SIN(miib*C650))","v":-9.2278301784420869E-4},{"$f":"-(Alfa1*COS(miia*C650)-Alfa2*COS(miib*C650))","v":69.91875351839748},{"$f":"(miia*Alfa1*COS(miia*C650)-miib*Alfa2*COS(miib*C650))","v":-0.40615379437147681},{"$f":"miia*Alfa1*SIN(miia*C650)-miib*Alfa2*SIN(miib*C650)","v":-23.837582054350946},null,null,null,null,null,null,null,null,null,0,629,6.2899999999999103,-39.377387845763515,-36.944890531202589]
[0,630,6.2999999999999101,{"$f":"(Alfa1*SIN(miia*C651)-Alfa2*SIN(miib*C651))","v":-1.3841591882469917E-2},{"$f":"-(Alfa1*COS(miia*C651)-Alfa2*COS(miib*C651))","v":69.506089256263905},{"$f":"(miia*Alfa1*COS(miia*C651)-miib*Alfa2*COS(miib*C651))","v":-2.4666427273747047},{"$f":"miia*Alfa1*SIN(miia*C651)-miib*Alfa2*SIN(miib*C651)","v":-58.643703065085838},null,null,null,null,null,null,null,null,null,0,630,6.2999999999999101,-39.377387845763515,-36.944890531202589]
[0,631,6.3099999999999099,{"$f":"(Alfa1*SIN(miia*C652)-Alfa2*SIN(miib*C652))","v":-5.5982554654962158E-2},{"$f":"-(Alfa1*COS(miia*C652)-Alfa2*COS(miib*C652))","v":68.747343725124409},{"$f":"(miia*Alfa1*COS(miia*C652)-miib*Alfa2*COS(miib*C652))","v":-6.2444887775303073},{"$f":"miia*Alfa1*SIN(miia*C652)-miib*Alfa2*SIN(miib*C652)","v":-93.010677852415569},null,null,null,null,null,null,null,null,null,0,631,6.3099999999999099,-39.377387845763515,-36.944890531202589]
[0,632,6.3199999999999097,{"$f":"(Alfa1*SIN(miia*C653)-Alfa2*SIN(miib*C653))","v":-0.14430069236304632},{"$f":"-(Alfa1*COS(miia*C653)-Alfa2*COS(miib*C653))","v":67.64819523836475},{"$f":"(miia*Alfa1*COS(miia*C653)-miib*Alfa2*COS(miib*C653))","v":-11.692430850127863},{"$f":"miia*Alfa1*SIN(miia*C653)-miib*Alfa2*SIN(miib*C653)","v":-126.68200336246818},null,null,null,null,null,null,null,null,null,0,632,6.3199999999999097,-39.377387845763515,-36.944890531202589]
[0,633,6.3299999999999095,{"$f":"(Alfa1*SIN(miia*C654)-Alfa2*SIN(miib*C654))","v":-0.29517282197127415},{"$f":"-(Alfa1*COS(miia*C654)-Alfa2*COS(miib*C654))","v":66.216857239188315},{"$f":"(miia*Alfa1*COS(miia*C654)-miib*Alfa2*COS(miib*C654))","v":-18.742190483098796},{"$f":"miia*Alfa1*SIN(miia*C654)-miib*Alfa2*SIN(miib*C654)","v":-159.40754315402202},null,null,null,null,null,null,null,null,null,0,633,6.3299999999999095,-39.377387845763515,-36.944890531202589]
[0,634,6.3399999999999093,{"$f":"(Alfa1*SIN(miia*C655)-Alfa2*SIN(miib*C655))","v":-0.52419078547128173},{"$f":"-(Alfa1*COS(miia*C655)-Alfa2*COS(miib*C655))","v":64.464003155377867},{"$f":"(miia*Alfa1*COS(miia*C655)-miib*Alfa2*COS(miib*C655))","v":-27.305188666692572},{"$f":"miia*Alfa1*SIN(miia*C655)-miib*Alfa2*SIN(miib*C655)","v":-190.94581098329766},null,null,null,null,null,null,null,null,null,0,634,6.3399999999999093,-39.377387845763515,-36.944890531202589]
[0,635,6.3499999999999091,{"$f":"(Alfa1*SIN(miia*C656)-Alfa2*SIN(miib*C656))","v":-0.84596292198964207},{"$f":"-(Alfa1*COS(miia*C656)-Alfa2*COS(miib*C656))","v":62.402668822114642},{"$f":"(miia*Alfa1*COS(miia*C656)-miib*Alfa2*COS(miib*C656))","v":-37.273476236569707},{"$f":"miia*Alfa1*SIN(miia*C656)-miib*Alfa2*SIN(miib*C656)","v":-221.06616995788124},null,null,null,null,null,null,null,null,null,0,635,6.3499999999999091,-39.377387845763515,-36.944890531202589]
[0,636,6.3599999999999088,{"$f":"(Alfa1*SIN(miia*C657)-Alfa2*SIN(miib*C657))","v":-1.2739258733645329},{"$f":"-(Alfa1*COS(miia*C657)-Alfa2*COS(miib*C657))","v":60.048133425148293},{"$f":"(miia*Alfa1*COS(miia*C657)-miib*Alfa2*COS(miib*C657))","v":-48.520868430801983},{"$f":"miia*Alfa1*SIN(miia*C657)-miib*Alfa2*SIN(miib*C657)","v":-249.55092582068062},null,null,null,null,null,null,null,null,null,0,636,6.3599999999999088,-39.377387845763515,-36.944890531202589]
[0,637,6.3699999999999086,{"$f":"(Alfa1*SIN(miia*C658)-Alfa2*SIN(miib*C658))","v":-1.8201687091274188},{"$f":"-(Alfa1*COS(miia*C658)-Alfa2*COS(miib*C658))","v":57.417780125918469},{"$f":"(miia*Alfa1*COS(miia*C658)-miib*Alfa2*COS(miib*C658))","v":-60.904272134775653},{"$f":"miia*Alfa1*SIN(miia*C658)-miib*Alfa2*SIN(miib*C658)","v":-276.19729397630408},null,null,null,null,null,null,null,null,null,0,637,6.3699999999999086,-39.377387845763515,-36.944890531202589]
[0,638,6.3799999999999084,{"$f":"(Alfa1*SIN(miia*C659)-Alfa2*SIN(miib*C659))","v":-2.4952712322044235},{"$f":"-(Alfa1*COS(miia*C659)-Alfa2*COS(miib*C659))","v":54.530937727998158},{"$f":"(miia*Alfa1*COS(miia*C659)-miib*Alfa2*COS(miib*C659))","v":-74.265192386519402},{"$f":"miia*Alfa1*SIN(miia*C659)-miib*Alfa2*SIN(miib*C659)","v":-300.81922112614285},null,null,null,null,null,null,null,null,null,0,638,6.3799999999999084,-39.377387845763515,-36.944890531202589]
[0,639,6.3899999999999082,{"$f":"(Alfa1*SIN(miia*C660)-Alfa2*SIN(miib*C660))","v":-3.308158183173056},{"$f":"-(Alfa1*COS(miia*C660)-Alfa2*COS(miib*C660))","v":51.408704928499134},{"$f":"(miia*Alfa1*COS(miia*C660)-miib*Alfa2*COS(miib*C660))","v":-88.431402898083633},{"$f":"miia*Alfa1*SIN(miia*C660)-miib*Alfa2*SIN(miib*C660)","v":-323.24904382218597},null,null,null,null,null,null,null,null,null,0,639,6.3899999999999082,-39.377387845763515,-36.944890531202589]
[0,640,6.399999999999908,{"$f":"(Alfa1*SIN(miia*C661)-Alfa2*SIN(miib*C661))","v":-4.2659709000109096},{"$f":"-(Alfa1*COS(miia*C661)-Alfa2*COS(miib*C661))","v":48.073758867025028},{"$f":"(miia*Alfa1*COS(miia*C661)-miib*Alfa2*COS(miib*C661))","v":-103.2187636844852},{"$f":"miia*Alfa1*SIN(miia*C661)-miib*Alfa2*SIN(miib*C661)","v":-343.33896786880456},null,null,null,null,null,null,null,null,null,0,640,6.399999999999908,-39.377387845763515,-36.944890531202589]
[{"$f":"IF(B662=$AC$1,1,0)","v":0},641,{"$f":"C661+dt","v":6.4099999999999078},{"$f":"(Alfa1*SIN(miia*C662)-Alfa2*SIN(miib*C662))","v":-5.3739578135670563},{"$f":"-(Alfa1*COS(miia*C662)-Alfa2*COS(miib*C662))","v":44.550149836698012},{"$f":"(miia*Alfa1*COS(miia*C662)-miib*Alfa2*COS(miib*C662))","v":-118.43316739711543},{"$f":"miia*Alfa1*SIN(miia*C662)-miib*Alfa2*SIN(miib*C662)","v":-360.96235428029706},null,null,null,null,null,null,null,null,null,{"$f":"IF(R662=$AC$1,1,0)","v":0},641,{"$f":"S661+dt","v":6.4099999999999078},{"$f":"IF(R662<MAX_TIME,Aktina*SIN(epsilon*S662)*COS(D*S662),Aktina*SIN(epsilon*MAX_TIME*dt)*COS(D*MAX_TIME*dt))","v":-39.377387845763515},{"$f":"IF(R662<MAX_TIME,Aktina*COS(epsilon*S662)*COS(D*S662),Aktina*COS(epsilon*MAX_TIME*dt)*COS(D*MAX_TIME*dt))","v":-36.944890531202589}]
[0,{"$f":"B662+1","v":642},6.4199999999999076,{"$f":"(Alfa1*SIN(miia*C663)-Alfa2*SIN(miib*C663))","v":-6.6353849682453792},{"$f":"-(Alfa1*COS(miia*C663)-Alfa2*COS(miib*C663))","v":40.863084155217166},{"$f":"(miia*Alfa1*COS(miia*C663)-miib*Alfa2*COS(miib*C663))","v":-133.87259464837328},{"$f":"miia*Alfa1*SIN(miia*C663)-miib*Alfa2*SIN(miib*C663)","v":-376.01479942211506},null,null,null,null,null,null,null,null,null,0,{"$f":"R662+1","v":642},6.4199999999999076,-39.377387845763515,-36.944890531202589]
[0,643,6.4299999999999073,{"$f":"(Alfa1*SIN(miia*C664)-Alfa2*SIN(miib*C664))","v":-8.0514675545273917},{"$f":"-(Alfa1*COS(miia*C664)-Alfa2*COS(miib*C664))","v":37.038697307500392},{"$f":"(miia*Alfa1*COS(miia*C664)-miib*Alfa2*COS(miib*C664))","v":-149.32925750181707},{"$f":"miia*Alfa1*SIN(miia*C664)-miib*Alfa2*SIN(miib*C664)","v":-388.41499900627389},null,null,null,null,null,null,null,null,null,0,643,6.4299999999999073,-39.377387845763515,-36.944890531202589]
[0,644,6.4399999999999071,{"$f":"(Alfa1*SIN(miia*C665)-Alfa2*SIN(miib*C665))","v":-9.6213232270026765},{"$f":"-(Alfa1*COS(miia*C665)-Alfa2*COS(miib*C665))","v":33.103819564127093},{"$f":"(miia*Alfa1*COS(miia*C665)-miib*Alfa2*COS(miib*C665))","v":-164.59180939836483},{"$f":"miia*Alfa1*SIN(miia*C665)-miib*Alfa2*SIN(miib*C665)","v":-398.10538775597479},null,null,null,null,null,null,null,null,null,0,644,6.4399999999999071,-39.377387845763515,-36.944890531202589]
[0,645,6.4499999999999069,{"$f":"(Alfa1*SIN(miia*C666)-Alfa2*SIN(miib*C666))","v":-11.341947760672635},{"$f":"-(Alfa1*COS(miia*C666)-Alfa2*COS(miib*C666))","v":29.085736350562023},{"$f":"(miia*Alfa1*COS(miia*C666)-miib*Alfa2*COS(miib*C666))","v":-179.44759910334827},{"$f":"miia*Alfa1*SIN(miia*C666)-miib*Alfa2*SIN(miib*C666)","v":-405.0525487798248},null,null,null,null,null,null,null,null,null,0,645,6.4499999999999069,-39.377387845763515,-36.944890531202589]
[0,646,6.4599999999999067,{"$f":"(Alfa1*SIN(miia*C667)-Alfa2*SIN(miib*C667))","v":-13.208213371643275},{"$f":"-(Alfa1*COS(miia*C667)-Alfa2*COS(miib*C667))","v":25.011945690368037},{"$f":"(miia*Alfa1*COS(miia*C667)-miib*Alfa2*COS(miib*C667))","v":-193.68494579818446},{"$f":"miia*Alfa1*SIN(miia*C667)-miib*Alfa2*SIN(miib*C667)","v":-409.24738897971667},null,null,null,null,null,null,null,null,null,0,646,6.4599999999999067,-39.377387845763515,-36.944890531202589]
[0,647,6.4699999999999065,{"$f":"(Alfa1*SIN(miia*C668)-Alfa2*SIN(miib*C668))","v":-15.212889798209414},{"$f":"-(Alfa1*COS(miia*C668)-Alfa2*COS(miib*C668))","v":20.909915070798231},{"$f":"(miia*Alfa1*COS(miia*C668)-miib*Alfa2*COS(miib*C668))","v":-207.09541220889287},{"$f":"miia*Alfa1*SIN(miia*C668)-miib*Alfa2*SIN(miib*C668)","v":-410.70507913587551},null,null,null,null,null,null,null,null,null,0,647,6.4699999999999065,-39.377387845763515,-36.944890531202589]
[0,648,6.4799999999999063,{"$f":"(Alfa1*SIN(miia*C669)-Alfa2*SIN(miib*C669))","v":-17.346688007068586},{"$f":"-(Alfa1*COS(miia*C669)-Alfa2*COS(miib*C669))","v":16.806840081051984},{"$f":"(miia*Alfa1*COS(miia*C669)-miib*Alfa2*COS(miib*C669))","v":-219.47605266401195},{"$f":"miia*Alfa1*SIN(miia*C669)-miib*Alfa2*SIN(miib*C669)","v":-409.46475964457818},null,null,null,null,null,null,null,null,null,0,648,6.4799999999999063,-39.377387845763515,-36.944890531202589]
[0,649,6.4899999999999061,{"$f":"(Alfa1*SIN(miia*C670)-Alfa2*SIN(miib*C670))","v":-19.598326159287133},{"$f":"-(Alfa1*COS(miia*C670)-Alfa2*COS(miib*C670))","v":12.729407152119087},{"$f":"(miia*Alfa1*COS(miia*C670)-miib*Alfa2*COS(miib*C670))","v":-230.63161320655678},{"$f":"miia*Alfa1*SIN(miia*C670)-miib*Alfa2*SIN(miib*C670)","v":-405.58901520533101},null,null,null,null,null,null,null,null,null,0,649,6.4899999999999061,-39.377387845763515,-36.944890531202589]
[0,650,6.4999999999999059,{"$f":"(Alfa1*SIN(miia*C671)-Alfa2*SIN(miib*C671))","v":-21.954617244013804},{"$f":"-(Alfa1*COS(miia*C671)-Alfa2*COS(miib*C671))","v":8.7035626826768571},{"$f":"(miia*Alfa1*COS(miia*C671)-miib*Alfa2*COS(miib*C671))","v":-240.37666134647304},{"$f":"miia*Alfa1*SIN(miia*C671)-miib*Alfa2*SIN(miib*C671)","v":-399.16312404178984},null,null,null,null,null,null,null,null,null,0,650,6.4999999999999059,-39.377387845763515,-36.944890531202589]
[0,651,6.5099999999999056,{"$f":"(Alfa1*SIN(miia*C672)-Alfa2*SIN(miib*C672))","v":-24.400577567050753},{"$f":"-(Alfa1*COS(miia*C672)-Alfa2*COS(miib*C672))","v":4.7542907684515683},{"$f":"(miia*Alfa1*COS(miia*C672)-miib*Alfa2*COS(miib*C672))","v":-248.53762372681035},{"$f":"miia*Alfa1*SIN(miia*C672)-miib*Alfa2*SIN(miib*C672)","v":-390.29408947151398},null,null,null,null,null,null,null,null,null,0,651,6.5099999999999056,-39.377387845763515,-36.944890531202589]
[0,652,6.5199999999999054,{"$f":"(Alfa1*SIN(miia*C673)-Alfa2*SIN(miib*C673))","v":-26.919555068460898},{"$f":"-(Alfa1*COS(miia*C673)-Alfa2*COS(miib*C673))","v":0.9054016634863018},{"$f":"(miia*Alfa1*COS(miia*C673)-miib*Alfa2*COS(miib*C673))","v":-254.95471088177916},{"$f":"miia*Alfa1*SIN(miia*C673)-miib*Alfa2*SIN(miib*C673)","v":-379.10946379163528},null,null,null,null,null,null,null,null,null,0,652,6.5199999999999054,-39.377387845763515,-36.944890531202589]
[0,653,6.5299999999999052,{"$f":"(Alfa1*SIN(miia*C674)-Alfa2*SIN(miib*C674))","v":-29.493376240584482},{"$f":"-(Alfa1*COS(miia*C674)-Alfa2*COS(miib*C674))","v":-2.8206670082839},{"$f":"(miia*Alfa1*COS(miia*C674)-miib*Alfa2*COS(miib*C674))","v":-259.48370937909317},{"$f":"miia*Alfa1*SIN(miia*C674)-miib*Alfa2*SIN(miib*C674)","v":-365.75597649915653},null,null,null,null,null,null,null,null,null,0,653,6.5299999999999052,-39.377387845763515,-36.944890531202589]
[0,654,6.539999999999905,{"$f":"(Alfa1*SIN(miia*C675)-Alfa2*SIN(miib*C675))","v":-32.102510227156465},{"$f":"-(Alfa1*COS(miia*C675)-Alfa2*COS(miib*C675))","v":-6.4030344026873056},{"$f":"(miia*Alfa1*COS(miia*C675)-miib*Alfa2*COS(miib*C675))","v":-261.99762295124759},{"$f":"miia*Alfa1*SIN(miia*C675)-miib*Alfa2*SIN(miib*C675)","v":-350.39798079549735},null,null,null,null,null,null,null,null,null,0,654,6.539999999999905,-39.377387845763515,-36.944890531202589]
[0,655,6.5499999999999048,{"$f":"(Alfa1*SIN(miia*C676)-Alfa2*SIN(miib*C676))","v":-34.72624850760117},{"$f":"-(Alfa1*COS(miia*C676)-Alfa2*COS(miib*C676))","v":-9.8225442263146512},{"$f":"(miia*Alfa1*COS(miia*C676)-miib*Alfa2*COS(miib*C676))","v":-262.38814571770098},{"$f":"miia*Alfa1*SIN(miia*C676)-miib*Alfa2*SIN(miib*C676)","v":-333.21573411582392},null,null,null,null,null,null,null,null,null,0,655,6.5499999999999048,-39.377387845763515,-36.944890531202589]
[0,656,6.5599999999999046,{"$f":"(Alfa1*SIN(miia*C677)-Alfa2*SIN(miib*C677))","v":-37.342898409809379},{"$f":"-(Alfa1*COS(miia*C677)-Alfa2*COS(miib*C677))","v":-13.061914554694804},{"$f":"(miia*Alfa1*COS(miia*C677)-miib*Alfa2*COS(miib*C677))","v":-260.56695226732938},{"$f":"miia*Alfa1*SIN(miia*C677)-miib*Alfa2*SIN(miib*C677)","v":-314.403530056742},null,null,null,null,null,null,null,null,null,0,656,6.5599999999999046,-39.377387845763515,-36.944890531202589]
[0,657,6.5699999999999044,{"$f":"(Alfa1*SIN(miia*C678)-Alfa2*SIN(miib*C678))","v":-39.929988551367963},{"$f":"-(Alfa1*COS(miia*C678)-Alfa2*COS(miib*C678))","v":-16.105868304644805},{"$f":"(miia*Alfa1*COS(miia*C678)-miib*Alfa2*COS(miib*C678))","v":-256.46679119135996},{"$f":"miia*Alfa1*SIN(miia*C678)-miib*Alfa2*SIN(miib*C678)","v":-294.16770053501864},null,null,null,null,null,null,null,null,null,0,657,6.5699999999999044,-39.377387845763515,-36.944890531202589]
[0,658,6.5799999999999041,{"$f":"(Alfa1*SIN(miia*C679)-Alfa2*SIN(miib*C679))","v":-42.464484184800739},{"$f":"-(Alfa1*COS(miia*C679)-Alfa2*COS(miib*C679))","v":-18.941243162648185},{"$f":"(miia*Alfa1*COS(miia*C679)-miib*Alfa2*COS(miib*C679))","v":-250.04237061314907},{"$f":"miia*Alfa1*SIN(miia*C679)-miib*Alfa2*SIN(miib*C679)","v":-272.7245082803683},null,null,null,null,null,null,null,null,null,0,658,6.5799999999999041,-39.377387845763515,-36.944890531202589]
[0,659,6.5899999999999039,{"$f":"(Alfa1*SIN(miia*C680)-Alfa2*SIN(miib*C680))","v":-44.92301031811386},{"$f":"-(Alfa1*COS(miia*C680)-Alfa2*COS(miib*C680))","v":-21.557079977662507},{"$f":"(miia*Alfa1*COS(miia*C680)-miib*Alfa2*COS(miib*C680))","v":-241.27102633304287},{"$f":"miia*Alfa1*SIN(miia*C680)-miib*Alfa2*SIN(miib*C680)","v":-250.29795083453038},null,null,null,null,null,null,null,null,null,0,659,6.5899999999999039,-39.377387845763515,-36.944890531202589]
[0,660,6.5999999999999037,{"$f":"(Alfa1*SIN(miia*C681)-Alfa2*SIN(miib*C681))","v":-47.282080398876111},{"$f":"-(Alfa1*COS(miia*C681)-Alfa2*COS(miib*C681))","v":-23.944688842935658},{"$f":"(miia*Alfa1*COS(miia*C681)-miib*Alfa2*COS(miib*C681))","v":-230.15316537355315},{"$f":"miia*Alfa1*SIN(miia*C681)-miib*Alfa2*SIN(miib*C681)","v":-227.11749808633027},null,null,null,null,null,null,null,null,null,0,660,6.5999999999999037,-39.377387845763515,-36.944890531202589]
[0,661,6.6099999999999035,{"$f":"(Alfa1*SIN(miia*C682)-Alfa2*SIN(miib*C682))","v":-49.518328289079037},{"$f":"-(Alfa1*COS(miia*C682)-Alfa2*COS(miib*C682))","v":-26.097692315093031},{"$f":"(miia*Alfa1*COS(miia*C682)-miib*Alfa2*COS(miib*C682))","v":-216.7124799504677},{"$f":"miia*Alfa1*SIN(miia*C682)-miib*Alfa2*SIN(miib*C682)","v":-203.41578600935713},null,null,null,null,null,null,null,null,null,0,661,6.6099999999999035,-39.377387845763515,-36.944890531202589]
[0,662,6.6199999999999033,{"$f":"(Alfa1*SIN(miia*C683)-Alfa2*SIN(miib*C683))","v":-51.608741219694984},{"$f":"-(Alfa1*COS(miia*C683)-Alfa2*COS(miib*C683))","v":-28.012045447658711},{"$f":"(miia*Alfa1*COS(miia*C683)-miib*Alfa2*COS(miib*C683))","v":-200.99592918698519},{"$f":"miia*Alfa1*SIN(miia*C683)-miib*Alfa2*SIN(miib*C683)","v":-179.42628967936477},null,null,null,null,null,null,null,null,null,0,662,6.6199999999999033,-39.377387845763515,-36.944890531202589]
[0,663,6.6299999999999031,{"$f":"(Alfa1*SIN(miia*C684)-Alfa2*SIN(miib*C684))","v":-53.530891398607054},{"$f":"-(Alfa1*COS(miia*C684)-Alfa2*COS(miib*C684))","v":-29.686032548037943},{"$f":"(miia*Alfa1*COS(miia*C684)-miib*Alfa2*COS(miib*C684))","v":-183.07348820761098},{"$f":"miia*Alfa1*SIN(miia*C684)-miib*Alfa2*SIN(miib*C684)","v":-155.38099882825486},null,null,null,null,null,null,null,null,null,0,663,6.6299999999999031,-39.377387845763515,-36.944890531202589]
[0,664,6.6399999999999029,{"$f":"(Alfa1*SIN(miia*C685)-Alfa2*SIN(miib*C685))","v":-55.263163953586201},{"$f":"-(Alfa1*COS(miia*C685)-Alfa2*COS(miib*C685))","v":-31.120240799492201},{"$f":"(miia*Alfa1*COS(miia*C685)-miib*Alfa2*COS(miib*C685))","v":-163.03766657312954},{"$f":"miia*Alfa1*SIN(miia*C685)-miib*Alfa2*SIN(miib*C685)","v":-131.50811913879164},null,null,null,null,null,null,null,null,null,0,664,6.6399999999999029,-39.377387845763515,-36.944890531202589]
[0,665,6.6499999999999027,{"$f":"(Alfa1*SIN(miia*C686)-Alfa2*SIN(miib*C686))","v":-56.784978923151399},{"$f":"-(Alfa1*COS(miia*C686)-Alfa2*COS(miib*C686))","v":-32.317511120441083},{"$f":"(miia*Alfa1*COS(miia*C686)-miib*Alfa2*COS(miib*C686))","v":-141.00280032443837},{"$f":"miia*Alfa1*SIN(miia*C686)-miib*Alfa2*SIN(miib*C686)","v":-108.02982219987888},null,null,null,null,null,null,null,null,null,0,665,6.6499999999999027,-39.377387845763515,-36.944890531202589]
[0,666,6.6599999999999024,{"$f":"(Alfa1*SIN(miia*C687)-Alfa2*SIN(miib*C687))","v":-58.077005062204393},{"$f":"-(Alfa1*COS(miia*C687)-Alfa2*COS(miib*C687))","v":-33.282866860253797},{"$f":"(miia*Alfa1*COS(miia*C687)-miib*Alfa2*COS(miib*C687))","v":-117.10412416808474},{"$f":"miia*Alfa1*SIN(miia*C687)-miib*Alfa2*SIN(miib*C687)","v":-85.160066528808159},null,null,null,null,null,null,null,null,null,0,666,6.6599999999999024,-39.377387845763515,-36.944890531202589]
[0,667,6.6699999999999022,{"$f":"(Alfa1*SIN(miia*C688)-Alfa2*SIN(miib*C688))","v":-59.121363305725659},{"$f":"-(Alfa1*COS(miia*C688)-Alfa2*COS(miib*C688))","v":-34.023421151253288},{"$f":"(miia*Alfa1*COS(miia*C688)-miib*Alfa2*COS(miib*C688))","v":-91.496632537513946},{"$f":"miia*Alfa1*SIN(miia*C688)-miib*Alfa2*SIN(miib*C688)","v":-63.102511329878496},null,null,null,null,null,null,null,null,null,0,667,6.6699999999999022,-39.377387845763515,-36.944890531202589]
[0,668,6.679999999999902,{"$f":"(Alfa1*SIN(miia*C689)-Alfa2*SIN(miib*C689))","v":-59.901817831810419},{"$f":"-(Alfa1*COS(miia*C689)-Alfa2*COS(miib*C689))","v":-34.54826394875694},{"$f":"(miia*Alfa1*COS(miia*C689)-miib*Alfa2*COS(miib*C689))","v":-64.353740379395461},{"$f":"miia*Alfa1*SIN(miia*C689)-miib*Alfa2*SIN(miib*C689)","v":-42.048543705606818},null,null,null,null,null,null,null,null,null,0,668,6.679999999999902,-39.377387845763515,-36.944890531202589]
[0,669,6.6899999999999018,{"$f":"(Alfa1*SIN(miia*C690)-Alfa2*SIN(miib*C690))","v":-60.403952783962303},{"$f":"-(Alfa1*COS(miia*C690)-Alfa2*COS(miib*C690))","v":-34.868329992513033},{"$f":"(miia*Alfa1*COS(miia*C690)-miib*Alfa2*COS(miib*C690))","v":-35.865756522471202},{"$f":"miia*Alfa1*SIN(miia*C690)-miib*Alfa2*SIN(miib*C690)","v":-22.175438876699928},null,null,null,null,null,null,null,null,null,0,669,6.6899999999999018,-39.377387845763515,-36.944890531202589]
[0,670,6.6999999999999016,{"$f":"(Alfa1*SIN(miia*C691)-Alfa2*SIN(miib*C691))","v":-60.615332850651797},{"$f":"-(Alfa1*COS(miia*C691)-Alfa2*COS(miib*C691))","v":-34.996249111832647},{"$f":"(miia*Alfa1*COS(miia*C691)-miib*Alfa2*COS(miib*C691))","v":-6.2381843674571371},{"$f":"miia*Alfa1*SIN(miia*C691)-miib*Alfa2*SIN(miib*C691)","v":-3.6446716120739211},null,null,null,null,null,null,null,null,null,0,670,6.6999999999999016,-39.377387845763515,-36.944890531202589]
[0,671,6.7099999999999014,{"$f":"(Alfa1*SIN(miia*C692)-Alfa2*SIN(miib*C692))","v":-60.525646056337905},{"$f":"-(Alfa1*COS(miia*C692)-Alfa2*COS(miib*C692))","v":-34.946180471194502},{"$f":"(miia*Alfa1*COS(miia*C692)-miib*Alfa2*COS(miib*C692))","v":24.310133628411535},{"$f":"miia*Alfa1*SIN(miia*C692)-miib*Alfa2*SIN(miib*C692)","v":13.399604466152908},null,null,null,null,null,null,null,null,null,0,671,6.7099999999999014,-39.377387845763515,-36.944890531202589]
[0,672,6.7199999999999012,{"$f":"(Alfa1*SIN(miia*C693)-Alfa2*SIN(miib*C693))","v":-60.126827290888166},{"$f":"-(Alfa1*COS(miia*C693)-Alfa2*COS(miib*C693))","v":-34.733632511368455},{"$f":"(miia*Alfa1*COS(miia*C693)-miib*Alfa2*COS(miib*C693))","v":55.549009626970957},{"$f":"miia*Alfa1*SIN(miia*C693)-miib*Alfa2*SIN(miib*C693)","v":28.831894740172061},null,null,null,null,null,null,null,null,null,0,672,6.7199999999999012,-39.377387845763515,-36.944890531202589]
[0,673,6.729999999999901,{"$f":"(Alfa1*SIN(miia*C694)-Alfa2*SIN(miib*C694))","v":-59.413161291903329},{"$f":"-(Alfa1*COS(miia*C694)-Alfa2*COS(miib*C694))","v":-34.375270481589041},{"$f":"(miia*Alfa1*COS(miia*C694)-miib*Alfa2*COS(miib*C694))","v":87.239022806842712},{"$f":"miia*Alfa1*SIN(miia*C694)-miib*Alfa2*SIN(miib*C694)","v":42.546505505162173},null,null,null,null,null,null,null,null,null,0,673,6.729999999999901,-39.377387845763515,-36.944890531202589]
[0,674,6.7399999999999007,{"$f":"(Alfa1*SIN(miia*C695)-Alfa2*SIN(miib*C695))","v":-58.381363994997933},{"$f":"-(Alfa1*COS(miia*C695)-Alfa2*COS(miib*C695))","v":-33.888713579616571},{"$f":"(miia*Alfa1*COS(miia*C695)-miib*Alfa2*COS(miib*C695))","v":119.13372984573707},{"$f":"miia*Alfa1*SIN(miia*C695)-miib*Alfa2*SIN(miib*C695)","v":54.45847879950756},null,null,null,null,null,null,null,null,null,0,674,6.7399999999999007,-39.377387845763515,-36.944890531202589]
[0,675,6.7499999999999005,{"$f":"(Alfa1*SIN(miia*C696)-Alfa2*SIN(miib*C696))","v":-57.030641378609474},{"$f":"-(Alfa1*COS(miia*C696)-Alfa2*COS(miib*C696))","v":-33.292323817440995},{"$f":"(miia*Alfa1*COS(miia*C696)-miib*Alfa2*COS(miib*C696))","v":150.98195185521354},{"$f":"miia*Alfa1*SIN(miia*C696)-miib*Alfa2*SIN(miib*C696)","v":64.504311119059452},null,null,null,null,null,null,null,null,null,0,675,6.7499999999999005,-39.377387845763515,-36.944890531202589]
[0,676,6.7599999999999003,{"$f":"(Alfa1*SIN(miia*C697)-Alfa2*SIN(miib*C697))","v":-55.362725150314816},{"$f":"-(Alfa1*COS(miia*C697)-Alfa2*COS(miib*C697))","v":-32.604988809918275},{"$f":"(miia*Alfa1*COS(miia*C697)-miib*Alfa2*COS(miib*C697))","v":182.53011535603864},{"$f":"miia*Alfa1*SIN(miia*C697)-miib*Alfa2*SIN(miib*C697)","v":72.642449159574284},null,null,null,null,null,null,null,null,null,0,676,6.7599999999999003,-39.377387845763515,-36.944890531202589]
[0,677,6.7699999999999001,{"$f":"(Alfa1*SIN(miia*C698)-Alfa2*SIN(miib*C698))","v":-53.381884848719679},{"$f":"-(Alfa1*COS(miia*C698)-Alfa2*COS(miib*C698))","v":-31.845900740985527},{"$f":"(miia*Alfa1*COS(miia*C698)-miib*Alfa2*COS(miib*C698))","v":213.52462432567194},{"$f":"miia*Alfa1*SIN(miia*C698)-miib*Alfa2*SIN(miib*C698)","v":78.853557980900035},null,null,null,null,null,null,null,null,null,0,677,6.7699999999999001,-39.377387845763515,-36.944890531202589]
[0,678,6.7799999999998999,{"$f":"(Alfa1*SIN(miia*C699)-Alfa2*SIN(miib*C699))","v":-51.094916166506621},{"$f":"-(Alfa1*COS(miia*C699)-Alfa2*COS(miib*C699))","v":-31.034333796722166},{"$f":"(miia*Alfa1*COS(miia*C699)-miib*Alfa2*COS(miib*C699))","v":243.71424002099536},{"$f":"miia*Alfa1*SIN(miia*C699)-miib*Alfa2*SIN(miib*C699)","v":83.140559280973434},null,null,null,null,null,null,null,null,null,0,678,6.7799999999998999,-39.377387845763515,-36.944890531202589]
[0,679,6.7899999999998997,{"$f":"(Alfa1*SIN(miia*C700)-Alfa2*SIN(miib*C700))","v":-48.511105533875408},{"$f":"-(Alfa1*COS(miia*C700)-Alfa2*COS(miib*C700))","v":-30.189422366069657},{"$f":"(miia*Alfa1*COS(miia*C700)-miib*Alfa2*COS(miib*C700))","v":272.85244518284526},{"$f":"miia*Alfa1*SIN(miia*C700)-miib*Alfa2*SIN(miib*C700)","v":85.528439784408391},null,null,null,null,null,null,null,null,null,0,679,6.7899999999998997,-39.377387845763515,-36.944890531202589]
[0,680,6.7999999999998995,{"$f":"(Alfa1*SIN(miia*C701)-Alfa2*SIN(miib*C701))","v":-45.642171235048252},{"$f":"-(Alfa1*COS(miia*C701)-Alfa2*COS(miib*C701))","v":-29.32994229838264},{"$f":"(miia*Alfa1*COS(miia*C701)-miib*Alfa2*COS(miib*C701))","v":300.69976936521033},{"$f":"miia*Alfa1*SIN(miia*C701)-miib*Alfa2*SIN(miib*C701)","v":86.063832066166128},null,null,null,null,null,null,null,null,null,0,680,6.7999999999998995,-39.377387845763515,-36.944890531202589]
[0,681,6.8099999999998992,{"$f":"(Alfa1*SIN(miia*C702)-Alfa2*SIN(miib*C702))","v":-42.502181561449746},{"$f":"-(Alfa1*COS(miia*C702)-Alfa2*COS(miib*C702))","v":-28.474097472296705},{"$f":"(miia*Alfa1*COS(miia*C702)-miib*Alfa2*COS(miib*C702))","v":327.02605249949403},{"$f":"miia*Alfa1*SIN(miia*C702)-miib*Alfa2*SIN(miib*C702)","v":84.814372422270139},null,null,null,null,null,null,null,null,null,0,681,6.8099999999998992,-39.377387845763515,-36.944890531202589]
[0,682,6.819999999999899,{"$f":"(Alfa1*SIN(miia*C703)-Alfa2*SIN(miib*C703))","v":-39.107450731268244},{"$f":"-(Alfa1*COS(miia*C703)-Alfa2*COS(miib*C703))","v":-27.639313873004014},{"$f":"(miia*Alfa1*COS(miia*C703)-miib*Alfa2*COS(miib*C703))","v":351.61262439989525},{"$f":"miia*Alfa1*SIN(miia*C703)-miib*Alfa2*SIN(miib*C703)","v":81.867842643909},null,null,null,null,null,null,null,null,null,0,682,6.819999999999899,-39.377387845763515,-36.944890531202589]
[0,683,6.8299999999998988,{"$f":"(Alfa1*SIN(miia*C704)-Alfa2*SIN(miib*C704))","v":-35.476413524136589},{"$f":"-(Alfa1*COS(miia*C704)-Alfa2*COS(miib*C704))","v":-26.842043295524274},{"$f":"(miia*Alfa1*COS(miia*C704)-miib*Alfa2*COS(miib*C704))","v":374.25437873342156},{"$f":"miia*Alfa1*SIN(miia*C704)-miib*Alfa2*SIN(miib*C704)","v":77.331104726000135},null,null,null,null,null,null,null,null,null,0,683,6.8299999999998988,-39.377387845763515,-36.944890531202589]
[0,684,6.8399999999998986,{"$f":"(Alfa1*SIN(miia*C705)-Alfa2*SIN(miib*C705))","v":-31.629479789467176},{"$f":"-(Alfa1*COS(miia*C705)-Alfa2*COS(miib*C705))","v":-26.097578690748499},{"$f":"(miia*Alfa1*COS(miia*C705)-miib*Alfa2*COS(miib*C705))","v":394.76172100925839},{"$f":"miia*Alfa1*SIN(miia*C705)-miib*Alfa2*SIN(miib*C705)","v":71.328839624672796},null,null,null,null,null,null,null,null,null,0,684,6.8399999999998986,-39.377387845763515,-36.944890531202589]
[0,685,6.8499999999998984,{"$f":"(Alfa1*SIN(miia*C706)-Alfa2*SIN(miib*C706))","v":-27.588870185402968},{"$f":"-(Alfa1*COS(miia*C706)-Alfa2*COS(miib*C706))","v":-25.419883049927545},{"$f":"(miia*Alfa1*COS(miia*C706)-miib*Alfa2*COS(miib*C706))","v":412.96237137724785},{"$f":"miia*Alfa1*SIN(miia*C706)-miib*Alfa2*SIN(miib*C706)","v":64.002103149267555},null,null,null,null,null,null,null,null,null,0,685,6.8499999999998984,-39.377387845763515,-36.944890531202589]
[0,686,6.8599999999998982,{"$f":"(Alfa1*SIN(miia*C707)-Alfa2*SIN(miib*C707))","v":-23.378434690480688},{"$f":"-(Alfa1*COS(miia*C707)-Alfa2*COS(miib*C707))","v":-24.821433583109368},{"$f":"(miia*Alfa1*COS(miia*C707)-miib*Alfa2*COS(miib*C707))","v":428.70300445135695},{"$f":"miia*Alfa1*SIN(miia*C707)-miib*Alfa2*SIN(miib*C707)","v":55.506713913640837},null,null,null,null,null,null,null,null,null,0,686,6.8599999999998982,-39.377387845763515,-36.944890531202589]
[0,687,6.869999999999898,{"$f":"(Alfa1*SIN(miia*C708)-Alfa2*SIN(miib*C708))","v":-19.02345560006918},{"$f":"-(Alfa1*COS(miia*C708)-Alfa2*COS(miib*C708))","v":-24.313082789204508},{"$f":"(miia*Alfa1*COS(miia*C708)-miib*Alfa2*COS(miib*C708))","v":441.85070997736136},{"$f":"miia*Alfa1*SIN(miia*C708)-miib*Alfa2*SIN(miib*C708)","v":46.011489960398499},null,null,null,null,null,null,null,null,null,0,687,6.869999999999898,-39.377387845763515,-36.944890531202589]
[0,688,6.8799999999998978,{"$f":"(Alfa1*SIN(miia*C709)-Alfa2*SIN(miib*C709))","v":-14.550436872745991},{"$f":"-(Alfa1*COS(miia*C709)-Alfa2*COS(miib*C709))","v":-23.903937841467489},{"$f":"(miia*Alfa1*COS(miia*C709)-miib*Alfa2*COS(miib*C709))","v":452.29425992850298},{"$f":"miia*Alfa1*SIN(miia*C709)-miib*Alfa2*SIN(miib*C709)","v":35.696352193219241},null,null,null,null,null,null,null,null,null,0,688,6.8799999999998978,-39.377387845763515,-36.944890531202589]
[0,689,6.8899999999998975,{"$f":"(Alfa1*SIN(miia*C710)-Alfa2*SIN(miib*C710))","v":-9.9868818265299559},{"$f":"-(Alfa1*COS(miia*C710)-Alfa2*COS(miib*C710))","v":-23.601259523979657},{"$f":"(miia*Alfa1*COS(miia*C710)-miib*Alfa2*COS(miib*C710))","v":459.9451695208943},{"$f":"miia*Alfa1*SIN(miia*C710)-miib*Alfa2*SIN(miib*C710)","v":24.750314091542503},null,null,null,null,null,null,null,null,null,0,689,6.8899999999998975,-39.377387845763515,-36.944890531202589]
[0,690,6.8999999999998973,{"$f":"(Alfa1*SIN(miia*C711)-Alfa2*SIN(miib*C711))","v":-5.3610612998850655},{"$f":"-(Alfa1*COS(miia*C711)-Alfa2*COS(miib*C711))","v":-23.410381754089663},{"$f":"(miia*Alfa1*COS(miia*C711)-miib*Alfa2*COS(miib*C711))","v":464.73854167320223},{"$f":"miia*Alfa1*SIN(miia*C711)-miib*Alfa2*SIN(miib*C711)","v":13.369378325045943},null,null,null,null,null,null,null,null,null,0,690,6.8999999999998973,-39.377387845763515,-36.944890531202589]
[0,691,6.9099999999998971,{"$f":"(Alfa1*SIN(miia*C712)-Alfa2*SIN(miib*C712))","v":-0.70177448655780816},{"$f":"-(Alfa1*COS(miia*C712)-Alfa2*COS(miib*C712))","v":-23.334652514737908},{"$f":"(miia*Alfa1*COS(miia*C712)-miib*Alfa2*COS(miib*C712))","v":466.63368657215801},{"$f":"miia*Alfa1*SIN(miia*C712)-miib*Alfa2*SIN(miib*C712)","v":1.7543618211803305},null,null,null,null,null,null,null,null,null,0,691,6.9099999999998971,-39.377387845763515,-36.944890531202589]
[0,692,6.9199999999998969,{"$f":"(Alfa1*SIN(miia*C713)-Alfa2*SIN(miib*C713))","v":3.96189527432717},{"$f":"-(Alfa1*COS(miia*C713)-Alfa2*COS(miib*C713))","v":-23.375396801279802},{"$f":"(miia*Alfa1*COS(miia*C713)-miib*Alfa2*COS(miib*C713))","v":465.61451022552563},{"$f":"miia*Alfa1*SIN(miia*C713)-miib*Alfa2*SIN(miib*C713)","v":-9.8913284417684011},null,null,null,null,null,null,null,null,null,0,692,6.9199999999998969,-39.377387845763515,-36.944890531202589]
[0,693,6.9299999999998967,{"$f":"(Alfa1*SIN(miia*C714)-Alfa2*SIN(miib*C714))","v":8.6008274216907488},{"$f":"-(Alfa1*COS(miia*C714)-Alfa2*COS(miib*C714))","v":-23.531901962031593},{"$f":"(miia*Alfa1*COS(miia*C714)-miib*Alfa2*COS(miib*C714))","v":461.68966816526131},{"$f":"miia*Alfa1*SIN(miia*C714)-miib*Alfa2*SIN(miib*C714)","v":-21.363946148409404},null,null,null,null,null,null,null,null,null,0,693,6.9299999999998967,-39.377387845763515,-36.944890531202589]
[0,694,6.9399999999998965,{"$f":"(Alfa1*SIN(miia*C715)-Alfa2*SIN(miib*C715))","v":13.186111451408367},{"$f":"-(Alfa1*COS(miia*C715)-Alfa2*COS(miib*C715))","v":-23.801425582561873},{"$f":"(miia*Alfa1*COS(miia*C715)-miib*Alfa2*COS(miib*C715))","v":454.89248278285504},{"$f":"miia*Alfa1*SIN(miia*C715)-miib*Alfa2*SIN(miib*C715)","v":-32.461659832641914},null,null,null,null,null,null,null,null,null,0,694,6.9399999999998965,-39.377387845763515,-36.944890531202589]
[0,695,6.9499999999998963,{"$f":"(Alfa1*SIN(miia*C716)-Alfa2*SIN(miib*C716))","v":17.68929218915963},{"$f":"-(Alfa1*COS(miia*C716)-Alfa2*COS(miib*C716))","v":-24.179225833042608},{"$f":"(miia*Alfa1*COS(miia*C716)-miib*Alfa2*COS(miib*C716))","v":445.28062511327744},{"$f":"miia*Alfa1*SIN(miia*C716)-miib*Alfa2*SIN(miib*C716)","v":-42.98678746768406},null,null,null,null,null,null,null,null,null,0,695,6.9499999999998963,-39.377387845763515,-36.944890531202589]
[0,696,6.959999999999896,{"$f":"(Alfa1*SIN(miia*C717)-Alfa2*SIN(miib*C717))","v":22.082610715498575},{"$f":"-(Alfa1*COS(miia*C717)-Alfa2*COS(miib*C717))","v":-24.658613968075741},{"$f":"(miia*Alfa1*COS(miia*C717)-miib*Alfa2*COS(miib*C717))","v":432.93556421020742},{"$f":"miia*Alfa1*SIN(miia*C717)-miib*Alfa2*SIN(miib*C717)","v":-52.747988587696092},null,null,null,null,null,null,null,null,null,0,696,6.959999999999896,-39.377387845763515,-36.944890531202589]
[0,697,6.9699999999998958,{"$f":"(Alfa1*SIN(miia*C718)-Alfa2*SIN(miib*C718))","v":26.339238644340075},{"$f":"-(Alfa1*COS(miia*C718)-Alfa2*COS(miib*C718))","v":-25.231028441634141},{"$f":"(miia*Alfa1*COS(miia*C718)-miib*Alfa2*COS(miib*C718))","v":417.96178955021821},{"$f":"miia*Alfa1*SIN(miia*C718)-miib*Alfa2*SIN(miib*C718)","v":-61.562391495755037},null,null,null,null,null,null,null,null,null,0,697,6.9699999999998958,-39.377387845763515,-36.944890531202589]
[0,698,6.9799999999998956,{"$f":"(Alfa1*SIN(miia*C719)-Alfa2*SIN(miib*C719))","v":30.433503521711522},{"$f":"-(Alfa1*COS(miia*C719)-Alfa2*COS(miib*C719))","v":-25.886129878380483},{"$f":"(miia*Alfa1*COS(miia*C719)-miib*Alfa2*COS(miib*C719))","v":400.48581414438286},{"$f":"miia*Alfa1*SIN(miia*C719)-miib*Alfa2*SIN(miib*C719)","v":-69.257633765457868},null,null,null,null,null,null,null,null,null,0,698,6.9799999999998956,-39.377387845763515,-36.944890531202589]
[0,699,6.9899999999998954,{"$f":"(Alfa1*SIN(miia*C720)-Alfa2*SIN(miib*C720))","v":34.341103199296953},{"$f":"-(Alfa1*COS(miia*C720)-Alfa2*COS(miib*C720))","v":-26.611915928880126},{"$f":"(miia*Alfa1*COS(miia*C720)-miib*Alfa2*COS(miib*C720))","v":380.6549682000325},{"$f":"miia*Alfa1*SIN(miia*C720)-miib*Alfa2*SIN(miib*C720)","v":-75.673795114985623},null,null,null,null,null,null,null,null,null,0,699,6.9899999999998954,-39.377387845763515,-36.944890531202589]
[0,700,6.9999999999998952,{"$f":"(Alfa1*SIN(miia*C721)-Alfa2*SIN(miib*C721))","v":38.03930714613341},{"$f":"-(Alfa1*COS(miia*C721)-Alfa2*COS(miib*C721))","v":-27.394854832248168},{"$f":"(miia*Alfa1*COS(miia*C721)-miib*Alfa2*COS(miib*C721))","v":358.6359952417306},{"$f":"miia*Alfa1*SIN(miia*C721)-miib*Alfa2*SIN(miib*C721)","v":-80.665202814360995},null,null,null,null,null,null,null,null,null,0,700,6.9999999999998952,-39.377387845763515,-36.944890531202589]
[0,701,7.009999999999895,{"$f":"(Alfa1*SIN(miia*C722)-Alfa2*SIN(miib*C722))","v":41.50714279077549},{"$f":"-(Alfa1*COS(miia*C722)-Alfa2*COS(miib*C722))","v":-28.220036317627148},{"$f":"(miia*Alfa1*COS(miia*C722)-miib*Alfa2*COS(miib*C722))","v":334.61346454807068},{"$f":"miia*Alfa1*SIN(miia*C722)-miib*Alfa2*SIN(miib*C722)","v":-84.102091068153499},null,null,null,null,null,null,null,null,null,0,701,7.009999999999895,-39.377387845763515,-36.944890531202589]
[0,702,7.0199999999998948,{"$f":"(Alfa1*SIN(miia*C723)-Alfa2*SIN(miib*C723))","v":44.72556513396875},{"$f":"-(Alfa1*COS(miia*C723)-Alfa2*COS(miib*C723))","v":-29.071338297504226},{"$f":"(miia*Alfa1*COS(miia*C723)-miib*Alfa2*COS(miib*C723))","v":308.78801557054811},{"$f":"miia*Alfa1*SIN(miia*C723)-miib*Alfa2*SIN(miib*C723)","v":-85.872097284053893},null,null,null,null,null,null,null,null,null,0,702,7.0199999999998948,-39.377387845763515,-36.944890531202589]
[0,703,7.0299999999998946,{"$f":"(Alfa1*SIN(miia*C724)-Alfa2*SIN(miib*C724))","v":47.67760803694123},{"$f":"-(Alfa1*COS(miia*C724)-Alfa2*COS(miib*C724))","v":-29.931607643044742},{"$f":"(miia*Alfa1*COS(miia*C724)-miib*Alfa2*COS(miib*C724))","v":281.37445165432268},{"$f":"miia*Alfa1*SIN(miia*C724)-miib*Alfa2*SIN(miib*C724)","v":-85.881579777972973},null,null,null,null,null,null,null,null,null,0,703,7.0299999999998946,-39.377387845763515,-36.944890531202589]
[0,704,7.0399999999998943,{"$f":"(Alfa1*SIN(miia*C725)-Alfa2*SIN(miib*C725))","v":50.348515771184402},{"$f":"-(Alfa1*COS(miia*C725)-Alfa2*COS(miib*C725))","v":-30.782853185984926},{"$f":"(miia*Alfa1*COS(miia*C725)-miib*Alfa2*COS(miib*C725))","v":252.5997018616697},{"$f":"miia*Alfa1*SIN(miia*C725)-miib*Alfa2*SIN(miib*C725)","v":-84.056743262157028},null,null,null,null,null,null,null,null,null,0,704,7.0399999999998943,-39.377387845763515,-36.944890531202589]
[{"$f":"IF(B726=$AC$1,1,0)","v":0},705,{"$f":"C725+dt","v":7.0499999999998941},{"$f":"(Alfa1*SIN(miia*C726)-Alfa2*SIN(miib*C726))","v":52.725853610218969},{"$f":"-(Alfa1*COS(miia*C726)-Alfa2*COS(miib*C726))","v":-31.6064489646479},{"$f":"(miia*Alfa1*COS(miia*C726)-miib*Alfa2*COS(miib*C726))","v":222.70067099286405},{"$f":"miia*Alfa1*SIN(miia*C726)-miib*Alfa2*SIN(miib*C726)","v":-80.344560396279604},null,null,null,null,null,null,null,null,null,{"$f":"IF(R726=$AC$1,1,0)","v":0},705,{"$f":"S725+dt","v":7.0499999999998941},{"$f":"IF(R726<MAX_TIME,Aktina*SIN(epsilon*S726)*COS(D*S726),Aktina*SIN(epsilon*MAX_TIME*dt)*COS(D*MAX_TIME*dt))","v":-39.377387845763515},{"$f":"IF(R726<MAX_TIME,Aktina*COS(epsilon*S726)*COS(D*S726),Aktina*COS(epsilon*MAX_TIME*dt)*COS(D*MAX_TIME*dt))","v":-36.944890531202589}]
[0,{"$f":"B726+1","v":706},7.0599999999998939,{"$f":"(Alfa1*SIN(miia*C727)-Alfa2*SIN(miib*C727))","v":54.799596450441136},{"$f":"-(Alfa1*COS(miia*C727)-Alfa2*COS(miib*C727))","v":-32.383345624618805},{"$f":"(miia*Alfa1*COS(miia*C727)-miib*Alfa2*COS(miib*C727))","v":191.92199899285558},{"$f":"miia*Alfa1*SIN(miia*C727)-miib*Alfa2*SIN(miib*C727)","v":-74.713479733247539},null,null,null,null,null,null,null,null,null,0,{"$f":"R726+1","v":706},7.0599999999998939,-39.377387845763515,-36.944890531202589]
[0,707,7.0699999999998937,{"$f":"(Alfa1*SIN(miia*C728)-Alfa2*SIN(miib*C728))","v":56.562194664620058},{"$f":"-(Alfa1*COS(miia*C728)-Alfa2*COS(miib*C728))","v":-33.094287798606899},{"$f":"(miia*Alfa1*COS(miia*C728)-miib*Alfa2*COS(miib*C728))","v":160.51375181482632},{"$f":"miia*Alfa1*SIN(miia*C728)-miib*Alfa2*SIN(miib*C728)","v":-67.153912540957577},null,null,null,null,null,null,null,null,null,0,707,7.0699999999998937,-39.377387845763515,-36.944890531202589]
[0,708,7.0799999999998935,{"$f":"(Alfa1*SIN(miia*C729)-Alfa2*SIN(miib*C729))","v":58.00861661582087},{"$f":"-(Alfa1*COS(miia*C729)-Alfa2*COS(miib*C729))","v":-33.72003522590645},{"$f":"(miia*Alfa1*COS(miia*C729)-miib*Alfa2*COS(miib*C729))","v":128.7290664748455},{"$f":"miia*Alfa1*SIN(miia*C729)-miib*Alfa2*SIN(miib*C729)","v":-57.678493207015606},null,null,null,null,null,null,null,null,null,0,708,7.0799999999998935,-39.377387845763515,-36.944890531202589]
[0,709,7.0899999999998933,{"$f":"(Alfa1*SIN(miia*C730)-Alfa2*SIN(miib*C730))","v":59.136367489254994},{"$f":"-(Alfa1*COS(miia*C730)-Alfa2*COS(miib*C730))","v":-34.241585330304858},{"$f":"(miia*Alfa1*COS(miia*C730)-miib*Alfa2*COS(miib*C730))","v":96.821773468391967},{"$f":"miia*Alfa1*SIN(miia*C730)-miib*Alfa2*SIN(miib*C730)","v":-46.322110213127871},null,null,null,null,null,null,null,null,null,0,709,7.0899999999998933,-39.377387845763515,-36.944890531202589]
[0,710,7.0999999999998931,{"$f":"(Alfa1*SIN(miia*C731)-Alfa2*SIN(miib*C731))","v":59.945484332484099},{"$f":"-(Alfa1*COS(miia*C731)-Alfa2*COS(miib*C731))","v":-34.640394956689505},{"$f":"(miia*Alfa1*COS(miia*C731)-miib*Alfa2*COS(miib*C731))","v":65.04401992567756},{"$f":"miia*Alfa1*SIN(miia*C731)-miib*Alfa2*SIN(miib*C731)","v":-33.141706976725828},null,null,null,null,null,null,null,null,null,0,710,7.0999999999998931,-39.377387845763515,-36.944890531202589]
[0,711,7.1099999999998929,{"$f":"(Alfa1*SIN(miia*C732)-Alfa2*SIN(miib*C732))","v":60.438507428236605},{"$f":"-(Alfa1*COS(miia*C732)-Alfa2*COS(miib*C732))","v":-34.898598971177869},{"$f":"(miia*Alfa1*COS(miia*C732)-miib*Alfa2*COS(miib*C732))","v":33.643916856158839},{"$f":"miia*Alfa1*SIN(miia*C732)-miib*Alfa2*SIN(miib*C732)","v":-18.215854176250815},null,null,null,null,null,null,null,null,null,0,711,7.1099999999998929,-39.377387845763515,-36.944890531202589]
[0,712,7.1199999999998926,{"$f":"(Alfa1*SIN(miia*C733)-Alfa2*SIN(miib*C733))","v":60.620428356499282},{"$f":"-(Alfa1*COS(miia*C733)-Alfa2*COS(miib*C733))","v":-34.999223457301262},{"$f":"(miia*Alfa1*COS(miia*C733)-miib*Alfa2*COS(miib*C733))","v":2.8632335736732983},{"$f":"miia*Alfa1*SIN(miia*C733)-miib*Alfa2*SIN(miib*C733)","v":-1.6440974801141692},null,null,null,null,null,null,null,null,null,0,712,7.1199999999998926,-39.377387845763515,-36.944890531202589]
[0,713,7.1299999999998924,{"$f":"(Alfa1*SIN(miia*C734)-Alfa2*SIN(miib*C734))","v":60.498615331205144},{"$f":"-(Alfa1*COS(miia*C734)-Alfa2*COS(miib*C734))","v":-34.92639129133908},{"$f":"(miia*Alfa1*COS(miia*C734)-miib*Alfa2*COS(miib*C734))","v":-27.064838094752091},{"$f":"miia*Alfa1*SIN(miia*C734)-miib*Alfa2*SIN(miib*C734)","v":16.453913135239361},null,null,null,null,null,null,null,null,null,0,713,7.1299999999998924,-39.377387845763515,-36.944890531202589]
[0,714,7.1399999999998922,{"$f":"(Alfa1*SIN(miia*C735)-Alfa2*SIN(miib*C735))","v":60.082716619490292},{"$f":"-(Alfa1*COS(miia*C735)-Alfa2*COS(miib*C735))","v":-34.665517952838634},{"$f":"(miia*Alfa1*COS(miia*C735)-miib*Alfa2*COS(miib*C735))","v":-55.917827926802659},{"$f":"miia*Alfa1*SIN(miia*C735)-miib*Alfa2*SIN(miib*C735)","v":35.939504088409734},null,null,null,null,null,null,null,null,null,0,714,7.1399999999998922,-39.377387845763515,-36.944890531202589]
[0,715,7.149999999999892,{"$f":"(Alfa1*SIN(miia*C736)-Alfa2*SIN(miib*C736))","v":59.384543065909597},{"$f":"-(Alfa1*COS(miia*C736)-Alfa2*COS(miib*C736))","v":-34.203495520936443},{"$f":"(miia*Alfa1*COS(miia*C736)-miib*Alfa2*COS(miib*C736))","v":-83.486018790753917},{"$f":"miia*Alfa1*SIN(miia*C736)-miib*Alfa2*SIN(miib*C736)","v":56.656258406201687},null,null,null,null,null,null,null,null,null,0,715,7.149999999999892,-39.377387845763515,-36.944890531202589]
[0,716,7.1599999999998918,{"$f":"(Alfa1*SIN(miia*C737)-Alfa2*SIN(miib*C737))","v":58.417930948063656},{"$f":"-(Alfa1*COS(miia*C737)-Alfa2*COS(miib*C737))","v":-33.528862922389223},{"$f":"(miia*Alfa1*COS(miia*C737)-miib*Alfa2*COS(miib*C737))","v":-109.57434567961822},{"$f":"miia*Alfa1*SIN(miia*C737)-miib*Alfa2*SIN(miib*C737)","v":78.431482918713868},null,null,null,null,null,null,null,null,null,0,716,7.1599999999998918,-39.377387845763515,-36.944890531202589]
[0,717,7.1699999999998916,{"$f":"(Alfa1*SIN(miia*C738)-Alfa2*SIN(miib*C738))","v":57.198586581763848},{"$f":"-(Alfa1*COS(miia*C738)-Alfa2*COS(miib*C738))","v":-32.63196063207792},{"$f":"(miia*Alfa1*COS(miia*C738)-miib*Alfa2*COS(miib*C738))","v":-134.00414380997574},{"$f":"miia*Alfa1*SIN(miia*C738)-miib*Alfa2*SIN(miib*C738)","v":101.07784801579631},null,null,null,null,null,null,null,null,null,0,717,7.1699999999998916,-39.377387845763515,-36.944890531202589]
[0,718,7.1799999999998914,{"$f":"(Alfa1*SIN(miia*C739)-Alfa2*SIN(miib*C739))","v":55.743914271248627},{"$f":"-(Alfa1*COS(miia*C739)-Alfa2*COS(miib*C739))","v":-31.50506817982598},{"$f":"(miia*Alfa1*COS(miia*C739)-miib*Alfa2*COS(miib*C739))","v":-156.61472882125204},{"$f":"miia*Alfa1*SIN(miia*C739)-miib*Alfa2*SIN(miib*C739)","v":124.39518379525667},null,null,null,null,null,null,null,null,null,0,718,7.1799999999998914,-39.377387845763515,-36.944890531202589]
[0,719,7.1899999999998911,{"$f":"(Alfa1*SIN(miia*C740)-Alfa2*SIN(miib*C740))","v":54.072829361302574},{"$f":"-(Alfa1*COS(miia*C740)-Alfa2*COS(miib*C740))","v":-30.142522987151665},{"$f":"(miia*Alfa1*COS(miia*C740)-miib*Alfa2*COS(miib*C740))","v":-177.26479379889301},{"$f":"miia*Alfa1*SIN(miia*C740)-miib*Alfa2*SIN(miib*C740)","v":148.1724148452077},null,null,null,null,null,null,null,null,null,0,719,7.1899999999998911,-39.377387845763515,-36.944890531202589]
[0,720,7.1999999999998909,{"$f":"(Alfa1*SIN(miia*C741)-Alfa2*SIN(miib*C741))","v":52.205558291814341},{"$f":"-(Alfa1*COS(miia*C741)-Alfa2*COS(miib*C741))","v":-28.540819242354981},{"$f":"(miia*Alfa1*COS(miia*C741)-miib*Alfa2*COS(miib*C741))","v":-195.83360968398674},{"$f":"miia*Alfa1*SIN(miia*C741)-miib*Alfa2*SIN(miib*C741)","v":172.18961449198858},null,null,null,null,null,null,null,null,null,0,720,7.1999999999998909,-39.377387845763515,-36.944890531202589]
[0,721,7.2099999999998907,{"$f":"(Alfa1*SIN(miia*C742)-Alfa2*SIN(miib*C742))","v":50.163427679934237},{"$f":"-(Alfa1*COS(miia*C742)-Alfa2*COS(miib*C742))","v":-26.69868572029598},{"$f":"(miia*Alfa1*COS(miia*C742)-miib*Alfa2*COS(miib*C742))","v":-212.22201760377013},{"$f":"miia*Alfa1*SIN(miia*C742)-miib*Alfa2*SIN(miib*C742)","v":196.22015812507294},null,null,null,null,null,null,null,null,null,0,721,7.2099999999998907,-39.377387845763515,-36.944890531202589]
[0,722,7.2199999999998905,{"$f":"(Alfa1*SIN(miia*C743)-Alfa2*SIN(miib*C743))","v":47.96864455930185},{"$f":"-(Alfa1*COS(miia*C743)-Alfa2*COS(miib*C743))","v":-24.617141662359188},{"$f":"(miia*Alfa1*COS(miia*C743)-miib*Alfa2*COS(miib*C743))","v":-226.35320374279158},{"$f":"miia*Alfa1*SIN(miia*C743)-miib*Alfa2*SIN(miib*C743)","v":220.03295419393268},null,null,null,null,null,null,null,null,null,0,722,7.2199999999998905,-39.377387845763515,-36.944890531202589]
[0,723,7.2299999999998903,{"$f":"(Alfa1*SIN(miia*C744)-Alfa2*SIN(miib*C744))","v":45.644069988794733},{"$f":"-(Alfa1*COS(miia*C744)-Alfa2*COS(miib*C744))","v":-22.299530050343847},{"$f":"(miia*Alfa1*COS(miia*C744)-miib*Alfa2*COS(miib*C744))","v":-238.17324955210375},{"$f":"miia*Alfa1*SIN(miia*C744)-miib*Alfa2*SIN(miib*C744)","v":243.3947306688915},null,null,null,null,null,null,null,null,null,0,723,7.2299999999998903,-39.377387845763515,-36.944890531202589]
[0,724,7.2399999999998901,{"$f":"(Alfa1*SIN(miia*C745)-Alfa2*SIN(miib*C745))","v":43.212988304092605},{"$f":"-(Alfa1*COS(miia*C745)-Alfa2*COS(miib*C745))","v":-19.751527833201251},{"$f":"(miia*Alfa1*COS(miia*C745)-miib*Alfa2*COS(miib*C745))","v":-247.65145234204482},{"$f":"miia*Alfa1*SIN(miia*C745)-miib*Alfa2*SIN(miib*C745)","v":266.07235417665521},null,null,null,null,null,null,null,null,null,0,724,7.2399999999998901,-39.377387845763515,-36.944890531202589]
[0,725,7.2499999999998899,{"$f":"(Alfa1*SIN(miia*C746)-Alfa2*SIN(miib*C746))","v":40.698874323434481},{"$f":"-(Alfa1*COS(miia*C746)-Alfa2*COS(miib*C746))","v":-16.981132895384242},{"$f":"(miia*Alfa1*COS(miia*C746)-miib*Alfa2*COS(miib*C746))","v":-254.78041360063133},{"$f":"miia*Alfa1*SIN(miia*C746)-miib*Alfa2*SIN(miib*C746)","v":287.83515866763122},null,null,null,null,null,null,null,null,null,0,725,7.2499999999998899,-39.377387845763515,-36.944890531202589]
[0,726,7.2599999999998897,{"$f":"(Alfa1*SIN(miia*C747)-Alfa2*SIN(miib*C747))","v":38.125160833935226},{"$f":"-(Alfa1*COS(miia*C747)-Alfa2*COS(miib*C747))","v":-13.998627787814213},{"$f":"(miia*Alfa1*COS(miia*C747)-miib*Alfa2*COS(miib*C747))","v":-259.57589470111952},{"$f":"miia*Alfa1*SIN(miia*C747)-miib*Alfa2*SIN(miib*C747)","v":308.45726034955578},null,null,null,null,null,null,null,null,null,0,726,7.2599999999998897,-39.377387845763515,-36.944890531202589]
[0,727,7.2699999999998894,{"$f":"(Alfa1*SIN(miia*C748)-Alfa2*SIN(miib*C748))","v":35.515008676567092},{"$f":"-(Alfa1*COS(miia*C748)-Alfa2*COS(miib*C748))","v":-10.816520474770931},{"$f":"(miia*Alfa1*COS(miia*C748)-miib*Alfa2*COS(miib*C748))","v":-262.07644198588127},{"$f":"miia*Alfa1*SIN(miia*C748)-miib*Alfa2*SIN(miib*C748)","v":327.71983573188277},null,null,null,null,null,null,null,null,null,0,727,7.2699999999998894,-39.377387845763515,-36.944890531202589]
[0,728,7.2799999999998892,{"$f":"(Alfa1*SIN(miia*C749)-Alfa2*SIN(miib*C749))","v":32.891081716493574},{"$f":"-(Alfa1*COS(miia*C749)-Alfa2*COS(miib*C749))","v":-7.4494625800420256},{"$f":"(miia*Alfa1*COS(miia*C749)-miib*Alfa2*COS(miib*C749))","v":-262.3427855161143},{"$f":"miia*Alfa1*SIN(miia*C749)-miib*Alfa2*SIN(miib*C749)","v":345.41333996680095},null,null,null,null,null,null,null,null,null,0,728,7.2799999999998892,-39.377387845763515,-36.944890531202589]
[0,729,7.289999999999889,{"$f":"(Alfa1*SIN(miia*C750)-Alfa2*SIN(miib*C750))","v":30.275328931223392},{"$f":"-(Alfa1*COS(miia*C750)-Alfa2*COS(miib*C750))","v":-3.9141458411661656},{"$f":"(miia*Alfa1*COS(miia*C750)-miib*Alfa2*COS(miib*C750))","v":-260.45701803502362},{"$f":"miia*Alfa1*SIN(miia*C750)-miib*Alfa2*SIN(miib*C750)","v":361.33964324208716},null,null,null,null,null,null,null,null,null,0,729,7.289999999999889,-39.377387845763515,-36.944890531202589]
[0,730,7.2999999999998888,{"$f":"(Alfa1*SIN(miia*C751)-Alfa2*SIN(miib*C751))","v":27.688775772544176},{"$f":"-(Alfa1*COS(miia*C751)-Alfa2*COS(miib*C751))","v":-0.22917769926273124},{"$f":"(miia*Alfa1*COS(miia*C751)-miib*Alfa2*COS(miib*C751))","v":-256.52156288350943},{"$f":"miia*Alfa1*SIN(miia*C751)-miib*Alfa2*SIN(miib*C751)","v":375.31406377299294},null,null,null,null,null,null,null,null,null,0,730,7.2999999999998888,-39.377387845763515,-36.944890531202589]
[0,731,7.3099999999998886,{"$f":"(Alfa1*SIN(miia*C752)-Alfa2*SIN(miib*C752))","v":25.151326860208087},{"$f":"-(Alfa1*COS(miia*C752)-Alfa2*COS(miib*C752))","v":3.5850628383898702},{"$f":"(miia*Alfa1*COS(miia*C752)-miib*Alfa2*COS(miib*C752))","v":-250.6579417100896},{"$f":"miia*Alfa1*SIN(miia*C752)-miib*Alfa2*SIN(miib*C752)","v":387.16727694686421},null,null,null,null,null,null,null,null,null,0,731,7.3099999999998886,-39.377387845763515,-36.944890531202589]
[0,732,7.3199999999998884,{"$f":"(Alfa1*SIN(miia*C753)-Alfa2*SIN(miib*C753))","v":22.681581946870196},{"$f":"-(Alfa1*COS(miia*C753)-Alfa2*COS(miib*C753))","v":7.5065877272775658},{"$f":"(miia*Alfa1*COS(miia*C753)-miib*Alfa2*COS(miib*C753))","v":-243.00535480986267},{"$f":"miia*Alfa1*SIN(miia*C753)-miib*Alfa2*SIN(miib*C753)","v":396.74708138527956},null,null,null,null,null,null,null,null,null,0,732,7.3199999999998884,-39.377387845763515,-36.944890531202589]
[0,733,7.3299999999998882,{"$f":"(Alfa1*SIN(miia*C754)-Alfa2*SIN(miib*C754))","v":20.296666955985913},{"$f":"-(Alfa1*COS(miia*C754)-Alfa2*COS(miib*C754))","v":11.511979284854837},{"$f":"(miia*Alfa1*COS(miia*C754)-miib*Alfa2*COS(miib*C754))","v":-233.71908879082906},{"$f":"miia*Alfa1*SIN(miia*C754)-miib*Alfa2*SIN(miib*C754)","v":403.92000409230496},null,null,null,null,null,null,null,null,null,0,733,7.3299999999998882,-39.377387845763515,-36.944890531202589]
[0,734,7.3399999999998879,{"$f":"(Alfa1*SIN(miia*C755)-Alfa2*SIN(miib*C755))","v":18.012081738690465},{"$f":"-(Alfa1*COS(miia*C755)-Alfa2*COS(miib*C755))","v":15.576584768253932},{"$f":"(miia*Alfa1*COS(miia*C755)-miib*Alfa2*COS(miib*C755))","v":-222.96876798126067},{"$f":"miia*Alfa1*SIN(miia*C755)-miib*Alfa2*SIN(miib*C755)","v":408.57272843977898},null,null,null,null,null,null,null,null,null,0,734,7.3399999999998879,-39.377387845763515,-36.944890531202589]
[0,735,7.3499999999998877,{"$f":"(Alfa1*SIN(miia*C756)-Alfa2*SIN(miib*C756))","v":15.841566023651058},{"$f":"-(Alfa1*COS(miia*C756)-Alfa2*COS(miib*C756))","v":19.674724284829672},{"$f":"(miia*Alfa1*COS(miia*C756)-miib*Alfa2*COS(miib*C756))","v":-210.93646754193696},{"$f":"miia*Alfa1*SIN(miia*C756)-miib*Alfa2*SIN(miib*C756)","v":410.61333048580053},null,null,null,null,null,null,null,null,null,0,735,7.3499999999998877,-39.377387845763515,-36.944890531202589]
[0,736,7.3599999999998875,{"$f":"(Alfa1*SIN(miia*C757)-Alfa2*SIN(miib*C757))","v":13.79698484723448},{"$f":"-(Alfa1*COS(miia*C757)-Alfa2*COS(miib*C757))","v":23.779910054183773},{"$f":"(miia*Alfa1*COS(miia*C757)-miib*Alfa2*COS(miib*C757))","v":-197.81470761642623},{"$f":"miia*Alfa1*SIN(miia*C757)-miib*Alfa2*SIN(miib*C757)","v":409.97231101335774},null,null,null,null,null,null,null,null,null,0,736,7.3599999999998875,-39.377387845763515,-36.944890531202589]
[0,737,7.3699999999998873,{"$f":"(Alfa1*SIN(miia*C758)-Alfa2*SIN(miib*C758))","v":11.888234551969589},{"$f":"-(Alfa1*COS(miia*C758)-Alfa2*COS(miib*C758))","v":27.865074924152029},{"$f":"(miia*Alfa1*COS(miia*C758)-miib*Alfa2*COS(miib*C758))","v":-183.80434902766791},{"$f":"miia*Alfa1*SIN(miia*C758)-miib*Alfa2*SIN(miib*C758)","v":406.60341269344099},null,null,null,null,null,null,null,null,null,0,737,7.3699999999998873,-39.377387845763515,-36.944890531202589]
[0,738,7.3799999999998871,{"$f":"(Alfa1*SIN(miia*C759)-Alfa2*SIN(miib*C759))","v":10.123170231171425},{"$f":"-(Alfa1*COS(miia*C759)-Alfa2*COS(miib*C759))","v":31.902807947837452},{"$f":"(miia*Alfa1*COS(miia*C759)-miib*Alfa2*COS(miib*C759))","v":-169.11241199802063},{"$f":"miia*Alfa1*SIN(miia*C759)-miib*Alfa2*SIN(miib*C759)","v":400.48421390101998},null,null,null,null,null,null,null,null,null,0,738,7.3799999999998871,-39.377387845763515,-36.944890531202589]
[0,739,7.3899999999998869,{"$f":"(Alfa1*SIN(miia*C760)-Alfa2*SIN(miib*C760))","v":8.5075552788740083},{"$f":"-(Alfa1*COS(miia*C760)-Alfa2*COS(miib*C760))","v":35.865594755041066},{"$f":"(miia*Alfa1*COS(miia*C760)-miib*Alfa2*COS(miib*C760))","v":-153.94984012315413},{"$f":"miia*Alfa1*SIN(miia*C760)-miib*Alfa2*SIN(miib*C760)","v":391.61649292165794},null,null,null,null,null,null,null,null,null,0,739,7.3899999999998869,-39.377387845763515,-36.944890531202589]
[0,740,7.3999999999998867,{"$f":"(Alfa1*SIN(miia*C761)-Alfa2*SIN(miib*C761))","v":7.0450334790832905},{"$f":"-(Alfa1*COS(miia*C761)-Alfa2*COS(miib*C761))","v":39.726060400124297},{"$f":"(miia*Alfa1*COS(miia*C761)-miib*Alfa2*COS(miib*C761))","v":-138.52923236024134},{"$f":"miia*Alfa1*SIN(miia*C761)-miib*Alfa2*SIN(miib*C761)","v":380.02635855937126},null,null,null,null,null,null,null,null,null,0,740,7.3999999999998867,-39.377387845763515,-36.944890531202589]
[0,741,7.4099999999998865,{"$f":"(Alfa1*SIN(miia*C762)-Alfa2*SIN(miib*C762))","v":5.7371238390486212},{"$f":"-(Alfa1*COS(miia*C762)-Alfa2*COS(miib*C762))","v":43.457212340005839},{"$f":"(miia*Alfa1*COS(miia*C762)-miib*Alfa2*COS(miib*C762))","v":-123.06256609239443},{"$f":"miia*Alfa1*SIN(miia*C762)-miib*Alfa2*SIN(miib*C762)","v":365.76414546987542},null,null,null,null,null,null,null,null,null,0,741,7.4099999999998865,-39.377387845763515,-36.944890531202589]
[0,742,7.4199999999998862,{"$f":"(Alfa1*SIN(miia*C763)-Alfa2*SIN(miib*C763))","v":4.5832381400928917},{"$f":"-(Alfa1*COS(miia*C763)-Alfa2*COS(miib*C763))","v":47.032681190876993},{"$f":"(miia*Alfa1*COS(miia*C763)-miib*Alfa2*COS(miib*C763))","v":-107.75893440145563},{"$f":"miia*Alfa1*SIN(miia*C763)-miib*Alfa2*SIN(miib*C763)","v":348.90407487458344},null,null,null,null,null,null,null,null,null,0,742,7.4199999999998862,-39.377387845763515,-36.944890531202589]
[0,743,7.429999999999886,{"$f":"(Alfa1*SIN(miia*C764)-Alfa2*SIN(miib*C764))","v":3.5807209488362233},{"$f":"-(Alfa1*COS(miia*C764)-Alfa2*COS(miib*C764))","v":50.426956930415876},{"$f":"(miia*Alfa1*COS(miia*C764)-miib*Alfa2*COS(miib*C764))","v":-92.822320519297946},{"$f":"miia*Alfa1*SIN(miia*C764)-miib*Alfa2*SIN(miib*C764)","v":329.54368363638844},null,null,null,null,null,null,null,null,null,0,743,7.429999999999886,-39.377387845763515,-36.944890531202589]
[0,744,7.4399999999998858,{"$f":"(Alfa1*SIN(miia*C765)-Alfa2*SIN(miib*C765))","v":2.7249116037150038},{"$f":"-(Alfa1*COS(miia*C765)-Alfa2*COS(miib*C765))","v":53.615618253619488},{"$f":"(miia*Alfa1*COS(miia*C765)-miib*Alfa2*COS(miib*C765))","v":-78.449432035379417},{"$f":"miia*Alfa1*SIN(miia*C765)-miib*Alfa2*SIN(miib*C765)","v":307.80302697509416},null,null,null,null,null,null,null,null,null,0,744,7.4399999999998858,-39.377387845763515,-36.944890531202589]
[0,745,7.4499999999998856,{"$f":"(Alfa1*SIN(miia*C766)-Alfa2*SIN(miib*C766))","v":2.0092274688331955},{"$f":"-(Alfa1*COS(miia*C766)-Alfa2*COS(miib*C766))","v":56.57555285441255},{"$f":"(miia*Alfa1*COS(miia*C766)-miib*Alfa2*COS(miib*C766))","v":-64.827616819556425},{"$f":"miia*Alfa1*SIN(miia*C766)-miib*Alfa2*SIN(miib*C766)","v":283.8236623456537},null,null,null,null,null,null,null,null,null,0,745,7.4499999999998856,-39.377387845763515,-36.944890531202589]
[0,746,7.4599999999998854,{"$f":"(Alfa1*SIN(miia*C767)-Alfa2*SIN(miib*C767))","v":1.4252675316029908},{"$f":"-(Alfa1*COS(miia*C767)-Alfa2*COS(miib*C767))","v":59.285166491364848},{"$f":"(miia*Alfa1*COS(miia*C767)-miib*Alfa2*COS(miib*C767))","v":-52.132881780083267},{"$f":"miia*Alfa1*SIN(miia*C767)-miib*Alfa2*SIN(miib*C767)","v":257.76742417347702},null,null,null,null,null,null,null,null,null,0,746,7.4599999999998854,-39.377387845763515,-36.944890531202589]
[0,747,7.4699999999998852,{"$f":"(Alfa1*SIN(miia*C768)-Alfa2*SIN(miib*C768))","v":0.96293521451543995},{"$f":"-(Alfa1*COS(miia*C768)-Alfa2*COS(miib*C768))","v":61.724578803255547},{"$f":"(miia*Alfa1*COS(miia*C768)-miib*Alfa2*COS(miib*C768))","v":-40.528034525950574},{"$f":"miia*Alfa1*SIN(miia*C768)-miib*Alfa2*SIN(miib*C768)","v":229.8150012164794},null,null,null,null,null,null,null,null,null,0,747,7.4699999999998852,-39.377387845763515,-36.944890531202589]
[0,748,7.479999999999885,{"$f":"(Alfa1*SIN(miia*C769)-Alfa2*SIN(miib*C769))","v":0.61057907678943302},{"$f":"-(Alfa1*COS(miia*C769)-Alfa2*COS(miib*C769))","v":63.875803967808892},{"$f":"(miia*Alfa1*COS(miia*C769)-miib*Alfa2*COS(miib*C769))","v":-30.160966750779977},{"$f":"miia*Alfa1*SIN(miia*C769)-miib*Alfa2*SIN(miib*C769)","v":200.16433028267096},null,null,null,null,null,null,null,null,null,0,748,7.479999999999885,-39.377387845763515,-36.944890531202589]
[0,749,7.4899999999998847,{"$f":"(Alfa1*SIN(miia*C770)-Alfa2*SIN(miib*C770))","v":0.35514990052384476},{"$f":"-(Alfa1*COS(miia*C770)-Alfa2*COS(miib*C770))","v":65.722914443464376},{"$f":"(miia*Alfa1*COS(miia*C770)-miib*Alfa2*COS(miib*C770))","v":-21.163096714800076},{"$f":"miia*Alfa1*SIN(miia*C770)-miib*Alfa2*SIN(miib*C770)","v":169.02882185503438},null,null,null,null,null,null,null,null,null,0,749,7.4899999999998847,-39.377387845763515,-36.944890531202589]
[0,750,7.4999999999998845,{"$f":"(Alfa1*SIN(miia*C771)-Alfa2*SIN(miib*C771))","v":0.18237249014976697},{"$f":"-(Alfa1*COS(miia*C771)-Alfa2*COS(miib*C771))","v":67.252186198033471},{"$f":"(miia*Alfa1*COS(miia*C771)-miib*Alfa2*COS(miib*C771))","v":-13.64798658666129},{"$f":"miia*Alfa1*SIN(miia*C771)-miib*Alfa2*SIN(miib*C771)","v":136.63543484442084},null,null,null,null,null,null,null,null,null,0,750,7.4999999999998845,-39.377387845763515,-36.944890531202589]
[0,751,7.5099999999998843,{"$f":"(Alfa1*SIN(miia*C772)-Alfa2*SIN(miib*C772))","v":7.6930365101113729E-2},{"$f":"-(Alfa1*COS(miia*C772)-Alfa2*COS(miib*C772))","v":68.452224007943201},{"$f":"(miia*Alfa1*COS(miia*C772)-miib*Alfa2*COS(miib*C772))","v":-7.7101486340465897},{"$f":"miia*Alfa1*SIN(miia*C772)-miib*Alfa2*SIN(miib*C772)","v":103.22261918932955},null,null,null,null,null,null,null,null,null,0,751,7.5099999999998843,-39.377387845763515,-36.944890531202589]
[0,752,7.5199999999998841,{"$f":"(Alfa1*SIN(miia*C773)-Alfa2*SIN(miib*C773))","v":2.2661395187954625E-2},{"$f":"-(Alfa1*COS(miia*C773)-Alfa2*COS(miib*C773))","v":69.314065605682174},{"$f":"(miia*Alfa1*COS(miia*C773)-miib*Alfa2*COS(miib*C773))","v":-3.4240523390149633},{"$f":"miia*Alfa1*SIN(miia*C773)-miib*Alfa2*SIN(miib*C773)","v":69.038146333728974},null,null,null,null,null,null,null,null,null,0,752,7.5199999999998841,-39.377387845763515,-36.944890531202589]
[0,753,7.5299999999998839,{"$f":"(Alfa1*SIN(miia*C774)-Alfa2*SIN(miib*C774))","v":2.7623174758644176E-3},{"$f":"-(Alfa1*COS(miia*C774)-Alfa2*COS(miib*C774))","v":69.83126365910708},{"$f":"(miia*Alfa1*COS(miia*C774)-miib*Alfa2*COS(miib*C774))","v":-0.84334248002247136},{"$f":"miia*Alfa1*SIN(miia*C774)-miib*Alfa2*SIN(miib*C774)","v":34.336848727788592},null,null,null,null,null,null,null,null,null,0,753,7.5299999999998839,-39.377387845763515,-36.944890531202589]
[0,754,7.5399999999998837,{"$f":"(Alfa1*SIN(miia*C775)-Alfa2*SIN(miib*C775))","v":-1.6347291777185635E-8},{"$f":"-(Alfa1*COS(miia*C775)-Alfa2*COS(miib*C775))","v":69.999944782420627},{"$f":"(miia*Alfa1*COS(miia*C775)-miib*Alfa2*COS(miib*C775))","v":-2.7608786052724099E-4},{"$f":"miia*Alfa1*SIN(miia*C775)-miib*Alfa2*SIN(miib*C775)","v":-0.62170960012154486},null,null,null,null,null,null,null,null,null,0,754,7.5399999999998837,-39.377387845763515,-36.944890531202589]
[0,755,7.5499999999998835,{"$f":"(Alfa1*SIN(miia*C776)-Alfa2*SIN(miib*C776))","v":-3.0728811950520019E-3},{"$f":"-(Alfa1*COS(miia*C776)-Alfa2*COS(miib*C776))","v":69.81884500272119},{"$f":"(miia*Alfa1*COS(miia*C776)-miib*Alfa2*COS(miib*C776))","v":-0.90538396885753514},{"$f":"miia*Alfa1*SIN(miia*C776)-miib*Alfa2*SIN(miib*C776)","v":-35.575608667156843},null,null,null,null,null,null,null,null,null,0,755,7.5499999999998835,-39.377387845763515,-36.944890531202589]
[0,756,7.5599999999998833,{"$f":"(Alfa1*SIN(miia*C777)-Alfa2*SIN(miib*C777))","v":-2.3899673091351659E-2},{"$f":"-(Alfa1*COS(miia*C777)-Alfa2*COS(miib*C777))","v":69.289321335838451},{"$f":"(miia*Alfa1*COS(miia*C777)-miib*Alfa2*COS(miib*C777))","v":-3.547360217728226},{"$f":"miia*Alfa1*SIN(miia*C777)-miib*Alfa2*SIN(miib*C777)","v":-70.262971163431075},null,null,null,null,null,null,null,null,null,0,756,7.5599999999998833,-39.377387845763515,-36.944890531202589]
[0,757,7.569999999999883,{"$f":"(Alfa1*SIN(miia*C778)-Alfa2*SIN(miib*C778))","v":-7.9701944376125766E-2},{"$f":"-(Alfa1*COS(miia*C778)-Alfa2*COS(miib*C778))","v":68.415339358427531},{"$f":"(miia*Alfa1*COS(miia*C778)-miib*Alfa2*COS(miib*C778))","v":-7.8931808371797274},{"$f":"miia*Alfa1*SIN(miia*C778)-miib*Alfa2*SIN(miib*C778)","v":-104.42436066279981},null,null,null,null,null,null,null,null,null,0,757,7.569999999999883,-39.377387845763515,-36.944890531202589]
[0,758,7.5799999999998828,{"$f":"(Alfa1*SIN(miia*C779)-Alfa2*SIN(miib*C779))","v":-0.18726376660732491},{"$f":"-(Alfa1*COS(miia*C779)-Alfa2*COS(miib*C779))","v":67.20343689766959},{"$f":"(miia*Alfa1*COS(miia*C779)-miib*Alfa2*COS(miib*C779))","v":-13.888450264935955},{"$f":"miia*Alfa1*SIN(miia*C779)-miib*Alfa2*SIN(miib*C779)","v":-137.80515600067827},null,null,null,null,null,null,null,null,null,0,758,7.5799999999998828,-39.377387845763515,-36.944890531202589]
[0,759,7.5899999999998826,{"$f":"(Alfa1*SIN(miia*C780)-Alfa2*SIN(miib*C780))","v":-0.3627206846237403},{"$f":"-(Alfa1*COS(miia*C780)-Alfa2*COS(miib*C780))","v":65.662664193100937},{"$f":"(miia*Alfa1*COS(miia*C780)-miib*Alfa2*COS(miib*C780))","v":-21.457972304394758},{"$f":"miia*Alfa1*SIN(miia*C780)-miib*Alfa2*SIN(miib*C780)","v":-170.1578786393215},null,null,null,null,null,null,null,null,null,0,759,7.5899999999998826,-39.377387845763515,-36.944890531202589]
[0,760,7.5999999999998824,{"$f":"(Alfa1*SIN(miia*C781)-Alfa2*SIN(miib*C781))","v":-0.62135547881017672},{"$f":"-(Alfa1*COS(miia*C781)-Alfa2*COS(miib*C781))","v":63.804501114740503},{"$f":"(miia*Alfa1*COS(miia*C781)-miib*Alfa2*COS(miib*C781))","v":-30.50653968582364},{"$f":"miia*Alfa1*SIN(miia*C781)-miib*Alfa2*SIN(miib*C781)","v":-201.24445030807365},null,null,null,null,null,null,null,null,null,0,760,7.5999999999998824,-39.377387845763515,-36.944890531202589]
[0,761,7.6099999999998822,{"$f":"(Alfa1*SIN(miia*C782)-Alfa2*SIN(miib*C782))","v":-0.97740288375999818},{"$f":"-(Alfa1*COS(miia*C782)-Alfa2*COS(miib*C782))","v":61.642752245538503},{"$f":"(miia*Alfa1*COS(miia*C782)-miib*Alfa2*COS(miib*C782))","v":-40.919934273500701},{"$f":"miia*Alfa1*SIN(miia*C782)-miib*Alfa2*SIN(miib*C782)","v":-230.83835889849672},null,null,null,null,null,null,null,null,null,0,761,7.6099999999998822,-39.377387845763515,-36.944890531202589]
[0,762,7.619999999999882,{"$f":"(Alfa1*SIN(miia*C783)-Alfa2*SIN(miib*C783))","v":-1.4438653209514882},{"$f":"-(Alfa1*COS(miia*C783)-Alfa2*COS(miib*C783))","v":59.193420851988876},{"$f":"(miia*Alfa1*COS(miia*C783)-miib*Alfa2*COS(miib*C783))","v":-52.566127802770865},{"$f":"miia*Alfa1*SIN(miia*C783)-miib*Alfa2*SIN(miib*C783)","v":-258.72671150566731},null,null,null,null,null,null,null,null,null,0,762,7.619999999999882,-39.377387845763515,-36.944890531202589]
[0,763,7.6299999999998818,{"$f":"(Alfa1*SIN(miia*C784)-Alfa2*SIN(miib*C784))","v":-2.0323415916513383},{"$f":"-(Alfa1*COS(miia*C784)-Alfa2*COS(miib*C784))","v":56.474562972398338},{"$f":"(miia*Alfa1*COS(miia*C784)-miib*Alfa2*COS(miib*C784))","v":-65.296671000930473},{"$f":"miia*Alfa1*SIN(miia*C784)-miib*Alfa2*SIN(miib*C784)","v":-284.71215462773824},null,null,null,null,null,null,null,null,null,0,763,7.6299999999998818,-39.377387845763515,-36.944890531202589]
[0,764,7.6399999999998816,{"$f":"(Alfa1*SIN(miia*C785)-Alfa2*SIN(miib*C785))","v":-2.7528703451447392},{"$f":"-(Alfa1*COS(miia*C785)-Alfa2*COS(miib*C785))","v":53.506123045757704},{"$f":"(miia*Alfa1*COS(miia*C785)-miib*Alfa2*COS(miib*C785))","v":-78.948257037466121},{"$f":"miia*Alfa1*SIN(miia*C785)-miib*Alfa2*SIN(miib*C785)","v":-308.61464285496737},null,null,null,null,null,null,null,null,null,0,764,7.6399999999998816,-39.377387845763515,-36.944890531202589]
[0,765,7.6499999999998813,{"$f":"(Alfa1*SIN(miia*C786)-Alfa2*SIN(miib*C786))","v":-3.6137899878861219},{"$f":"-(Alfa1*COS(miia*C786)-Alfa2*COS(miib*C786))","v":50.309752683464694},{"$f":"(miia*Alfa1*COS(miia*C786)-miib*Alfa2*COS(miib*C786))","v":-93.344443481747675},{"$f":"miia*Alfa1*SIN(miia*C786)-miib*Alfa2*SIN(miib*C786)","v":-330.27303888402139},null,null,null,null,null,null,null,null,null,0,765,7.6499999999998813,-39.377387845763515,-36.944890531202589]
[0,766,7.6599999999998811,{"$f":"(Alfa1*SIN(miia*C787)-Alfa2*SIN(miib*C787))","v":-4.6216165327612586},{"$f":"-(Alfa1*COS(miia*C787)-Alfa2*COS(miib*C787))","v":46.908614349556657},{"$f":"(miia*Alfa1*COS(miia*C787)-miib*Alfa2*COS(miib*C787))","v":-108.29751533735944},{"$f":"miia*Alfa1*SIN(miia*C787)-miib*Alfa2*SIN(miib*C787)","v":-349.54652936796288},null,null,null,null,null,null,null,null,null,0,766,7.6599999999998811,-39.377387845763515,-36.944890531202589]
[0,767,7.6699999999998809,{"$f":"(Alfa1*SIN(miia*C788)-Alfa2*SIN(miib*C788))","v":-5.7809407060197167},{"$f":"-(Alfa1*COS(miia*C788)-Alfa2*COS(miib*C788))","v":43.327171860988699},{"$f":"(miia*Alfa1*COS(miia*C788)-miib*Alfa2*COS(miib*C788))","v":-123.61047028808738},{"$f":"miia*Alfa1*SIN(miia*C788)-miib*Alfa2*SIN(miib*C788)","v":-366.31584294055517},null,null,null,null,null,null,null,null,null,0,767,7.6699999999998809,-39.377387845763515,-36.944890531202589]
[0,768,7.6799999999998807,{"$f":"(Alfa1*SIN(miia*C789)-Alfa2*SIN(miib*C789))","v":-7.0943454344017418},{"$f":"-(Alfa1*COS(miia*C789)-Alfa2*COS(miib*C789))","v":39.590969746383529},{"$f":"(miia*Alfa1*COS(miia*C789)-miib*Alfa2*COS(miib*C789))","v":-139.07910604558026},{"$f":"miia*Alfa1*SIN(miia*C789)-miib*Alfa2*SIN(miib*C789)","v":-380.48425871707036},null,null,null,null,null,null,null,null,null,0,768,7.6799999999998807,-39.377387845763515,-36.944890531202589]
[{"$f":"IF(B790=$AC$1,1,0)","v":0},769,{"$f":"C789+dt","v":7.6899999999998805},{"$f":"(Alfa1*SIN(miia*C790)-Alfa2*SIN(miib*C790))","v":-8.5623446284888693},{"$f":"-(Alfa1*COS(miia*C790)-Alfa2*COS(miib*C790))","v":35.726403608365857},{"$f":"(miia*Alfa1*COS(miia*C790)-miib*Alfa2*COS(miib*C790))","v":-154.49418864520439},{"$f":"miia*Alfa1*SIN(miia*C790)-miib*Alfa2*SIN(miib*C790)","v":-391.97839565289377},null,null,null,null,null,null,null,null,null,{"$f":"IF(R790=$AC$1,1,0)","v":0},769,{"$f":"S789+dt","v":7.6899999999998805},{"$f":"IF(R790<MAX_TIME,Aktina*SIN(epsilon*S790)*COS(D*S790),Aktina*SIN(epsilon*MAX_TIME*dt)*COS(D*MAX_TIME*dt))","v":-39.377387845763515},{"$f":"IF(R790<MAX_TIME,Aktina*COS(epsilon*S790)*COS(D*S790),Aktina*COS(epsilon*MAX_TIME*dt)*COS(D*MAX_TIME*dt))","v":-36.944890531202589}]
[0,{"$f":"B790+1","v":770},7.6999999999998803,{"$f":"(Alfa1*SIN(miia*C791)-Alfa2*SIN(miib*C791))","v":-10.183343962439409},{"$f":"-(Alfa1*COS(miia*C791)-Alfa2*COS(miib*C791))","v":31.760483719967638},{"$f":"(miia*Alfa1*COS(miia*C791)-miib*Alfa2*COS(miib*C791))","v":-169.64367970534636},{"$f":"miia*Alfa1*SIN(miia*C791)-miib*Alfa2*SIN(miib*C791)","v":-400.74877531546588},null,null,null,null,null,null,null,null,null,0,{"$f":"R790+1","v":770},7.6999999999998803,-39.377387845763515,-36.944890531202589]
[0,771,7.7099999999998801,{"$f":"(Alfa1*SIN(miia*C792)-Alfa2*SIN(miib*C792))","v":-11.953624127182863},{"$f":"-(Alfa1*COS(miia*C792)-Alfa2*COS(miib*C792))","v":27.7205941488482},{"$f":"(miia*Alfa1*COS(miia*C792)-miib*Alfa2*COS(miib*C792))","v":-184.31500005456044},{"$f":"miia*Alfa1*SIN(miia*C792)-miib*Alfa2*SIN(miib*C792)","v":-406.77015287251731},null,null,null,null,null,null,null,null,null,0,771,7.7099999999998801,-39.377387845763515,-36.944890531202589]
[0,772,7.7199999999998798,{"$f":"(Alfa1*SIN(miia*C793)-Alfa2*SIN(miib*C793))","v":-13.86734680607276},{"$f":"-(Alfa1*COS(miia*C793)-Alfa2*COS(miib*C793))","v":23.634249743600968},{"$f":"(miia*Alfa1*COS(miia*C793)-miib*Alfa2*COS(miib*C793))","v":-198.29730674665484},{"$f":"miia*Alfa1*SIN(miia*C793)-miib*Alfa2*SIN(miib*C793)","v":-410.0416133978149},null,null,null,null,null,null,null,null,null,0,772,7.7199999999998798,-39.377387845763515,-36.944890531202589]
[0,773,7.7299999999998796,{"$f":"(Alfa1*SIN(miia*C794)-Alfa2*SIN(miib*C794))","v":-15.916583391244242},{"$f":"-(Alfa1*COS(miia*C794)-Alfa2*COS(miib*C794))","v":19.528853333770179},{"$f":"(miia*Alfa1*COS(miia*C794)-miib*Alfa2*COS(miib*C794))","v":-211.38376033016266},{"$f":"miia*Alfa1*SIN(miia*C794)-miib*Alfa2*SIN(miib*C794)","v":-410.58643292194085},null,null,null,null,null,null,null,null,null,0,773,7.7299999999998796,-39.377387845763515,-36.944890531202589]
[0,774,7.7399999999998794,{"$f":"(Alfa1*SIN(miia*C795)-Alfa2*SIN(miib*C795))","v":-18.09136622778087},{"$f":"-(Alfa1*COS(miia*C795)-Alfa2*COS(miib*C795))","v":15.431455489275649},{"$f":"(miia*Alfa1*COS(miia*C795)-miib*Alfa2*COS(miib*C795))","v":-223.37375931697045},{"$f":"miia*Alfa1*SIN(miia*C795)-miib*Alfa2*SIN(miib*C795)","v":-408.4517059865766},null,null,null,null,null,null,null,null,null,0,774,7.7399999999998794,-39.377387845763515,-36.944890531202589]
[0,775,7.7499999999998792,{"$f":"(Alfa1*SIN(miia*C796)-Alfa2*SIN(miib*C796))","v":-20.379761943599661},{"$f":"-(Alfa1*COS(miia*C796)-Alfa2*COS(miib*C796))","v":11.368519155772058},{"$f":"(miia*Alfa1*COS(miia*C796)-miib*Alfa2*COS(miib*C796))","v":-234.0751191046204},{"$f":"miia*Alfa1*SIN(miia*C796)-miib*Alfa2*SIN(miib*C796)","v":-403.70774377327751},null,null,null,null,null,null,null,null,null,0,775,7.7499999999998792,-39.377387845763515,-36.944890531202589]
[0,776,7.759999999999879,{"$f":"(Alfa1*SIN(miia*C797)-Alfa2*SIN(miib*C797))","v":-22.767966198016079},{"$f":"-(Alfa1*COS(miia*C797)-Alfa2*COS(miib*C797))","v":7.3656914303485017},{"$f":"(miia*Alfa1*COS(miia*C797)-miib*Alfa2*COS(miib*C797))","v":-243.30617314488288},{"$f":"miia*Alfa1*SIN(miia*C797)-miib*Alfa2*SIN(miib*C797)","v":-396.44724914865611},null,null,null,null,null,null,null,null,null,0,776,7.759999999999879,-39.377387845763515,-36.944890531202589]
[0,777,7.7699999999998788,{"$f":"(Alfa1*SIN(miia*C798)-Alfa2*SIN(miib*C798))","v":-25.240418963488732},{"$f":"-(Alfa1*COS(miia*C798)-Alfa2*COS(miib*C798))","v":3.4475846674783241},{"$f":"(miia*Alfa1*COS(miia*C798)-miib*Alfa2*COS(miib*C798))","v":-250.8977749121712},{"$f":"miia*Alfa1*SIN(miia*C798)-miib*Alfa2*SIN(miib*C798)","v":-386.78427717466462},null,null,null,null,null,null,null,null,null,0,777,7.7699999999998788,-39.377387845763515,-36.944890531202589]
[0,778,7.7799999999998786,{"$f":"(Alfa1*SIN(miia*C799)-Alfa2*SIN(miib*C799))","v":-27.779939245293736},{"$f":"-(Alfa1*COS(miia*C799)-Alfa2*COS(miib*C799))","v":-0.36243099105803722},{"$f":"(miia*Alfa1*COS(miia*C799)-miib*Alfa2*COS(miib*C799))","v":-256.69518020186763},{"$f":"miia*Alfa1*SIN(miia*C799)-miib*Alfa2*SIN(miib*C799)","v":-374.85299175324207},null,null,null,null,null,null,null,null,null,0,778,7.7799999999998786,-39.377387845763515,-36.944890531202589]
[0,779,7.7899999999998784,{"$f":"(Alfa1*SIN(miia*C800)-Alfa2*SIN(miib*C800))","v":-30.367877944924697},{"$f":"-(Alfa1*COS(miia*C800)-Alfa2*COS(miib*C800))","v":-4.0424216854104458},{"$f":"(miia*Alfa1*COS(miia*C800)-miib*Alfa2*COS(miib*C800))","v":-260.55979047075778},{"$f":"miia*Alfa1*SIN(miia*C800)-miib*Alfa2*SIN(miib*C800)","v":-360.80623108783578},null,null,null,null,null,null,null,null,null,0,779,7.7899999999998784,-39.377387845763515,-36.944890531202589]
[0,780,7.7999999999998781,{"$f":"(Alfa1*SIN(miia*C801)-Alfa2*SIN(miib*C801))","v":-32.984287386849537},{"$f":"-(Alfa1*COS(miia*C801)-Alfa2*COS(miib*C801))","v":-7.5720686655438367},{"$f":"(miia*Alfa1*COS(miia*C801)-miib*Alfa2*COS(miib*C801))","v":-262.37073930780667},{"$f":"miia*Alfa1*SIN(miia*C801)-miib*Alfa2*SIN(miib*C801)","v":-344.81389653025195},null,null,null,null,null,null,null,null,null,0,780,7.7999999999998781,-39.377387845763515,-36.944890531202589]
[0,781,7.8099999999998779,{"$f":"(Alfa1*SIN(miia*C802)-Alfa2*SIN(miib*C802))","v":-35.60810585678766},{"$f":"-(Alfa1*COS(miia*C802)-Alfa2*COS(miib*C802))","v":-10.932830191788556},{"$f":"(miia*Alfa1*COS(miia*C802)-miib*Alfa2*COS(miib*C802))","v":-262.02630567980634},{"$f":"miia*Alfa1*SIN(miia*C802)-miib*Alfa2*SIN(miib*C802)","v":-327.0611811209925},null,null,null,null,null,null,null,null,null,0,781,7.8099999999998779,-39.377387845763515,-36.944890531202589]
[0,782,7.8199999999998777,{"$f":"(Alfa1*SIN(miia*C803)-Alfa2*SIN(miib*C803))","v":-38.217355344583247},{"$f":"-(Alfa1*COS(miia*C803)-Alfa2*COS(miib*C803))","v":-14.108084993169349},{"$f":"(miia*Alfa1*COS(miia*C803)-miib*Alfa2*COS(miib*C803))","v":-259.44513931734019},{"$f":"miia*Alfa1*SIN(miia*C803)-miib*Alfa2*SIN(miib*C803)","v":-307.74665570753831},null,null,null,null,null,null,null,null,null,0,782,7.8199999999998777,-39.377387845763515,-36.944890531202589]
[0,783,7.8299999999998775,{"$f":"(Alfa1*SIN(miia*C804)-Alfa2*SIN(miib*C804))","v":-40.789350547631855},{"$f":"-(Alfa1*COS(miia*C804)-Alfa2*COS(miib*C804))","v":-17.083255954612465},{"$f":"(miia*Alfa1*COS(miia*C804)-miib*Alfa2*COS(miib*C804))","v":-254.56728547496829},{"$f":"miia*Alfa1*SIN(miia*C804)-miib*Alfa2*SIN(miib*C804)","v":-287.08023192216854},null,null,null,null,null,null,null,null,null,0,783,7.8299999999998775,-39.377387845763515,-36.944890531202589]
[0,784,7.8399999999998773,{"$f":"(Alfa1*SIN(miia*C805)-Alfa2*SIN(miib*C805))","v":-43.300917073051252},{"$f":"-(Alfa1*COS(miia*C805)-Alfa2*COS(miib*C805))","v":-19.845912903141365},{"$f":"(miia*Alfa1*COS(miia*C805)-miib*Alfa2*COS(miib*C805))","v":-247.35499829683442},{"$f":"miia*Alfa1*SIN(miia*C805)-miib*Alfa2*SIN(miib*C805)","v":-265.28102250492077},null,null,null,null,null,null,null,null,null,0,784,7.8399999999998773,-39.377387845763515,-36.944890531202589]
[0,785,7.8499999999998771,{"$f":"(Alfa1*SIN(miia*C806)-Alfa2*SIN(miib*C806))","v":-45.72861667953547},{"$f":"-(Alfa1*COS(miia*C806)-Alfa2*COS(miib*C806))","v":-22.385853573183223},{"$f":"(miia*Alfa1*COS(miia*C806)-miib*Alfa2*COS(miib*C806))","v":-237.79333412513805},{"$f":"miia*Alfa1*SIN(miia*C806)-miib*Alfa2*SIN(miib*C806)","v":-242.57512045643912},null,null,null,null,null,null,null,null,null,0,785,7.8499999999998771,-39.377387845763515,-36.944890531202589]
[0,786,7.8599999999998769,{"$f":"(Alfa1*SIN(miia*C807)-Alfa2*SIN(miib*C807))","v":-48.048977324123015},{"$f":"-(Alfa1*COS(miia*C807)-Alfa2*COS(miib*C807))","v":-24.695162050071954},{"$f":"(miia*Alfa1*COS(miia*C807)-miib*Alfa2*COS(miib*C807))","v":-225.89051828303485},{"$f":"miia*Alfa1*SIN(miia*C807)-miib*Alfa2*SIN(miib*C807)","v":-219.19331928950709},null,null,null,null,null,null,null,null,null,0,786,7.8599999999998769,-39.377387845763515,-36.944890531202589]
[0,787,7.8699999999998766,{"$f":"(Alfa1*SIN(miia*C808)-Alfa2*SIN(miib*C808))","v":-50.238725725679522},{"$f":"-(Alfa1*COS(miia*C808)-Alfa2*COS(miib*C808))","v":-26.768244216514994},{"$f":"(miia*Alfa1*COS(miia*C808)-miib*Alfa2*COS(miib*C808))","v":-211.67808112360888},{"$f":"miia*Alfa1*SIN(miia*C808)-miib*Alfa2*SIN(miib*C808)","v":-195.36879720946928},null,null,null,null,null,null,null,null,null,0,787,7.8699999999998766,-39.377387845763515,-36.944890531202589]
[0,788,7.8799999999998764,{"$f":"(Alfa1*SIN(miia*C809)-Alfa2*SIN(miib*C809))","v":-52.275020126293434},{"$f":"-(Alfa1*COS(miia*C809)-Alfa2*COS(miib*C809))","v":-28.601839956941767},{"$f":"(miia*Alfa1*COS(miia*C809)-miib*Alfa2*COS(miib*C809))","v":-195.21076144011676},{"$f":"miia*Alfa1*SIN(miia*C809)-miib*Alfa2*SIN(miib*C809)","v":-171.33478838702052},null,null,null,null,null,null,null,null,null,0,788,7.8799999999998764,-39.377387845763515,-36.944890531202589]
[0,789,7.8899999999998762,{"$f":"(Alfa1*SIN(miia*C810)-Alfa2*SIN(miib*C810))","v":-54.135680924358937},{"$f":"-(Alfa1*COS(miia*C810)-Alfa2*COS(miib*C810))","v":-30.195012107000366},{"$f":"(miia*Alfa1*COS(miia*C810)-miib*Alfa2*COS(miib*C810))","v":-176.56617765656239},{"$f":"miia*Alfa1*SIN(miia*C810)-miib*Alfa2*SIN(miib*C810)","v":-147.32226458840603},null,null,null,null,null,null,null,null,null,0,789,7.8899999999998762,-39.377387845763515,-36.944890531202589]
[0,{"$f":"B810+1","v":790},7.899999999999876,{"$f":"(Alfa1*SIN(miia*C811)-Alfa2*SIN(miib*C811))","v":-55.799416868921568},{"$f":"-(Alfa1*COS(miia*C811)-Alfa2*COS(miib*C811))","v":-31.549112367651841},{"$f":"(miia*Alfa1*COS(miia*C811)-miib*Alfa2*COS(miib*C811))","v":-155.84426953877005},{"$f":"miia*Alfa1*SIN(miia*C811)-miib*Alfa2*SIN(miib*C811)","v":-123.55765029736763},null,null,null,null,null,null,null,null,null,0,790,7.899999999999876,-39.377387845763515,-36.944890531202589]
[0,791,7.9099999999998758,{"$f":"(Alfa1*SIN(miia*C812)-Alfa2*SIN(miib*C812))","v":-57.246044543770971},{"$f":"-(Alfa1*COS(miia*C812)-Alfa2*COS(miib*C812))","v":-32.667724633038283},{"$f":"(miia*Alfa1*COS(miia*C812)-miib*Alfa2*COS(miib*C812))","v":-133.16651546120221},{"$f":"miia*Alfa1*SIN(miia*C812)-miib*Alfa2*SIN(miib*C812)","v":-100.260594101322},null,null,null,null,null,null,null,null,null,0,791,7.9099999999998758,-39.377387845763515,-36.944890531202589]
[0,792,7.9199999999998756,{"$f":"(Alfa1*SIN(miia*C813)-Alfa2*SIN(miib*C813))","v":-58.456698931402855},{"$f":"-(Alfa1*COS(miia*C813)-Alfa2*COS(miib*C813))","v":-33.556586406270114},{"$f":"(miia*Alfa1*COS(miia*C813)-miib*Alfa2*COS(miib*C813))","v":-108.6749325108207},{"$f":"miia*Alfa1*SIN(miia*C813)-miib*Alfa2*SIN(miib*C813)","v":-77.64181852494886},null,null,null,null,null,null,null,null,null,0,792,7.9199999999998756,-39.377387845763515,-36.944890531202589]
[0,793,7.9299999999998754,{"$f":"(Alfa1*SIN(miia*C814)-Alfa2*SIN(miib*C814))","v":-59.414032930719983},{"$f":"-(Alfa1*COS(miia*C814)-Alfa2*COS(miib*C814))","v":-34.223489195231913},{"$f":"(miia*Alfa1*COS(miia*C814)-miib*Alfa2*COS(miib*C814))","v":-82.53086888410094},{"$f":"miia*Alfa1*SIN(miia*C814)-miib*Alfa2*SIN(miib*C814)","v":-55.901069683804678},null,null,null,null,null,null,null,null,null,0,793,7.9299999999998754,-39.377387845763515,-36.944890531202589]
[0,794,7.9399999999998752,{"$f":"(Alfa1*SIN(miia*C815)-Alfa2*SIN(miib*C815))","v":-60.102403807403931},{"$f":"-(Alfa1*COS(miia*C815)-Alfa2*COS(miib*C815))","v":-34.678158989291752},{"$f":"(miia*Alfa1*COS(miia*C815)-miib*Alfa2*COS(miib*C815))","v":-54.913600114796111},{"$f":"miia*Alfa1*SIN(miia*C815)-miib*Alfa2*SIN(miib*C815)","v":-35.225187106532672},null,null,null,null,null,null,null,null,null,0,794,7.9399999999998752,-39.377387845763515,-36.944890531202589]
[0,795,7.9499999999998749,{"$f":"(Alfa1*SIN(miia*C816)-Alfa2*SIN(miib*C816))","v":-60.508044681205121},{"$f":"-(Alfa1*COS(miia*C816)-Alfa2*COS(miib*C816))","v":-34.932118115312456},{"$f":"(miia*Alfa1*COS(miia*C816)-miib*Alfa2*COS(miib*C816))","v":-26.018742637634489},{"$f":"miia*Alfa1*SIN(miia*C816)-miib*Alfa2*SIN(miib*C816)","v":-15.786312847328304},null,null,null,null,null,null,null,null,null,0,795,7.9499999999998749,-39.377387845763515,-36.944890531202589]
[0,796,7.9599999999998747,{"$f":"(Alfa1*SIN(miia*C817)-Alfa2*SIN(miib*C817))","v":-60.619219298736155},{"$f":"-(Alfa1*COS(miia*C817)-Alfa2*COS(miib*C817))","v":-34.998529955643725},{"$f":"(miia*Alfa1*COS(miia*C817)-miib*Alfa2*COS(miib*C817))","v":3.9434999727879614},{"$f":"miia*Alfa1*SIN(miia*C817)-miib*Alfa2*SIN(miib*C817)","v":2.2597424071650778},null,null,null,null,null,null,null,null,null,0,796,7.9599999999998747,-39.377387845763515,-36.944890531202589]
[0,797,7.9699999999998745,{"$f":"(Alfa1*SIN(miia*C818)-Alfa2*SIN(miib*C818))","v":-60.426358502294747},{"$f":"-(Alfa1*COS(miia*C818)-Alfa2*COS(miib*C818))","v":-34.892028179988905},{"$f":"(miia*Alfa1*COS(miia*C818)-miib*Alfa2*COS(miib*C818))","v":34.750241066804051},{"$f":"miia*Alfa1*SIN(miia*C818)-miib*Alfa2*SIN(miib*C818)","v":18.774960126444199},null,null,null,null,null,null,null,null,null,0,797,7.9699999999998745,-39.377387845763515,-36.944890531202589]
[0,798,7.9799999999998743,{"$f":"(Alfa1*SIN(miia*C819)-Alfa2*SIN(miib*C819))","v":-59.922176983163361},{"$f":"-(Alfa1*COS(miia*C819)-Alfa2*COS(miib*C819))","v":-34.628532295493983},{"$f":"(miia*Alfa1*COS(miia*C819)-miib*Alfa2*COS(miib*C819))","v":66.167946753804145},{"$f":"miia*Alfa1*SIN(miia*C819)-miib*Alfa2*SIN(miib*C819)","v":33.640387264486094},null,null,null,null,null,null,null,null,null,0,798,7.9799999999998743,-39.377387845763515,-36.944890531202589]
[0,799,7.9899999999998741,{"$f":"(Alfa1*SIN(miia*C820)-Alfa2*SIN(miib*C820))","v":-59.101769099983471},{"$f":"-(Alfa1*COS(miia*C820)-Alfa2*COS(miib*C820))","v":-34.225051453589714},{"$f":"(miia*Alfa1*COS(miia*C820)-miib*Alfa2*COS(miib*C820))","v":97.95458364213232},{"$f":"miia*Alfa1*SIN(miia*C820)-miib*Alfa2*SIN(miib*C820)","v":46.757209669367967},null,null,null,null,null,null,null,null,null,0,799,7.9899999999998741,-39.377387845763515,-36.944890531202589]
[0,800,7.9999999999998739,{"$f":"(Alfa1*SIN(miia*C821)-Alfa2*SIN(miib*C821))","v":-57.962682747264779},{"$f":"-(Alfa1*COS(miia*C821)-Alfa2*COS(miib*C821))","v":-33.699478566690665},{"$f":"(miia*Alfa1*COS(miia*C821)-miib*Alfa2*COS(miib*C821))","v":129.8618574893467},{"$f":"miia*Alfa1*SIN(miia*C821)-miib*Alfa2*SIN(miib*C821)","v":58.047615136808503},null,null,null,null,null,null,null,null,null,0,800,7.9999999999998739,-39.377387845763515,-36.944890531202589]
[0,801,8.0099999999998737,{"$f":"(Alfa1*SIN(miia*C822)-Alfa2*SIN(miib*C822))","v":-56.504970473841311},{"$f":"-(Alfa1*COS(miia*C822)-Alfa2*COS(miib*C822))","v":-33.070376881684915},{"$f":"(miia*Alfa1*COS(miia*C822)-miib*Alfa2*COS(miib*C822))","v":161.63752084398084},{"$f":"miia*Alfa1*SIN(miia*C822)-miib*Alfa2*SIN(miib*C822)","v":67.455437794841288},null,null,null,null,null,null,null,null,null,0,801,8.0099999999998737,-39.377387845763515,-36.944890531202589]
[0,802,8.0199999999998735,{"$f":"(Alfa1*SIN(miia*C823)-Alfa2*SIN(miib*C823))","v":-54.731217273985351},{"$f":"-(Alfa1*COS(miia*C823)-Alfa2*COS(miib*C823))","v":-32.356761229299558},{"$f":"(miia*Alfa1*COS(miia*C823)-miib*Alfa2*COS(miib*C823))","v":193.02772705464255},{"$f":"miia*Alfa1*SIN(miia*C823)-miib*Alfa2*SIN(miib*C823)","v":74.946577713820005},null,null,null,null,null,null,null,null,null,0,802,8.0199999999998735,-39.377387845763515,-36.944890531202589]
[0,803,8.0299999999998732,{"$f":"(Alfa1*SIN(miia*C824)-Alfa2*SIN(miib*C824))","v":-52.646544702721201},{"$f":"-(Alfa1*COS(miia*C824)-Alfa2*COS(miib*C824))","v":-31.57787621818952},{"$f":"(miia*Alfa1*COS(miia*C824)-miib*Alfa2*COS(miib*C824))","v":223.77940754183385},{"$f":"miia*Alfa1*SIN(miia*C824)-miib*Alfa2*SIN(miib*C824)","v":80.509191903035486},null,null,null,null,null,null,null,null,null,0,803,8.0299999999998732,-39.377387845763515,-36.944890531202589]
[0,804,8.039999999999873,{"$f":"(Alfa1*SIN(miia*C825)-Alfa2*SIN(miib*C825))","v":-50.258591199380071},{"$f":"-(Alfa1*COS(miia*C825)-Alfa2*COS(miib*C825))","v":-30.752973669486401},{"$f":"(miia*Alfa1*COS(miia*C825)-miib*Alfa2*COS(miib*C825))","v":253.64264897710956},{"$f":"miia*Alfa1*SIN(miia*C825)-miib*Alfa2*SIN(miib*C825)","v":84.153655159763446},null,null,null,null,null,null,null,null,null,0,804,8.039999999999873,-39.377387845763515,-36.944890531202589]
[0,805,8.0499999999998728,{"$f":"(Alfa1*SIN(miia*C826)-Alfa2*SIN(miib*C826))","v":-47.577468737269079},{"$f":"-(Alfa1*COS(miia*C826)-Alfa2*COS(miib*C826))","v":-29.901091591289681},{"$f":"(miia*Alfa1*COS(miia*C826)-miib*Alfa2*COS(miib*C826))","v":282.3730469960704},{"$f":"miia*Alfa1*SIN(miia*C826)-miib*Alfa2*SIN(miib*C826)","v":85.912291555571016},null,null,null,null,null,null,null,null,null,0,805,8.0499999999998728,-39.377387845763515,-36.944890531202589]
[0,806,8.0599999999998726,{"$f":"(Alfa1*SIN(miia*C827)-Alfa2*SIN(miib*C827))","v":-44.615696150188327},{"$f":"-(Alfa1*COS(miia*C827)-Alfa2*COS(miib*C827))","v":-29.040836973168879},{"$f":"(miia*Alfa1*COS(miia*C827)-miib*Alfa2*COS(miib*C827))","v":309.73401328591711},{"$f":"miia*Alfa1*SIN(miia*C827)-miib*Alfa2*SIN(miib*C827)","v":85.838879654817063},null,null,null,null,null,null,null,null,null,0,806,8.0599999999998726,-39.377387845763515,-36.944890531202589]
[0,807,8.0699999999998724,{"$f":"(Alfa1*SIN(miia*C828)-Alfa2*SIN(miib*C828))","v":-41.388109716090696},{"$f":"-(Alfa1*COS(miia*C828)-Alfa2*COS(miib*C828))","v":-28.190174638368873},{"$f":"(miia*Alfa1*COS(miia*C828)-miib*Alfa2*COS(miib*C828))","v":335.4990133331205},{"$f":"miia*Alfa1*SIN(miia*C828)-miib*Alfa2*SIN(miib*C828)","v":84.007936838478329},null,null,null,null,null,null,null,null,null,0,807,8.0699999999998724,-39.377387845763515,-36.944890531202589]
[0,808,8.0799999999998722,{"$f":"(Alfa1*SIN(miia*C829)-Alfa2*SIN(miib*C829))","v":-37.911751802145858},{"$f":"-(Alfa1*COS(miia*C829)-Alfa2*COS(miib*C829))","v":-27.366224326504501},{"$f":"(miia*Alfa1*COS(miia*C829)-miib*Alfa2*COS(miib*C829))","v":359.4537127877756},{"$f":"miia*Alfa1*SIN(miia*C829)-miib*Alfa2*SIN(miib*C829)","v":80.513790329852526},null,null,null,null,null,null,null,null,null,0,808,8.0799999999998722,-39.377387845763515,-36.944890531202589]
[0,809,8.089999999999872,{"$f":"(Alfa1*SIN(miia*C830)-Alfa2*SIN(miib*C830))","v":-34.205738591646551},{"$f":"-(Alfa1*COS(miia*C830)-Alfa2*COS(miib*C830))","v":-26.585068092764189},{"$f":"(miia*Alfa1*COS(miia*C830)-miib*Alfa2*COS(miib*C830))","v":381.39801129147617},{"$f":"miia*Alfa1*SIN(miia*C830)-miib*Alfa2*SIN(miib*C830)","v":75.469444665100355},null,null,null,null,null,null,null,null,null,0,809,8.089999999999872,-39.377387845763515,-36.944890531202589]
[0,810,8.0999999999998717,{"$f":"(Alfa1*SIN(miia*C831)-Alfa2*SIN(miib*C831))","v":-30.291108119381523},{"$f":"-(Alfa1*COS(miia*C831)-Alfa2*COS(miib*C831))","v":-25.861570001878636},{"$f":"(miia*Alfa1*COS(miia*C831)-miib*Alfa2*COS(miib*C831))","v":401.14794371668211},{"$f":"miia*Alfa1*SIN(miia*C831)-miib*Alfa2*SIN(miib*C831)","v":69.005257399498916},null,null,null,null,null,null,null,null,null,0,810,8.0999999999998717,-39.377387845763515,-36.944890531202589]
[0,811,8.1099999999998715,{"$f":"(Alfa1*SIN(miia*C832)-Alfa2*SIN(miib*C832))","v":-26.190650036275393},{"$f":"-(Alfa1*COS(miia*C832)-Alfa2*COS(miib*C832))","v":-25.209209967450413},{"$f":"(miia*Alfa1*COS(miia*C832)-miib*Alfa2*COS(miib*C832))","v":418.53743006623978},{"$f":"miia*Alfa1*SIN(miia*C832)-miib*Alfa2*SIN(miib*C832)","v":61.267436769174054},null,null,null,null,null,null,null,null,null,0,811,8.1099999999998715,-39.377387845763515,-36.944890531202589]
[0,812,8.1199999999998713,{"$f":"(Alfa1*SIN(miia*C833)-Alfa2*SIN(miib*C833))","v":-21.928718704337406},{"$f":"-(Alfa1*COS(miia*C833)-Alfa2*COS(miib*C833))","v":-24.639933440969379},{"$f":"(miia*Alfa1*COS(miia*C833)-miib*Alfa2*COS(miib*C833))","v":433.41985676908143},{"$f":"miia*Alfa1*SIN(miia*C833)-miib*Alfa2*SIN(miib*C833)","v":52.416376818710063},null,null,null,null,null,null,null,null,null,0,812,8.1199999999998713,-39.377387845763515,-36.944890531202589]
[0,813,8.1299999999998711,{"$f":"(Alfa1*SIN(miia*C834)-Alfa2*SIN(miib*C834))","v":-17.531031387422036},{"$f":"-(Alfa1*COS(miia*C834)-Alfa2*COS(miib*C834))","v":-24.164018491422244},{"$f":"(miia*Alfa1*COS(miia*C834)-miib*Alfa2*COS(miib*C834))","v":445.66947376762801},{"$f":"miia*Alfa1*SIN(miia*C834)-miib*Alfa2*SIN(miib*C834)","v":42.624847139395875},null,null,null,null,null,null,null,null,null,0,813,8.1299999999998711,-39.377387845763515,-36.944890531202589]
[0,814,8.1399999999998709,{"$f":"(Alfa1*SIN(miia*C835)-Alfa2*SIN(miib*C835))","v":-13.024453450407995},{"$f":"-(Alfa1*COS(miia*C835)-Alfa2*COS(miib*C835))","v":-23.789961637499843},{"$f":"(miia*Alfa1*COS(miia*C835)-miib*Alfa2*COS(miib*C835))","v":455.18259360717423},{"$f":"miia*Alfa1*SIN(miia*C835)-miib*Alfa2*SIN(miib*C835)","v":32.076055824681667},null,null,null,null,null,null,null,null,null,0,814,8.1399999999998709,-39.377387845763515,-36.944890531202589]
[0,815,8.1499999999998707,{"$f":"(Alfa1*SIN(miia*C836)-Alfa2*SIN(miib*C836))","v":-8.4367726076458087},{"$f":"-(Alfa1*COS(miia*C836)-Alfa2*COS(miib*C836))","v":-23.524383601805049},{"$f":"(miia*Alfa1*COS(miia*C836)-miib*Alfa2*COS(miib*C836))","v":461.8785806897256},{"$f":"miia*Alfa1*SIN(miia*C836)-miib*Alfa2*SIN(miib*C836)","v":20.961605524024225},null,null,null,null,null,null,null,null,null,0,815,8.1499999999998707,-39.377387845763515,-36.944890531202589]
[0,816,8.1599999999998705,{"$f":"(Alfa1*SIN(miia*C837)-Alfa2*SIN(miib*C837))","v":-3.7964643696256886},{"$f":"-(Alfa1*COS(miia*C837)-Alfa2*COS(miib*C837))","v":-23.371955952106866},{"$f":"(miia*Alfa1*COS(miia*C837)-miib*Alfa2*COS(miib*C837))","v":465.70062092487785},{"$f":"miia*Alfa1*SIN(miia*C837)-miib*Alfa2*SIN(miib*C837)","v":9.479363550899242},null,null,null,null,null,null,null,null,null,0,816,8.1599999999998705,-39.377387845763515,-36.944890531202589]
[0,817,8.1699999999998703,{"$f":"(Alfa1*SIN(miia*C838)-Alfa2*SIN(miib*C838))","v":0.86754907625116018},{"$f":"-(Alfa1*COS(miia*C838)-Alfa2*COS(miib*C838))","v":-23.335349380631122},{"$f":"(miia*Alfa1*COS(miia*C838)-miib*Alfa2*COS(miib*C838))","v":466.61626417767968},{"$f":"miia*Alfa1*SIN(miia*C838)-miib*Alfa2*SIN(miib*C838)","v":-2.1687321352717768},null,null,null,null,null,null,null,null,null,0,817,8.1699999999998703,-39.377387845763515,-36.944890531202589]
[0,818,8.17999999999987,{"$f":"(Alfa1*SIN(miia*C839)-Alfa2*SIN(miib*C839))","v":5.5261442500937914},{"$f":"-(Alfa1*COS(miia*C839)-Alfa2*COS(miib*C839))","v":-23.415204150770375},{"$f":"(miia*Alfa1*COS(miia*C839)-miib*Alfa2*COS(miib*C839))","v":464.61773415657444},{"$f":"miia*Alfa1*SIN(miia*C839)-miib*Alfa2*SIN(miib*C839)","v":-13.778908609019309},null,null,null,null,null,null,null,null,null,0,818,8.17999999999987,-39.377387845763515,-36.944890531202589]
[0,819,8.1899999999998698,{"$f":"(Alfa1*SIN(miia*C840)-Alfa2*SIN(miib*C840))","v":10.150243686310024},{"$f":"-(Alfa1*COS(miia*C840)-Alfa2*COS(miib*C840))","v":-23.610123013670094},{"$f":"(miia*Alfa1*COS(miia*C840)-miib*Alfa2*COS(miib*C840))","v":459.7220026809685},{"$f":"miia*Alfa1*SIN(miia*C840)-miib*Alfa2*SIN(miib*C840)","v":-25.147812437546619},null,null,null,null,null,null,null,null,null,0,819,8.1899999999998698,-39.377387845763515,-36.944890531202589]
[0,820,8.1999999999998696,{"$f":"(Alfa1*SIN(miia*C841)-Alfa2*SIN(miib*C841))","v":14.711062800932648},{"$f":"-(Alfa1*COS(miia*C841)-Alfa2*COS(miib*C841))","v":-23.916686667181175},{"$f":"(miia*Alfa1*COS(miia*C841)-miib*Alfa2*COS(miib*C841))","v":451.97062759493929},{"$f":"miia*Alfa1*SIN(miia*C841)-miib*Alfa2*SIN(miib*C841)","v":-36.074759846482003},null,null,null,null,null,null,null,null,null,0,820,8.1999999999998696,-39.377387845763515,-36.944890531202589]
[0,821,8.2099999999998694,{"$f":"(Alfa1*SIN(miia*C842)-Alfa2*SIN(miib*C842))","v":19.18035396201654},{"$f":"-(Alfa1*COS(miia*C842)-Alfa2*COS(miib*C842))","v":-24.329491598973569},{"$f":"(miia*Alfa1*COS(miia*C842)-miib*Alfa2*COS(miib*C842))","v":441.42935592787927},{"$f":"miia*Alfa1*SIN(miia*C842)-miib*Alfa2*SIN(miib*C842)","v":-46.363959564074854},null,null,null,null,null,null,null,null,null,0,821,8.2099999999998694,-39.377387845763515,-36.944890531202589]
[0,822,8.2199999999998692,{"$f":"(Alfa1*SIN(miia*C843)-Alfa2*SIN(miib*C843))","v":23.530645433249056},{"$f":"-(Alfa1*COS(miia*C843)-Alfa2*COS(miib*C843))","v":-24.841209926500593},{"$f":"(miia*Alfa1*COS(miia*C843)-miib*Alfa2*COS(miib*C843))","v":428.1874962211852},{"$f":"miia*Alfa1*SIN(miia*C843)-miib*Alfa2*SIN(miib*C843)","v":-55.826685589820265},null,null,null,null,null,null,null,null,null,0,822,8.2199999999998692,-39.377387845763515,-36.944890531202589]
[0,823,8.229999999999869,{"$f":"(Alfa1*SIN(miia*C844)-Alfa2*SIN(miib*C844))","v":27.735472911546054},{"$f":"-(Alfa1*COS(miia*C844)-Alfa2*COS(miib*C844))","v":-25.442670621290848},{"$f":"(miia*Alfa1*COS(miia*C844)-miib*Alfa2*COS(miib*C844))","v":412.35706621940221},{"$f":"miia*Alfa1*SIN(miia*C844)-miib*Alfa2*SIN(miib*C844)","v":-64.283377636815302},null,null,null,null,null,null,null,null,null,0,823,8.229999999999869,-39.377387845763515,-36.944890531202589]
[0,824,8.2399999999998688,{"$f":"(Alfa1*SIN(miia*C845)-Alfa2*SIN(miib*C845))","v":31.769601452550521},{"$f":"-(Alfa1*COS(miia*C845)-Alfa2*COS(miib*C845))","v":-26.12296128599041},{"$f":"(miia*Alfa1*COS(miia*C845)-miib*Alfa2*COS(miib*C845))","v":394.07172434172151},{"$f":"miia*Alfa1*SIN(miia*C845)-miib*Alfa2*SIN(miib*C845)","v":-71.565647724166865},null,null,null,null,null,null,null,null,null,0,824,8.2399999999998688,-39.377387845763515,-36.944890531202589]
[0,825,8.2499999999998685,{"$f":"(Alfa1*SIN(miia*C846)-Alfa2*SIN(miib*C846))","v":35.609235672836377},{"$f":"-(Alfa1*COS(miia*C846)-Alfa2*COS(miib*C846))","v":-26.869549441878803},{"$f":"(miia*Alfa1*COS(miia*C846)-miib*Alfa2*COS(miib*C846))","v":373.48549548348569},{"$f":"miia*Alfa1*SIN(miia*C846)-miib*Alfa2*SIN(miib*C846)","v":-77.51817233911386},null,null,null,null,null,null,null,null,null,0,825,8.2499999999998685,-39.377387845763515,-36.944890531202589]
[0,826,8.2599999999998683,{"$f":"(Alfa1*SIN(miia*C847)-Alfa2*SIN(miib*C847))","v":39.232216233373222},{"$f":"-(Alfa1*COS(miia*C847)-Alfa2*COS(miib*C847))","v":-27.668422084364657},{"$f":"(miia*Alfa1*COS(miia*C847)-miib*Alfa2*COS(miib*C847))","v":350.77130372591591},{"$f":"miia*Alfa1*SIN(miia*C847)-miib*Alfa2*SIN(miib*C847)","v":-82.00045073891782},null,null,null,null,null,null,null,null,null,0,826,8.2599999999998683,-39.377387845763515,-36.944890531202589]
[0,827,8.2699999999998681,{"$f":"(Alfa1*SIN(miia*C848)-Alfa2*SIN(miib*C848))","v":42.618200744217518},{"$f":"-(Alfa1*COS(miia*C848)-Alfa2*COS(miib*C848))","v":-28.504242076239546},{"$f":"(miia*Alfa1*COS(miia*C848)-miib*Alfa2*COS(miib*C848))","v":326.11932643555235},{"$f":"miia*Alfa1*SIN(miia*C848)-miib*Alfa2*SIN(miib*C848)","v":-84.888411308359935},null,null,null,null,null,null,null,null,null,0,827,8.2699999999998681,-39.377387845763515,-36.944890531202589]
[0,828,8.2799999999998679,{"$f":"(Alfa1*SIN(miia*C849)-Alfa2*SIN(miib*C849))","v":45.748827384119096},{"$f":"-(Alfa1*COS(miia*C849)-Alfa2*COS(miib*C849))","v":-29.360519775116892},{"$f":"(miia*Alfa1*COS(miia*C849)-miib*Alfa2*COS(miib*C849))","v":299.73518599405452},{"$f":"miia*Alfa1*SIN(miia*C849)-miib*Alfa2*SIN(miib*C849)","v":-86.075849416440533},null,null,null,null,null,null,null,null,null,0,828,8.2799999999998679,-39.377387845763515,-36.944890531202589]
[0,829,8.2899999999998677,{"$f":"(Alfa1*SIN(miia*C850)-Alfa2*SIN(miib*C850))","v":48.607859699284816},{"$f":"-(Alfa1*COS(miia*C850)-Alfa2*COS(miib*C850))","v":-30.219798134262966},{"$f":"(miia*Alfa1*COS(miia*C850)-miib*Alfa2*COS(miib*C850))","v":271.83799699620488},{"$f":"miia*Alfa1*SIN(miia*C850)-miib*Alfa2*SIN(miib*C850)","v":-85.475681910372828},null,null,null,null,null,null,null,null,null,0,829,8.2899999999998677,-39.377387845763515,-36.944890531202589]
[0,830,8.2999999999998675,{"$f":"(Alfa1*SIN(miia*C851)-Alfa2*SIN(miib*C851))","v":51.181311231160848},{"$f":"-(Alfa1*COS(miia*C851)-Alfa2*COS(miib*C851))","v":-31.063849376509204},{"$f":"(miia*Alfa1*COS(miia*C851)-miib*Alfa2*COS(miib*C851))","v":242.65828817366227},{"$f":"miia*Alfa1*SIN(miia*C851)-miib*Alfa2*SIN(miib*C851)","v":-83.021005229145231},null,null,null,null,null,null,null,null,null,0,830,8.2999999999998675,-39.377387845763515,-36.944890531202589]
[0,831,8.3099999999998673,{"$f":"(Alfa1*SIN(miia*C852)-Alfa2*SIN(miib*C852))","v":53.457548821976815},{"$f":"-(Alfa1*COS(miia*C852)-Alfa2*COS(miib*C852))","v":-31.87388122053391},{"$f":"(miia*Alfa1*COS(miia*C852)-miib*Alfa2*COS(miib*C852))","v":212.43581952988458},{"$f":"miia*Alfa1*SIN(miia*C852)-miib*Alfa2*SIN(miib*C852)","v":-78.665946094414664},null,null,null,null,null,null,null,null,null,0,831,8.3099999999998673,-39.377387845763515,-36.944890531202589]
[0,832,8.3199999999998671,{"$f":"(Alfa1*SIN(miia*C853)-Alfa2*SIN(miib*C853))","v":55.427373656949534},{"$f":"-(Alfa1*COS(miia*C853)-Alfa2*COS(miib*C853))","v":-32.630750538732173},{"$f":"(miia*Alfa1*COS(miia*C853)-miib*Alfa2*COS(miib*C853))","v":181.41731619543413},{"$f":"miia*Alfa1*SIN(miia*C853)-miib*Alfa2*SIN(miib*C853)","v":-72.38629582346519},null,null,null,null,null,null,null,null,null,0,832,8.3199999999998671,-39.377387845763515,-36.944890531202589]
[{"$f":"IF(B854=$AC$1,1,0)","v":0},833,{"$f":"C853+dt","v":8.3299999999998668},{"$f":"(Alfa1*SIN(miia*C854)-Alfa2*SIN(miib*C854))","v":57.084079321355198},{"$f":"-(Alfa1*COS(miia*C854)-Alfa2*COS(miib*C854))","v":-33.315182247156997},{"$f":"(miia*Alfa1*COS(miia*C854)-miib*Alfa2*COS(miib*C854))","v":149.85414132273323},{"$f":"miia*Alfa1*SIN(miia*C854)-miib*Alfa2*SIN(miib*C854)","v":-64.179921486578962},null,null,null,null,null,null,null,null,null,{"$f":"IF(R854=$AC$1,1,0)","v":0},833,{"$f":"S853+dt","v":8.3299999999998668},{"$f":"IF(R854<MAX_TIME,Aktina*SIN(epsilon*S854)*COS(D*S854),Aktina*SIN(epsilon*MAX_TIME*dt)*COS(D*MAX_TIME*dt))","v":-39.377387845763515},{"$f":"IF(R854<MAX_TIME,Aktina*COS(epsilon*S854)*COS(D*S854),Aktina*COS(epsilon*MAX_TIME*dt)*COS(D*MAX_TIME*dt))","v":-36.944890531202589}]
[0,834,8.3399999999998666,{"$f":"(Alfa1*SIN(miia*C855)-Alfa2*SIN(miib*C855))","v":58.423486377005688},{"$f":"-(Alfa1*COS(miia*C855)-Alfa2*COS(miib*C855))","v":-33.907991171426296},{"$f":"(miia*Alfa1*COS(miia*C855)-miib*Alfa2*COS(miib*C855))","v":117.99993092674862},{"$f":"miia*Alfa1*SIN(miia*C855)-miib*Alfa2*SIN(miib*C855)","v":-54.066949377580642},null,null,null,null,null,null,null,null,null,0,{"$f":"R854+1","v":834},8.3399999999998666,-39.377387845763515,-36.944890531202589]
[0,835,8.3499999999998664,{"$f":"(Alfa1*SIN(miia*C856)-Alfa2*SIN(miib*C856))","v":59.443953193716041},{"$f":"-(Alfa1*COS(miia*C856)-Alfa2*COS(miib*C856))","v":-34.390304598611657},{"$f":"(miia*Alfa1*COS(miia*C856)-miib*Alfa2*COS(miib*C856))","v":86.108213937581525},{"$f":"miia*Alfa1*SIN(miia*C856)-miib*Alfa2*SIN(miib*C856)","v":-42.089718559049686},null,null,null,null,null,null,null,null,null,0,835,8.3499999999998664,-39.377387845763515,-36.944890531202589]
[0,836,8.3599999999998662,{"$f":"(Alfa1*SIN(miia*C857)-Alfa2*SIN(miib*C857))","v":60.146363004838435},{"$f":"-(Alfa1*COS(miia*C857)-Alfa2*COS(miib*C857))","v":-34.74378321430828},{"$f":"(miia*Alfa1*COS(miia*C857)-miib*Alfa2*COS(miib*C857))","v":54.430040859027642},{"$f":"miia*Alfa1*SIN(miia*C857)-miib*Alfa2*SIN(miib*C857)","v":-28.312504559862191},null,null,null,null,null,null,null,null,null,0,836,8.3599999999998662,-39.377387845763515,-36.944890531202589]
[0,837,8.369999999999866,{"$f":"(Alfa1*SIN(miia*C858)-Alfa2*SIN(miib*C858))","v":60.534087389555651},{"$f":"-(Alfa1*COS(miia*C858)-Alfa2*COS(miib*C858))","v":-34.950838136456468},{"$f":"(miia*Alfa1*COS(miia*C858)-miib*Alfa2*COS(miib*C858))","v":23.211644322195326},{"$f":"miia*Alfa1*SIN(miia*C858)-miib*Alfa2*SIN(miib*C858)","v":-12.821015619008193},null,null,null,null,null,null,null,null,null,0,837,8.369999999999866,-39.377387845763515,-36.944890531202589]
[0,838,8.3799999999998658,{"$f":"(Alfa1*SIN(miia*C859)-Alfa2*SIN(miib*C859))","v":60.612926616022705},{"$f":"-(Alfa1*COS(miia*C859)-Alfa2*COS(miib*C859))","v":-34.994841792917732},{"$f":"(miia*Alfa1*COS(miia*C859)-miib*Alfa2*COS(miib*C859))","v":-7.3078455131517615},{"$f":"miia*Alfa1*SIN(miia*C859)-miib*Alfa2*SIN(miib*C859)","v":4.2783338370356603},null,null,null,null,null,null,null,null,null,0,838,8.3799999999998658,-39.377387845763515,-36.944890531202589]
[0,839,8.3899999999998656,{"$f":"(Alfa1*SIN(miia*C860)-Alfa2*SIN(miib*C860))","v":60.391027506337906},{"$f":"-(Alfa1*COS(miia*C860)-Alfa2*COS(miib*C860))","v":-34.860330447966675},{"$f":"(miia*Alfa1*COS(miia*C860)-miib*Alfa2*COS(miib*C860))","v":-36.898608321650855},{"$f":"miia*Alfa1*SIN(miia*C860)-miib*Alfa2*SIN(miib*C860)","v":22.859365548735298},null,null,null,null,null,null,null,null,null,0,839,8.3899999999998656,-39.377387845763515,-36.944890531202589]
[0,840,8.3999999999998654,{"$f":"(Alfa1*SIN(miia*C861)-Alfa2*SIN(miib*C861))","v":59.878779704448547},{"$f":"-(Alfa1*COS(miia*C861)-Alfa2*COS(miib*C861))","v":-34.533196263166737},{"$f":"(miia*Alfa1*COS(miia*C861)-miib*Alfa2*COS(miib*C861))","v":-65.34224213938846},{"$f":"miia*Alfa1*SIN(miia*C861)-miib*Alfa2*SIN(miib*C861)","v":42.77728649626917},null,null,null,null,null,null,null,null,null,0,840,8.3999999999998654,-39.377387845763515,-36.944890531202589]
[0,841,8.4099999999998651,{"$f":"(Alfa1*SIN(miia*C862)-Alfa2*SIN(miib*C862))","v":59.088691439265432},{"$f":"-(Alfa1*COS(miia*C862)-Alfa2*COS(miib*C862))","v":-34.000866879759457},{"$f":"(miia*Alfa1*COS(miia*C862)-miib*Alfa2*COS(miib*C862))","v":-92.433752456460255},{"$f":"miia*Alfa1*SIN(miia*C862)-miib*Alfa2*SIN(miib*C862)","v":63.870033488527184},null,null,null,null,null,null,null,null,null,0,841,8.4099999999998651,-39.377387845763515,-36.944890531202589]
[0,842,8.4199999999998649,{"$f":"(Alfa1*SIN(miia*C863)-Alfa2*SIN(miib*C863))","v":58.035246075377913},{"$f":"-(Alfa1*COS(miia*C863)-Alfa2*COS(miib*C863))","v":-33.252470631706352},{"$f":"(miia*Alfa1*COS(miia*C863)-miib*Alfa2*COS(miib*C863))","v":-117.98340248339792},{"$f":"miia*Alfa1*SIN(miia*C863)-miib*Alfa2*SIN(miib*C863)","v":85.959800088951198},null,null,null,null,null,null,null,null,null,0,842,8.4199999999998649,-39.377387845763515,-36.944890531202589]
[0,843,8.4299999999998647,{"$f":"(Alfa1*SIN(miia*C864)-Alfa2*SIN(miib*C864))","v":56.734740930833766},{"$f":"-(Alfa1*COS(miia*C864)-Alfa2*COS(miib*C864))","v":-32.278985639663091},{"$f":"(miia*Alfa1*COS(miia*C864)-miib*Alfa2*COS(miib*C864))","v":-141.81840659906715},{"$f":"miia*Alfa1*SIN(miia*C864)-miib*Alfa2*SIN(miib*C864)","v":108.85473085255217},null,null,null,null,null,null,null,null,null,0,843,8.4299999999998647,-39.377387845763515,-36.944890531202589]
[0,844,8.4399999999998645,{"$f":"(Alfa1*SIN(miia*C865)-Alfa2*SIN(miib*C865))","v":55.20511001363024},{"$f":"-(Alfa1*COS(miia*C865)-Alfa2*COS(miib*C865))","v":-31.073371195041361},{"$f":"(miia*Alfa1*COS(miia*C865)-miib*Alfa2*COS(miib*C865))","v":-163.78445056533639},{"$f":"miia*Alfa1*SIN(miia*C865)-miib*Alfa2*SIN(miib*C865)","v":132.35076615161199},null,null,null,null,null,null,null,null,null,0,844,8.4399999999998645,-39.377387845763515,-36.944890531202589]
[0,845,8.4499999999998643,{"$f":"(Alfa1*SIN(miia*C866)-Alfa2*SIN(miib*C866))","v":53.465732484130541},{"$f":"-(Alfa1*COS(miia*C866)-Alfa2*COS(miib*C866))","v":-29.630680018331383},{"$f":"(miia*Alfa1*COS(miia*C866)-miib*Alfa2*COS(miib*C866))","v":-183.74702383448982},{"$f":"miia*Alfa1*SIN(miia*C866)-miib*Alfa2*SIN(miib*C866)","v":156.23361933751562},null,null,null,null,null,null,null,null,null,0,845,8.4499999999998643,-39.377387845763515,-36.944890531202589]
[0,846,8.4599999999998641,{"$f":"(Alfa1*SIN(miia*C867)-Alfa2*SIN(miib*C867))","v":51.537228788047443},{"$f":"-(Alfa1*COS(miia*C867)-Alfa2*COS(miib*C867))","v":-27.948150165284499},{"$f":"(miia*Alfa1*COS(miia*C867)-miib*Alfa2*COS(miib*C867))","v":-201.59255116115284},{"$f":"miia*Alfa1*SIN(miia*C867)-miib*Alfa2*SIN(miib*C867)","v":180.28086663785493},null,null,null,null,null,null,null,null,null,0,846,8.4599999999998641,-39.377387845763515,-36.944890531202589]
[0,847,8.4699999999998639,{"$f":"(Alfa1*SIN(miia*C868)-Alfa2*SIN(miib*C868))","v":49.441246522554039},{"$f":"-(Alfa1*COS(miia*C868)-Alfa2*COS(miib*C868))","v":-26.025275556496574},{"$f":"(miia*Alfa1*COS(miia*C868)-miib*Alfa2*COS(miib*C868))","v":-217.22931274284858},{"$f":"miia*Alfa1*SIN(miia*C868)-miib*Alfa2*SIN(miib*C868)","v":204.26412903516044},null,null,null,null,null,null,null,null,null,0,847,8.4699999999998639,-39.377387845763515,-36.944890531202589]
[0,848,8.4799999999998636,{"$f":"(Alfa1*SIN(miia*C869)-Alfa2*SIN(miib*C869))","v":47.200238195321269},{"$f":"-(Alfa1*COS(miia*C869)-Alfa2*COS(miib*C869))","v":-23.863854318369814},{"$f":"(miia*Alfa1*COS(miia*C869)-miib*Alfa2*COS(miib*C869))","v":-230.58814423203526},{"$f":"miia*Alfa1*SIN(miia*C869)-miib*Alfa2*SIN(miib*C869)","v":227.95132442794434},null,null,null,null,null,null,null,null,null,0,848,8.4799999999998636,-39.377387845763515,-36.944890531202589]
[0,849,8.4899999999998634,{"$f":"(Alfa1*SIN(miia*C870)-Alfa2*SIN(miib*C870))","v":44.837233111906073},{"$f":"-(Alfa1*COS(miia*C870)-Alfa2*COS(miib*C870))","v":-21.468014344261995},{"$f":"(miia*Alfa1*COS(miia*C870)-miib*Alfa2*COS(miib*C870))","v":-241.62291016622882},{"$f":"miia*Alfa1*SIN(miia*C870)-miib*Alfa2*SIN(miib*C870)","v":251.10896764544319},null,null,null,null,null,null,null,null,null,0,849,8.4899999999998634,-39.377387845763515,-36.944890531202589]
[0,850,8.4999999999998632,{"$f":"(Alfa1*SIN(miia*C871)-Alfa2*SIN(miib*C871))","v":42.375605680148169},{"$f":"-(Alfa1*COS(miia*C871)-Alfa2*COS(miib*C871))","v":-18.844215711627363},{"$f":"(miia*Alfa1*COS(miia*C871)-miib*Alfa2*COS(miib*C871))","v":-250.31074662986188},{"$f":"miia*Alfa1*SIN(miia*C871)-miib*Alfa2*SIN(miib*C871)","v":273.50449538227627},null,null,null,null,null,null,null,null,null,0,850,8.4999999999998632,-39.377387845763515,-36.944890531202589]
[0,851,8.509999999999863,{"$f":"(Alfa1*SIN(miia*C872)-Alfa2*SIN(miib*C872))","v":39.838842450583229},{"$f":"-(Alfa1*COS(miia*C872)-Alfa2*COS(miib*C872))","v":-16.00122982186253},{"$f":"(miia*Alfa1*COS(miia*C872)-miib*Alfa2*COS(miib*C872))","v":-256.65207126894757},{"$f":"miia*Alfa1*SIN(miia*C872)-miib*Alfa2*SIN(miib*C872)","v":294.90859284299637},null,null,null,null,null,null,null,null,null,0,851,8.509999999999863,-39.377387845763515,-36.944890531202589]
[0,852,8.5199999999998628,{"$f":"(Alfa1*SIN(miia*C873)-Alfa2*SIN(miib*C873))","v":37.250310219059848},{"$f":"-(Alfa1*COS(miia*C873)-Alfa2*COS(miib*C873))","v":-12.950095362097553},{"$f":"(miia*Alfa1*COS(miia*C873)-miib*Alfa2*COS(miib*C873))","v":-260.67036110442689},{"$f":"miia*Alfa1*SIN(miia*C873)-miib*Alfa2*SIN(miib*C873)","v":315.09749884203598},null,null,null,null,null,null,null,null,null,0,852,8.5199999999998628,-39.377387845763515,-36.944890531202589]
[0,853,8.5299999999998626,{"$f":"(Alfa1*SIN(miia*C874)-Alfa2*SIN(miib*C874))","v":34.633027501667584},{"$f":"-(Alfa1*COS(miia*C874)-Alfa2*COS(miib*C874))","v":-9.7040514199581445},{"$f":"(miia*Alfa1*COS(miia*C874)-miib*Alfa2*COS(miib*C874))","v":-262.41170090916017},{"$f":"miia*Alfa1*SIN(miia*C874)-miib*Alfa2*SIN(miib*C874)","v":333.85526629265365},null,null,null,null,null,null,null,null,null,0,853,8.5299999999998626,-39.377387845763515,-36.944890531202589]
[0,{"$f":"B874+1","v":854},8.5399999999998624,{"$f":"(Alfa1*SIN(miia*C875)-Alfa2*SIN(miib*C875))","v":32.009441652956752},{"$f":"-(Alfa1*COS(miia*C875)-Alfa2*COS(miib*C875))","v":-6.2784483110942304},{"$f":"(miia*Alfa1*COS(miia*C875)-miib*Alfa2*COS(miib*C875))","v":-261.94410720352852},{"$f":"miia*Alfa1*SIN(miia*C875)-miib*Alfa2*SIN(miib*C875)","v":350.97595543696445},null,null,null,null,null,null,null,null,null,0,854,8.5399999999998624,-39.377387845763515,-36.944890531202589]
[0,855,8.5499999999998622,{"$f":"(Alfa1*SIN(miia*C876)-Alfa2*SIN(miib*C876))","v":29.401213836637574},{"$f":"-(Alfa1*COS(miia*C876)-Alfa2*COS(miib*C876))","v":-2.6906369027114518},{"$f":"(miia*Alfa1*COS(miia*C876)-miib*Alfa2*COS(miib*C876))","v":-259.35663516279908},{"$f":"miia*Alfa1*SIN(miia*C876)-miib*Alfa2*SIN(miib*C876)","v":366.26573781413771},null,null,null,null,null,null,null,null,null,0,855,8.5499999999998622,-39.377387845763515,-36.944890531202589]
[0,856,8.5599999999998619,{"$f":"(Alfa1*SIN(miia*C877)-Alfa2*SIN(miib*C877))","v":26.829013974116343},{"$f":"-(Alfa1*COS(miia*C877)-Alfa2*COS(miib*C877))","v":1.0401625677838808},{"$f":"(miia*Alfa1*COS(miia*C877)-miib*Alfa2*COS(miib*C877))","v":-254.75827789336336},{"$f":"miia*Alfa1*SIN(miia*C877)-miib*Alfa2*SIN(miib*C877)","v":379.54488982895077},null,null,null,null,null,null,null,null,null,0,856,8.5599999999998619,-39.377387845763515,-36.944890531202589]
[0,857,8.5699999999998617,{"$f":"(Alfa1*SIN(miia*C878)-Alfa2*SIN(miib*C878))","v":24.312327691239052},{"$f":"-(Alfa1*COS(miia*C878)-Alfa2*COS(miib*C878))","v":4.8930109737313572},{"$f":"(miia*Alfa1*COS(miia*C878)-miib*Alfa2*COS(miib*C878))","v":-248.27666960309108},{"$f":"miia*Alfa1*SIN(miia*C878)-miib*Alfa2*SIN(miib*C878)","v":390.64965585935863},null,null,null,null,null,null,null,null,null,0,857,8.5699999999998617,-39.377387845763515,-36.944890531202589]
[0,858,8.5799999999998615,{"$f":"(Alfa1*SIN(miia*C879)-Alfa2*SIN(miib*C879))","v":21.869277158485673},{"$f":"-(Alfa1*COS(miia*C879)-Alfa2*COS(miib*C879))","v":8.8454186800843004},{"$f":"(miia*Alfa1*COS(miia*C879)-miib*Alfa2*COS(miib*C879))","v":-240.0566061427071},{"$f":"miia*Alfa1*SIN(miia*C879)-miib*Alfa2*SIN(miib*C879)","v":399.4339621191628},null,null,null,null,null,null,null,null,null,0,858,8.5799999999998615,-39.377387845763515,-36.944890531202589]
[0,859,8.5899999999998613,{"$f":"(Alfa1*SIN(miia*C880)-Alfa2*SIN(miib*C880))","v":19.516457575890467},{"$f":"-(Alfa1*COS(miia*C880)-Alfa2*COS(miib*C880))","v":12.873530243866924},{"$f":"(miia*Alfa1*COS(miia*C880)-miib*Alfa2*COS(miib*C880))","v":-230.25839821078131},{"$f":"miia*Alfa1*SIN(miia*C880)-miib*Alfa2*SIN(miib*C880)","v":405.77096395730536},null,null,null,null,null,null,null,null,null,0,859,8.5899999999998613,-39.377387845763515,-36.944890531202589]
[0,860,8.5999999999998611,{"$f":"(Alfa1*SIN(miia*C881)-Alfa2*SIN(miib*C881))","v":17.2687908926037},{"$f":"-(Alfa1*COS(miia*C881)-Alfa2*COS(miib*C881))","v":16.952323688744848},{"$f":"(miia*Alfa1*COS(miia*C881)-miib*Alfa2*COS(miib*C881))","v":-219.05607417658399},{"$f":"miia*Alfa1*SIN(miia*C881)-miib*Alfa2*SIN(miib*C881)","v":409.55441091425234},null,null,null,null,null,null,null,null,null,0,860,8.5999999999998611,-39.377387845763515,-36.944890531202589]

{"sheet":"TIME EVOLUTION","index":1,"n_rows":910,"n_cols":26,"rows_kept":910,"cut":false,"hidden":false,"merged":[]}
[]
[]
[]
[]
[]
[]
[]
[]
[]
[]
[]
[]
[]
[]
[]
[]
[]
[]
[]
[]
[]
[]
[]
[]
[]
[]
[]
[]
[]
[]
[]
[]
[]
[]
[]
[]
[]
[]
[]
[]
[]
[]
[]
[]
[]
[]
[]
[]
[]
[0,0,{"$f":"IF(B50<CALCULATIONS!$M$9,Alfa1*SIN(miia*B50)-Alfa2*SIN(miib*B50),CURRENTX)","v":0},{"$f":"IF(B50<CALCULATIONS!$M$9,-(Alfa1*COS(miia*B50)-Alfa2*COS(miib*B50)),CURRENTY)","v":70},null,null,{"$f":"0","v":0},0,{"$f":"Aktina*SIN(epsilon*H50)*COS(D*H50)","v":0},{"$f":"Aktina*COS(epsilon*H50)*COS(D*H50)","v":70}]
[{"$f":"A50+1","v":1},{"$f":"B50+dt","v":0.01},{"$f":"IF(B51<CALCULATIONS!$M$9,Alfa1*SIN(miia*B51)-Alfa2*SIN(miib*B51),CURRENTX)","v":-2.9148442056654567E-3},{"$f":"IF(B51<CALCULATIONS!$M$9,-(Alfa1*COS(miia*B51)-Alfa2*COS(miib*B51)),CURRENTY)","v":69.825109341585687},null,null,{"$f":"G50+1","v":1},{"$f":"H50+dt","v":0.01},{"$f":"IF(H51<CALCULATIONS!$M$9,Aktina*SIN(epsilon*H51)*COS(D*H51),Aktina*SIN(epsilon*$M$9)*COS(D*$M$9))","v":3.4592569951881575},{"$f":"IF(H51<CALCULATIONS!$M$9,Aktina*COS(epsilon*H51)*COS(D*H51),Aktina*COS(epsilon*$M$9)*COS(D*$M$9))","v":69.127476009174359},null,null,null,null,{"$f":"XRONOS","v":5.39},"Fcurrent x","Fcurrenty","Fcurrentvx","Fcurrent vy",null,null,null,"VERTICAL","COSTH","SINTH","AKATHETOS"]
[{"$f":"A51+1","v":2},0.02,{"$f":"IF(B52<CALCULATIONS!$M$9,Alfa1*SIN(miia*B52)-Alfa2*SIN(miib*B52),CURRENTX)","v":-2.3275058300551876E-2},{"$f":"IF(B52<CALCULATIONS!$M$9,-(Alfa1*COS(miia*B52)-Alfa2*COS(miib*B52)),CURRENTY)","v":69.301747862603506},null,null,{"$f":"G51+1","v":2},0.02,{"$f":"IF(H52<CALCULATIONS!$M$9,Aktina*SIN(epsilon*H52)*COS(D*H52),Aktina*SIN(epsilon*$M$9)*COS(D*$M$9))","v":6.6762154029756244},{"$f":"IF(H52<CALCULATIONS!$M$9,Aktina*COS(epsilon*H52)*COS(D*H52),Aktina*COS(epsilon*$M$9)*COS(D*$M$9))","v":66.539465014544447},null,null,null,null,null,{"$f":"Aktina*SIN(epsilon*O51)*COS(D*O51)","v":45.74311691021822},{"$f":"Aktina*COS(epsilon*O51)*COS(D*O51)","v":-11.507920874332966},{"$f":"Aktina*(epsilon*COS(epsilon*XRONOS)*COS(D*XRONOS)-SIN(epsilon*XRONOS)*D*SIN(D*XRONOS))","v":694.84176834671644},{"$f":"Aktina*(-epsilon*SIN(epsilon*O51)*COS(D*XRONOS)-D*COS(epsilon*XRONOS)*SIN(D*XRONOS))","v":-417.99751130652447},null,null,"N",{"$f":"-FVX/FVY","v":1.6623107782983366},{"$f":"1/SQRT(1+W52^2)","v":0.51548602957529344},{"$f":"W52*X52","v":0.85689798302522535},{"$f":"AXF_2*X52+AYF_2*Y52","v":-10166.627402499918}]
[3,0.03,{"$f":"IF(B53<CALCULATIONS!$M$9,Alfa1*SIN(miia*B53)-Alfa2*SIN(miib*B53),CURRENTX)","v":-7.8308026670040221E-2},{"$f":"IF(B53<CALCULATIONS!$M$9,-(Alfa1*COS(miia*B53)-Alfa2*COS(miib*B53)),CURRENTY)","v":68.433835049946111},null,null,3,0.03,{"$f":"IF(H53<CALCULATIONS!$M$9,Aktina*SIN(epsilon*H53)*COS(D*H53),Aktina*SIN(epsilon*XRONOS)*COS(D*XRONOS))","v":9.4192793356793523},{"$f":"IF(H53<CALCULATIONS!$M$9,Aktina*COS(epsilon*H53)*COS(D*H53),Aktina*COS(epsilon*XRONOS)*COS(D*XRONOS))","v":62.323523641234942},null,null,null,null,null,{"$f":"Fcurrent_x","v":-39.37738784576365},{"$f":"Fcurrenty","v":-36.944890531202454},null,null,null,null,{"$f":"(FVX^2+FVY^2)/AKATHETOS","v":-64.205375310119365},"RADIUS OF CURVATURE"]
[4,0.04,{"$f":"IF(B54<CALCULATIONS!$M$9,Alfa1*SIN(miia*B54)-Alfa2*SIN(miib*B54),CURRENTX)","v":-0.18480744990101172},{"$f":"IF(B54<CALCULATIONS!$M$9,-(Alfa1*COS(miia*B54)-Alfa2*COS(miib*B54)),CURRENTY)","v":67.227863492658599},null,null,4,0.04,{"$f":"IF(H54<CALCULATIONS!$M$9,Aktina*SIN(epsilon*H54)*COS(D*H54),Aktina*SIN(epsilon*XRONOS)*COS(D*XRONOS))","v":11.47782120068053},{"$f":"IF(H54<CALCULATIONS!$M$9,Aktina*COS(epsilon*H54)*COS(D*H54),Aktina*COS(epsilon*XRONOS)*COS(D*XRONOS))","v":56.621869617251775},null,null,null,null,null,null,null,null,null,null,null,"FCX",{"$f":"FCUR_X+FCURV*X52","v":12.646142914213215}]
[5,0.05,{"$f":"IF(B55<CALCULATIONS!$M$9,Alfa1*SIN(miia*B55)-Alfa2*SIN(miib*B55),CURRENTX)","v":-0.35892219777966616},{"$f":"IF(B55<CALCULATIONS!$M$9,-(Alfa1*COS(miia*B55)-Alfa2*COS(miib*B55)),CURRENTY)","v":65.692839457272115},null,null,5,0.05,{"$f":"IF(H55<CALCULATIONS!$M$9,Aktina*SIN(epsilon*H55)*COS(D*H55),Aktina*SIN(epsilon*XRONOS)*COS(D*XRONOS))","v":12.671590617129272},{"$f":"IF(H55<CALCULATIONS!$M$9,Aktina*COS(epsilon*H55)*COS(D*H55),Aktina*COS(epsilon*XRONOS)*COS(D*XRONOS))","v":49.625970371547936},null,null,null,null,null,null,null,null,null,null,null,"FCY",{"$f":"FCUR_Y+FCURV*Y52","v":-66.525377476951846}]
[6,6.0000000000000005E-2,{"$f":"IF(B56<CALCULATIONS!$M$9,Alfa1*SIN(miia*B56)-Alfa2*SIN(miib*B56),CURRENTX)","v":-0.61595193164501971},{"$f":"IF(B56<CALCULATIONS!$M$9,-(Alfa1*COS(miia*B56)-Alfa2*COS(miib*B56)),CURRENTY)","v":63.840200507087438},null,null,6,6.0000000000000005E-2,{"$f":"IF(H56<CALCULATIONS!$M$9,Aktina*SIN(epsilon*H56)*COS(D*H56),Aktina*SIN(epsilon*XRONOS)*COS(D*XRONOS))","v":12.858881440026686},{"$f":"IF(H56<CALCULATIONS!$M$9,Aktina*COS(epsilon*H56)*COS(D*H56),Aktina*COS(epsilon*XRONOS)*COS(D*XRONOS))","v":41.569267928522315},null,null,null,null,"AXF_2",{"$f":"Aktina*(-epsilon^2*SIN(epsilon*XRONOS)*COS(D*XRONOS)-2*D*epsilon*COS(epsilon*XRONOS)*SIN(D*XRONOS)-D^2*SIN(epsilon*XRONOS)*COS(D*XRONOS))","v":-11041.442649597977}]
[7,7.0000000000000007E-2,{"$f":"IF(B57<CALCULATIONS!$M$9,Alfa1*SIN(miia*B57)-Alfa2*SIN(miib*B57),CURRENTX)","v":-0.97015164570827217},{"$f":"IF(B57<CALCULATIONS!$M$9,-(Alfa1*COS(miia*B57)-Alfa2*COS(miib*B57)),CURRENTY)","v":61.683710969515737},null,null,7,7.0000000000000007E-2,{"$f":"IF(H57<CALCULATIONS!$M$9,Aktina*SIN(epsilon*H57)*COS(D*H57),Aktina*SIN(epsilon*XRONOS)*COS(D*XRONOS))","v":11.94312149627692},{"$f":"IF(H57<CALCULATIONS!$M$9,Aktina*COS(epsilon*H57)*COS(D*H57),Aktina*COS(epsilon*XRONOS)*COS(D*XRONOS))","v":32.718326556465527},null,null,null,null,"AYF_2",{"$f":"Aktina*(-epsilon^2*COS(epsilon*XRONOS)*COS(D*XRONOS)+2*epsilon*D*SIN(epsilon*XRONOS)*SIN(D*XRONOS)-D^2*COS(epsilon*XRONOS)*COS(D*XRONOS))","v":-5222.2295523172179},null,null,null,null,null,null,null,"CURVATURE "]
[8,0.08,{"$f":"IF(B58<CALCULATIONS!$M$9,Alfa1*SIN(miia*B58)-Alfa2*SIN(miib*B58),CURRENTX)","v":-1.4345471867481585},{"$f":"IF(B58<CALCULATIONS!$M$9,-(Alfa1*COS(miia*B58)-Alfa2*COS(miib*B58)),CURRENTY)","v":59.239336271568497},null,null,8,0.08,{"$f":"IF(H58<CALCULATIONS!$M$9,Aktina*SIN(epsilon*H58)*COS(D*H58),Aktina*SIN(epsilon*XRONOS)*COS(D*XRONOS))","v":9.8776129249693856},{"$f":"IF(H58<CALCULATIONS!$M$9,Aktina*COS(epsilon*H58)*COS(D*H58),Aktina*COS(epsilon*XRONOS)*COS(D*XRONOS))","v":23.36275154660569},null,null,null,null,null,null,null,null,null,null,null,null,0,{"$f":"FCX+FCURV*COS(W58)","v":-51.55923239590615},{"$f":"FCY+FCURV*SIN(W58)","v":-66.525377476951846}]
[9,0.09,{"$f":"IF(B59<CALCULATIONS!$M$9,Alfa1*SIN(miia*B59)-Alfa2*SIN(miib*B59),CURRENTX)","v":-2.0207637005494625},{"$f":"IF(B59<CALCULATIONS!$M$9,-(Alfa1*COS(miia*B59)-Alfa2*COS(miib*B59)),CURRENTY)","v":56.525097369440424},null,null,9,0.09,{"$f":"IF(H59<CALCULATIONS!$M$9,Aktina*SIN(epsilon*H59)*COS(D*H59),Aktina*SIN(epsilon*XRONOS)*COS(D*XRONOS))","v":6.6682252437749163},{"$f":"IF(H59<CALCULATIONS!$M$9,Aktina*COS(epsilon*H59)*COS(D*H59),Aktina*COS(epsilon*XRONOS)*COS(D*XRONOS))","v":13.804275575215216},null,null,null,null,null,null,null,null,null,null,null,null,{"$f":"W58+2*PI()/100","v":6.2831853071795868E-2},-51.432537754054536,-70.556866349248793]
[10,9.9999999999999992E-2,{"$f":"IF(B60<CALCULATIONS!$M$9,Alfa1*SIN(miia*B60)-Alfa2*SIN(miib*B60),CURRENTX)","v":-2.7388688226785547},{"$f":"IF(B60<CALCULATIONS!$M$9,-(Alfa1*COS(miia*B60)-Alfa2*COS(miib*B60)),CURRENTY)","v":53.560906691807318},null,null,10,9.9999999999999992E-2,{"$f":"IF(H60<CALCULATIONS!$M$9,Aktina*SIN(epsilon*H60)*COS(D*H60),Aktina*SIN(epsilon*XRONOS)*COS(D*XRONOS))","v":2.3739254706224888},{"$f":"IF(H60<CALCULATIONS!$M$9,Aktina*COS(epsilon*H60)*COS(D*H60),Aktina*COS(epsilon*XRONOS)*COS(D*XRONOS))","v":4.3454414262349204},null,null,null,null,null,null,{"$f":"FVX/10","v":69.484176834671644},{"$f":"FVY/10","v":-41.799751130652446},{"$f":"AXF_2/100","v":-110.41442649597977},{"$f":"AYF_2/100","v":-52.222295523172178},null,null,{"$f":"W59+2*PI()/100","v":0.12566370614359174},-51.052953834369809,-74.572444776778852]
[11,0.10999999999999999,{"$f":"IF(B61<CALCULATIONS!$M$9,Alfa1*SIN(miia*B61)-Alfa2*SIN(miib*B61),CURRENTX)","v":-3.5972322819972682},{"$f":"IF(B61<CALCULATIONS!$M$9,-(Alfa1*COS(miia*B61)-Alfa2*COS(miib*B61)),CURRENTY)","v":50.368387196040402},null,null,11,0.10999999999999999,{"$f":"IF(H61<CALCULATIONS!$M$9,Aktina*SIN(epsilon*H61)*COS(D*H61),Aktina*SIN(epsilon*XRONOS)*COS(D*XRONOS))","v":-2.894883468464577},{"$f":"IF(H61<CALCULATIONS!$M$9,Aktina*COS(epsilon*H61)*COS(D*H61),Aktina*COS(epsilon*XRONOS)*COS(D*XRONOS))","v":-4.7216748540418862},null,null,null,null,null,null,null,null,null,null,null,null,0.1884955592153876,-50.421978681167566,-78.556265106031844]
[12,0.11999999999999998,{"$f":"IF(B62<CALCULATIONS!$M$9,Alfa1*SIN(miia*B62)-Alfa2*SIN(miib*B62),CURRENTX)","v":-4.6024034191996996},{"$f":"IF(B62<CALCULATIONS!$M$9,-(Alfa1*COS(miia*B62)-Alfa2*COS(miib*B62)),CURRENTY)","v":46.970676300240704},null,null,12,0.11999999999999998,{"$f":"IF(H62<CALCULATIONS!$M$9,Aktina*SIN(epsilon*H62)*COS(D*H62),Aktina*SIN(epsilon*XRONOS)*COS(D*XRONOS))","v":-8.9801566895626319},{"$f":"IF(H62<CALCULATIONS!$M$9,Aktina*COS(epsilon*H62)*COS(D*H62),Aktina*COS(epsilon*XRONOS)*COS(D*XRONOS))","v":-13.126258637260008},null,null,null,null,null,null,{"$f":"FCUR_X","v":45.74311691021822},{"$f":"FCUR_Y","v":-11.507920874332966},{"$f":"FCUR_X","v":45.74311691021822},{"$f":"FCUR_Y","v":-11.507920874332966},null,null,0.25132741228718347,-49.542102465112364,-82.492605018202582]
[13,0.12999999999999998,{"$f":"IF(B63<CALCULATIONS!$M$9,Alfa1*SIN(miia*B63)-Alfa2*SIN(miib*B63),CURRENTX)","v":-5.7590079412806716},{"$f":"IF(B63<CALCULATIONS!$M$9,-(Alfa1*COS(miia*B63)-Alfa2*COS(miib*B63)),CURRENTY)","v":43.392216600196321},null,null,13,0.12999999999999998,{"$f":"IF(H63<CALCULATIONS!$M$9,Aktina*SIN(epsilon*H63)*COS(D*H63),Aktina*SIN(epsilon*XRONOS)*COS(D*XRONOS))","v":-15.68198847585049},{"$f":"IF(H63<CALCULATIONS!$M$9,Aktina*COS(epsilon*H63)*COS(D*H63),Aktina*COS(epsilon*XRONOS)*COS(D*XRONOS))","v":-20.628647366052579},null,null,null,null,null,null,{"$f":"Q62+Q60","v":115.22729374488986},{"$f":"R62+R60","v":-53.307672004985413},{"$f":"S62+S60","v":-64.671309585761549},{"$f":"T62+T60","v":-63.730216397505146},null,null,0.31415926535897931,-48.41679765565177,-86.36592957800039]
[14,0.13999999999999999,{"$f":"IF(B64<CALCULATIONS!$M$9,Alfa1*SIN(miia*B64)-Alfa2*SIN(miib*B64),CURRENTX)","v":-7.0696650380281767},{"$f":"IF(B64<CALCULATIONS!$M$9,-(Alfa1*COS(miia*B64)-Alfa2*COS(miib*B64)),CURRENTY)","v":39.658535407615084},null,null,14,0.13999999999999999,{"$f":"IF(H64<CALCULATIONS!$M$9,Aktina*SIN(epsilon*H64)*COS(D*H64),Aktina*SIN(epsilon*XRONOS)*COS(D*XRONOS))","v":-22.766155294139416},{"$f":"IF(H64<CALCULATIONS!$M$9,Aktina*COS(epsilon*H64)*COS(D*H64),Aktina*COS(epsilon*XRONOS)*COS(D*XRONOS))","v":-27.028931921894589},null,null,null,null,null,null,{"$f":"-1/20*R60+18/20*Q60+Q62","v":110.36886361795533},{"$f":"1/20*Q60+18/20*R60+R62","v":-45.653488050186581},{"$f":"-1/20*T60+18/20*S60+S62","v":-51.018752160004965},{"$f":"1/20*S60+18/20*T60+T62","v":-64.028708169986913},null,null,0.37699111843077515,-47.050505316765872,-90.160952542941402]
[15,0.15,{"$f":"IF(B65<CALCULATIONS!$M$9,Alfa1*SIN(miia*B65)-Alfa2*SIN(miib*B65),CURRENTX)","v":-8.5349257803276544},{"$f":"IF(B65<CALCULATIONS!$M$9,-(Alfa1*COS(miia*B65)-Alfa2*COS(miib*B65)),CURRENTY)","v":35.796015253024713},null,null,15,0.15,{"$f":"IF(H65<CALCULATIONS!$M$9,Aktina*SIN(epsilon*H65)*COS(D*H65),Aktina*SIN(epsilon*XRONOS)*COS(D*XRONOS))","v":-29.973124249046553},{"$f":"IF(H65<CALCULATIONS!$M$9,Aktina*COS(epsilon*H65)*COS(D*H65),Aktina*COS(epsilon*XRONOS)*COS(D*XRONOS))","v":-32.173935322645995},null,null,null,null,null,null,{"$f":"1/20*R60+18/20*Q60+Q62","v":106.18888850489009},{"$f":"-1/20*Q60+18/20*R60+R62","v":-52.601905733653751},{"$f":"1/20*T60+18/20*S60+S62","v":-56.240981712322196},{"$f":"-1/20*S60+18/20*T60+T62","v":-52.987265520388938},null,null,0.43982297150257099,-45.44861758011664,-93.862696691164075]
[16,0.16,{"$f":"IF(B66<CALCULATIONS!$M$9,Alfa1*SIN(miia*B66)-Alfa2*SIN(miib*B66),CURRENTX)","v":-10.153233504342609},{"$f":"IF(B66<CALCULATIONS!$M$9,-(Alfa1*COS(miia*B66)-Alfa2*COS(miib*B66)),CURRENTY)","v":31.83165758250431},null,null,16,0.16,{"$f":"IF(H66<CALCULATIONS!$M$9,Aktina*SIN(epsilon*H66)*COS(D*H66),Aktina*SIN(epsilon*XRONOS)*COS(D*XRONOS))","v":-37.028171126417973},{"$f":"IF(H66<CALCULATIONS!$M$9,Aktina*COS(epsilon*H66)*COS(D*H66),Aktina*COS(epsilon*XRONOS)*COS(D*XRONOS))","v":-35.962300433361456},null,null,null,null,null,null,{"$f":"Q63","v":115.22729374488986},{"$f":"R63","v":-53.307672004985413},{"$f":"S63","v":-64.671309585761549},{"$f":"T63","v":-63.730216397505146},null,null,0.50265482457436683,-43.617456364767733,-97.456552929681408]
[17,0.17,{"$f":"IF(B67<CALCULATIONS!$M$9,Alfa1*SIN(miia*B67)-Alfa2*SIN(miib*B67),CURRENTX)","v":-11.920906662656058},{"$f":"IF(B67<CALCULATIONS!$M$9,-(Alfa1*COS(miia*B67)-Alfa2*COS(miib*B67)),CURRENTY)","v":27.79284194107025},null,null,17,0.17,{"$f":"IF(H67<CALCULATIONS!$M$9,Aktina*SIN(epsilon*H67)*COS(D*H67),Aktina*SIN(epsilon*XRONOS)*COS(D*XRONOS))","v":-43.652206936775507},{"$f":"IF(H67<CALCULATIONS!$M$9,Aktina*COS(epsilon*H67)*COS(D*H67),Aktina*COS(epsilon*XRONOS)*COS(D*XRONOS))","v":-38.347494040624504},null,null,null,null,null,null,null,null,null,null,null,null,0.56548667764616267,-41.564248427458175,-100.9283379497967]
[18,0.18000000000000002,{"$f":"IF(B68<CALCULATIONS!$M$9,Alfa1*SIN(miia*B68)-Alfa2*SIN(miib*B68),CURRENTX)","v":-13.832144395458009},{"$f":"IF(B68<CALCULATIONS!$M$9,-(Alfa1*COS(miia*B68)-Alfa2*COS(miib*B68)),CURRENTY)","v":23.707082976458967},null,null,18,0.18000000000000002,{"$f":"IF(H68<CALCULATIONS!$M$9,Aktina*SIN(epsilon*H68)*COS(D*H68),Aktina*SIN(epsilon*XRONOS)*COS(D*XRONOS))","v":-49.572882596056672},{"$f":"IF(H68<CALCULATIONS!$M$9,Aktina*COS(epsilon*H68)*COS(D*H68),Aktina*COS(epsilon*XRONOS)*COS(D*XRONOS))","v":-39.338617885953191},null,null,"d=SQRT(epsilon^2-4*lamda)",null,null,null,null,null,null,null,null,null,0.62831853071795851,-39.297096841895012,-104.26435020214328]
[19,0.19000000000000003,{"$f":"IF(B69<CALCULATIONS!$M$9,Alfa1*SIN(miia*B69)-Alfa2*SIN(miib*B69),CURRENTX)","v":-15.879054844131108},{"$f":"IF(B69<CALCULATIONS!$M$9,-(Alfa1*COS(miia*B69)-Alfa2*COS(miib*B69)),CURRENTY)","v":19.601787614832801},null,null,19,0.19000000000000003,{"$f":"IF(H69<CALCULATIONS!$M$9,Aktina*SIN(epsilon*H69)*COS(D*H69),Aktina*SIN(epsilon*XRONOS)*COS(D*XRONOS))","v":-54.535529252054687},{"$f":"IF(H69<CALCULATIONS!$M$9,Aktina*COS(epsilon*H69)*COS(D*H69),Aktina*COS(epsilon*XRONOS)*COS(D*XRONOS))","v":-38.999004757227205},null,null,null,null,null,null,null,null,null,null,null,null,0.69115038378975435,-36.82494901962346,-107.45142397044015]
[20,0.20000000000000004,{"$f":"IF(B70<CALCULATIONS!$M$9,Alfa1*SIN(miia*B70)-Alfa2*SIN(miib*B70),CURRENTX)","v":-18.051705998435942},{"$f":"IF(B70<CALCULATIONS!$M$9,-(Alfa1*COS(miia*B70)-Alfa2*COS(miib*B70)),CURRENTY)","v":15.504014754413181},null,null,20,0.20000000000000004,{"$f":"IF(H70<CALCULATIONS!$M$9,Aktina*SIN(epsilon*H70)*COS(D*H70),Aktina*SIN(epsilon*XRONOS)*COS(D*XRONOS))","v":-58.313497274676358},{"$f":"IF(H70<CALCULATIONS!$M$9,Aktina*COS(epsilon*H70)*COS(D*H70),Aktina*COS(epsilon*XRONOS)*COS(D*XRONOS))","v":-37.442666009376389},null,null,null,null,null,null,null,null,null,null,null,null,0.75398223686155019,-34.157561398681089,-110.47698133055933]
[21,0.21000000000000005,{"$f":"IF(B71<CALCULATIONS!$M$9,Alfa1*SIN(miia*B71)-Alfa2*SIN(miib*B71),CURRENTX)","v":-20.338198639247082},{"$f":"IF(B71<CALCULATIONS!$M$9,-(Alfa1*COS(miia*B71)-Alfa2*COS(miib*B71)),CURRENTY)","v":11.440239794283896},null,null,21,0.21000000000000005,{"$f":"IF(H71<CALCULATIONS!$M$9,Aktina*SIN(epsilon*H71)*COS(D*H71),Aktina*SIN(epsilon*XRONOS)*COS(D*XRONOS))","v":-60.717479867186178},{"$f":"IF(H71<CALCULATIONS!$M$9,Aktina*COS(epsilon*H71)*COS(D*H71),Aktina*COS(epsilon*XRONOS)*COS(D*XRONOS))","v":-34.828742407919478},null,null,null,null,null,null,null,null,null,null,null,null,0.81681408993334603,-31.305460939394287,-113.32908178984613]
[22,0.22000000000000006,{"$f":"IF(B72<CALCULATIONS!$M$9,Alfa1*SIN(miia*B72)-Alfa2*SIN(miib*B72),CURRENTX)","v":-22.724760713743226},{"$f":"IF(B72<CALCULATIONS!$M$9,-(Alfa1*COS(miia*B72)-Alfa2*COS(miib*B72)),CURRENTY)","v":7.4361262639021835},null,null,22,0.22000000000000006,{"$f":"IF(H72<CALCULATIONS!$M$9,Aktina*SIN(epsilon*H72)*COS(D*H72),Aktina*SIN(epsilon*XRONOS)*COS(D*XRONOS))","v":-61.60344671981872},{"$f":"IF(H72<CALCULATIONS!$M$9,Aktina*COS(epsilon*H72)*COS(D*H72),Aktina*COS(epsilon*XRONOS)*COS(D*XRONOS))","v":-31.354189553181765},null,null,null,null,null,null,null,null,null,null,null,null,0.87964594300514187,-28.279903579275093,-115.99646941078851]
[23,0.23000000000000007,{"$f":"IF(B73<CALCULATIONS!$M$9,Alfa1*SIN(miia*B73)-Alfa2*SIN(miib*B73),CURRENTX)","v":-25.19586226136753},{"$f":"IF(B73<CALCULATIONS!$M$9,-(Alfa1*COS(miia*B73)-Alfa2*COS(miib*B73)),CURRENTY)","v":3.5163067447314127},null,null,23,0.23000000000000007,{"$f":"IF(H73<CALCULATIONS!$M$9,Aktina*SIN(epsilon*H73)*COS(D*H73),Aktina*SIN(epsilon*XRONOS)*COS(D*XRONOS))","v":-60.878867553356443},{"$f":"IF(H73<CALCULATIONS!$M$9,Aktina*COS(epsilon*H73)*COS(D*H73),Aktina*COS(epsilon*XRONOS)*COS(D*XRONOS))","v":-27.244999187520719},null,null,null,null,null,null,null,null,null,null,null,null,0.94247779607693771,-25.092829810978238,-118.46861723306006]
[24,0.24000000000000007,{"$f":"IF(B74<CALCULATIONS!$M$9,Alfa1*SIN(miia*B74)-Alfa2*SIN(miib*B74),CURRENTX)","v":-27.734349798943732},{"$f":"IF(B74<CALCULATIONS!$M$9,-(Alfa1*COS(miia*B74)-Alfa2*COS(miib*B74)),CURRENTY)","v":-0.2958248203843219},null,null,24,0.24000000000000007,{"$f":"IF(H74<CALCULATIONS!$M$9,Aktina*SIN(epsilon*H74)*COS(D*H74),Aktina*SIN(epsilon*XRONOS)*COS(D*XRONOS))","v":-58.506972628544681},{"$f":"IF(H74<CALCULATIONS!$M$9,Aktina*COS(epsilon*H74)*COS(D*H74),Aktina*COS(epsilon*XRONOS)*COS(D*XRONOS))","v":-22.746315623562928},null,null,null,null,null,null,null,null,null,null,null,null,1.0053096491487337,-21.756817558631653,-120.73576881862323]
[25,0.25000000000000006,{"$f":"IF(B75<CALCULATIONS!$M$9,Alfa1*SIN(miia*B75)-Alfa2*SIN(miib*B75),CURRENTX)","v":-30.32159887416838},{"$f":"IF(B75<CALCULATIONS!$M$9,-(Alfa1*COS(miia*B75)-Alfa2*COS(miib*B75)),CURRENTY)","v":-3.9783074509825997},null,null,25,0.25000000000000006,{"$f":"IF(H75<CALCULATIONS!$M$9,Aktina*SIN(epsilon*H75)*COS(D*H75),Aktina*SIN(epsilon*XRONOS)*COS(D*XRONOS))","v":-54.508874656848292},{"$f":"IF(H75<CALCULATIONS!$M$9,Aktina*COS(epsilon*H75)*COS(D*H75),Aktina*COS(epsilon*XRONOS)*COS(D*XRONOS))","v":-18.111850052929736},null,null,null,null,null,null,null,null,null,null,null,null,1.0681415022205296,-18.285032538516351,-122.78897675593279]
[26,0.26000000000000006,{"$f":"IF(B76<CALCULATIONS!$M$9,Alfa1*SIN(miia*B76)-Alfa2*SIN(miib*B76),CURRENTX)","v":-32.937683310301523},{"$f":"IF(B76<CALCULATIONS!$M$9,-(Alfa1*COS(miia*B76)-Alfa2*COS(miib*B76)),CURRENTY)","v":-7.5107922427947109},null,null,26,0.26000000000000006,{"$f":"IF(H76<CALCULATIONS!$M$9,Aktina*SIN(epsilon*H76)*COS(D*H76),Aktina*SIN(epsilon*XRONOS)*COS(D*XRONOS))","v":-48.963460963956585},{"$f":"IF(H76<CALCULATIONS!$M$9,Aktina*COS(epsilon*H76)*COS(D*H76),Aktina*COS(epsilon*XRONOS)*COS(D*XRONOS))","v":-13.593022872399935},null,null,null,null,null,null,null,null,null,null,null,null,1.1309733552923256,-14.691176299999015,-124.62013797128171]
[27,0.27000000000000007,{"$f":"IF(B77<CALCULATIONS!$M$9,Alfa1*SIN(miia*B77)-Alfa2*SIN(miib*B77),CURRENTX)","v":-35.561559493121401},{"$f":"IF(B77<CALCULATIONS!$M$9,-(Alfa1*COS(miia*B77)-Alfa2*COS(miib*B77)),CURRENTY)","v":-10.874704582722842},null,null,27,0.27000000000000007,{"$f":"IF(H77<CALCULATIONS!$M$9,Aktina*SIN(epsilon*H77)*COS(D*H77),Aktina*SIN(epsilon*XRONOS)*COS(D*XRONOS))","v":-42.005052872643567},{"$f":"IF(H77<CALCULATIONS!$M$9,Aktina*COS(epsilon*H77)*COS(D*H77),Aktina*COS(epsilon*XRONOS)*COS(D*XRONOS))","v":-9.4282743126049162},null,null,null,null,null,null,null,null,null,null,null,null,1.1938052083641215,-10.989432151776338,-126.22202570793092]
[28,0.28000000000000008,{"$f":"IF(B78<CALCULATIONS!$M$9,Alfa1*SIN(miia*B78)-Alfa2*SIN(miib*B78),CURRENTX)","v":-38.171263895823714},{"$f":"IF(B78<CALCULATIONS!$M$9,-(Alfa1*COS(miia*B78)-Alfa2*COS(miib*B78)),CURRENTY)","v":-14.053387946924135},null,null,28,0.28000000000000008,{"$f":"IF(H78<CALCULATIONS!$M$9,Aktina*SIN(epsilon*H78)*COS(D*H78),Aktina*SIN(epsilon*XRONOS)*COS(D*XRONOS))","v":-33.818917580987858},{"$f":"IF(H78<CALCULATIONS!$M$9,Aktina*COS(epsilon*H78)*COS(D*H78),Aktina*COS(epsilon*XRONOS)*COS(D*XRONOS))","v":-5.8329761755442702},null,null,null,null,null,null,null,null,null,null,null,null,1.2566370614359175,-7.194409186835319,-127.58831804681684]
[29,0.29000000000000009,{"$f":"IF(B79<CALCULATIONS!$M$9,Alfa1*SIN(miia*B79)-Alfa2*SIN(miib*B79),CURRENTX)","v":-40.744121900094555},{"$f":"IF(B79<CALCULATIONS!$M$9,-(Alfa1*COS(miia*B79)-Alfa2*COS(miib*B79)),CURRENTY)","v":-17.032227949680028},null,null,29,0.29000000000000009,{"$f":"IF(H79<CALCULATIONS!$M$9,Aktina*SIN(epsilon*H79)*COS(D*H79),Aktina*SIN(epsilon*XRONOS)*COS(D*XRONOS))","v":-24.634802801970793},{"$f":"IF(H79<CALCULATIONS!$M$9,Aktina*COS(epsilon*H79)*COS(D*H79),Aktina*COS(epsilon*XRONOS)*COS(D*XRONOS))","v":-2.9903526872894819},null,null,null,null,null,null,null,null,null,null,null,null,1.3194689145077134,-3.321084627037509,-128.71362285627742]
[30,0.3000000000000001,{"$f":"IF(B80<CALCULATIONS!$M$9,Alfa1*SIN(miia*B80)-Alfa2*SIN(miib*B80),CURRENTX)","v":-43.256965853458993},{"$f":"IF(B80<CALCULATIONS!$M$9,-(Alfa1*COS(miia*B80)-Alfa2*COS(miib*B80)),CURRENTY)","v":-19.798755509517619},null,null,30,0.3000000000000001,{"$f":"IF(H80<CALCULATIONS!$M$9,Aktina*SIN(epsilon*H80)*COS(D*H80),Aktina*SIN(epsilon*XRONOS)*COS(D*XRONOS))","v":-14.718742719057637},{"$f":"IF(H80<CALCULATIONS!$M$9,Aktina*COS(epsilon*H80)*COS(D*H80),Aktina*COS(epsilon*XRONOS)*COS(D*XRONOS))","v":-1.0437773482527652},null,null,null,null,null,null,null,null,null,null,null,null,1.3823007675795094,0.61525528513324268,-129.59349907233263]
[31,0.31000000000000011,{"$f":"IF(B81<CALCULATIONS!$M$9,Alfa1*SIN(miia*B81)-Alfa2*SIN(miib*B81),CURRENTX)","v":-45.686360205393235},{"$f":"IF(B81<CALCULATIONS!$M$9,-(Alfa1*COS(miia*B81)-Alfa2*COS(miib*B81)),CURRENTY)","v":-22.342728208898894},null,null,31,0.31000000000000011,{"$f":"IF(H81<CALCULATIONS!$M$9,Aktina*SIN(epsilon*H81)*COS(D*H81),Aktina*SIN(epsilon*XRONOS)*COS(D*XRONOS))","v":-4.3634522837774643},{"$f":"IF(H81<CALCULATIONS!$M$9,Aktina*COS(epsilon*H81)*COS(D*H81),Aktina*COS(epsilon*XRONOS)*COS(D*XRONOS))","v":-9.0756863752165684E-2},null,null,null,null,null,null,null,null,null,null,null,null,1.4451326206513053,4.5990756143862388,-130.22447422553486]
[32,0.32000000000000012,{"$f":"IF(B82<CALCULATIONS!$M$9,Alfa1*SIN(miia*B82)-Alfa2*SIN(miib*B82),CURRENTX)","v":-48.008831488580462},{"$f":"IF(B82<CALCULATIONS!$M$9,-(Alfa1*COS(miia*B82)-Alfa2*COS(miib*B82)),CURRENTY)","v":-24.656189142604404},null,null,32,0.32000000000000012,{"$f":"IF(H82<CALCULATIONS!$M$9,Aktina*SIN(epsilon*H82)*COS(D*H82),Aktina*SIN(epsilon*XRONOS)*COS(D*XRONOS))","v":6.1223171897326729},{"$f":"IF(H82<CALCULATIONS!$M$9,Aktina*COS(epsilon*H82)*COS(D*H82),Aktina*COS(epsilon*XRONOS)*COS(D*XRONOS))","v":-0.17884499627962144},null,null,null,null,null,null,null,null,null,null,null,null,1.5079644737231013,8.6146540419163031,-130.6040581452196]
[33,0.33000000000000013,{"$f":"IF(B83<CALCULATIONS!$M$9,Alfa1*SIN(miia*B83)-Alfa2*SIN(miib*B83),CURRENTX)","v":-50.201100857858698},{"$f":"IF(B83<CALCULATIONS!$M$9,-(Alfa1*COS(miia*B83)-Alfa2*COS(miib*B83)),CURRENTY)","v":-26.733502775521121},null,null,33,0.33000000000000013,{"$f":"IF(H83<CALCULATIONS!$M$9,Aktina*SIN(epsilon*H83)*COS(D*H83),Aktina*SIN(epsilon*XRONOS)*COS(D*XRONOS))","v":16.42504701798206},{"$f":"IF(H83<CALCULATIONS!$M$9,Aktina*COS(epsilon*H83)*COS(D*H83),Aktina*COS(epsilon*XRONOS)*COS(D*XRONOS))","v":-1.3036512282617596},null,null,null,null,null,null,null,null,null,null,null,null,1.5707963267948972,12.646142914213254,-130.7307527870712]
[34,0.34000000000000014,{"$f":"IF(B84<CALCULATIONS!$M$9,Alfa1*SIN(miia*B84)-Alfa2*SIN(miib*B84),CURRENTX)","v":-52.240316868407959},{"$f":"IF(B84<CALCULATIONS!$M$9,-(Alfa1*COS(miia*B84)-Alfa2*COS(miib*B84)),CURRENTY)","v":-28.57136756064526},null,null,34,0.34000000000000014,{"$f":"IF(H84<CALCULATIONS!$M$9,Aktina*SIN(epsilon*H84)*COS(D*H84),Aktina*SIN(epsilon*XRONOS)*COS(D*XRONOS))","v":26.237905860790537},{"$f":"IF(H84<CALCULATIONS!$M$9,Aktina*COS(epsilon*H84)*COS(D*H84),Aktina*COS(epsilon*XRONOS)*COS(D*XRONOS))","v":-3.4090245780372901},null,null,null,null,null,null,null,null,null,null,null,null,1.6336281798666932,16.677631786510204,-130.6040581452196]
[35,0.35000000000000014,{"$f":"IF(B85<CALCULATIONS!$M$9,Alfa1*SIN(miia*B85)-Alfa2*SIN(miib*B85),CURRENTX)","v":-54.104286166874878},{"$f":"IF(B85<CALCULATIONS!$M$9,-(Alfa1*COS(miia*B85)-Alfa2*COS(miib*B85)),CURRENTY)","v":-30.168805300428232},null,null,35,0.35000000000000014,{"$f":"IF(H85<CALCULATIONS!$M$9,Aktina*SIN(epsilon*H85)*COS(D*H85),Aktina*SIN(epsilon*XRONOS)*COS(D*XRONOS))","v":35.271943924294412},{"$f":"IF(H85<CALCULATIONS!$M$9,Aktina*COS(epsilon*H85)*COS(D*H85),Aktina*COS(epsilon*XRONOS)*COS(D*XRONOS))","v":-6.3894051531622518},null,"x=R/s(sin(et/2)cos(Dt/2)+cos(et/2)sin(Dt/2)+sin(et/2)cos(Dt/2)-cos(et/2)sin(Dt/2))=R*sin(et/2)*cos(Dt/2)",null,null,null,null,null,null,null,null,null,null,1.6964600329384891,20.693210214040267,-130.22447422553486]
[36,0.36000000000000015,{"$f":"IF(B86<CALCULATIONS!$M$9,Alfa1*SIN(miia*B86)-Alfa2*SIN(miib*B86),CURRENTX)","v":-55.771699784529019},{"$f":"IF(B86<CALCULATIONS!$M$9,-(Alfa1*COS(miia*B86)-Alfa2*COS(miib*B86)),CURRENTY)","v":-31.527127466807507},null,null,36,0.36000000000000015,{"$f":"IF(H86<CALCULATIONS!$M$9,Aktina*SIN(epsilon*H86)*COS(D*H86),Aktina*SIN(epsilon*XRONOS)*COS(D*XRONOS))","v":43.266590750040301},{"$f":"IF(H86<CALCULATIONS!$M$9,Aktina*COS(epsilon*H86)*COS(D*H86),Aktina*COS(epsilon*XRONOS)*COS(D*XRONOS))","v":-10.094248563066289},null,"y=-R(e-e+D)cos((e+D)t/2)-R(e-e-D_cos((e-D)t/2)=",null,null,null,null,null,null,null,null,null,null,1.7592918860102851,24.677030543293263,-129.59349907233261]
[37,0.37000000000000016,{"$f":"IF(B87<CALCULATIONS!$M$9,Alfa1*SIN(miia*B87)-Alfa2*SIN(miib*B87),CURRENTX)","v":-57.222352760045517},{"$f":"IF(B87<CALCULATIONS!$M$9,-(Alfa1*COS(miia*B87)-Alfa2*COS(miib*B87)),CURRENTY)","v":-32.649878925053471},null,null,37,0.37000000000000016,{"$f":"IF(H87<CALCULATIONS!$M$9,Aktina*SIN(epsilon*H87)*COS(D*H87),Aktina*SIN(epsilon*XRONOS)*COS(D*XRONOS))","v":49.999048285204303},{"$f":"IF(H87<CALCULATIONS!$M$9,Aktina*COS(epsilon*H87)*COS(D*H87),Aktina*COS(epsilon*XRONOS)*COS(D*XRONOS))","v":-14.334344644760684},null,null,null,null,null,null,null,null,null,null,null,null,1.822123739082081,28.613370455464015,-128.71362285627742]
[38,0.38000000000000017,{"$f":"IF(B88<CALCULATIONS!$M$9,Alfa1*SIN(miia*B88)-Alfa2*SIN(miib*B88),CURRENTX)","v":-58.437354880742802},{"$f":"IF(B88<CALCULATIONS!$M$9,-(Alfa1*COS(miia*B88)-Alfa2*COS(miib*B88)),CURRENTY)","v":-33.542759731633225},null,null,38,0.38000000000000017,{"$f":"IF(H88<CALCULATIONS!$M$9,Aktina*SIN(epsilon*H88)*COS(D*H88),Aktina*SIN(epsilon*XRONOS)*COS(D*XRONOS))","v":55.292214704097276},{"$f":"IF(H88<CALCULATIONS!$M$9,Aktina*COS(epsilon*H88)*COS(D*H88),Aktina*COS(epsilon*XRONOS)*COS(D*XRONOS))","v":-18.889775426625725},null,null,null,null,null,null,null,null,null,null,null,null,1.884955592153877,32.486695015261816,-127.58831804681681]
[39,0.39000000000000018,{"$f":"IF(B89<CALCULATIONS!$M$9,Alfa1*SIN(miia*B89)-Alfa2*SIN(miib*B89),CURRENTX)","v":-59.399330414473297},{"$f":"IF(B89<CALCULATIONS!$M$9,-(Alfa1*COS(miia*B89)-Alfa2*COS(miib*B89)),CURRENTY)","v":-34.213525894396668},null,null,39,0.39000000000000018,{"$f":"IF(H89<CALCULATIONS!$M$9,Aktina*SIN(epsilon*H89)*COS(D*H89),Aktina*SIN(epsilon*XRONOS)*COS(D*XRONOS))","v":59.020832659550301},{"$f":"IF(H89<CALCULATIONS!$M$9,Aktina*COS(epsilon*H89)*COS(D*H89),Aktina*COS(epsilon*XRONOS)*COS(D*XRONOS))","v":-23.519190927312245},null,null,null,null,null,null,null,null,null,null,null,null,1.9477874452256729,36.281717980202842,-126.2220257079309]
[40,0.40000000000000019,{"$f":"IF(B90<CALCULATIONS!$M$9,Alfa1*SIN(miia*B90)-Alfa2*SIN(miib*B90),CURRENTX)","v":-60.092604809050144},{"$f":"IF(B90<CALCULATIONS!$M$9,-(Alfa1*COS(miia*B90)-Alfa2*COS(miib*B90)),CURRENTY)","v":-34.67187019235093},null,null,40,0.40000000000000019,{"$f":"IF(H90<CALCULATIONS!$M$9,Aktina*SIN(epsilon*H90)*COS(D*H90),Aktina*SIN(epsilon*XRONOS)*COS(D*XRONOS))","v":61.115625967595875},{"$f":"IF(H90<CALCULATIONS!$M$9,Aktina*COS(epsilon*H90)*COS(D*H90),Aktina*COS(epsilon*XRONOS)*COS(D*XRONOS))","v":-27.970027913527964},null,null,null,null,null,null,null,null,null,null,null,null,2.0106192982974687,{"$f":"FCX+FCURV*COS(W90)","v":39.983462128425501},{"$f":"FCY+FCURV*SIN(W90)","v":-124.62013797128168}]
[41,0.4100000000000002,{"$f":"IF(B91<CALCULATIONS!$M$9,Alfa1*SIN(miia*B91)-Alfa2*SIN(miib*B91),CURRENTX)","v":-60.503376461060441},{"$f":"IF(B91<CALCULATIONS!$M$9,-(Alfa1*COS(miia*B91)-Alfa2*COS(miib*B91)),CURRENTY)","v":-34.929284350022883},null,null,41,0.4100000000000002,{"$f":"IF(H91<CALCULATIONS!$M$9,Aktina*SIN(epsilon*H91)*COS(D*H91),Aktina*SIN(epsilon*XRONOS)*COS(D*XRONOS))","v":61.565268371046407},{"$f":"IF(H91<CALCULATIONS!$M$9,Aktina*COS(epsilon*H91)*COS(D*H91),Aktina*COS(epsilon*XRONOS)*COS(D*XRONOS))","v":-31.989258263098726},null,null,null,null,null,null,null,null,null,null,null,null,2.0734511513692646,43.577318366942833,-122.78897675593277]
[42,0.42000000000000021,{"$f":"IF(B92<CALCULATIONS!$M$9,Alfa1*SIN(miia*B92)-Alfa2*SIN(miib*B92),CURRENTX)","v":-60.619871799931154},{"$f":"IF(B92<CALCULATIONS!$M$9,-(Alfa1*COS(miia*B92)-Alfa2*COS(miib*B92)),CURRENTY)","v":-34.998904045943007},null,null,42,0.42000000000000021,{"$f":"IF(H92<CALCULATIONS!$M$9,Aktina*SIN(epsilon*H92)*COS(D*H92),Aktina*SIN(epsilon*XRONOS)*COS(D*XRONOS))","v":60.416113817565368},{"$f":"IF(H92<CALCULATIONS!$M$9,Aktina*COS(epsilon*H92)*COS(D*H92),Aktina*COS(epsilon*XRONOS)*COS(D*XRONOS))","v":-35.334231641008536},"sin(",null,null,null,null,null,null,null,null,null,null,null,2.1362830044410606,47.049103387058132,-120.73576881862319]
[43,0.43000000000000022,{"$f":"IF(B93<CALCULATIONS!$M$9,Alfa1*SIN(miia*B93)-Alfa2*SIN(miib*B93),CURRENTX)","v":-60.432482094750497},{"$f":"IF(B93<CALCULATIONS!$M$9,-(Alfa1*COS(miia*B93)-Alfa2*COS(miib*B93)),CURRENTY)","v":-34.895338404278732},null,null,43,0.43000000000000022,{"$f":"IF(H93<CALCULATIONS!$M$9,Aktina*SIN(epsilon*H93)*COS(D*H93),Aktina*SIN(epsilon*XRONOS)*COS(D*XRONOS))","v":57.769706211824811},{"$f":"IF(H93<CALCULATIONS!$M$9,Aktina*COS(epsilon*H93)*COS(D*H93),Aktina*COS(epsilon*XRONOS)*COS(D*XRONOS))","v":-37.783172678999634},null,null,null,null,null,null,null,null,null,null,null,null,2.1991148575128565,50.385115639404717,-118.46861723306003]
[44,0.44000000000000022,{"$f":"IF(B94<CALCULATIONS!$M$9,Alfa1*SIN(miia*B94)-Alfa2*SIN(miib*B94),CURRENTX)","v":-59.933880569002895},{"$f":"IF(B94<CALCULATIONS!$M$9,-(Alfa1*COS(miia*B94)-Alfa2*COS(miib*B94)),CURRENTY)","v":-34.634485771412585},null,null,44,0.44000000000000022,{"$f":"IF(H94<CALCULATIONS!$M$9,Aktina*SIN(epsilon*H94)*COS(D*H94),Aktina*SIN(epsilon*XRONOS)*COS(D*XRONOS))","v":53.778174337344637},{"$f":"IF(H94<CALCULATIONS!$M$9,Aktina*COS(epsilon*H94)*COS(D*H94),Aktina*COS(epsilon*XRONOS)*COS(D*XRONOS))","v":-39.144905941402655},null,null,null,null,null,null,null,null,null,null,null,null,2.2619467105846525,53.572189407701586,-115.99646941078845]
[45,0.45000000000000023,{"$f":"IF(B95<CALCULATIONS!$M$9,Alfa1*SIN(miia*B95)-Alfa2*SIN(miib*B95),CURRENTX)","v":-59.119118600288559},{"$f":"IF(B95<CALCULATIONS!$M$9,-(Alfa1*COS(miia*B95)-Alfa2*COS(miib*B95)),CURRENTY)","v":-34.233337713779335},null,null,45,0.45000000000000023,{"$f":"IF(H95<CALCULATIONS!$M$9,Aktina*SIN(epsilon*H95)*COS(D*H95),Aktina*SIN(epsilon*XRONOS)*COS(D*XRONOS))","v":48.637701101739736},{"$f":"IF(H95<CALCULATIONS!$M$9,Aktina*COS(epsilon*H95)*COS(D*H95),Aktina*COS(epsilon*XRONOS)*COS(D*XRONOS))","v":-39.267412146040975},null,null,null,null,null,null,null,null,null,null,null,null,2.3247785636564484,56.597746767820773,-113.32908178984607]
[46,0.46000000000000024,{"$f":"IF(B96<CALCULATIONS!$M$9,Alfa1*SIN(miia*B96)-Alfa2*SIN(miib*B96),CURRENTX)","v":-57.985699986361084},{"$f":"IF(B96<CALCULATIONS!$M$9,-(Alfa1*COS(miia*B96)-Alfa2*COS(miib*B96)),CURRENTY)","v":-33.709773288209725},null,null,46,0.46000000000000024,{"$f":"IF(H96<CALCULATIONS!$M$9,Aktina*SIN(epsilon*H96)*COS(D*H96),Aktina*SIN(epsilon*XRONOS)*COS(D*XRONOS))","v":42.580332120679735},{"$f":"IF(H96<CALCULATIONS!$M$9,Aktina*COS(epsilon*H96)*COS(D*H96),Aktina*COS(epsilon*XRONOS)*COS(D*XRONOS))","v":-38.044865191872589},null,null,null,null,null,null,null,null,null,null,null,null,2.3876104167282444,59.449847227107576,-110.47698133055927]
[47,0.47000000000000025,{"$f":"IF(B97<CALCULATIONS!$M$9,Alfa1*SIN(miia*B97)-Alfa2*SIN(miib*B97),CURRENTX)","v":-56.53363247340171},{"$f":"IF(B97<CALCULATIONS!$M$9,-(Alfa1*COS(miia*B97)-Alfa2*COS(miib*B97)),CURRENTY)","v":-33.082345730233271},null,null,47,0.47000000000000025,{"$f":"IF(H97<CALCULATIONS!$M$9,Aktina*SIN(epsilon*H97)*COS(D*H97),Aktina*SIN(epsilon*XRONOS)*COS(D*XRONOS))","v":35.864453905610901},{"$f":"IF(H97<CALCULATIONS!$M$9,Aktina*COS(epsilon*H97)*COS(D*H97),Aktina*COS(epsilon*XRONOS)*COS(D*XRONOS))","v":-35.422859692433335},null,null,null,null,null,null,null,null,null,null,null,null,2.4504422698000403,62.117234848049947,-107.45142397044006]
[48,0.48000000000000026,{"$f":"IF(B98<CALCULATIONS!$M$9,Alfa1*SIN(miia*B98)-Alfa2*SIN(miib*B98),CURRENTX)","v":-54.765455965223268},{"$f":"IF(B98<CALCULATIONS!$M$9,-(Alfa1*COS(miia*B98)-Alfa2*COS(miib*B98)),CURRENTY)","v":-32.370063778337688},null,null,48,0.48000000000000026,{"$f":"IF(H98<CALCULATIONS!$M$9,Aktina*SIN(epsilon*H98)*COS(D*H98),Aktina*SIN(epsilon*XRONOS)*COS(D*XRONOS))","v":28.764323966449943},{"$f":"IF(H98<CALCULATIONS!$M$9,Aktina*COS(epsilon*H98)*COS(D*H98),Aktina*COS(epsilon*XRONOS)*COS(D*XRONOS))","v":-31.401610532413692},null,null,null,null,null,null,null,null,null,null,null,null,2.5132741228718363,64.589382670321498,-104.26435020214319]
[49,0.49000000000000027,{"$f":"IF(B99<CALCULATIONS!$M$9,Alfa1*SIN(miia*B99)-Alfa2*SIN(miib*B99),CURRENTX)","v":-52.686247060844529},{"$f":"IF(B99<CALCULATIONS!$M$9,-(Alfa1*COS(miia*B99)-Alfa2*COS(miib*B99)),CURRENTY)","v":-31.59216990234756},null,null,49,0.49000000000000027,{"$f":"IF(H99<CALCULATIONS!$M$9,Aktina*SIN(epsilon*H99)*COS(D*H99),Aktina*SIN(epsilon*XRONOS)*COS(D*XRONOS))","v":21.559071918033968},{"$f":"IF(H99<CALCULATIONS!$M$9,Aktina*COS(epsilon*H99)*COS(D*H99),Aktina*COS(epsilon*XRONOS)*COS(D*XRONOS))","v":-26.036986593876073},null,null,null,null,null,null,null,null,null,null,null,null,2.5761059759436322,66.856534255884668,-100.9283379497966]
[50,0.50000000000000022,{"$f":"IF(B100<CALCULATIONS!$M$9,Alfa1*SIN(miia*B100)-Alfa2*SIN(miib*B100),CURRENTX)","v":-50.303599800324491},{"$f":"IF(B100<CALCULATIONS!$M$9,-(Alfa1*COS(miia*B100)-Alfa2*COS(miib*B100)),CURRENTY)","v":-30.767917731381615},null,null,50,0.50000000000000022,{"$f":"IF(H100<CALCULATIONS!$M$9,Aktina*SIN(epsilon*H100)*COS(D*H100),Aktina*SIN(epsilon*XRONOS)*COS(D*XRONOS))","v":14.521610732081747},{"$f":"IF(H100<CALCULATIONS!$M$9,Aktina*COS(epsilon*H100)*COS(D*H100),Aktina*COS(epsilon*XRONOS)*COS(D*XRONOS))","v":-19.439327026462742},null,null,null,null,null,null,null,null,null,null,null,null,2.6389378290154282,68.909742193194219,-97.456552929681294]
[51,0.51000000000000023,{"$f":"IF(B101<CALCULATIONS!$M$9,Alfa1*SIN(miia*B101)-Alfa2*SIN(miib*B101),CURRENTX)","v":-47.627582732579803},{"$f":"IF(B101<CALCULATIONS!$M$9,-(Alfa1*COS(miia*B101)-Alfa2*COS(miib*B101)),CURRENTY)","v":-29.916350981007465},null,null,51,0.51000000000000023,{"$f":"IF(H101<CALCULATIONS!$M$9,Aktina*SIN(epsilon*H101)*COS(D*H101),Aktina*SIN(epsilon*XRONOS)*COS(D*XRONOS))","v":7.9078998156964664},{"$f":"IF(H101<CALCULATIONS!$M$9,Aktina*COS(epsilon*H101)*COS(D*H101),Aktina*COS(epsilon*XRONOS)*COS(D*XRONOS))","v":-11.770076825997457},null,null,null,null,null,null,null,null,null,null,null,null,2.7017696820872241,70.740903408543119,-93.862696691163961]
[52,0.52000000000000024,{"$f":"IF(B102<CALCULATIONS!$M$9,Alfa1*SIN(miia*B102)-Alfa2*SIN(miib*B102),CURRENTX)","v":-44.670672651805148},{"$f":"IF(B102<CALCULATIONS!$M$9,-(Alfa1*COS(miia*B102)-Alfa2*COS(miib*B102)),CURRENTY)","v":-29.056086160208714},null,null,52,0.52000000000000024,{"$f":"IF(H102<CALCULATIONS!$M$9,Aktina*SIN(epsilon*H102)*COS(D*H102),Aktina*SIN(epsilon*XRONOS)*COS(D*XRONOS))","v":1.9469865322073667},{"$f":"IF(H102<CALCULATIONS!$M$9,Aktina*COS(epsilon*H102)*COS(D*H102),Aktina*COS(epsilon*XRONOS)*COS(D*XRONOS))","v":-3.2363655144396244},null,null,null,null,null,null,null,null,null,null,null,null,2.7646015351590201,72.342791145192336,-90.160952542941288]
[53,0.53000000000000025,{"$f":"IF(B103<CALCULATIONS!$M$9,Alfa1*SIN(miia*B103)-Alfa2*SIN(miib*B103),CURRENTX)","v":-41.44766557875213},{"$f":"IF(B103<CALCULATIONS!$M$9,-(Alfa1*COS(miia*B103)-Alfa2*COS(miib*B103)),CURRENTY)","v":-28.205101296806227},null,null,53,0.53000000000000025,{"$f":"IF(H103<CALCULATIONS!$M$9,Aktina*SIN(epsilon*H103)*COS(D*H103),Aktina*SIN(epsilon*XRONOS)*COS(D*XRONOS))","v":-3.1677792786118117},{"$f":"IF(H103<CALCULATIONS!$M$9,Aktina*COS(epsilon*H103)*COS(D*H103),Aktina*COS(epsilon*XRONOS)*COS(D*XRONOS))","v":5.9162650892568394},null,null,null,null,null,null,null,null,null,null,null,null,2.827433388230816,73.709083484078235,-86.365929578000262]
[54,0.54000000000000026,{"$f":"IF(B104<CALCULATIONS!$M$9,Alfa1*SIN(miia*B104)-Alfa2*SIN(miib*B104),CURRENTX)","v":-37.975565787218358},{"$f":"IF(B104<CALCULATIONS!$M$9,-(Alfa1*COS(miia*B104)-Alfa2*COS(miib*B104)),CURRENTY)","v":-27.380532855468033},null,null,54,0.54000000000000026,{"$f":"IF(H104<CALCULATIONS!$M$9,Aktina*SIN(epsilon*H104)*COS(D*H104),Aktina*SIN(epsilon*XRONOS)*COS(D*XRONOS))","v":-7.2860109878677184},{"$f":"IF(H104<CALCULATIONS!$M$9,Aktina*COS(epsilon*H104)*COS(D*H104),Aktina*COS(epsilon*XRONOS)*COS(D*XRONOS))","v":15.412703932055667},null,null,null,null,null,null,null,null,null,null,null,null,2.890265241302612,74.834388293538836,-82.492605018202454]
[55,0.55000000000000027,{"$f":"IF(B105<CALCULATIONS!$M$9,Alfa1*SIN(miia*B105)-Alfa2*SIN(miib*B105),CURRENTX)","v":-34.273453892417848},{"$f":"IF(B105<CALCULATIONS!$M$9,-(Alfa1*COS(miia*B105)-Alfa2*COS(miib*B105)),CURRENTY)","v":-26.598482936052211},null,null,55,0.55000000000000027,{"$f":"IF(H105<CALCULATIONS!$M$9,Aktina*SIN(epsilon*H105)*COS(D*H105),Aktina*SIN(epsilon*XRONOS)*COS(D*XRONOS))","v":-10.305745834310956},{"$f":"IF(H105<CALCULATIONS!$M$9,Aktina*COS(epsilon*H105)*COS(D*H105),Aktina*COS(epsilon*XRONOS)*COS(D*XRONOS))","v":24.958341529776099},null,null,null,null,null,null,null,null,null,null,null,null,2.9530970943744079,75.714264509594017,-78.556265106031702]
[56,0.56000000000000028,{"$f":"IF(B106<CALCULATIONS!$M$9,Alfa1*SIN(miia*B106)-Alfa2*SIN(miib*B106),CURRENTX)","v":-30.36233522429626},{"$f":"IF(B106<CALCULATIONS!$M$9,-(Alfa1*COS(miia*B106)-Alfa2*COS(miib*B106)),CURRENTY)","v":-25.87383873263153},null,null,56,0.56000000000000028,{"$f":"IF(H106<CALCULATIONS!$M$9,Aktina*SIN(epsilon*H106)*COS(D*H106),Aktina*SIN(epsilon*XRONOS)*COS(D*XRONOS))","v":-12.17688819476488},{"$f":"IF(H106<CALCULATIONS!$M$9,Aktina*COS(epsilon*H106)*COS(D*H106),Aktina*COS(epsilon*XRONOS)*COS(D*XRONOS))","v":34.249975981515277},null,null,null,null,null,null,null,null,null,null,null,null,3.0159289474462039,76.345239662796246,-74.572444776778696]
[57,0.57000000000000028,{"$f":"IF(B107<CALCULATIONS!$M$9,Alfa1*SIN(miia*B107)-Alfa2*SIN(miib*B107),CURRENTX)","v":-26.264969903263502},{"$f":"IF(B107<CALCULATIONS!$M$9,-(Alfa1*COS(miia*B107)-Alfa2*COS(miib*B107)),CURRENTY)","v":-25.220106106230475},null,null,57,0.57000000000000028,{"$f":"IF(H107<CALCULATIONS!$M$9,Aktina*SIN(epsilon*H107)*COS(D*H107),Aktina*SIN(epsilon*XRONOS)*COS(D*XRONOS))","v":-12.902504407346337},{"$f":"IF(H107<CALCULATIONS!$M$9,Aktina*COS(epsilon*H107)*COS(D*H107),Aktina*COS(epsilon*XRONOS)*COS(D*XRONOS))","v":42.987127791547003},null,null,null,null,null,null,null,null,null,null,null,null,3.0787608005179998,76.72482358248098,-70.556866349248637]
[58,0.58000000000000029,{"$f":"IF(B108<CALCULATIONS!$M$9,Alfa1*SIN(miia*B108)-Alfa2*SIN(miib*B108),CURRENTX)","v":-22.005686216306735},{"$f":"IF(B108<CALCULATIONS!$M$9,-(Alfa1*COS(miia*B108)-Alfa2*COS(miib*B108)),CURRENTY)","v":-24.649258978350094},null,null,58,0.58000000000000029,{"$f":"IF(H108<CALCULATIONS!$M$9,Aktina*SIN(epsilon*H108)*COS(D*H108),Aktina*SIN(epsilon*XRONOS)*COS(D*XRONOS))","v":-12.537924544423287},{"$f":"IF(H108<CALCULATIONS!$M$9,Aktina*COS(epsilon*H108)*COS(D*H108),Aktina*COS(epsilon*XRONOS)*COS(D*XRONOS))","v":50.883320134825475},null,null,null,null,null,null,null,null,null,null,null,null,3.1415926535897958,76.85151822433258,-66.525377476951689]
[59,0.5900000000000003,{"$f":"IF(B109<CALCULATIONS!$M$9,Alfa1*SIN(miia*B109)-Alfa2*SIN(miib*B109),CURRENTX)","v":-17.610179056219984},{"$f":"IF(B109<CALCULATIONS!$M$9,-(Alfa1*COS(miia*B109)-Alfa2*COS(miib*B109)),CURRENTY)","v":-24.171606089233673},null,null,59,0.5900000000000003,{"$f":"IF(H109<CALCULATIONS!$M$9,Aktina*SIN(epsilon*H109)*COS(D*H109),Aktina*SIN(epsilon*XRONOS)*COS(D*XRONOS))","v":-11.187694698140977},{"$f":"IF(H109<CALCULATIONS!$M$9,Aktina*COS(epsilon*H109)*COS(D*H109),Aktina*COS(epsilon*XRONOS)*COS(D*XRONOS))","v":57.676881840720789},null,null,null,null,null,null,null,null,null,null,null,null,3.2044245066615917,76.724823582480965,-62.493888604654735]
[60,0.60000000000000031,{"$f":"IF(B110<CALCULATIONS!$M$9,Alfa1*SIN(miia*B110)-Alfa2*SIN(miib*B110),CURRENTX)","v":-13.10529533410191},{"$f":"IF(B110<CALCULATIONS!$M$9,-(Alfa1*COS(miia*B110)-Alfa2*COS(miib*B110)),CURRENTY)","v":-23.795676486178902},null,null,60,0.60000000000000031,{"$f":"IF(H110<CALCULATIONS!$M$9,Aktina*SIN(epsilon*H110)*COS(D*H110),Aktina*SIN(epsilon*XRONOS)*COS(D*XRONOS))","v":-9.0005096930527291},{"$f":"IF(H110<CALCULATIONS!$M$9,Aktina*COS(epsilon*H110)*COS(D*H110),Aktina*COS(epsilon*XRONOS)*COS(D*XRONOS))","v":63.140848588400196},null,null,null,null,null,null,null,null,null,null,null,null,3.2672563597333877,76.345239662796217,-58.478310177124669]
[61,0.61000000000000032,{"$f":"IF(B111<CALCULATIONS!$M$9,Alfa1*SIN(miia*B111)-Alfa2*SIN(miib*B111),CURRENTX)","v":-8.5188084038624758},{"$f":"IF(B111<CALCULATIONS!$M$9,-(Alfa1*COS(miia*B111)-Alfa2*COS(miib*B111)),CURRENTY)","v":-23.528124914829213},null,null,61,0.61000000000000032,{"$f":"IF(H111<CALCULATIONS!$M$9,Aktina*SIN(epsilon*H111)*COS(D*H111),Aktina*SIN(epsilon*XRONOS)*COS(D*XRONOS))","v":-6.1623372287655407},{"$f":"IF(H111<CALCULATIONS!$M$9,Aktina*COS(epsilon*H111)*COS(D*H111),Aktina*COS(epsilon*XRONOS)*COS(D*XRONOS))","v":67.091572888102903},null,null,null,null,null,null,null,null,null,null,null,null,3.3300882128051836,75.71426450959396,-54.494489847871677]
[62,0.62000000000000033,{"$f":"IF(B112<CALCULATIONS!$M$9,Alfa1*SIN(miia*B112)-Alfa2*SIN(miib*B112),CURRENTX)","v":-3.8791836459616813},{"$f":"IF(B112<CALCULATIONS!$M$9,-(Alfa1*COS(miia*B112)-Alfa2*COS(miib*B112)),CURRENTY)","v":-23.373658082211293},null,null,62,0.62000000000000033,{"$f":"IF(H112<CALCULATIONS!$M$9,Aktina*SIN(epsilon*H112)*COS(D*H112),Aktina*SIN(epsilon*XRONOS)*COS(D*XRONOS))","v":-2.8880170420783635},{"$f":"IF(H112<CALCULATIONS!$M$9,Aktina*COS(epsilon*H112)*COS(D*H112),Aktina*COS(epsilon*XRONOS)*COS(D*XRONOS))","v":69.395703975572872},null,null,null,null,null,null,null,null,null,null,null,null,3.3929200658769796,74.834388293538751,-50.558149935700925]
[63,0.63000000000000034,{"$f":"IF(B113<CALCULATIONS!$M$9,Alfa1*SIN(miia*B113)-Alfa2*SIN(miib*B113),CURRENTX)","v":0.78466255510192784},{"$f":"IF(B113<CALCULATIONS!$M$9,-(Alfa1*COS(miia*B113)-Alfa2*COS(miib*B113)),CURRENTY)","v":-23.334982546382935},null,null,63,0.63000000000000034,{"$f":"IF(H113<CALCULATIONS!$M$9,Aktina*SIN(epsilon*H113)*COS(D*H113),Aktina*SIN(epsilon*XRONOS)*COS(D*XRONOS))","v":0.58832013578766851},{"$f":"IF(H113<CALCULATIONS!$M$9,Aktina*COS(epsilon*H113)*COS(D*H113),Aktina*COS(epsilon*XRONOS)*COS(D*XRONOS))","v":69.975262765954682},null,null,null,null,null,null,null,null,null,null,null,null,3.4557519189487755,73.70908348407815,-46.684825375903117]
[64,0.64000000000000035,{"$f":"IF(B114<CALCULATIONS!$M$9,Alfa1*SIN(miia*B114)-Alfa2*SIN(miib*B114),CURRENTX)","v":5.4436081397987541},{"$f":"IF(B114<CALCULATIONS!$M$9,-(Alfa1*COS(miia*B114)-Alfa2*COS(miib*B114)),CURRENTY)","v":-23.412774766063993},null,null,64,0.64000000000000035,{"$f":"IF(H114<CALCULATIONS!$M$9,Aktina*SIN(epsilon*H114)*COS(D*H114),Aktina*SIN(epsilon*XRONOS)*COS(D*XRONOS))","v":4.0236217087867043},{"$f":"IF(H114<CALCULATIONS!$M$9,Aktina*COS(epsilon*H114)*COS(D*H114),Aktina*COS(epsilon*XRONOS)*COS(D*XRONOS))","v":68.810611955946911},null,null,null,null,null,null,null,null,null,null,null,null,3.5185837720205715,72.342791145192223,-42.889802410962105]
[65,{"$f":"B114+dt","v":0.65000000000000036},{"$f":"IF(B115<CALCULATIONS!$M$9,Alfa1*SIN(miia*B115)-Alfa2*SIN(miib*B115),CURRENTX)","v":10.068572666787583},{"$f":"IF(B115<CALCULATIONS!$M$9,-(Alfa1*COS(miia*B115)-Alfa2*COS(miib*B115)),CURRENTY)","v":-23.605673616771618},null,null,65,{"$f":"H114+dt","v":0.65000000000000036},{"$f":"IF(H115<CALCULATIONS!$M$9,Aktina*SIN(epsilon*H115)*COS(D*H115),Aktina*SIN(epsilon*XRONOS)*COS(D*XRONOS))","v":7.1766467058589933},{"$f":"IF(H115<CALCULATIONS!$M$9,Aktina*COS(epsilon*H115)*COS(D*H115),Aktina*COS(epsilon*XRONOS)*COS(D*XRONOS))","v":65.941204251237565},null,null,null,null,null,null,null,null,null,null,null,null,3.5814156250923674,70.740903408542977,-39.188058262739432]
[{"$f":"A115+1","v":66},0.66000000000000036,{"$f":"IF(B116<CALCULATIONS!$M$9,Alfa1*SIN(miia*B116)-Alfa2*SIN(miib*B116),CURRENTX)","v":14.630764208663891},{"$f":"IF(B116<CALCULATIONS!$M$9,-(Alfa1*COS(miia*B116)-Alfa2*COS(miib*B116)),CURRENTY)","v":-23.910295450048022},null,null,{"$f":"G115+1","v":66},0.66000000000000036,{"$f":"IF(H116<CALCULATIONS!$M$9,Aktina*SIN(epsilon*H116)*COS(D*H116),Aktina*SIN(epsilon*XRONOS)*COS(D*XRONOS))","v":9.8186252917846577},{"$f":"IF(H116<CALCULATIONS!$M$9,Aktina*COS(epsilon*H116)*COS(D*H116),Aktina*COS(epsilon*XRONOS)*COS(D*XRONOS))","v":61.464079235964093},null,null,null,null,null,null,null,null,null,null,null,null,3.6442474781641634,68.909742193194063,-35.594202024222099]
[67,0.67000000000000037,{"$f":"IF(B117<CALCULATIONS!$M$9,Alfa1*SIN(miia*B117)-Alfa2*SIN(miib*B117),CURRENTX)","v":19.10192349247944},{"$f":"IF(B117<CALCULATIONS!$M$9,-(Alfa1*COS(miia*B117)-Alfa2*COS(miib*B117)),CURRENTY)","v":-24.321271541666153},null,null,67,0.67000000000000037,{"$f":"IF(H117<CALCULATIONS!$M$9,Aktina*SIN(epsilon*H117)*COS(D*H117),Aktina*SIN(epsilon*XRONOS)*COS(D*XRONOS))","v":11.743408926754809},{"$f":"IF(H117<CALCULATIONS!$M$9,Aktina*COS(epsilon*H117)*COS(D*H117),Aktina*COS(epsilon*XRONOS)*COS(D*XRONOS))","v":55.530168112607306},null,null,null,null,null,null,null,null,null,null,null,null,3.7070793312359593,66.856534255884483,-32.122417004106808]
[68,0.68000000000000038,{"$f":"IF(B118<CALCULATIONS!$M$9,Alfa1*SIN(miia*B118)-Alfa2*SIN(miib*B118),CURRENTX)","v":23.454562954486505},{"$f":"IF(B118<CALCULATIONS!$M$9,-(Alfa1*COS(miia*B118)-Alfa2*COS(miib*B118)),CURRENTY)","v":-24.831307545545616},null,null,68,0.68000000000000038,{"$f":"IF(H118<CALCULATIONS!$M$9,Aktina*SIN(epsilon*H118)*COS(D*H118),Aktina*SIN(epsilon*XRONOS)*COS(D*XRONOS))","v":12.776696230126094},{"$f":"IF(H118<CALCULATIONS!$M$9,Aktina*COS(epsilon*H118)*COS(D*H118),Aktina*COS(epsilon*XRONOS)*COS(D*XRONOS))","v":48.338551898103752},null,null,null,null,null,null,null,null,null,null,null,null,3.7699111843077553,64.589382670321314,-28.78640475176023]
[69,0.69000000000000039,{"$f":"IF(B119<CALCULATIONS!$M$9,Alfa1*SIN(miia*B119)-Alfa2*SIN(miib*B119),CURRENTX)","v":27.662198428784855},{"$f":"IF(B119<CALCULATIONS!$M$9,-(Alfa1*COS(miia*B119)-Alfa2*COS(miib*B119)),CURRENTY)","v":-25.431264344809247},null,null,69,0.69000000000000039,{"$f":"IF(H119<CALCULATIONS!$M$9,Aktina*SIN(epsilon*H119)*COS(D*H119),Aktina*SIN(epsilon*XRONOS)*COS(D*XRONOS))","v":12.783956676956661},{"$f":"IF(H119<CALCULATIONS!$M$9,Aktina*COS(epsilon*H119)*COS(D*H119),Aktina*COS(epsilon*XRONOS)*COS(D*XRONOS))","v":40.128899232603871},null,null,null,null,null,null,null,null,null,null,null,null,3.8327430373795512,62.11723484804974,-25.599330983463368]
[70,0.7000000000000004,{"$f":"IF(B120<CALCULATIONS!$M$9,Alfa1*SIN(miia*B120)-Alfa2*SIN(miib*B120),CURRENTX)","v":31.699571262287474},{"$f":"IF(B120<CALCULATIONS!$M$9,-(Alfa1*COS(miia*B120)-Alfa2*COS(miib*B120)),CURRENTY)","v":-26.110259472226744},null,null,70,0.7000000000000004,{"$f":"IF(H120<CALCULATIONS!$M$9,Aktina*SIN(epsilon*H120)*COS(D*H120),Aktina*SIN(epsilon*XRONOS)*COS(D*XRONOS))","v":11.676726494162782},{"$f":"IF(H120<CALCULATIONS!$M$9,Aktina*COS(epsilon*H120)*COS(D*H120),Aktina*COS(epsilon*XRONOS)*COS(D*XRONOS))","v":31.17238153928951},null,null,null,null,null,null,null,null,null,null,null,null,3.8955748904513472,59.449847227107355,-22.573773623344188]
[71,0.71000000000000041,{"$f":"IF(B121<CALCULATIONS!$M$9,Alfa1*SIN(miia*B121)-Alfa2*SIN(miib*B121),CURRENTX)","v":35.542858742948724},{"$f":"IF(B121<CALCULATIONS!$M$9,-(Alfa1*COS(miia*B121)-Alfa2*COS(miib*B121)),CURRENTY)","v":-26.855788061427422},null,null,71,0.71000000000000041,{"$f":"IF(H121<CALCULATIONS!$M$9,Aktina*SIN(epsilon*H121)*COS(D*H121),Aktina*SIN(epsilon*XRONOS)*COS(D*XRONOS))","v":9.4170164406668899},{"$f":"IF(H121<CALCULATIONS!$M$9,Aktina*COS(epsilon*H121)*COS(D*H121),Aktina*COS(epsilon*XRONOS)*COS(D*XRONOS))","v":21.761423023154972},null,null,null,null,null,null,null,null,null,null,null,null,3.9584067435231431,56.597746767820531,-19.721673164057393]
[72,0.72000000000000042,{"$f":"IF(B122<CALCULATIONS!$M$9,Alfa1*SIN(miia*B122)-Alfa2*SIN(miib*B122),CURRENTX)","v":39.169870843573506},{"$f":"IF(B122<CALCULATIONS!$M$9,-(Alfa1*COS(miia*B122)-Alfa2*COS(miib*B122)),CURRENTY)","v":-27.653862089840956},null,null,72,0.72000000000000042,{"$f":"IF(H122<CALCULATIONS!$M$9,Aktina*SIN(epsilon*H122)*COS(D*H122),Aktina*SIN(epsilon*XRONOS)*COS(D*XRONOS))","v":6.0196469445042027},{"$f":"IF(H122<CALCULATIONS!$M$9,Aktina*COS(epsilon*H122)*COS(D*H122),Aktina*COS(epsilon*XRONOS)*COS(D*XRONOS))","v":12.198688541147087},null,null,null,null,null,null,null,null,null,null,null,null,4.0212385965949391,{"$f":"FCX+FCURV*COS(W122)","v":53.57218940770133},{"$f":"FCY+FCURV*SIN(W122)","v":-17.054285543115029}]
[73,0.73000000000000043,{"$f":"IF(B123<CALCULATIONS!$M$9,Alfa1*SIN(miia*B123)-Alfa2*SIN(miib*B123),CURRENTX)","v":42.560231418599287},{"$f":"IF(B123<CALCULATIONS!$M$9,-(Alfa1*COS(miia*B123)-Alfa2*COS(miib*B123)),CURRENTY)","v":-28.489166486358013},null,null,73,0.73000000000000043,{"$f":"IF(H123<CALCULATIONS!$M$9,Aktina*SIN(epsilon*H123)*COS(D*H123),Aktina*SIN(epsilon*XRONOS)*COS(D*XRONOS))","v":1.5524093029176707},{"$f":"IF(H123<CALCULATIONS!$M$9,Aktina*COS(epsilon*H123)*COS(D*H123),Aktina*COS(epsilon*XRONOS)*COS(D*XRONOS))","v":2.7857419089089799},null,null,null,null,null,null,null,null,null,null,null,null,4.0840704496667346,50.385115639404475,-14.582137720843491]
[74,0.74000000000000044,{"$f":"IF(B124<CALCULATIONS!$M$9,Alfa1*SIN(miia*B124)-Alfa2*SIN(miib*B124),CURRENTX)","v":45.695542144667755},{"$f":"IF(B124<CALCULATIONS!$M$9,-(Alfa1*COS(miia*B124)-Alfa2*COS(miib*B124)),CURRENTY)","v":-29.3452305030833},null,null,74,0.74000000000000044,{"$f":"IF(H124<CALCULATIONS!$M$9,Aktina*SIN(epsilon*H124)*COS(D*H124),Aktina*SIN(epsilon*XRONOS)*COS(D*XRONOS))","v":-3.8659609952711138},{"$f":"IF(H124<CALCULATIONS!$M$9,Aktina*COS(epsilon*H124)*COS(D*H124),Aktina*COS(epsilon*XRONOS)*COS(D*XRONOS))","v":-6.1881804383119254},null,null,null,null,null,null,null,null,null,null,null,null,{"$f":"W123+2*PI()/100","v":4.1469023027385301},47.049103387057912,-12.314986135280357]
[75,0.75000000000000044,{"$f":"IF(B125<CALCULATIONS!$M$9,Alfa1*SIN(miia*B125)-Alfa2*SIN(miib*B125),CURRENTX)","v":48.559527666053405},{"$f":"IF(B125<CALCULATIONS!$M$9,-(Alfa1*COS(miia*B125)-Alfa2*COS(miib*B125)),CURRENTY)","v":-30.20461259302893},null,null,75,0.75000000000000044,{"$f":"IF(H125<CALCULATIONS!$M$9,Aktina*SIN(epsilon*H125)*COS(D*H125),Aktina*SIN(epsilon*XRONOS)*COS(D*XRONOS))","v":-10.069924781617079},{"$f":"IF(H125<CALCULATIONS!$M$9,Aktina*COS(epsilon*H125)*COS(D*H125),Aktina*COS(epsilon*XRONOS)*COS(D*XRONOS))","v":-14.456840825833213},null,null,null,null,null,null,null,null,null,null,null,null,4.2097341558103256,43.57731836694262,-10.261778197970813]
[76,0.76000000000000045,{"$f":"IF(B126<CALCULATIONS!$M$9,Alfa1*SIN(miia*B126)-Alfa2*SIN(miib*B126),CURRENTX)","v":51.138160591395021},{"$f":"IF(B126<CALCULATIONS!$M$9,-(Alfa1*COS(miia*B126)-Alfa2*COS(miib*B126)),CURRENTY)","v":-31.049096895753529},null,null,76,0.76000000000000045,{"$f":"IF(H126<CALCULATIONS!$M$9,Aktina*SIN(epsilon*H126)*COS(D*H126),Aktina*SIN(epsilon*XRONOS)*COS(D*XRONOS))","v":-16.853234411219404},{"$f":"IF(H126<CALCULATIONS!$M$9,Aktina*COS(epsilon*H126)*COS(D*H126),Aktina*COS(epsilon*XRONOS)*COS(D*XRONOS))","v":-21.786699915009219},null,null,null,null,null,null,null,null,null,null,null,null,4.2725660088821211,39.983462128425309,-8.4306169826219346]
[77,0.77000000000000046,{"$f":"IF(B127<CALCULATIONS!$M$9,Alfa1*SIN(miia*B127)-Alfa2*SIN(miib*B127),CURRENTX)","v":53.419765186837907},{"$f":"IF(B127<CALCULATIONS!$M$9,-(Alfa1*COS(miia*B127)-Alfa2*COS(miib*B127)),CURRENTY)","v":-31.859899312200231},null,null,77,0.77000000000000046,{"$f":"IF(H127<CALCULATIONS!$M$9,Aktina*SIN(epsilon*H127)*COS(D*H127),Aktina*SIN(epsilon*XRONOS)*COS(D*XRONOS))","v":-23.976745699595789},{"$f":"IF(H127<CALCULATIONS!$M$9,Aktina*COS(epsilon*H127)*COS(D*H127),Aktina*COS(epsilon*XRONOS)*COS(D*XRONOS))","v":-27.985266919726346},null,null,null,null,null,null,null,null,null,null,null,null,4.3353978619539166,36.281717980202657,-6.8287292459727169]
[78,0.78000000000000047,{"$f":"IF(B128<CALCULATIONS!$M$9,Alfa1*SIN(miia*B128)-Alfa2*SIN(miib*B128),CURRENTX)","v":55.395098820659641},{"$f":"IF(B128<CALCULATIONS!$M$9,-(Alfa1*COS(miia*B128)-Alfa2*COS(miib*B128)),CURRENTY)","v":-32.617881049544742},null,null,78,0.78000000000000047,{"$f":"IF(H128<CALCULATIONS!$M$9,Aktina*SIN(epsilon*H128)*COS(D*H128),Aktina*SIN(epsilon*XRONOS)*COS(D*XRONOS))","v":-31.177639257630943},{"$f":"IF(H128<CALCULATIONS!$M$9,Aktina*COS(epsilon*H128)*COS(D*H128),Aktina*COS(epsilon*XRONOS)*COS(D*XRONOS))","v":-32.907777161740981},null,null,null,null,null,null,null,null,null,null,null,null,4.3982297150257121,32.48669501526166,-5.4624369070868255]
[79,0.79000000000000048,{"$f":"IF(B129<CALCULATIONS!$M$9,Alfa1*SIN(miia*B129)-Alfa2*SIN(miib*B129),CURRENTX)","v":57.057410433631979},{"$f":"IF(B129<CALCULATIONS!$M$9,-(Alfa1*COS(miia*B129)-Alfa2*COS(miib*B129)),CURRENTY)","v":-33.303767437746245},null,null,79,0.79000000000000048,{"$f":"IF(H129<CALCULATIONS!$M$9,Aktina*SIN(epsilon*H129)*COS(D*H129),Aktina*SIN(epsilon*XRONOS)*COS(D*XRONOS))","v":-38.179686722361161},{"$f":"IF(H129<CALCULATIONS!$M$9,Aktina*COS(epsilon*H129)*COS(D*H129),Aktina*COS(epsilon*XRONOS)*COS(D*XRONOS))","v":-36.461940707949005},null,null,null,null,null,null,null,null,null,null,null,null,4.4610615680975076,28.613370455463873,-4.3371320976262453]
[80,0.80000000000000049,{"$f":"IF(B130<CALCULATIONS!$M$9,Alfa1*SIN(miia*B130)-Alfa2*SIN(miib*B130),CURRENTX)","v":58.402475535582283},{"$f":"IF(B130<CALCULATIONS!$M$9,-(Alfa1*COS(miia*B130)-Alfa2*COS(miib*B130)),CURRENTY)","v":-33.898369762502902},null,null,80,0.80000000000000049,{"$f":"IF(H130<CALCULATIONS!$M$9,Aktina*SIN(epsilon*H130)*COS(D*H130),Aktina*SIN(epsilon*XRONOS)*COS(D*XRONOS))","v":-44.704154715095953},{"$f":"IF(H130<CALCULATIONS!$M$9,Aktina*COS(epsilon*H130)*COS(D*H130),Aktina*COS(epsilon*XRONOS)*COS(D*XRONOS))","v":-38.610582994619989},null,null,null,null,null,null,null,null,null,null,null,null,4.5238934211693032,24.677030543293153,-3.4572558815710579]
[81,0.8100000000000005,{"$f":"IF(B131<CALCULATIONS!$M$9,Alfa1*SIN(miia*B131)-Alfa2*SIN(miib*B131),CURRENTX)","v":59.428607459607825},{"$f":"IF(B131<CALCULATIONS!$M$9,-(Alfa1*COS(miia*B131)-Alfa2*COS(miib*B131)),CURRENTY)","v":-34.382807825028621},null,null,81,0.8100000000000005,{"$f":"IF(H131<CALCULATIONS!$M$9,Aktina*SIN(epsilon*H131)*COS(D*H131),Aktina*SIN(epsilon*XRONOS)*COS(D*XRONOS))","v":-50.480912903524619},{"$f":"IF(H131<CALCULATIONS!$M$9,Aktina*COS(epsilon*H131)*COS(D*H131),Aktina*COS(epsilon*XRONOS)*COS(D*XRONOS))","v":-39.372082543430913},null,null,null,null,null,null,null,null,null,null,null,null,4.5867252742410987,20.693210214040185,-2.8262807283688218]
[82,0.82000000000000051,{"$f":"IF(B132<CALCULATIONS!$M$9,Alfa1*SIN(miia*B132)-Alfa2*SIN(miib*B132),CURRENTX)","v":60.136644838867213},{"$f":"IF(B132<CALCULATIONS!$M$9,-(Alfa1*COS(miia*B132)-Alfa2*COS(miib*B132)),CURRENTY)","v":-34.738730927842056},null,null,82,0.82000000000000051,{"$f":"IF(H132<CALCULATIONS!$M$9,Aktina*SIN(epsilon*H132)*COS(D*H132),Aktina*SIN(epsilon*XRONOS)*COS(D*XRONOS))","v":-55.25930336597046},{"$f":"IF(H132<CALCULATIONS!$M$9,Aktina*COS(epsilon*H132)*COS(D*H132),Aktina*COS(epsilon*XRONOS)*COS(D*XRONOS))","v":-38.818598753406668},null,null,null,null,null,null,null,null,null,null,null,null,4.6495571273128942,16.677631786510148,-2.446696808684095]
[83,0.83000000000000052,{"$f":"IF(B133<CALCULATIONS!$M$9,Alfa1*SIN(miia*B133)-Alfa2*SIN(miib*B133),CURRENTX)","v":60.52991550450102},{"$f":"IF(B133<CALCULATIONS!$M$9,-(Alfa1*COS(miia*B133)-Alfa2*COS(miib*B133)),CURRENTY)","v":-34.948534997715029},null,null,83,0.83000000000000052,{"$f":"IF(H133<CALCULATIONS!$M$9,Aktina*SIN(epsilon*H133)*COS(D*H133),Aktina*SIN(epsilon*XRONOS)*COS(D*XRONOS))","v":-58.818336930170823},{"$f":"IF(H133<CALCULATIONS!$M$9,Aktina*COS(epsilon*H133)*COS(D*H133),Aktina*COS(epsilon*XRONOS)*COS(D*XRONOS))","v":-37.072170807595164},null,null,null,null,null,null,null,null,null,null,null,null,4.7123889803846897,12.646142914213227,-2.3200021668324808]
[84,0.84000000000000052,{"$f":"IF(B134<CALCULATIONS!$M$9,Alfa1*SIN(miia*B134)-Alfa2*SIN(miib*B134),CURRENTX)","v":60.614177234693983},{"$f":"IF(B134<CALCULATIONS!$M$9,-(Alfa1*COS(miia*B134)-Alfa2*COS(miib*B134)),CURRENTY)","v":-34.995573591955299},null,null,84,0.84000000000000052,{"$f":"IF(H134<CALCULATIONS!$M$9,Aktina*SIN(epsilon*H134)*COS(D*H134),Aktina*SIN(epsilon*XRONOS)*COS(D*XRONOS))","v":-60.975807958442545},{"$f":"IF(H134<CALCULATIONS!$M$9,Aktina*COS(epsilon*H134)*COS(D*H134),Aktina*COS(epsilon*XRONOS)*COS(D*XRONOS))","v":-34.298853453481513},null,null,null,null,null,null,null,null,null,null,null,null,4.7752208334564852,8.6146540419163049,-2.446696808684095]
[85,0.85000000000000053,{"$f":"IF(B135<CALCULATIONS!$M$9,Alfa1*SIN(miia*B135)-Alfa2*SIN(miib*B135),CURRENTX)","v":60.397536011881982},{"$f":"IF(B135<CALCULATIONS!$M$9,-(Alfa1*COS(miia*B135)-Alfa2*COS(miib*B135)),CURRENTY)","v":-34.864360591956199},null,null,85,0.85000000000000053,{"$f":"IF(H135<CALCULATIONS!$M$9,Aktina*SIN(epsilon*H135)*COS(D*H135),Aktina*SIN(epsilon*XRONOS)*COS(D*XRONOS))","v":-61.595961157606652},{"$f":"IF(H135<CALCULATIONS!$M$9,Aktina*COS(epsilon*H135)*COS(D*H135),Aktina*COS(epsilon*XRONOS)*COS(D*XRONOS))","v":-30.701133425774515},null,null,null,null,null,null,null,null,null,null,null,null,4.8380526865282807,4.599075614386269,-2.8262807283688147]
[86,0.86000000000000054,{"$f":"IF(B136<CALCULATIONS!$M$9,Alfa1*SIN(miia*B136)-Alfa2*SIN(miib*B136),CURRENTX)","v":59.890342665370511},{"$f":"IF(B136<CALCULATIONS!$M$9,-(Alfa1*COS(miia*B136)-Alfa2*COS(miib*B136)),CURRENTY)","v":-34.54076246786579},null,null,86,0.86000000000000054,{"$f":"IF(H136<CALCULATIONS!$M$9,Aktina*SIN(epsilon*H136)*COS(D*H136),Aktina*SIN(epsilon*XRONOS)*COS(D*XRONOS))","v":-60.595400737049737},{"$f":"IF(H136<CALCULATIONS!$M$9,Aktina*COS(epsilon*H136)*COS(D*H136),Aktina*COS(epsilon*XRONOS)*COS(D*XRONOS))","v":-26.508938471814606},null,null,null,null,null,null,null,null,null,null,null,null,4.9008845396000762,0.61525528513329952,-3.4572558815710508]
[87,0.87000000000000055,{"$f":"IF(B137<CALCULATIONS!$M$9,Alfa1*SIN(miia*B137)-Alfa2*SIN(miib*B137),CURRENTX)","v":59.105068987978498},{"$f":"IF(B137<CALCULATIONS!$M$9,-(Alfa1*COS(miia*B137)-Alfa2*COS(miib*B137)),CURRENTY)","v":-34.012178099518749},null,null,87,0.87000000000000055,{"$f":"IF(H137<CALCULATIONS!$M$9,Aktina*SIN(epsilon*H137)*COS(D*H137),Aktina*SIN(epsilon*XRONOS)*COS(D*XRONOS))","v":-57.947001369348385},{"$f":"IF(H137<CALCULATIONS!$M$9,Aktina*COS(epsilon*H137)*COS(D*H137),Aktina*COS(epsilon*XRONOS)*COS(D*XRONOS))","v":-21.969606598412049},null,null,null,null,null,null,null,null,null,null,null,null,4.9637163926718717,-3.3210846270374219,-4.3371320976262382]
[88,0.88000000000000056,{"$f":"IF(B138<CALCULATIONS!$M$9,Alfa1*SIN(miia*B138)-Alfa2*SIN(miib*B138),CURRENTX)","v":58.056164615651788},{"$f":"IF(B138<CALCULATIONS!$M$9,-(Alfa1*COS(miia*B138)-Alfa2*COS(miib*B138)),CURRENTY)","v":-33.267704260431493},null,null,88,0.88000000000000056,{"$f":"IF(H138<CALCULATIONS!$M$9,Aktina*SIN(epsilon*H138)*COS(D*H138),Aktina*SIN(epsilon*XRONOS)*COS(D*XRONOS))","v":-53.681659178345768},{"$f":"IF(H138<CALCULATIONS!$M$9,Aktina*COS(epsilon*H138)*COS(D*H138),Aktina*COS(epsilon*XRONOS)*COS(D*XRONOS))","v":-17.33722406998421},null,null,null,null,null,null,null,null,null,null,null,null,5.0265482457436672,-7.1944091868352089,-5.4624369070868184]
[89,0.89000000000000057,{"$f":"IF(B139<CALCULATIONS!$M$9,Alfa1*SIN(miia*B139)-Alfa2*SIN(miib*B139),CURRENTX)","v":56.759896146313707},{"$f":"IF(B139<CALCULATIONS!$M$9,-(Alfa1*COS(miia*B139)-Alfa2*COS(miib*B139)),CURRENTY)","v":-32.298285012475112},null,null,89,0.89000000000000057,{"$f":"IF(H139<CALCULATIONS!$M$9,Aktina*SIN(epsilon*H139)*COS(D*H139),Aktina*SIN(epsilon*XRONOS)*COS(D*XRONOS))","v":-47.887806258020966},{"$f":"IF(H139<CALCULATIONS!$M$9,Aktina*COS(epsilon*H139)*COS(D*H139),Aktina*COS(epsilon*XRONOS)*COS(D*XRONOS))","v":-12.861765225844156},null,null,null,null,null,null,null,null,null,null,null,null,5.0893800988154627,-10.989432151776207,-6.8287292459727098]
[90,0.90000000000000058,{"$f":"IF(B140<CALCULATIONS!$M$9,Alfa1*SIN(miia*B140)-Alfa2*SIN(miib*B140),CURRENTX)","v":55.234170146678757},{"$f":"IF(B140<CALCULATIONS!$M$9,-(Alfa1*COS(miia*B140)-Alfa2*COS(miib*B140)),CURRENTY)","v":-31.09684341741211},null,null,90,0.90000000000000058,{"$f":"IF(H140<CALCULATIONS!$M$9,Aktina*SIN(epsilon*H140)*COS(D*H140),Aktina*SIN(epsilon*XRONOS)*COS(D*XRONOS))","v":-40.708700620469678},{"$f":"IF(H140<CALCULATIONS!$M$9,Aktina*COS(epsilon*H140)*COS(D*H140),Aktina*COS(epsilon*XRONOS)*COS(D*XRONOS))","v":-8.778474377420677},null,null,null,null,null,null,null,null,null,null,null,null,5.1522119518872582,-14.691176299998858,-8.4306169826219204]
[91,0.91000000000000059,{"$f":"IF(B141<CALCULATIONS!$M$9,Alfa1*SIN(miia*B141)-Alfa2*SIN(miib*B141),CURRENTX)","v":53.498341851635821},{"$f":"IF(B141<CALCULATIONS!$M$9,-(Alfa1*COS(miia*B141)-Alfa2*COS(miib*B141)),CURRENTY)","v":-29.658394146231231},null,null,91,0.91000000000000059,{"$f":"IF(H141<CALCULATIONS!$M$9,Aktina*SIN(epsilon*H141)*COS(D*H141),Aktina*SIN(epsilon*XRONOS)*COS(D*XRONOS))","v":-32.337591466446682},{"$f":"IF(H141<CALCULATIONS!$M$9,Aktina*COS(epsilon*H141)*COS(D*H141),Aktina*COS(epsilon*XRONOS)*COS(D*XRONOS))","v":-5.2979196143714224},null,null,null,null,null,null,null,null,null,null,null,null,5.2150438049590537,-18.285032538516173,-10.261778197970806]
[92,0.9200000000000006,{"$f":"IF(B142<CALCULATIONS!$M$9,Alfa1*SIN(miia*B142)-Alfa2*SIN(miib*B142),CURRENTX)","v":51.573011498567304},{"$f":"IF(B142<CALCULATIONS!$M$9,-(Alfa1*COS(miia*B142)-Alfa2*COS(miib*B142)),CURRENTY)","v":-27.98013575639958},null,null,92,0.9200000000000006,{"$f":"IF(H142<CALCULATIONS!$M$9,Aktina*SIN(epsilon*H142)*COS(D*H142),Aktina*SIN(epsilon*XRONOS)*COS(D*XRONOS))","v":-23.010943766024361},{"$f":"IF(H142<CALCULATIONS!$M$9,Aktina*COS(epsilon*H142)*COS(D*H142),Aktina*COS(epsilon*XRONOS)*COS(D*XRONOS))","v":-2.5971207156786691},null,null,null,null,null,null,null,null,null,null,null,null,5.2778756580308492,-21.756817558631461,-12.31498613528035]
[93,0.9300000000000006,{"$f":"IF(B143<CALCULATIONS!$M$9,Alfa1*SIN(miia*B143)-Alfa2*SIN(miib*B143),CURRENTX)","v":49.47981035724569},{"$f":"IF(B143<CALCULATIONS!$M$9,-(Alfa1*COS(miia*B143)-Alfa2*COS(miib*B143)),CURRENTY)","v":-26.061521608886913},null,null,93,0.9300000000000006,{"$f":"IF(H143<CALCULATIONS!$M$9,Aktina*SIN(epsilon*H143)*COS(D*H143),Aktina*SIN(epsilon*XRONOS)*COS(D*XRONOS))","v":-12.999982983528282},{"$f":"IF(H143<CALCULATIONS!$M$9,Aktina*COS(epsilon*H143)*COS(D*H143),Aktina*COS(epsilon*XRONOS)*COS(D*XRONOS))","v":-0.81210963797430458},null,null,null,null,null,null,null,null,null,null,null,null,5.3407075111026447,-25.092829810978031,-14.582137720843477]
[94,0.94000000000000061,{"$f":"IF(B144<CALCULATIONS!$M$9,Alfa1*SIN(miia*B144)-Alfa2*SIN(miib*B144),CURRENTX)","v":47.241178613569595},{"$f":"IF(B144<CALCULATIONS!$M$9,-(Alfa1*COS(miia*B144)-Alfa2*COS(miib*B144)),CURRENTY)","v":-23.90430860908959},null,null,94,0.94000000000000061,{"$f":"IF(H144<CALCULATIONS!$M$9,Aktina*SIN(epsilon*H144)*COS(D*H144),Aktina*SIN(epsilon*XRONOS)*COS(D*XRONOS))","v":-2.6008873216098225},{"$f":"IF(H144<CALCULATIONS!$M$9,Aktina*COS(epsilon*H144)*COS(D*H144),Aktina*COS(epsilon*XRONOS)*COS(D*XRONOS))","v":-3.2223990679855131E-2},null,null,null,null,null,null,null,null,null,null,null,null,5.4035393641744403,-28.27990357927488,-17.054285543115014]
[95,0.95000000000000062,{"$f":"IF(B145<CALCULATIONS!$M$9,Alfa1*SIN(miia*B145)-Alfa2*SIN(miib*B145),CURRENTX)","v":44.880137341408584},{"$f":"IF(B145<CALCULATIONS!$M$9,-(Alfa1*COS(miia*B145)-Alfa2*COS(miib*B145)),CURRENTY)","v":-21.512583176476411},null,null,95,0.95000000000000062,{"$f":"IF(H145<CALCULATIONS!$M$9,Aktina*SIN(epsilon*H145)*COS(D*H145),Aktina*SIN(epsilon*XRONOS)*COS(D*XRONOS))","v":7.8759915543672729},{"$f":"IF(H145<CALCULATIONS!$M$9,Aktina*COS(epsilon*H145)*COS(D*H145),Aktina*COS(epsilon*XRONOS)*COS(D*XRONOS))","v":-0.29636383033987396},null,null,null,null,null,null,null,null,null,null,null,null,5.4663712172462358,-31.305460939394067,-19.721673164057357]
[96,0.96000000000000063,{"$f":"IF(B146<CALCULATIONS!$M$9,Alfa1*SIN(miia*B146)-Alfa2*SIN(miib*B146),CURRENTX)","v":42.420056850469521},{"$f":"IF(B146<CALCULATIONS!$M$9,-(Alfa1*COS(miia*B146)-Alfa2*COS(miib*B146)),CURRENTY)","v":-18.892764074688603},null,null,96,0.96000000000000063,{"$f":"IF(H146<CALCULATIONS!$M$9,Aktina*SIN(epsilon*H146)*COS(D*H146),Aktina*SIN(epsilon*XRONOS)*COS(D*XRONOS))","v":18.117459851501273},{"$f":"IF(H146<CALCULATIONS!$M$9,Aktina*COS(epsilon*H146)*COS(D*H146),Aktina*COS(epsilon*XRONOS)*COS(D*XRONOS))","v":-1.5913628184040884},null,null,null,null,null,null,null,null,null,null,null,null,5.5292030703180313,-34.157561398680869,-22.573773623344131]
[97,0.97000000000000064,{"$f":"IF(B147<CALCULATIONS!$M$9,Alfa1*SIN(miia*B147)-Alfa2*SIN(miib*B147),CURRENTX)","v":39.884423728857776},{"$f":"IF(B147<CALCULATIONS!$M$9,-(Alfa1*COS(miia*B147)-Alfa2*COS(miib*B147)),CURRENTY)","v":-16.053581964688021},null,null,97,0.97000000000000064,{"$f":"IF(H147<CALCULATIONS!$M$9,Aktina*SIN(epsilon*H147)*COS(D*H147),Aktina*SIN(epsilon*XRONOS)*COS(D*XRONOS))","v":27.818923704903021},{"$f":"IF(H147<CALCULATIONS!$M$9,Aktina*COS(epsilon*H147)*COS(D*H147),Aktina*COS(epsilon*XRONOS)*COS(D*XRONOS))","v":-3.8525394588047988},null,null,null,null,null,null,null,null,null,null,null,null,5.5920349233898268,-36.82494901962324,-25.599330983463283]
[98,0.98000000000000065,{"$f":"IF(B148<CALCULATIONS!$M$9,Alfa1*SIN(miia*B148)-Alfa2*SIN(miib*B148),CURRENTX)","v":37.296608906590379},{"$f":"IF(B148<CALCULATIONS!$M$9,-(Alfa1*COS(miia*B148)-Alfa2*COS(miib*B148)),CURRENTY)","v":-13.006035776057205},null,null,98,0.98000000000000065,{"$f":"IF(H148<CALCULATIONS!$M$9,Aktina*SIN(epsilon*H148)*COS(D*H148),Aktina*SIN(epsilon*XRONOS)*COS(D*XRONOS))","v":36.695496226202742},{"$f":"IF(H148<CALCULATIONS!$M$9,Aktina*COS(epsilon*H148)*COS(D*H148),Aktina*COS(epsilon*XRONOS)*COS(D*XRONOS))","v":-6.9664061760741758},null,null,null,null,null,null,null,null,null,null,null,null,5.6548667764616223,-39.297096841894799,-28.786404751760124]
[99,0.99000000000000066,{"$f":"IF(B149<CALCULATIONS!$M$9,Alfa1*SIN(miia*B149)-Alfa2*SIN(miib*B149),CURRENTX)","v":34.679639050660661},{"$f":"IF(B149<CALCULATIONS!$M$9,-(Alfa1*COS(miia*B149)-Alfa2*COS(miib*B149)),CURRENTY)","v":-9.7633262233838547},null,null,99,0.99000000000000066,{"$f":"IF(H149<CALCULATIONS!$M$9,Aktina*SIN(epsilon*H149)*COS(D*H149),Aktina*SIN(epsilon*XRONOS)*COS(D*XRONOS))","v":44.492337094885414},{"$f":"IF(H149<CALCULATIONS!$M$9,Aktina*COS(epsilon*H149)*COS(D*H149),Aktina*COS(epsilon*XRONOS)*COS(D*XRONOS))","v":-10.775426928382622},null,null,null,null,null,null,null,null,null,null,null,null,5.7176986295334178,-41.564248427457969,-32.122417004106666]
[100,1.0000000000000007,{"$f":"IF(B150<CALCULATIONS!$M$9,Alfa1*SIN(miia*B150)-Alfa2*SIN(miib*B150),CURRENTX)","v":32.055973563527644},{"$f":"IF(B150<CALCULATIONS!$M$9,-(Alfa1*COS(miia*B150)-Alfa2*COS(miib*B150)),CURRENTY)","v":-6.3407670234997475},null,null,100,1.0000000000000007,{"$f":"IF(H150<CALCULATIONS!$M$9,Aktina*SIN(epsilon*H150)*COS(D*H150),Aktina*SIN(epsilon*XRONOS)*COS(D*XRONOS))","v":50.99382265659532},{"$f":"IF(H150<CALCULATIONS!$M$9,Aktina*COS(epsilon*H150)*COS(D*H150),Aktina*COS(epsilon*XRONOS)*COS(D*XRONOS))","v":-15.084631354207435},null,null,null,null,null,null,null,null,null,null,null,null,5.7805304826052133,-43.617456364767541,-35.594202024221929]
[101,1.0100000000000007,{"$f":"IF(B151<CALCULATIONS!$M$9,Alfa1*SIN(miia*B151)-Alfa2*SIN(miib*B151),CURRENTX)","v":29.447289395508207},{"$f":"IF(B151<CALCULATIONS!$M$9,-(Alfa1*COS(miia*B151)-Alfa2*COS(miib*B151)),CURRENTY)","v":-2.7556745928988544},null,null,101,1.0100000000000007,{"$f":"IF(H151<CALCULATIONS!$M$9,Aktina*SIN(epsilon*H151)*COS(D*H151),Aktina*SIN(epsilon*XRONOS)*COS(D*XRONOS))","v":56.031190833095287},{"$f":"IF(H151<CALCULATIONS!$M$9,Aktina*COS(epsilon*H151)*COS(D*H151),Aktina*COS(epsilon*XRONOS)*COS(D*XRONOS))","v":-19.669818433437559},null,null,null,null,null,null,null,null,null,null,null,null,5.8433623356770088,-45.448617580116455,-39.188058262739233]
[102,1.0200000000000007,{"$f":"IF(B152<CALCULATIONS!$M$9,Alfa1*SIN(miia*B152)-Alfa2*SIN(miib*B152),CURRENTX)","v":26.874275798111345},{"$f":"IF(B152<CALCULATIONS!$M$9,-(Alfa1*COS(miia*B152)-Alfa2*COS(miib*B152)),CURRENTY)","v":0.97276277930467714},null,null,102,1.0200000000000007,{"$f":"IF(H152<CALCULATIONS!$M$9,Aktina*SIN(epsilon*H152)*COS(D*H152),Aktina*SIN(epsilon*XRONOS)*COS(D*XRONOS))","v":59.488365570767591},{"$f":"IF(H152<CALCULATIONS!$M$9,Aktina*COS(epsilon*H152)*COS(D*H152),Aktina*COS(epsilon*XRONOS)*COS(D*XRONOS))","v":-24.287018304343427},null,null,null,null,null,null,null,null,null,null,null,null,5.9061941887488043,-47.050505316765701,-42.88980241096187]
[103,1.0300000000000007,{"$f":"IF(B153<CALCULATIONS!$M$9,Alfa1*SIN(miia*B153)-Alfa2*SIN(miib*B153),CURRENTX)","v":24.356441040722441},{"$f":"IF(B153<CALCULATIONS!$M$9,-(Alfa1*COS(miia*B153)-Alfa2*COS(miib*B153)),CURRENTY)","v":4.8236350811570841},null,null,103,1.0300000000000007,{"$f":"IF(H153<CALCULATIONS!$M$9,Aktina*SIN(epsilon*H153)*COS(D*H153),Aktina*SIN(epsilon*XRONOS)*COS(D*XRONOS))","v":61.305737653376994},{"$f":"IF(H153<CALCULATIONS!$M$9,Aktina*COS(epsilon*H153)*COS(D*H153),Aktina*COS(epsilon*XRONOS)*COS(D*XRONOS))","v":-28.682829791690757},null,null,null,null,null,null,null,null,null,null,null,null,5.9690260418205998,-48.416797655651628,-46.684825375902854]
[104,1.0400000000000007,{"$f":"IF(B154<CALCULATIONS!$M$9,Alfa1*SIN(miia*B154)-Alfa2*SIN(miib*B154),CURRENTX)","v":21.911932988275055},{"$f":"IF(B154<CALCULATIONS!$M$9,-(Alfa1*COS(miia*B154)-Alfa2*COS(miib*B154)),CURRENTY)","v":8.7744786540492115},null,null,104,1.0400000000000007,{"$f":"IF(H154<CALCULATIONS!$M$9,Aktina*SIN(epsilon*H154)*COS(D*H154),Aktina*SIN(epsilon*XRONOS)*COS(D*XRONOS))","v":61.481759610701239},{"$f":"IF(H154<CALCULATIONS!$M$9,Aktina*COS(epsilon*H154)*COS(D*H154),Aktina*COS(epsilon*XRONOS)*COS(D*XRONOS))","v":-32.60521541427071},null,null,null,null,null,null,null,null,null,null,null,null,6.0318578948923953,{"$f":"FCX+FCURV*COS(W154)","v":-49.542102465112244},-50.558149935700627]
[105,1.0500000000000007,{"$f":"IF(B155<CALCULATIONS!$M$9,Alfa1*SIN(miia*B155)-Alfa2*SIN(miib*B155),CURRENTX)","v":19.557375293901828},{"$f":"IF(B155<CALCULATIONS!$M$9,-(Alfa1*COS(miia*B155)-Alfa2*COS(miib*B155)),CURRENTY)","v":12.801460618046359},null,null,105,1.0500000000000007,{"$f":"IF(H155<CALCULATIONS!$M$9,Aktina*SIN(epsilon*H155)*COS(D*H155),Aktina*SIN(epsilon*XRONOS)*COS(D*XRONOS))","v":60.072298947770264},{"$f":"IF(H155<CALCULATIONS!$M$9,Aktina*COS(epsilon*H155)*COS(D*H155),Aktina*COS(epsilon*XRONOS)*COS(D*XRONOS))","v":-35.814316587709328},null,null,null,null,null,null,null,null,null,null,null,null,6.0946897479641908,{"$f":"FCX+FCURV*COS(W155)","v":-50.421978681167467},-54.494489847871343]
[106,1.0600000000000007,{"$f":"IF(B156<CALCULATIONS!$M$9,Alfa1*SIN(miia*B156)-Alfa2*SIN(miib*B156),CURRENTX)","v":17.307720799483079},{"$f":"IF(B156<CALCULATIONS!$M$9,-(Alfa1*COS(miia*B156)-Alfa2*COS(miib*B156)),CURRENTY)","v":16.879577903685103},null,null,106,1.0600000000000007,{"$f":"IF(H156<CALCULATIONS!$M$9,Aktina*SIN(epsilon*H156)*COS(D*H156),Aktina*SIN(epsilon*XRONOS)*COS(D*XRONOS))","v":57.187782558157352},{"$f":"IF(H156<CALCULATIONS!$M$9,Aktina*COS(epsilon*H156)*COS(D*H156),Aktina*COS(epsilon*XRONOS)*COS(D*XRONOS))","v":-38.092850188302663},null,null,null,null,null,null,null,null,null,null,null,null,6.1575216010359863,{"$f":"FCX+FCURV*COS(W156)","v":-51.052953834369738},-58.478310177124307]
[107,1.0700000000000007,{"$f":"IF(B157<CALCULATIONS!$M$9,Alfa1*SIN(miia*B157)-Alfa2*SIN(miib*B157),CURRENTX)","v":15.176123560129401},{"$f":"IF(B157<CALCULATIONS!$M$9,-(Alfa1*COS(miia*B157)-Alfa2*COS(miib*B157)),CURRENTY)","v":20.982868999303847},null,null,107,1.0700000000000007,{"$f":"IF(H157<CALCULATIONS!$M$9,Aktina*SIN(epsilon*H157)*COS(D*H157),Aktina*SIN(epsilon*XRONOS)*COS(D*XRONOS))","v":52.98825244257435},{"$f":"IF(H157<CALCULATIONS!$M$9,Aktina*COS(epsilon*H157)*COS(D*H157),Aktina*COS(epsilon*XRONOS)*COS(D*XRONOS))","v":-39.255663665045489},null,null,null,null,null,null,null,null,null,null,null,null,6.2203534541077818,{"$f":"FCX+FCURV*COS(W157)","v":-51.432537754054508},-62.493888604654337]
[108,1.0800000000000007,{"$f":"IF(B158<CALCULATIONS!$M$9,Alfa1*SIN(miia*B158)-Alfa2*SIN(miib*B158),CURRENTX)","v":13.173830717727796},{"$f":"IF(B158<CALCULATIONS!$M$9,-(Alfa1*COS(miia*B158)-Alfa2*COS(miib*B158)),CURRENTY)","v":25.084636393365425},null,null,108,1.0800000000000007,{"$f":"IF(H158<CALCULATIONS!$M$9,Aktina*SIN(epsilon*H158)*COS(D*H158),Aktina*SIN(epsilon*XRONOS)*COS(D*XRONOS))","v":47.67653526024975},{"$f":"IF(H158<CALCULATIONS!$M$9,Aktina*COS(epsilon*H158)*COS(D*H158),Aktina*COS(epsilon*XRONOS)*COS(D*XRONOS))","v":-39.158058847930953},null,null,null,null,null,null,null,null,null,null,null,null,6.2831853071795774,{"$f":"FCX+FCURV*COS(W158)","v":-51.55923239590615},-66.525377476951263]
[109,1.0900000000000007,{"$f":"IF(B159<CALCULATIONS!$M$9,Alfa1*SIN(miia*B159)-Alfa2*SIN(miib*B159),CURRENTX)","v":11.310095245666133},{"$f":"IF(B159<CALCULATIONS!$M$9,-(Alfa1*COS(miia*B159)-Alfa2*COS(miib*B159)),CURRENTY)","v":29.157677581573182},null,null,109,1.0900000000000007,{"$f":"IF(H159<CALCULATIONS!$M$9,Aktina*SIN(epsilon*H159)*COS(D*H159),Aktina*SIN(epsilon*XRONOS)*COS(D*XRONOS))","v":41.489802518563039},{"$f":"IF(H159<CALCULATIONS!$M$9,Aktina*COS(epsilon*H159)*COS(D*H159),Aktina*COS(epsilon*XRONOS)*COS(D*XRONOS))","v":-37.702543192797783}]
[110,1.1000000000000008,{"$f":"IF(B160<CALCULATIONS!$M$9,Alfa1*SIN(miia*B160)-Alfa2*SIN(miib*B160),CURRENTX)","v":9.5921103737684206},{"$f":"IF(B160<CALCULATIONS!$M$9,-(Alfa1*COS(miia*B160)-Alfa2*COS(miib*B160)),CURRENTY)","v":33.174522419980271},null,null,110,1.1000000000000008,{"$f":"IF(H160<CALCULATIONS!$M$9,Aktina*SIN(epsilon*H160)*COS(D*H160),Aktina*SIN(epsilon*XRONOS)*COS(D*XRONOS))","v":34.68986140410999},{"$f":"IF(H160<CALCULATIONS!$M$9,Aktina*COS(epsilon*H160)*COS(D*H160),Aktina*COS(epsilon*XRONOS)*COS(D*XRONOS))","v":-34.843729494230274}]
[111,1.1100000000000008,{"$f":"IF(B161<CALCULATIONS!$M$9,Alfa1*SIN(miia*B161)-Alfa2*SIN(miib*B161),CURRENTX)","v":8.0249662814656766},{"$f":"IF(B161<CALCULATIONS!$M$9,-(Alfa1*COS(miia*B161)-Alfa2*COS(miib*B161)),CURRENTY)","v":37.107674538632395},null,null,111,1.1100000000000008,{"$f":"IF(H161<CALCULATIONS!$M$9,Aktina*SIN(epsilon*H161)*COS(D*H161),Aktina*SIN(epsilon*XRONOS)*COS(D*XRONOS))","v":27.552565865902423},{"$f":"IF(H161<CALCULATIONS!$M$9,Aktina*COS(epsilon*H161)*COS(D*H161),Aktina*COS(epsilon*XRONOS)*COS(D*XRONOS))","v":-30.591178608927933}]
[112,1.1200000000000008,{"$f":"IF(B162<CALCULATIONS!$M$9,Alfa1*SIN(miia*B162)-Alfa2*SIN(miib*B162),CURRENTX)","v":6.6116294205108197},{"$f":"IF(B162<CALCULATIONS!$M$9,-(Alfa1*COS(miia*B162)-Alfa2*COS(miib*B162)),CURRENTY)","v":40.929854486249489},null,null,112,1.1200000000000008,{"$f":"IF(H162<CALCULATIONS!$M$9,Aktina*SIN(epsilon*H162)*COS(D*H162),Aktina*SIN(epsilon*XRONOS)*COS(D*XRONOS))","v":20.35677161104536},{"$f":"IF(H162<CALCULATIONS!$M$9,Aktina*COS(epsilon*H162)*COS(D*H162),Aktina*COS(epsilon*XRONOS)*COS(D*XRONOS))","v":-25.010061534958371}]
[113,1.1300000000000008,{"$f":"IF(B163<CALCULATIONS!$M$9,Alfa1*SIN(miia*B163)-Alfa2*SIN(miib*B163),CURRENTX)","v":5.3529445983982775},{"$f":"IF(B163<CALCULATIONS!$M$9,-(Alfa1*COS(miia*B163)-Alfa2*COS(miib*B163)),CURRENTY)","v":44.614242255484001},null,null,113,1.1300000000000008,{"$f":"IF(H163<CALCULATIONS!$M$9,Aktina*SIN(epsilon*H163)*COS(D*H163),Aktina*SIN(epsilon*XRONOS)*COS(D*XRONOS))","v":13.373275817737968},{"$f":"IF(H163<CALCULATIONS!$M$9,Aktina*COS(epsilon*H163)*COS(D*H163),Aktina*COS(epsilon*XRONOS)*COS(D*XRONOS))","v":-18.21960402816617}]
[114,1.1400000000000008,{"$f":"IF(B164<CALCULATIONS!$M$9,Alfa1*SIN(miia*B164)-Alfa2*SIN(miib*B164),CURRENTX)","v":4.2476597223805825},{"$f":"IF(B164<CALCULATIONS!$M$9,-(Alfa1*COS(miia*B164)-Alfa2*COS(miib*B164)),CURRENTY)","v":48.134716840611816},null,null,114,1.1400000000000008,{"$f":"IF(H164<CALCULATIONS!$M$9,Aktina*SIN(epsilon*H164)*COS(D*H164),Aktina*SIN(epsilon*XRONOS)*COS(D*XRONOS))","v":6.8541819367146006},{"$f":"IF(H164<CALCULATIONS!$M$9,Aktina*COS(epsilon*H164)*COS(D*H164),Aktina*COS(epsilon*XRONOS)*COS(D*XRONOS))","v":-10.389365344878218}]
[115,1.1500000000000008,{"$f":"IF(B165<CALCULATIONS!$M$9,Alfa1*SIN(miia*B165)-Alfa2*SIN(miib*B165),CURRENTX)","v":3.2924728739019962},{"$f":"IF(B165<CALCULATIONS!$M$9,-(Alfa1*COS(miia*B165)-Alfa2*COS(miib*B165)),CURRENTY)","v":51.466090505107999},null,null,115,1.1500000000000008,{"$f":"IF(H165<CALCULATIONS!$M$9,Aktina*SIN(epsilon*H165)*COS(D*H165),Aktina*SIN(epsilon*XRONOS)*COS(D*XRONOS))","v":1.0231119679636411},{"$f":"IF(H165<CALCULATIONS!$M$9,Aktina*COS(epsilon*H165)*COS(D*H165),Aktina*COS(epsilon*XRONOS)*COS(D*XRONOS))","v":-1.7334891553130696}]
[116,1.1600000000000008,{"$f":"IF(B166<CALCULATIONS!$M$9,Alfa1*SIN(miia*B166)-Alfa2*SIN(miib*B166),CURRENTX)","v":2.4821011567054079},{"$f":"IF(B166<CALCULATIONS!$M$9,-(Alfa1*COS(miia*B166)-Alfa2*COS(miib*B166)),CURRENTY)","v":54.584335485181199},null,null,116,1.1600000000000008,{"$f":"IF(H166<CALCULATIONS!$M$9,Aktina*SIN(epsilon*H166)*COS(D*H166),Aktina*SIN(epsilon*XRONOS)*COS(D*XRONOS))","v":-3.9333462079044494},{"$f":"IF(H166<CALCULATIONS!$M$9,Aktina*COS(epsilon*H166)*COS(D*H166),Aktina*COS(epsilon*XRONOS)*COS(D*XRONOS))","v":7.4968542730073509}]
[117,1.1700000000000008,{"$f":"IF(B167<CALCULATIONS!$M$9,Alfa1*SIN(miia*B167)-Alfa2*SIN(miib*B167),CURRENTX)","v":1.8093705410826217},{"$f":"IF(B167<CALCULATIONS!$M$9,-(Alfa1*COS(miia*B167)-Alfa2*COS(miib*B167)),CURRENTY)","v":57.466800926516626},null,null,117,1.1700000000000008,{"$f":"IF(H167<CALCULATIONS!$M$9,Aktina*SIN(epsilon*H167)*COS(D*H167),Aktina*SIN(epsilon*XRONOS)*COS(D*XRONOS))","v":-7.8726190970568171},{"$f":"IF(H167<CALCULATIONS!$M$9,Aktina*COS(epsilon*H167)*COS(D*H167),Aktina*COS(epsilon*XRONOS)*COS(D*XRONOS))","v":17.022543101539846}]
[118,1.1800000000000008,{"$f":"IF(B168<CALCULATIONS!$M$9,Alfa1*SIN(miia*B168)-Alfa2*SIN(miib*B168),CURRENTX)","v":1.2653257139447902},{"$f":"IF(B168<CALCULATIONS!$M$9,-(Alfa1*COS(miia*B168)-Alfa2*COS(miib*B168)),CURRENTY)","v":60.092417944508085},null,null,118,1.1800000000000008,{"$f":"IF(H168<CALCULATIONS!$M$9,Aktina*SIN(epsilon*H168)*COS(D*H168),Aktina*SIN(epsilon*XRONOS)*COS(D*XRONOS))","v":-10.701281757582889},{"$f":"IF(H168<CALCULATIONS!$M$9,Aktina*COS(epsilon*H168)*COS(D*H168),Aktina*COS(epsilon*XRONOS)*COS(D*XRONOS))","v":26.546743739622098}]
[119,1.1900000000000008,{"$f":"IF(B169<CALCULATIONS!$M$9,Alfa1*SIN(miia*B169)-Alfa2*SIN(miib*B169),CURRENTX)","v":0.83935874172375513},{"$f":"IF(B169<CALCULATIONS!$M$9,-(Alfa1*COS(miia*B169)-Alfa2*COS(miib*B169)),CURRENTY)","v":62.441890812221729},null,null,119,1.1900000000000008,{"$f":"IF(H169<CALCULATIONS!$M$9,Aktina*SIN(epsilon*H169)*COS(D*H169),Aktina*SIN(epsilon*XRONOS)*COS(D*XRONOS))","v":-12.378146672739113},{"$f":"IF(H169<CALCULATIONS!$M$9,Aktina*COS(epsilon*H169)*COS(D*H169),Aktina*COS(epsilon*XRONOS)*COS(D*XRONOS))","v":35.765916098205366}]
[120,1.2000000000000008,{"$f":"IF(B170<CALCULATIONS!$M$9,Alfa1*SIN(miia*B170)-Alfa2*SIN(miib*B170),CURRENTX)","v":0.51935516260636483},{"$f":"IF(B170<CALCULATIONS!$M$9,-(Alfa1*COS(miia*B170)-Alfa2*COS(miib*B170)),CURRENTY)","v":64.497872414108727},null,null,120,1.2000000000000008,{"$f":"IF(H170<CALCULATIONS!$M$9,Aktina*SIN(epsilon*H170)*COS(D*H170),Aktina*SIN(epsilon*XRONOS)*COS(D*XRONOS))","v":-12.915190540216622},{"$f":"IF(H170<CALCULATIONS!$M$9,Aktina*COS(epsilon*H170)*COS(D*H170),Aktina*COS(epsilon*XRONOS)*COS(D*XRONOS))","v":44.381153812432899}]
[121,1.2100000000000009,{"$f":"IF(B171<CALCULATIONS!$M$9,Alfa1*SIN(miia*B171)-Alfa2*SIN(miib*B171),CURRENTX)","v":0.29185594816425464},{"$f":"IF(B171<CALCULATIONS!$M$9,-(Alfa1*COS(miia*B171)-Alfa2*COS(miib*B171)),CURRENTY)","v":66.245122255739545},null,null,121,1.2100000000000009,{"$f":"IF(H171<CALCULATIONS!$M$9,Aktina*SIN(epsilon*H171)*COS(D*H171),Aktina*SIN(epsilon*XRONOS)*COS(D*XRONOS))","v":-12.376289175577273},{"$f":"IF(H171<CALCULATIONS!$M$9,Aktina*COS(epsilon*H171)*COS(D*H171),Aktina*COS(epsilon*XRONOS)*COS(D*XRONOS))","v":52.109414937459221}]
[122,1.2200000000000009,{"$f":"IF(B172<CALCULATIONS!$M$9,Alfa1*SIN(miia*B172)-Alfa2*SIN(miib*B172),CURRENTX)","v":0.14223361383846189},{"$f":"IF(B172<CALCULATIONS!$M$9,-(Alfa1*COS(miia*B172)-Alfa2*COS(miib*B172)),CURRENTY)","v":67.670645489062252},null,null,122,1.2200000000000009,{"$f":"IF(H172<CALCULATIONS!$M$9,Aktina*SIN(epsilon*H172)*COS(D*H172),Aktina*SIN(epsilon*XRONOS)*COS(D*XRONOS))","v":-10.873818834941666},{"$f":"IF(H172<CALCULATIONS!$M$9,Aktina*COS(epsilon*H172)*COS(D*H172),Aktina*COS(epsilon*XRONOS)*COS(D*XRONOS))","v":58.694202236978867}]
[123,1.2300000000000009,{"$f":"IF(B173<CALCULATIONS!$M$9,Alfa1*SIN(miia*B173)-Alfa2*SIN(miib*B173),CURRENTX)","v":5.4880614582087262E-2},{"$f":"IF(B173<CALCULATIONS!$M$9,-(Alfa1*COS(miia*B173)-Alfa2*COS(miib*B173)),CURRENTY)","v":68.763811597216176},null,null,123,1.2300000000000009,{"$f":"IF(H173<CALCULATIONS!$M$9,Aktina*SIN(epsilon*H173)*COS(D*H173),Aktina*SIN(epsilon*XRONOS)*COS(D*XRONOS))","v":-8.5632679658685582},{"$f":"IF(H173<CALCULATIONS!$M$9,Aktina*COS(epsilon*H173)*COS(D*H173),Aktina*COS(epsilon*XRONOS)*COS(D*XRONOS))","v":63.915273307036315}]
[124,1.2400000000000009,{"$f":"IF(B174<CALCULATIONS!$M$9,Alfa1*SIN(miia*B174)-Alfa2*SIN(miib*B174),CURRENTX)","v":1.3408037689277119E-2},{"$f":"IF(B174<CALCULATIONS!$M$9,-(Alfa1*COS(miia*B174)-Alfa2*COS(miib*B174)),CURRENTY)","v":69.516451580923686},null,null,124,1.2400000000000009,{"$f":"IF(H174<CALCULATIONS!$M$9,Aktina*SIN(epsilon*H174)*COS(D*H174),Aktina*SIN(epsilon*XRONOS)*COS(D*XRONOS))","v":-5.6360832729741652},{"$f":"IF(H174<CALCULATIONS!$M$9,Aktina*COS(epsilon*H174)*COS(D*H174),Aktina*COS(epsilon*XRONOS)*COS(D*XRONOS))","v":67.596998574946426}]
[125,1.2500000000000009,{"$f":"IF(B175<CALCULATIONS!$M$9,Alfa1*SIN(miia*B175)-Alfa2*SIN(miib*B175),CURRENTX)","v":8.5250069130138328E-4},{"$f":"IF(B175<CALCULATIONS!$M$9,-(Alfa1*COS(miia*B175)-Alfa2*COS(miib*B175)),CURRENTY)","v":69.922932697976876},null,null,125,1.2500000000000009,{"$f":"IF(H175<CALCULATIONS!$M$9,Aktina*SIN(epsilon*H175)*COS(D*H175),Aktina*SIN(epsilon*XRONOS)*COS(D*XRONOS))","v":-2.3110448461297262},{"$f":"IF(H175<CALCULATIONS!$M$9,Aktina*COS(epsilon*H175)*COS(D*H175),Aktina*COS(epsilon*XRONOS)*COS(D*XRONOS))","v":69.615038186472006}]
[126,1.2600000000000009,{"$f":"IF(B176<CALCULATIONS!$M$9,Alfa1*SIN(miia*B176)-Alfa2*SIN(miib*B176),CURRENTX)","v":-1.109207764637965E-4},{"$f":"IF(B176<CALCULATIONS!$M$9,-(Alfa1*COS(miia*B176)-Alfa2*COS(miib*B176)),CURRENTY)","v":69.980210026249466},null,null,126,1.2600000000000009,{"$f":"IF(H176<CALCULATIONS!$M$9,Aktina*SIN(epsilon*H176)*COS(D*H176),Aktina*SIN(epsilon*XRONOS)*COS(D*XRONOS))","v":1.1754758856521477},{"$f":"IF(H176<CALCULATIONS!$M$9,Aktina*COS(epsilon*H176)*COS(D*H176),Aktina*COS(epsilon*XRONOS)*COS(D*XRONOS))","v":69.901074841224684}]
[127,1.2700000000000009,{"$f":"IF(B177<CALCULATIONS!$M$9,Alfa1*SIN(miia*B177)-Alfa2*SIN(miib*B177),CURRENTX)","v":-6.9519712072727557E-3},{"$f":"IF(B177<CALCULATIONS!$M$9,-(Alfa1*COS(miia*B177)-Alfa2*COS(miib*B177)),CURRENTY)","v":69.687854346824452},null,null,127,1.2700000000000009,{"$f":"IF(H177<CALCULATIONS!$M$9,Aktina*SIN(epsilon*H177)*COS(D*H177),Aktina*SIN(epsilon*XRONOS)*COS(D*XRONOS))","v":4.5799767987588016},{"$f":"IF(H177<CALCULATIONS!$M$9,Aktina*COS(epsilon*H177)*COS(D*H177),Aktina*COS(epsilon*XRONOS)*COS(D*XRONOS))","v":68.445416133233849}]
[128,1.2800000000000009,{"$f":"IF(B178<CALCULATIONS!$M$9,Alfa1*SIN(miia*B178)-Alfa2*SIN(miib*B178),CURRENTX)","v":-3.7066973987131213E-2},{"$f":"IF(B178<CALCULATIONS!$M$9,-(Alfa1*COS(miia*B178)-Alfa2*COS(miib*B178)),CURRENTY)","v":69.048056074989063},null,null,128,1.2800000000000009,{"$f":"IF(H178<CALCULATIONS!$M$9,Aktina*SIN(epsilon*H178)*COS(D*H178),Aktina*SIN(epsilon*XRONOS)*COS(D*XRONOS))","v":7.6625769210850176},{"$f":"IF(H178<CALCULATIONS!$M$9,Aktina*COS(epsilon*H178)*COS(D*H178),Aktina*COS(epsilon*XRONOS)*COS(D*XRONOS))","v":65.297363861111748}]
[129,{"$f":"B178+dt","v":1.2900000000000009},{"$f":"IF(B179<CALCULATIONS!$M$9,Alfa1*SIN(miia*B179)-Alfa2*SIN(miib*B179),CURRENTX)","v":-0.10756136048517373},{"$f":"IF(B179<CALCULATIONS!$M$9,-(Alfa1*COS(miia*B179)-Alfa2*COS(miib*B179)),CURRENTY)","v":68.06560520071389},null,null,129,{"$f":"H178+dt","v":1.2900000000000009},{"$f":"IF(H179<CALCULATIONS!$M$9,Aktina*SIN(epsilon*H179)*COS(D*H179),Aktina*SIN(epsilon*XRONOS)*COS(D*XRONOS))","v":10.197620404382302},{"$f":"IF(H179<CALCULATIONS!$M$9,Aktina*COS(epsilon*H179)*COS(D*H179),Aktina*COS(epsilon*XRONOS)*COS(D*XRONOS))","v":60.563335755396317}]
[{"$f":"A179+1","v":130},1.3000000000000009,{"$f":"IF(B180<CALCULATIONS!$M$9,Alfa1*SIN(miia*B180)-Alfa2*SIN(miib*B180),CURRENTX)","v":-0.23503525147645199},{"$f":"IF(B180<CALCULATIONS!$M$9,-(Alfa1*COS(miia*B180)-Alfa2*COS(miib*B180)),CURRENTY)","v":66.747847434478871},null,null,{"$f":"G179+1","v":130},1.3000000000000009,{"$f":"IF(H180<CALCULATIONS!$M$9,Aktina*SIN(epsilon*H180)*COS(D*H180),Aktina*SIN(epsilon*XRONOS)*COS(D*XRONOS))","v":11.983699477853776},{"$f":"IF(H180<CALCULATIONS!$M$9,Aktina*COS(epsilon*H180)*COS(D*H180),Aktina*COS(epsilon*XRONOS)*COS(D*XRONOS))","v":54.402813632258628}]
[131,1.3100000000000009,{"$f":"IF(B181<CALCULATIONS!$M$9,Alfa1*SIN(miia*B181)-Alfa2*SIN(miib*B181),CURRENTX)","v":-0.4353743420409586},{"$f":"IF(B181<CALCULATIONS!$M$9,-(Alfa1*COS(miia*B181)-Alfa2*COS(miib*B181)),CURRENTY)","v":65.104616986610495},null,null,131,1.3100000000000009,{"$f":"IF(H181<CALCULATIONS!$M$9,Aktina*SIN(epsilon*H181)*COS(D*H181),Aktina*SIN(epsilon*XRONOS)*COS(D*XRONOS))","v":12.852686540348079},{"$f":"IF(H181<CALCULATIONS!$M$9,Aktina*COS(epsilon*H181)*COS(D*H181),Aktina*COS(epsilon*XRONOS)*COS(D*XRONOS))","v":47.022277602558688}]
[132,1.320000000000001,{"$f":"IF(B182<CALCULATIONS!$M$9,Alfa1*SIN(miia*B182)-Alfa2*SIN(miib*B182),CURRENTX)","v":-0.7235482874557988},{"$f":"IF(B182<CALCULATIONS!$M$9,-(Alfa1*COS(miia*B182)-Alfa2*COS(miib*B182)),CURRENTY)","v":63.148146636341671},null,null,132,1.320000000000001,{"$f":"IF(H182<CALCULATIONS!$M$9,Aktina*SIN(epsilon*H182)*COS(D*H182),Aktina*SIN(epsilon*XRONOS)*COS(D*XRONOS))","v":12.677405292491512},{"$f":"IF(H182<CALCULATIONS!$M$9,Aktina*COS(epsilon*H182)*COS(D*H182),Aktina*COS(epsilon*XRONOS)*COS(D*XRONOS))","v":38.667365240171343}]
[133,1.330000000000001,{"$f":"IF(B183<CALCULATIONS!$M$9,Alfa1*SIN(miia*B183)-Alfa2*SIN(miib*B183),CURRENTX)","v":-1.1134187117433356},{"$f":"IF(B183<CALCULATIONS!$M$9,-(Alfa1*COS(miia*B183)-Alfa2*COS(miib*B183)),CURRENTY)","v":60.892955968335968},null,null,133,1.330000000000001,{"$f":"IF(H183<CALCULATIONS!$M$9,Aktina*SIN(epsilon*H183)*COS(D*H183),Aktina*SIN(epsilon*XRONOS)*COS(D*XRONOS))","v":11.377625408843107},{"$f":"IF(H183<CALCULATIONS!$M$9,Aktina*COS(epsilon*H183)*COS(D*H183),Aktina*COS(epsilon*XRONOS)*COS(D*XRONOS))","v":29.613564393266639}]
[134,1.340000000000001,{"$f":"IF(B184<CALCULATIONS!$M$9,Alfa1*SIN(miia*B184)-Alfa2*SIN(miib*B184),CURRENTX)","v":-1.6175588632175035},{"$f":"IF(B184<CALCULATIONS!$M$9,-(Alfa1*COS(miia*B184)-Alfa2*COS(miib*B184)),CURRENTY)","v":58.355718867228916},null,null,134,1.340000000000001,{"$f":"IF(H184<CALCULATIONS!$M$9,Aktina*SIN(epsilon*H184)*COS(D*H184),Aktina*SIN(epsilon*XRONOS)*COS(D*XRONOS))","v":8.9241325235685522},{"$f":"IF(H184<CALCULATIONS!$M$9,Aktina*COS(epsilon*H184)*COS(D*H184),Aktina*COS(epsilon*XRONOS)*COS(D*XRONOS))","v":20.155805834768802}]
[135,1.350000000000001,{"$f":"IF(B185<CALCULATIONS!$M$9,Alfa1*SIN(miia*B185)-Alfa2*SIN(miib*B185),CURRENTX)","v":-2.2470868235577406},{"$f":"IF(B185<CALCULATIONS!$M$9,-(Alfa1*COS(miia*B185)-Alfa2*COS(miib*B185)),CURRENTY)","v":55.555111562720739},null,null,135,1.350000000000001,{"$f":"IF(H185<CALCULATIONS!$M$9,Aktina*SIN(epsilon*H185)*COS(D*H185),Aktina*SIN(epsilon*XRONOS)*COS(D*XRONOS))","v":5.3407025648504893},{"$f":"IF(H185<CALCULATIONS!$M$9,Aktina*COS(epsilon*H185)*COS(D*H185),Aktina*COS(epsilon*XRONOS)*COS(D*XRONOS))","v":10.597364910161051}]
[136,1.360000000000001,{"$f":"IF(B186<CALCULATIONS!$M$9,Alfa1*SIN(miia*B186)-Alfa2*SIN(miib*B186),CURRENTX)","v":-3.0115140398169018},{"$f":"IF(B186<CALCULATIONS!$M$9,-(Alfa1*COS(miia*B186)-Alfa2*COS(miib*B186)),CURRENTY)","v":52.511642706898321},null,null,136,1.360000000000001,{"$f":"IF(H186<CALCULATIONS!$M$9,Aktina*SIN(epsilon*H186)*COS(D*H186),Aktina*SIN(epsilon*XRONOS)*COS(D*XRONOS))","v":0.70389363779741954},{"$f":"IF(H186<CALCULATIONS!$M$9,Aktina*COS(epsilon*H186)*COS(D*H186),Aktina*COS(epsilon*XRONOS)*COS(D*XRONOS))","v":1.2385080483336515}]
[137,1.370000000000001,{"$f":"IF(B187<CALCULATIONS!$M$9,Alfa1*SIN(miia*B187)-Alfa2*SIN(miib*B187),CURRENTX)","v":-3.918610793709842},{"$f":"IF(B187<CALCULATIONS!$M$9,-(Alfa1*COS(miia*B187)-Alfa2*COS(miib*B187)),CURRENTY)","v":49.247467139895946},null,null,137,1.370000000000001,{"$f":"IF(H187<CALCULATIONS!$M$9,Aktina*SIN(epsilon*H187)*COS(D*H187),Aktina*SIN(epsilon*XRONOS)*COS(D*XRONOS))","v":-4.8593436385532467},{"$f":"IF(H187<CALCULATIONS!$M$9,Aktina*COS(epsilon*H187)*COS(D*H187),Aktina*COS(epsilon*XRONOS)*COS(D*XRONOS))","v":-7.6346706020110231}]
[138,1.380000000000001,{"$f":"IF(B188<CALCULATIONS!$M$9,Alfa1*SIN(miia*B188)-Alfa2*SIN(miib*B188),CURRENTX)","v":-4.9742900510869958},{"$f":"IF(B188<CALCULATIONS!$M$9,-(Alfa1*COS(miia*B188)-Alfa2*COS(miib*B188)),CURRENTY)","v":45.786185157994097},null,null,138,1.380000000000001,{"$f":"IF(H188<CALCULATIONS!$M$9,Aktina*SIN(epsilon*H188)*COS(D*H188),Aktina*SIN(epsilon*XRONOS)*COS(D*XRONOS))","v":-11.176148690970521},{"$f":"IF(H188<CALCULATIONS!$M$9,Aktina*COS(epsilon*H188)*COS(D*H188),Aktina*COS(epsilon*XRONOS)*COS(D*XRONOS))","v":-15.760785428712989}]
[139,1.390000000000001,{"$f":"IF(B189<CALCULATIONS!$M$9,Alfa1*SIN(miia*B189)-Alfa2*SIN(miib*B189),CURRENTX)","v":-6.1825109483917906},{"$f":"IF(B189<CALCULATIONS!$M$9,-(Alfa1*COS(miia*B189)-Alfa2*COS(miib*B189)),CURRENTY)","v":42.152629238233054},null,null,139,1.390000000000001,{"$f":"IF(H189<CALCULATIONS!$M$9,Aktina*SIN(epsilon*H189)*COS(D*H189),Aktina*SIN(epsilon*XRONOS)*COS(D*XRONOS))","v":-18.034153523778105},{"$f":"IF(H189<CALCULATIONS!$M$9,Aktina*COS(epsilon*H189)*COS(D*H189),Aktina*COS(epsilon*XRONOS)*COS(D*XRONOS))","v":-22.91265714487416}]
[140,1.400000000000001,{"$f":"IF(B190<CALCULATIONS!$M$9,Alfa1*SIN(miia*B190)-Alfa2*SIN(miib*B190),CURRENTX)","v":-7.5452029739966697},{"$f":"IF(B190<CALCULATIONS!$M$9,-(Alfa1*COS(miia*B190)-Alfa2*COS(miib*B190)),CURRENTY)","v":38.372640294203258},null,null,140,1.400000000000001,{"$f":"IF(H190<CALCULATIONS!$M$9,Aktina*SIN(epsilon*H190)*COS(D*H190),Aktina*SIN(epsilon*XRONOS)*COS(D*XRONOS))","v":-25.189554858545741},{"$f":"IF(H190<CALCULATIONS!$M$9,Aktina*COS(epsilon*H190)*COS(D*H190),Aktina*COS(epsilon*XRONOS)*COS(D*XRONOS))","v":-28.905402683701144}]
[141,1.410000000000001,{"$f":"IF(B191<CALCULATIONS!$M$9,Alfa1*SIN(miia*B191)-Alfa2*SIN(miib*B191),CURRENTX)","v":-9.0622116926043965},{"$f":"IF(B191<CALCULATIONS!$M$9,-(Alfa1*COS(miia*B191)-Alfa2*COS(miib*B191)),CURRENTY)","v":34.472835637669256},null,null,141,1.410000000000001,{"$f":"IF(H191<CALCULATIONS!$M$9,Aktina*SIN(epsilon*H191)*COS(D*H191),Aktina*SIN(epsilon*XRONOS)*COS(D*XRONOS))","v":-32.376538010725262},{"$f":"IF(H191<CALCULATIONS!$M$9,Aktina*COS(epsilon*H191)*COS(D*H191),Aktina*COS(epsilon*XRONOS)*COS(D*XRONOS))","v":-33.602804343103124}]
[142,1.420000000000001,{"$f":"IF(B192<CALCULATIONS!$M$9,Alfa1*SIN(miia*B192)-Alfa2*SIN(miib*B192),CURRENTX)","v":-10.731266642492621},{"$f":"IF(B192<CALCULATIONS!$M$9,-(Alfa1*COS(miia*B192)-Alfa2*COS(miib*B192)),CURRENTY)","v":30.480370899101967},null,null,142,1.420000000000001,{"$f":"IF(H192<CALCULATIONS!$M$9,Aktina*SIN(epsilon*H192)*COS(D*H192),Aktina*SIN(epsilon*XRONOS)*COS(D*XRONOS))","v":-39.317679758448399},{"$f":"IF(H192<CALCULATIONS!$M$9,Aktina*COS(epsilon*H192)*COS(D*H192),Aktina*COS(epsilon*XRONOS)*COS(D*XRONOS))","v":-36.921714269598908}]
[143,1.430000000000001,{"$f":"IF(B193<CALCULATIONS!$M$9,Alfa1*SIN(miia*B193)-Alfa2*SIN(miib*B193),CURRENTX)","v":-12.54797181045841},{"$f":"IF(B193<CALCULATIONS!$M$9,-(Alfa1*COS(miia*B193)-Alfa2*COS(miib*B193)),CURRENTY)","v":26.422698216266568},null,null,143,1.430000000000001,{"$f":"IF(H193<CALCULATIONS!$M$9,Aktina*SIN(epsilon*H193)*COS(D*H193),Aktina*SIN(epsilon*XRONOS)*COS(D*XRONOS))","v":-45.734917415559039},{"$f":"IF(H193<CALCULATIONS!$M$9,Aktina*COS(epsilon*H193)*COS(D*H193),Aktina*COS(epsilon*XRONOS)*COS(D*XRONOS))","v":-38.834328940976782}]
[144,1.4400000000000011,{"$f":"IF(B194<CALCULATIONS!$M$9,Alfa1*SIN(miia*B194)-Alfa2*SIN(miib*B194),CURRENTX)","v":-14.505818860144224},{"$f":"IF(B194<CALCULATIONS!$M$9,-(Alfa1*COS(miia*B194)-Alfa2*COS(miib*B194)),CURRENTY)","v":22.327323033183806},null,null,144,1.4400000000000011,{"$f":"IF(H194<CALCULATIONS!$M$9,Aktina*SIN(epsilon*H194)*COS(D*H194),Aktina*SIN(epsilon*XRONOS)*COS(D*XRONOS))","v":-51.360647714945337},{"$f":"IF(H194<CALCULATIONS!$M$9,Aktina*COS(epsilon*H194)*COS(D*H194),Aktina*COS(epsilon*XRONOS)*COS(D*XRONOS))","v":-39.368253366188021}]
[145,1.4500000000000011,{"$f":"IF(B195<CALCULATIONS!$M$9,Alfa1*SIN(miia*B195)-Alfa2*SIN(miib*B195),CURRENTX)","v":-16.596223058294552},{"$f":"IF(B195<CALCULATIONS!$M$9,-(Alfa1*COS(miia*B195)-Alfa2*COS(miib*B195)),CURRENTY)","v":18.221561861735537},null,null,145,1.4500000000000011,{"$f":"IF(H195<CALCULATIONS!$M$9,Aktina*SIN(epsilon*H195)*COS(D*H195),Aktina*SIN(epsilon*XRONOS)*COS(D*XRONOS))","v":-55.948512890818172},{"$f":"IF(H195<CALCULATIONS!$M$9,Aktina*COS(epsilon*H195)*COS(D*H195),Aktina*COS(epsilon*XRONOS)*COS(D*XRONOS))","v":-38.60436287671952}]
[146,1.4600000000000011,{"$f":"IF(B196<CALCULATIONS!$M$9,Alfa1*SIN(miia*B196)-Alfa2*SIN(miib*B196),CURRENTX)","v":-18.808581612721483},{"$f":"IF(B196<CALCULATIONS!$M$9,-(Alfa1*COS(miia*B196)-Alfa2*COS(miib*B196)),CURRENTY)","v":14.132303344831614},null,null,146,1.4600000000000011,{"$f":"IF(H196<CALCULATIONS!$M$9,Aktina*SIN(epsilon*H196)*COS(D*H196),Aktina*SIN(epsilon*XRONOS)*COS(D*XRONOS))","v":-59.283442778004414},{"$f":"IF(H196<CALCULATIONS!$M$9,Aktina*COS(epsilon*H196)*COS(D*H196),Aktina*COS(epsilon*XRONOS)*COS(D*XRONOS))","v":-36.672558121269446}]
[147,1.4700000000000011,{"$f":"IF(B197<CALCULATIONS!$M$9,Alfa1*SIN(miia*B197)-Alfa2*SIN(miib*B197),CURRENTX)","v":-21.130353907666294},{"$f":"IF(B197<CALCULATIONS!$M$9,-(Alfa1*COS(miia*B197)-Alfa2*COS(miib*B197)),CURRENTY)","v":10.085774923530591},null,null,147,1.4700000000000011,{"$f":"IF(H197<CALCULATIONS!$M$9,Aktina*SIN(epsilon*H197)*COS(D*H197),Aktina*SIN(epsilon*XRONOS)*COS(D*XRONOS))","v":-61.190550377359315},{"$f":"IF(H197<CALCULATIONS!$M$9,Aktina*COS(epsilon*H197)*COS(D*H197),Aktina*COS(epsilon*XRONOS)*COS(D*XRONOS))","v":-33.745592697800809}]
[148,1.4800000000000011,{"$f":"IF(B198<CALCULATIONS!$M$9,Alfa1*SIN(miia*B198)-Alfa2*SIN(miib*B198),CURRENTX)","v":-23.547162899118806},{"$f":"IF(B198<CALCULATIONS!$M$9,-(Alfa1*COS(miia*B198)-Alfa2*COS(miib*B198)),CURRENTY)","v":6.1073173511943093},null,null,148,1.4800000000000011,{"$f":"IF(H198<CALCULATIONS!$M$9,Aktina*SIN(epsilon*H198)*COS(D*H198),Aktina*SIN(epsilon*XRONOS)*COS(D*XRONOS))","v":-61.542523037887506},{"$f":"IF(H198<CALCULATIONS!$M$9,Aktina*COS(epsilon*H198)*COS(D*H198),Aktina*COS(epsilon*XRONOS)*COS(D*XRONOS))","v":-30.031229423917001}]
[149,1.4900000000000011,{"$f":"IF(B199<CALCULATIONS!$M$9,Alfa1*SIN(miia*B199)-Alfa2*SIN(miib*B199),CURRENTX)","v":-26.042916716739455},{"$f":"IF(B199<CALCULATIONS!$M$9,-(Alfa1*COS(miia*B199)-Alfa2*COS(miib*B199)),CURRENTY)","v":2.2211692162505585},null,null,149,1.4900000000000011,{"$f":"IF(H199<CALCULATIONS!$M$9,Aktina*SIN(epsilon*H199)*COS(D*H199),Aktina*SIN(epsilon*XRONOS)*COS(D*XRONOS))","v":-60.265210406062188},{"$f":"IF(H199<CALCULATIONS!$M$9,Aktina*COS(epsilon*H199)*COS(D*H199),Aktina*COS(epsilon*XRONOS)*COS(D*XRONOS))","v":-25.763047508226833}]
[150,1.5000000000000011,{"$f":"IF(B200<CALCULATIONS!$M$9,Alfa1*SIN(miia*B200)-Alfa2*SIN(miib*B200),CURRENTX)","v":-28.59994931248869},{"$f":"IF(B200<CALCULATIONS!$M$9,-(Alfa1*COS(miia*B200)-Alfa2*COS(miib*B200)),CURRENTY)","v":-1.5497364677383523},null,null,150,1.5000000000000011,{"$f":"IF(H200<CALCULATIONS!$M$9,Aktina*SIN(epsilon*H200)*COS(D*H200),Aktina*SIN(epsilon*XRONOS)*COS(D*XRONOS))","v":-57.341181248748796},{"$f":"IF(H200<CALCULATIONS!$M$9,Aktina*COS(epsilon*H200)*COS(D*H200),Aktina*COS(epsilon*XRONOS)*COS(D*XRONOS))","v":-21.190276203992788}]
[151,1.5100000000000011,{"$f":"IF(B201<CALCULATIONS!$M$9,Alfa1*SIN(miia*B201)-Alfa2*SIN(miib*B201),CURRENTX)","v":-31.19917880097795},{"$f":"IF(B201<CALCULATIONS!$M$9,-(Alfa1*COS(miia*B201)-Alfa2*COS(miib*B201)),CURRENTY)","v":-5.1839616692097028},null,null,151,1.5100000000000011,{"$f":"IF(H201<CALCULATIONS!$M$9,Aktina*SIN(epsilon*H201)*COS(D*H201),Aktina*SIN(epsilon*XRONOS)*COS(D*XRONOS))","v":-52.811101348608851},{"$f":"IF(H201<CALCULATIONS!$M$9,Aktina*COS(epsilon*H201)*COS(D*H201),Aktina*COS(epsilon*XRONOS)*COS(D*XRONOS))","v":-16.567068780898747}]
[152,1.5200000000000011,{"$f":"IF(B202<CALCULATIONS!$M$9,Alfa1*SIN(miia*B202)-Alfa2*SIN(miib*B202),CURRENTX)","v":-33.820281954881025},{"$f":"IF(B202<CALCULATIONS!$M$9,-(Alfa1*COS(miia*B202)-Alfa2*COS(miib*B202)),CURRENTY)","v":-8.661736949753692},null,null,152,1.5200000000000011,{"$f":"IF(H202<CALCULATIONS!$M$9,Aktina*SIN(epsilon*H202)*COS(D*H202),Aktina*SIN(epsilon*XRONOS)*COS(D*XRONOS))","v":-46.772870715658591},{"$f":"IF(H202<CALCULATIONS!$M$9,Aktina*COS(epsilon*H202)*COS(D*H202),Aktina*COS(epsilon*XRONOS)*COS(D*XRONOS))","v":-12.141652321695947}]
[153,1.5300000000000011,{"$f":"IF(B203<CALCULATIONS!$M$9,Alfa1*SIN(miia*B203)-Alfa2*SIN(miib*B203),CURRENTX)","v":-36.441883152308662},{"$f":"IF(B203<CALCULATIONS!$M$9,-(Alfa1*COS(miia*B203)-Alfa2*COS(miib*B203)),CURRENTY)","v":-11.965117646076447},null,null,153,1.5300000000000011,{"$f":"IF(H203<CALCULATIONS!$M$9,Aktina*SIN(epsilon*H203)*COS(D*H203),Aktina*SIN(epsilon*XRONOS)*COS(D*XRONOS))","v":-39.37854693367634},{"$f":"IF(H203<CALCULATIONS!$M$9,Aktina*COS(epsilon*H203)*COS(D*H203),Aktina*COS(epsilon*XRONOS)*COS(D*XRONOS))","v":-8.1457930802603258}]
[154,1.5400000000000011,{"$f":"IF(B204<CALCULATIONS!$M$9,Alfa1*SIN(miia*B204)-Alfa2*SIN(miib*B204),CURRENTX)","v":-39.041755923527241},{"$f":"IF(B204<CALCULATIONS!$M$9,-(Alfa1*COS(miia*B204)-Alfa2*COS(miib*B204)),CURRENTY)","v":-15.078121165600859},null,null,154,1.5400000000000011,{"$f":"IF(H204<CALCULATIONS!$M$9,Aktina*SIN(epsilon*H204)*COS(D*H204),Aktina*SIN(epsilon*XRONOS)*COS(D*XRONOS))","v":-30.829169041699281},{"$f":"IF(H204<CALCULATIONS!$M$9,Aktina*COS(epsilon*H204)*COS(D*H204),Aktina*COS(epsilon*XRONOS)*COS(D*XRONOS))","v":-4.7850037647860386}]
[155,1.5500000000000012,{"$f":"IF(B205<CALCULATIONS!$M$9,Alfa1*SIN(miia*B205)-Alfa2*SIN(miib*B205),CURRENTX)","v":-41.597035113306561},{"$f":"IF(B205<CALCULATIONS!$M$9,-(Alfa1*COS(miia*B205)-Alfa2*COS(miib*B205)),CURRENTY)","v":-17.986844128875791},null,null,155,1.5500000000000012,{"$f":"IF(H205<CALCULATIONS!$M$9,Aktina*SIN(epsilon*H205)*COS(D*H205),Aktina*SIN(epsilon*XRONOS)*COS(D*XRONOS))","v":-21.367679454128993},{"$f":"IF(H205<CALCULATIONS!$M$9,Aktina*COS(epsilon*H205)*COS(D*H205),Aktina*COS(epsilon*XRONOS)*COS(D*XRONOS))","v":-2.2298886755021163}]
[156,1.5600000000000012,{"$f":"IF(B206<CALCULATIONS!$M$9,Alfa1*SIN(miia*B206)-Alfa2*SIN(miib*B206),CURRENTX)","v":-44.084437563828168},{"$f":"IF(B206<CALCULATIONS!$M$9,-(Alfa1*COS(miia*B206)-Alfa2*COS(miib*B206)),CURRENTY)","v":-20.679558294699017},null,null,156,1.5600000000000012,{"$f":"IF(H206<CALCULATIONS!$M$9,Aktina*SIN(epsilon*H206)*COS(D*H206),Aktina*SIN(epsilon*XRONOS)*COS(D*XRONOS))","v":-11.270216740835451},{"$f":"IF(H206<CALCULATIONS!$M$9,Aktina*COS(epsilon*H206)*COS(D*H206),Aktina*COS(epsilon*XRONOS)*COS(D*XRONOS))","v":-0.60897635230426261}]
[157,1.5700000000000012,{"$f":"IF(B207<CALCULATIONS!$M$9,Alfa1*SIN(miia*B207)-Alfa2*SIN(miib*B207),CURRENTX)","v":-46.480489132604632},{"$f":"IF(B207<CALCULATIONS!$M$9,-(Alfa1*COS(miia*B207)-Alfa2*COS(miib*B207)),CURRENTY)","v":-23.146784416961165},null,null,157,1.5700000000000012,{"$f":"IF(H207<CALCULATIONS!$M$9,Aktina*SIN(epsilon*H207)*COS(D*H207),Aktina*SIN(epsilon*XRONOS)*COS(D*XRONOS))","v":-0.83611662351000238},{"$f":"IF(H207<CALCULATIONS!$M$9,Aktina*COS(epsilon*H207)*COS(D*H207),Aktina*COS(epsilon*XRONOS)*COS(D*XRONOS))","v":-3.3291279474869828E-3}]
[158,1.5800000000000012,{"$f":"IF(B208<CALCULATIONS!$M$9,Alfa1*SIN(miia*B208)-Alfa2*SIN(miib*B208),CURRENTX)","v":-48.761755791168831},{"$f":"IF(B208<CALCULATIONS!$M$9,-(Alfa1*COS(miia*B208)-Alfa2*COS(miib*B208)),CURRENTY)","v":-25.381343403555348},null,null,158,1.5800000000000012,{"$f":"IF(H208<CALCULATIONS!$M$9,Aktina*SIN(epsilon*H208)*COS(D*H208),Aktina*SIN(epsilon*XRONOS)*COS(D*XRONOS))","v":9.6229902722905418},{"$f":"IF(H208<CALCULATIONS!$M$9,Aktina*COS(epsilon*H208)*COS(D*H208),Aktina*COS(epsilon*XRONOS)*COS(D*XRONOS))","v":-0.44314714887934564}]
[159,1.5900000000000012,{"$f":"IF(B209<CALCULATIONS!$M$9,Alfa1*SIN(miia*B209)-Alfa2*SIN(miib*B209),CURRENTX)","v":-50.905076504086928},{"$f":"IF(B209<CALCULATIONS!$M$9,-(Alfa1*COS(miia*B209)-Alfa2*COS(miib*B209)),CURRENTY)","v":-27.37838437505243},null,null,159,1.5900000000000012,{"$f":"IF(H209<CALCULATIONS!$M$9,Aktina*SIN(epsilon*H209)*COS(D*H209),Aktina*SIN(epsilon*XRONOS)*COS(D*XRONOS))","v":19.794559575829034},{"$f":"IF(H209<CALCULATIONS!$M$9,Aktina*COS(epsilon*H209)*COS(D*H209),Aktina*COS(epsilon*XRONOS)*COS(D*XRONOS))","v":-1.9065038921154611}]
[160,1.6000000000000012,{"$f":"IF(B210<CALCULATIONS!$M$9,Alfa1*SIN(miia*B210)-Alfa2*SIN(miib*B210),CURRENTX)","v":-52.88779556460954},{"$f":"IF(B210<CALCULATIONS!$M$9,-(Alfa1*COS(miia*B210)-Alfa2*COS(miib*B210)),CURRENTY)","v":-29.135389451947781},null,null,160,1.6000000000000012,{"$f":"IF(H210<CALCULATIONS!$M$9,Aktina*SIN(epsilon*H210)*COS(D*H210),Aktina*SIN(epsilon*XRONOS)*COS(D*XRONOS))","v":29.376549926737546},{"$f":"IF(H210<CALCULATIONS!$M$9,Aktina*COS(epsilon*H210)*COS(D*H210),Aktina*COS(epsilon*XRONOS)*COS(D*XRONOS))","v":-4.3202641935909245}]
[161,1.6100000000000012,{"$f":"IF(B211<CALCULATIONS!$M$9,Alfa1*SIN(miia*B211)-Alfa2*SIN(miib*B211),CURRENTX)","v":-54.687992063245702},{"$f":"IF(B211<CALCULATIONS!$M$9,-(Alfa1*COS(miia*B211)-Alfa2*COS(miib*B211)),CURRENTY)","v":-30.652155331827366},null,null,161,1.6100000000000012,{"$f":"IF(H211<CALCULATIONS!$M$9,Aktina*SIN(epsilon*H211)*COS(D*H211),Aktina*SIN(epsilon*XRONOS)*COS(D*XRONOS))","v":38.088430602753},{"$f":"IF(H211<CALCULATIONS!$M$9,Aktina*COS(epsilon*H211)*COS(D*H211),Aktina*COS(epsilon*XRONOS)*COS(D*XRONOS))","v":-7.5631477505897395}]
[162,1.6200000000000012,{"$f":"IF(B212<CALCULATIONS!$M$9,Alfa1*SIN(miia*B212)-Alfa2*SIN(miib*B212),CURRENTX)","v":-56.284704188735112},{"$f":"IF(B212<CALCULATIONS!$M$9,-(Alfa1*COS(miia*B212)-Alfa2*COS(miib*B212)),CURRENTY)","v":-31.930751949455892},null,null,162,1.6200000000000012,{"$f":"IF(H212<CALCULATIONS!$M$9,Aktina*SIN(epsilon*H212)*COS(D*H212),Aktina*SIN(epsilon*XRONOS)*COS(D*XRONOS))","v":45.681351509719505},{"$f":"IF(H212<CALCULATIONS!$M$9,Aktina*COS(epsilon*H212)*COS(D*H212),Aktina*COS(epsilon*XRONOS)*COS(D*XRONOS))","v":-11.470814488965862}]
[163,1.6300000000000012,{"$f":"IF(B213<CALCULATIONS!$M$9,Alfa1*SIN(miia*B213)-Alfa2*SIN(miib*B213),CURRENTX)","v":-57.658146107095405},{"$f":"IF(B213<CALCULATIONS!$M$9,-(Alfa1*COS(miia*B213)-Alfa2*COS(miib*B213)),CURRENTY)","v":-32.975458741248481},null,null,163,1.6300000000000012,{"$f":"IF(H213<CALCULATIONS!$M$9,Aktina*SIN(epsilon*H213)*COS(D*H213),Aktina*SIN(epsilon*XRONOS)*COS(D*XRONOS))","v":51.947080218856364},{"$f":"IF(H213<CALCULATIONS!$M$9,Aktina*COS(epsilon*H213)*COS(D*H213),Aktina*COS(epsilon*XRONOS)*COS(D*XRONOS))","v":-15.842766556656525}]
[164,1.6400000000000012,{"$f":"IF(B214<CALCULATIONS!$M$9,Alfa1*SIN(miia*B214)-Alfa2*SIN(miib*B214),CURRENTX)","v":-58.789915233174995},{"$f":"IF(B214<CALCULATIONS!$M$9,-(Alfa1*COS(miia*B214)-Alfa2*COS(miib*B214)),CURRENTY)","v":-33.792679258560717},null,null,164,1.6400000000000012,{"$f":"IF(H214<CALCULATIONS!$M$9,Aktina*SIN(epsilon*H214)*COS(D*H214),Aktina*SIN(epsilon*XRONOS)*COS(D*XRONOS))","v":56.725359589923613},{"$f":"IF(H214<CALCULATIONS!$M$9,Aktina*COS(epsilon*H214)*COS(D*H214),Aktina*COS(epsilon*XRONOS)*COS(D*XRONOS))","v":-20.450788282970475}]
[165,1.6500000000000012,{"$f":"IF(B215<CALCULATIONS!$M$9,Alfa1*SIN(miia*B215)-Alfa2*SIN(miib*B215),CURRENTX)","v":-59.663187799782179},{"$f":"IF(B215<CALCULATIONS!$M$9,-(Alfa1*COS(miia*B215)-Alfa2*COS(miib*B215)),CURRENTY)","v":-34.390835089500399},null,null,165,1.6500000000000012,{"$f":"IF(H215<CALCULATIONS!$M$9,Aktina*SIN(epsilon*H215)*COS(D*H215),Aktina*SIN(epsilon*XRONOS)*COS(D*XRONOS))","v":59.9094020866739},{"$f":"IF(H215<CALCULATIONS!$M$9,Aktina*COS(epsilon*H215)*COS(D*H215),Aktina*COS(epsilon*XRONOS)*COS(D*XRONOS))","v":-25.048583165402658}]
[166,1.6600000000000013,{"$f":"IF(B216<CALCULATIONS!$M$9,Alfa1*SIN(miia*B216)-Alfa2*SIN(miib*B216),CURRENTX)","v":-60.262900741094036},{"$f":"IF(B216<CALCULATIONS!$M$9,-(Alfa1*COS(miia*B216)-Alfa2*COS(miib*B216)),CURRENTY)","v":-34.780240254378008},null,null,166,1.6600000000000013,{"$f":"IF(H216<CALCULATIONS!$M$9,Aktina*SIN(epsilon*H216)*COS(D*H216),Aktina*SIN(epsilon*XRONOS)*COS(D*XRONOS))","v":61.449310682429605},{"$f":"IF(H216<CALCULATIONS!$M$9,Aktina*COS(epsilon*H216)*COS(D*H216),Aktina*COS(epsilon*XRONOS)*COS(D*XRONOS))","v":-29.382218304730351}]
[167,1.6700000000000013,{"$f":"IF(B217<CALCULATIONS!$M$9,Alfa1*SIN(miia*B217)-Alfa2*SIN(miib*B217),CURRENTX)","v":-60.575918038567806},{"$f":"IF(B217<CALCULATIONS!$M$9,-(Alfa1*COS(miia*B217)-Alfa2*COS(miib*B217)),CURRENTY)","v":-34.972957433419957},null,null,167,1.6700000000000013,{"$f":"IF(H217<CALCULATIONS!$M$9,Aktina*SIN(epsilon*H217)*COS(D*H217),Aktina*SIN(epsilon*XRONOS)*COS(D*XRONOS))","v":61.353298331869667},{"$f":"IF(H217<CALCULATIONS!$M$9,Aktina*COS(epsilon*H217)*COS(D*H217),Aktina*COS(epsilon*XRONOS)*COS(D*XRONOS))","v":-33.200953653223152}]
[168,1.6800000000000013,{"$f":"IF(B218<CALCULATIONS!$M$9,Alfa1*SIN(miia*B218)-Alfa2*SIN(miib*B218),CURRENTX)","v":-60.59117982768818},{"$f":"IF(B218<CALCULATIONS!$M$9,-(Alfa1*COS(miia*B218)-Alfa2*COS(miib*B218)),CURRENTY)","v":-34.982637565043774},null,null,168,1.6800000000000013,{"$f":"IF(H218<CALCULATIONS!$M$9,Aktina*SIN(epsilon*H218)*COS(D*H218),Aktina*SIN(epsilon*XRONOS)*COS(D*XRONOS))","v":59.686665083777854},{"$f":"IF(H218<CALCULATIONS!$M$9,Aktina*COS(epsilon*H218)*COS(D*H218),Aktina*COS(epsilon*XRONOS)*COS(D*XRONOS))","v":-36.268017296444974}]
[169,1.6900000000000013,{"$f":"IF(B219<CALCULATIONS!$M$9,Alfa1*SIN(miia*B219)-Alfa2*SIN(miib*B219),CURRENTX)","v":-60.299832731094448},{"$f":"IF(B219<CALCULATIONS!$M$9,-(Alfa1*COS(miia*B219)-Alfa2*COS(miib*B219)),CURRENTY)","v":-34.824344517044011},null,null,169,1.6900000000000013,{"$f":"IF(H219<CALCULATIONS!$M$9,Aktina*SIN(epsilon*H219)*COS(D*H219),Aktina*SIN(epsilon*XRONOS)*COS(D*XRONOS))","v":56.568580562868405},{"$f":"IF(H219<CALCULATIONS!$M$9,Aktina*COS(epsilon*H219)*COS(D*H219),Aktina*COS(epsilon*XRONOS)*COS(D*XRONOS))","v":-38.370889407984315}]
[170,1.7000000000000013,{"$f":"IF(B220<CALCULATIONS!$M$9,Alfa1*SIN(miia*B220)-Alfa2*SIN(miib*B220),CURRENTX)","v":-59.695340066285766},{"$f":"IF(B220<CALCULATIONS!$M$9,-(Alfa1*COS(miia*B220)-Alfa2*COS(miib*B220)),CURRENTY)","v":-34.514366679828974},null,null,170,1.7000000000000013,{"$f":"IF(H220<CALCULATIONS!$M$9,Aktina*SIN(epsilon*H220)*COS(D*H220),Aktina*SIN(epsilon*XRONOS)*COS(D*XRONOS))","v":52.166806229984687},{"$f":"IF(H220<CALCULATIONS!$M$9,Aktina*COS(epsilon*H220)*COS(D*H220),Aktina*COS(epsilon*XRONOS)*COS(D*XRONOS))","v":-39.330676449267173}]
[171,1.7100000000000013,{"$f":"IF(B221<CALCULATIONS!$M$9,Alfa1*SIN(miia*B221)-Alfa2*SIN(miib*B221),CURRENTX)","v":-58.773570772387636},{"$f":"IF(B221<CALCULATIONS!$M$9,-(Alfa1*COS(miia*B221)-Alfa2*COS(miib*B221)),CURRENTY)","v":-34.070017458920731},null,null,171,1.7100000000000013,{"$f":"IF(H221<CALCULATIONS!$M$9,Aktina*SIN(epsilon*H221)*COS(D*H221),Aktina*SIN(epsilon*XRONOS)*COS(D*XRONOS))","v":46.690573091340013},{"$f":"IF(H221<CALCULATIONS!$M$9,Aktina*COS(epsilon*H221)*COS(D*H221),Aktina*COS(epsilon*XRONOS)*COS(D*XRONOS))","v":-39.010192885152335}]
[172,1.7200000000000013,{"$f":"IF(B222<CALCULATIONS!$M$9,Alfa1*SIN(miia*B222)-Alfa2*SIN(miib*B222),CURRENTX)","v":-57.532866108429005},{"$f":"IF(B222<CALCULATIONS!$M$9,-(Alfa1*COS(miia*B222)-Alfa2*COS(miib*B222)),CURRENTY)","v":-33.509426752010093},null,null,172,1.7200000000000013,{"$f":"IF(H222<CALCULATIONS!$M$9,Aktina*SIN(epsilon*H222)*COS(D*H222),Aktina*SIN(epsilon*XRONOS)*COS(D*XRONOS))","v":40.381903138149326},{"$f":"IF(H222<CALCULATIONS!$M$9,Aktina*COS(epsilon*H222)*COS(D*H222),Aktina*COS(epsilon*XRONOS)*COS(D*XRONOS))","v":-37.320418732775828}]
[173,1.7300000000000013,{"$f":"IF(B223<CALCULATIONS!$M$9,Alfa1*SIN(miia*B223)-Alfa2*SIN(miib*B223),CURRENTX)","v":-55.974083393161251},{"$f":"IF(B223<CALCULATIONS!$M$9,-(Alfa1*COS(miia*B223)-Alfa2*COS(miib*B223)),CURRENTY)","v":-32.851325582873812},null,null,173,1.7300000000000013,{"$f":"IF(H223<CALCULATIONS!$M$9,Aktina*SIN(epsilon*H223)*COS(D*H223),Aktina*SIN(epsilon*XRONOS)*COS(D*XRONOS))","v":33.505723872461203},{"$f":"IF(H223<CALCULATIONS!$M$9,Aktina*COS(epsilon*H223)*COS(D*H223),Aktina*COS(epsilon*XRONOS)*COS(D*XRONOS))","v":-34.225065625837267}]
[174,1.7400000000000013,{"$f":"IF(B224<CALCULATIONS!$M$9,Alfa1*SIN(miia*B224)-Alfa2*SIN(miib*B224),CURRENTX)","v":-54.100616281483035},{"$f":"IF(B224<CALCULATIONS!$M$9,-(Alfa1*COS(miia*B224)-Alfa2*COS(miib*B224)),CURRENTY)","v":-32.114826129547431},null,null,174,1.7400000000000013,{"$f":"IF(H224<CALCULATIONS!$M$9,Aktina*SIN(epsilon*H224)*COS(D*H224),Aktina*SIN(epsilon*XRONOS)*COS(D*XRONOS))","v":26.339172388089025},{"$f":"IF(H224<CALCULATIONS!$M$9,Aktina*COS(epsilon*H224)*COS(D*H224),Aktina*COS(epsilon*XRONOS)*COS(D*XRONOS))","v":-29.743059197046556}]
[175,1.7500000000000013,{"$f":"IF(B225<CALCULATIONS!$M$9,Alfa1*SIN(miia*B225)-Alfa2*SIN(miib*B225),CURRENTX)","v":-51.918391302785658},{"$f":"IF(B225<CALCULATIONS!$M$9,-(Alfa1*COS(miia*B225)-Alfa2*COS(miib*B225)),CURRENTY)","v":-31.319199426667456},null,null,175,1.7500000000000013,{"$f":"IF(H225<CALCULATIONS!$M$9,Aktina*SIN(epsilon*H225)*COS(D*H225),Aktina*SIN(epsilon*XRONOS)*COS(D*XRONOS))","v":19.160516759019224},{"$f":"IF(H225<CALCULATIONS!$M$9,Aktina*COS(epsilon*H225)*COS(D*H225),Aktina*COS(epsilon*XRONOS)*COS(D*XRONOS))","v":-23.948828465800752}]
[176,1.7600000000000013,{"$f":"IF(B226<CALCULATIONS!$M$9,Alfa1*SIN(miia*B226)-Alfa2*SIN(miib*B226),CURRENTX)","v":-49.43584061970482},{"$f":"IF(B226<CALCULATIONS!$M$9,-(Alfa1*COS(miia*B226)-Alfa2*COS(miib*B226)),CURRENTY)","v":-30.483653041428177},null,null,176,1.7600000000000013,{"$f":"IF(H226<CALCULATIONS!$M$9,Aktina*SIN(epsilon*H226)*COS(D*H226),Aktina*SIN(epsilon*XRONOS)*COS(D*XRONOS))","v":12.23813670463427},{"$f":"IF(H226<CALCULATIONS!$M$9,Aktina*COS(epsilon*H226)*COS(D*H226),Aktina*COS(epsilon*XRONOS)*COS(D*XRONOS))","v":-16.970380263890362}]
[177,1.7700000000000014,{"$f":"IF(B227<CALCULATIONS!$M$9,Alfa1*SIN(miia*B227)-Alfa2*SIN(miib*B227),CURRENTX)","v":-46.663851199544681},{"$f":"IF(B227<CALCULATIONS!$M$9,-(Alfa1*COS(miia*B227)-Alfa2*COS(miib*B227)),CURRENTY)","v":-29.627111018961919},null,null,177,1.7700000000000014,{"$f":"IF(H227<CALCULATIONS!$M$9,Aktina*SIN(epsilon*H227)*COS(D*H227),Aktina*SIN(epsilon*XRONOS)*COS(D*XRONOS))","v":5.8200020951185891},{"$f":"IF(H227<CALCULATIONS!$M$9,Aktina*COS(epsilon*H227)*COS(D*H227),Aktina*COS(epsilon*XRONOS)*COS(D*XRONOS))","v":-8.9852250577196937}]
[178,1.7800000000000014,{"$f":"IF(B228<CALCULATIONS!$M$9,Alfa1*SIN(miia*B228)-Alfa2*SIN(miib*B228),CURRENTX)","v":-43.615690822697729},{"$f":"IF(B228<CALCULATIONS!$M$9,-(Alfa1*COS(miia*B228)-Alfa2*COS(miib*B228)),CURRENTY)","v":-28.767998366188756},null,null,178,1.7800000000000014,{"$f":"IF(H228<CALCULATIONS!$M$9,Aktina*SIN(epsilon*H228)*COS(D*H228),Aktina*SIN(epsilon*XRONOS)*COS(D*XRONOS))","v":0.12406697774120104},{"$f":"IF(H228<CALCULATIONS!$M$9,Aktina*COS(epsilon*H228)*COS(D*H228),Aktina*COS(epsilon*XRONOS)*COS(D*XRONOS))","v":-0.2143063097222502}]
[179,1.7900000000000014,{"$f":"IF(B229<CALCULATIONS!$M$9,Alfa1*SIN(miia*B229)-Alfa2*SIN(miib*B229),CURRENTX)","v":-40.306911580408176},{"$f":"IF(B229<CALCULATIONS!$M$9,-(Alfa1*COS(miia*B229)-Alfa2*COS(miib*B229)),CURRENTY)","v":-27.924032293570818},null,null,179,1.7900000000000014,{"$f":"IF(H229<CALCULATIONS!$M$9,Aktina*SIN(epsilon*H229)*COS(D*H229),Aktina*SIN(epsilon*XRONOS)*COS(D*XRONOS))","v":-4.6700407118221285},{"$f":"IF(H229<CALCULATIONS!$M$9,Aktina*COS(epsilon*H229)*COS(D*H229),Aktina*COS(epsilon*XRONOS)*COS(D*XRONOS))","v":9.0858346568798183}]
[180,1.8000000000000014,{"$f":"IF(B230<CALCULATIONS!$M$9,Alfa1*SIN(miia*B230)-Alfa2*SIN(miib*B230),CURRENTX)","v":-36.755231735953892},{"$f":"IF(B230<CALCULATIONS!$M$9,-(Alfa1*COS(miia*B230)-Alfa2*COS(miib*B230)),CURRENTY)","v":-27.112022362256273},null,null,180,1.8000000000000014,{"$f":"IF(H230<CALCULATIONS!$M$9,Aktina*SIN(epsilon*H230)*COS(D*H230),Aktina*SIN(epsilon*XRONOS)*COS(D*XRONOS))","v":-8.4277062335008424},{"$f":"IF(H230<CALCULATIONS!$M$9,Aktina*COS(epsilon*H230)*COS(D*H230),Aktina*COS(epsilon*XRONOS)*COS(D*XRONOS))","v":18.632355651585002}]
[181,1.8100000000000014,{"$f":"IF(B231<CALCULATIONS!$M$9,Alfa1*SIN(miia*B231)-Alfa2*SIN(miib*B231),CURRENTX)","v":-32.980397036540296},{"$f":"IF(B231<CALCULATIONS!$M$9,-(Alfa1*COS(miia*B231)-Alfa2*COS(miib*B231)),CURRENTY)","v":-26.347681590535803},null,null,181,1.8100000000000014,{"$f":"IF(H231<CALCULATIONS!$M$9,Aktina*SIN(epsilon*H231)*COS(D*H231),Aktina*SIN(epsilon*XRONOS)*COS(D*XRONOS))","v":-11.064130066435391},{"$f":"IF(H231<CALCULATIONS!$M$9,Aktina*COS(epsilon*H231)*COS(D*H231),Aktina*COS(epsilon*XRONOS)*COS(D*XRONOS))","v":28.126511123835222}]
[182,1.8200000000000014,{"$f":"IF(B232<CALCULATIONS!$M$9,Alfa1*SIN(miia*B232)-Alfa2*SIN(miib*B232),CURRENTX)","v":-29.00402276578248},{"$f":"IF(B232<CALCULATIONS!$M$9,-(Alfa1*COS(miia*B232)-Alfa2*COS(miib*B232)),CURRENTY)","v":-25.645450459306918},null,null,182,1.8200000000000014,{"$f":"IF(H232<CALCULATIONS!$M$9,Aktina*SIN(epsilon*H232)*COS(D*H232),Aktina*SIN(epsilon*XRONOS)*COS(D*XRONOS))","v":-12.547059072361847},{"$f":"IF(H232<CALCULATIONS!$M$9,Aktina*COS(epsilon*H232)*COS(D*H232),Aktina*COS(epsilon*XRONOS)*COS(D*XRONOS))","v":37.264744446022057}]
[183,1.8300000000000014,{"$f":"IF(B233<CALCULATIONS!$M$9,Alfa1*SIN(miia*B233)-Alfa2*SIN(miib*B233),CURRENTX)","v":-24.849418016592658},{"$f":"IF(B233<CALCULATIONS!$M$9,-(Alfa1*COS(miia*B233)-Alfa2*COS(miib*B233)),CURRENTY)","v":-25.018335622503947},null,null,183,1.8300000000000014,{"$f":"IF(H233<CALCULATIONS!$M$9,Aktina*SIN(epsilon*H233)*COS(D*H233),Aktina*SIN(epsilon*XRONOS)*COS(D*XRONOS))","v":-12.897344405754493},{"$f":"IF(H233<CALCULATIONS!$M$9,Aktina*COS(epsilon*H233)*COS(D*H233),Aktina*COS(epsilon*XRONOS)*COS(D*XRONOS))","v":45.750040928731039}]
[184,1.8400000000000014,{"$f":"IF(B234<CALCULATIONS!$M$9,Alfa1*SIN(miia*B234)-Alfa2*SIN(miib*B234),CURRENTX)","v":-20.541393839688524},{"$f":"IF(B234<CALCULATIONS!$M$9,-(Alfa1*COS(miia*B234)-Alfa2*COS(miib*B234)),CURRENTY)","v":-24.477764976549629},null,null,184,1.8400000000000014,{"$f":"IF(H234<CALCULATIONS!$M$9,Aktina*SIN(epsilon*H234)*COS(D*H234),Aktina*SIN(epsilon*XRONOS)*COS(D*XRONOS))","v":-12.187311201756382},{"$f":"IF(H234<CALCULATIONS!$M$9,Aktina*COS(epsilon*H234)*COS(D*H234),Aktina*COS(epsilon*XRONOS)*COS(D*XRONOS))","v":53.303096441396619}]
[185,1.8500000000000014,{"$f":"IF(B235<CALCULATIONS!$M$9,Alfa1*SIN(miia*B235)-Alfa2*SIN(miib*B235),CURRENTX)","v":-16.106057082043886},{"$f":"IF(B235<CALCULATIONS!$M$9,-(Alfa1*COS(miia*B235)-Alfa2*COS(miib*B235)),CURRENTY)","v":-24.033460574349071},null,null,185,1.8500000000000014,{"$f":"IF(H235<CALCULATIONS!$M$9,Aktina*SIN(epsilon*H235)*COS(D*H235),Aktina*SIN(epsilon*XRONOS)*COS(D*XRONOS))","v":-10.537013021058248},{"$f":"IF(H235<CALCULATIONS!$M$9,Aktina*COS(epsilon*H235)*COS(D*H235),Aktina*COS(epsilon*XRONOS)*COS(D*XRONOS))","v":59.672863099276796}]
[186,1.8600000000000014,{"$f":"IF(B236<CALCULATIONS!$M$9,Alfa1*SIN(miia*B236)-Alfa2*SIN(miib*B236),CURRENTX)","v":-11.57059187085005},{"$f":"IF(B236<CALCULATIONS!$M$9,-(Alfa1*COS(miia*B236)-Alfa2*COS(miib*B236)),CURRENTY)","v":-23.693330685876955},null,null,186,1.8600000000000014,{"$f":"IF(H236<CALCULATIONS!$M$9,Aktina*SIN(epsilon*H236)*COS(D*H236),Aktina*SIN(epsilon*XRONOS)*COS(D*XRONOS))","v":-8.10852898981239},{"$f":"IF(H236<CALCULATIONS!$M$9,Aktina*COS(epsilon*H236)*COS(D*H236),Aktina*COS(epsilon*XRONOS)*COS(D*XRONOS))","v":64.646057481455614}]
[187,1.8700000000000014,{"$f":"IF(B237<CALCULATIONS!$M$9,Alfa1*SIN(miia*B237)-Alfa2*SIN(miib*B237),CURRENTX)","v":-6.9630308205089362},{"$f":"IF(B237<CALCULATIONS!$M$9,-(Alfa1*COS(miia*B237)-Alfa2*COS(miib*B237)),CURRENTY)","v":-23.463382110846457},null,null,187,1.8700000000000014,{"$f":"IF(H237<CALCULATIONS!$M$9,Aktina*SIN(epsilon*H237)*COS(D*H237),Aktina*SIN(epsilon*XRONOS)*COS(D*XRONOS))","v":-5.0985401490116011},{"$f":"IF(H237<CALCULATIONS!$M$9,Aktina*COS(epsilon*H237)*COS(D*H237),Aktina*COS(epsilon*XRONOS)*COS(D*XRONOS))","v":68.055257315744882}]
[188,1.8800000000000014,{"$f":"IF(B238<CALCULATIONS!$M$9,Alfa1*SIN(miia*B238)-Alfa2*SIN(miib*B238),CURRENTX)","v":-2.3120181416512731},{"$f":"IF(B238<CALCULATIONS!$M$9,-(Alfa1*COS(miia*B238)-Alfa2*COS(miib*B238)),CURRENTY)","v":-23.347653641274722},null,null,188,1.8800000000000014,{"$f":"IF(H238<CALCULATIONS!$M$9,Aktina*SIN(epsilon*H238)*COS(D*H238),Aktina*SIN(epsilon*XRONOS)*COS(D*XRONOS))","v":-1.7294905835167809},{"$f":"IF(H238<CALCULATIONS!$M$9,Aktina*COS(epsilon*H238)*COS(D*H238),Aktina*COS(epsilon*XRONOS)*COS(D*XRONOS))","v":69.785267900346327}]
[189,1.8900000000000015,{"$f":"IF(B239<CALCULATIONS!$M$9,Alfa1*SIN(miia*B239)-Alfa2*SIN(miib*B239),CURRENTX)","v":2.3534330888636648},{"$f":"IF(B239<CALCULATIONS!$M$9,-(Alfa1*COS(miia*B239)-Alfa2*COS(miib*B239)),CURRENTY)","v":-23.34817135506027},null,null,189,1.8900000000000015,{"$f":"IF(H239<CALCULATIONS!$M$9,Aktina*SIN(epsilon*H239)*COS(D*H239),Aktina*SIN(epsilon*XRONOS)*COS(D*XRONOS))","v":1.7603043214996184},{"$f":"IF(H239<CALCULATIONS!$M$9,Aktina*COS(epsilon*H239)*COS(D*H239),Aktina*COS(epsilon*XRONOS)*COS(D*XRONOS))","v":69.777507532325984}]
[190,1.9000000000000015,{"$f":"IF(B240<CALCULATIONS!$M$9,Alfa1*SIN(miia*B240)-Alfa2*SIN(miib*B240),CURRENTX)","v":7.0041871803539806},{"$f":"IF(B240<CALCULATIONS!$M$9,-(Alfa1*COS(miia*B240)-Alfa2*COS(miib*B240)),CURRENTY)","v":-23.464926198142066},null,null,190,1.9000000000000015,{"$f":"IF(H240<CALCULATIONS!$M$9,Aktina*SIN(epsilon*H240)*COS(D*H240),Aktina*SIN(epsilon*XRONOS)*COS(D*XRONOS))","v":5.1271979166256125},{"$f":"IF(H240<CALCULATIONS!$M$9,Aktina*COS(epsilon*H240)*COS(D*H240),Aktina*COS(epsilon*XRONOS)*COS(D*XRONOS))","v":68.032239178188377}]
[191,1.9100000000000015,{"$f":"IF(B241<CALCULATIONS!$M$9,Alfa1*SIN(miia*B241)-Alfa2*SIN(miib*B241),CURRENTX)","v":11.611233251718154},{"$f":"IF(B241<CALCULATIONS!$M$9,-(Alfa1*COS(miia*B241)-Alfa2*COS(miib*B241)),CURRENTY)","v":-23.695874084665846},null,null,191,1.9100000000000015,{"$f":"IF(H241<CALCULATIONS!$M$9,Aktina*SIN(epsilon*H241)*COS(D*H241),Aktina*SIN(epsilon*XRONOS)*COS(D*XRONOS))","v":8.1329700359358625},{"$f":"IF(H241<CALCULATIONS!$M$9,Aktina*COS(epsilon*H241)*COS(D*H241),Aktina*COS(epsilon*XRONOS)*COS(D*XRONOS))","v":64.608560453993888}]
[192,1.9200000000000015,{"$f":"IF(B242<CALCULATIONS!$M$9,Alfa1*SIN(miia*B242)-Alfa2*SIN(miib*B242),CURRENTX)","v":16.145931462870578},{"$f":"IF(B242<CALCULATIONS!$M$9,-(Alfa1*COS(miia*B242)-Alfa2*COS(miib*B242)),CURRENTY)","v":-24.03695851413233},null,null,192,1.9200000000000015,{"$f":"IF(H242<CALCULATIONS!$M$9,Aktina*SIN(epsilon*H242)*COS(D*H242),Aktina*SIN(epsilon*XRONOS)*COS(D*XRONOS))","v":10.555363144374301},{"$f":"IF(H242<CALCULATIONS!$M$9,Aktina*COS(epsilon*H242)*COS(D*H242),Aktina*COS(epsilon*XRONOS)*COS(D*XRONOS))","v":59.622152309846925}]
[193,{"$f":"B242+dt","v":1.9300000000000015},{"$f":"IF(B243<CALCULATIONS!$M$9,Alfa1*SIN(miia*B243)-Alfa2*SIN(miib*B243),CURRENTX)","v":20.580255703011378},{"$f":"IF(B243<CALCULATIONS!$M$9,-(Alfa1*COS(miia*B243)-Alfa2*COS(miib*B243)),CURRENTY)","v":-24.482155474062463},null,null,193,{"$f":"H242+dt","v":1.9300000000000015},{"$f":"IF(H243<CALCULATIONS!$M$9,Aktina*SIN(epsilon*H243)*COS(D*H243),Aktina*SIN(epsilon*XRONOS)*COS(D*XRONOS))","v":12.197966459889143},{"$f":"IF(H243<CALCULATIONS!$M$9,Aktina*COS(epsilon*H243)*COS(D*H243),Aktina*COS(epsilon*XRONOS)*COS(D*XRONOS))","v":53.240875125271238}]
[{"$f":"A243+1","v":194},1.9400000000000015,{"$f":"IF(B244<CALCULATIONS!$M$9,Alfa1*SIN(miia*B244)-Alfa2*SIN(miib*B244),CURRENTX)","v":24.887030419524315},{"$f":"IF(B244<CALCULATIONS!$M$9,-(Alfa1*COS(miia*B244)-Alfa2*COS(miib*B244)),CURRENTY)","v":-25.023540168600416},null,null,{"$f":"G243+1","v":194},1.9400000000000015,{"$f":"IF(H244<CALCULATIONS!$M$9,Aktina*SIN(epsilon*H244)*COS(D*H244),Aktina*SIN(epsilon*XRONOS)*COS(D*XRONOS))","v":12.899043775931105},{"$f":"IF(H244<CALCULATIONS!$M$9,Aktina*COS(epsilon*H244)*COS(D*H244),Aktina*COS(epsilon*XRONOS)*COS(D*XRONOS))","v":45.678385707689458}]
[195,1.9500000000000015,{"$f":"IF(B245<CALCULATIONS!$M$9,Alfa1*SIN(miia*B245)-Alfa2*SIN(miib*B245),CURRENTX)","v":29.040159329164041},{"$f":"IF(B245<CALCULATIONS!$M$9,-(Alfa1*COS(miia*B245)-Alfa2*COS(miib*B245)),CURRENTY)","v":-25.651374889981081},null,null,195,1.9500000000000015,{"$f":"IF(H245<CALCULATIONS!$M$9,Aktina*SIN(epsilon*H245)*COS(D*H245),Aktina*SIN(epsilon*XRONOS)*COS(D*XRONOS))","v":12.538943079756907},{"$f":"IF(H245<CALCULATIONS!$M$9,Aktina*COS(epsilon*H245)*COS(D*H245),Aktina*COS(epsilon*XRONOS)*COS(D*XRONOS))","v":37.186026576084586}]
[196,1.9600000000000015,{"$f":"IF(B246<CALCULATIONS!$M$9,Alfa1*SIN(miia*B246)-Alfa2*SIN(miib*B246),CURRENTX)","v":33.014843833347037},{"$f":"IF(B246<CALCULATIONS!$M$9,-(Alfa1*COS(miia*B246)-Alfa2*COS(miib*B246)),CURRENTY)","v":-26.354217133160333},null,null,196,1.9600000000000015,{"$f":"IF(H246<CALCULATIONS!$M$9,Aktina*SIN(epsilon*H246)*COS(D*H246),Aktina*SIN(epsilon*XRONOS)*COS(D*XRONOS))","v":11.04578295938814},{"$f":"IF(H246<CALCULATIONS!$M$9,Aktina*COS(epsilon*H246)*COS(D*H246),Aktina*COS(epsilon*XRONOS)*COS(D*XRONOS))","v":28.043306810840509}]
[197,1.9700000000000015,{"$f":"IF(B247<CALCULATIONS!$M$9,Alfa1*SIN(miia*B247)-Alfa2*SIN(miib*B247),CURRENTX)","v":36.787789061015104},{"$f":"IF(B247<CALCULATIONS!$M$9,-(Alfa1*COS(miia*B247)-Alfa2*COS(miib*B247)),CURRENTY)","v":-27.119046846320785},null,null,197,1.9700000000000015,{"$f":"IF(H247<CALCULATIONS!$M$9,Aktina*SIN(epsilon*H247)*COS(D*H247),Aktina*SIN(epsilon*XRONOS)*COS(D*XRONOS))","v":8.3991799451692728},{"$f":"IF(H247<CALCULATIONS!$M$9,Aktina*COS(epsilon*H247)*COS(D*H247),Aktina*COS(epsilon*XRONOS)*COS(D*XRONOS))","v":18.547348961583189}]
[198,1.9800000000000015,{"$f":"IF(B248<CALCULATIONS!$M$9,Alfa1*SIN(miia*B248)-Alfa2*SIN(miib*B248),CURRENTX)","v":40.337395584681275},{"$f":"IF(B248<CALCULATIONS!$M$9,-(Alfa1*COS(miia*B248)-Alfa2*COS(miib*B248)),CURRENTY)","v":-27.93141151351346},null,null,198,1.9800000000000015,{"$f":"IF(H248<CALCULATIONS!$M$9,Aktina*SIN(epsilon*H248)*COS(D*H248),Aktina*SIN(epsilon*XRONOS)*COS(D*XRONOS))","v":4.6318595791924277},{"$f":"IF(H248<CALCULATIONS!$M$9,Aktina*COS(epsilon*H248)*COS(D*H248),Aktina*COS(epsilon*XRONOS)*COS(D*XRONOS))","v":9.0017168358890665}]
[199,1.9900000000000015,{"$f":"IF(B249<CALCULATIONS!$M$9,Alfa1*SIN(miia*B249)-Alfa2*SIN(miib*B249),CURRENTX)","v":43.643934996668676},{"$f":"IF(B249<CALCULATIONS!$M$9,-(Alfa1*COS(miia*B249)-Alfa2*COS(miib*B249)),CURRENTY)","v":-28.77558758234872},null,null,199,1.9900000000000015,{"$f":"IF(H249<CALCULATIONS!$M$9,Aktina*SIN(epsilon*H249)*COS(D*H249),Aktina*SIN(epsilon*XRONOS)*COS(D*XRONOS))","v":-0.1709209934604736},{"$f":"IF(H249<CALCULATIONS!$M$9,Aktina*COS(epsilon*H249)*COS(D*H249),Aktina*COS(epsilon*XRONOS)*COS(D*XRONOS))","v":-0.29493715598946441}]
[200,2.0000000000000013,{"$f":"IF(B250<CALCULATIONS!$M$9,Alfa1*SIN(miia*B250)-Alfa2*SIN(miib*B250),CURRENTX)","v":46.689707691815649},{"$f":"IF(B250<CALCULATIONS!$M$9,-(Alfa1*COS(miia*B250)-Alfa2*COS(miib*B250)),CURRENTY)","v":-29.63475658125542},null,null,200,2.0000000000000013,{"$f":"IF(H250<CALCULATIONS!$M$9,Aktina*SIN(epsilon*H250)*COS(D*H250),Aktina*SIN(epsilon*XRONOS)*COS(D*XRONOS))","v":-5.8741231586906268},{"$f":"IF(H250<CALCULATIONS!$M$9,Aktina*COS(epsilon*H250)*COS(D*H250),Aktina*COS(epsilon*XRONOS)*COS(D*XRONOS))","v":-9.0599599943616411}]
[201,2.0100000000000011,{"$f":"IF(B251<CALCULATIONS!$M$9,Alfa1*SIN(miia*B251)-Alfa2*SIN(miib*B251),CURRENTX)","v":49.459181378459512},{"$f":"IF(B251<CALCULATIONS!$M$9,-(Alfa1*COS(miia*B251)-Alfa2*COS(miib*B251)),CURRENTY)","v":-30.491194119081797},null,null,201,2.0100000000000011,{"$f":"IF(H251<CALCULATIONS!$M$9,Aktina*SIN(epsilon*H251)*COS(D*H251),Aktina*SIN(epsilon*XRONOS)*COS(D*XRONOS))","v":-12.297746535993037},{"$f":"IF(H251<CALCULATIONS!$M$9,Aktina*COS(epsilon*H251)*COS(D*H251),Aktina*COS(epsilon*XRONOS)*COS(D*XRONOS))","v":-17.037087514535063}]
[202,2.0200000000000009,{"$f":"IF(B252<CALCULATIONS!$M$9,Alfa1*SIN(miia*B252)-Alfa2*SIN(miib*B252),CURRENTX)","v":51.939109029564165},{"$f":"IF(B252<CALCULATIONS!$M$9,-(Alfa1*COS(miia*B252)-Alfa2*COS(miib*B252)),CURRENTY)","v":-31.326469826239197},null,null,202,2.0200000000000009,{"$f":"IF(H252<CALCULATIONS!$M$9,Aktina*SIN(epsilon*H252)*COS(D*H252),Aktina*SIN(epsilon*XRONOS)*COS(D*XRONOS))","v":-19.223531737284841},{"$f":"IF(H252<CALCULATIONS!$M$9,Aktina*COS(epsilon*H252)*COS(D*H252),Aktina*COS(epsilon*XRONOS)*COS(D*XRONOS))","v":-24.005729930167071}]
[203,2.0300000000000007,{"$f":"IF(B253<CALCULATIONS!$M$9,Alfa1*SIN(miia*B253)-Alfa2*SIN(miib*B253),CURRENTX)","v":54.118625188551214},{"$f":"IF(B253<CALCULATIONS!$M$9,-(Alfa1*COS(miia*B253)-Alfa2*COS(miib*B253)),CURRENTY)","v":-32.121656182542942},null,null,203,2.0300000000000007,{"$f":"IF(H253<CALCULATIONS!$M$9,Aktina*SIN(epsilon*H253)*COS(D*H253),Aktina*SIN(epsilon*XRONOS)*COS(D*XRONOS))","v":-26.403283693045974},{"$f":"IF(H253<CALCULATIONS!$M$9,Aktina*COS(epsilon*H253)*COS(D*H253),Aktina*COS(epsilon*XRONOS)*COS(D*XRONOS))","v":-29.788792532459514}]
[204,2.0400000000000005,{"$f":"IF(B254<CALCULATIONS!$M$9,Alfa1*SIN(miia*B254)-Alfa2*SIN(miib*B254),CURRENTX)","v":55.989319757694375},{"$f":"IF(B254<CALCULATIONS!$M$9,-(Alfa1*COS(miia*B254)-Alfa2*COS(miib*B254)),CURRENTY)","v":-32.857544083530115},null,null,204,2.0400000000000005,{"$f":"IF(H254<CALCULATIONS!$M$9,Aktina*SIN(epsilon*H254)*COS(D*H254),Aktina*SIN(epsilon*XRONOS)*COS(D*XRONOS))","v":-33.568487497748656},{"$f":"IF(H254<CALCULATIONS!$M$9,Aktina*COS(epsilon*H254)*COS(D*H254),Aktina*COS(epsilon*XRONOS)*COS(D*XRONOS))","v":-34.258729505689615}]
[205,2.0500000000000003,{"$f":"IF(B255<CALCULATIONS!$M$9,Alfa1*SIN(miia*B255)-Alfa2*SIN(miib*B255),CURRENTX)","v":57.545288618729153},{"$f":"IF(B255<CALCULATIONS!$M$9,-(Alfa1*COS(miia*B255)-Alfa2*COS(miib*B255)),CURRENTY)","v":-33.514862925278734},null,null,205,2.0500000000000003,{"$f":"IF(H255<CALCULATIONS!$M$9,Aktina*SIN(epsilon*H255)*COS(D*H255),Aktina*SIN(epsilon*XRONOS)*COS(D*XRONOS))","v":-40.440836207922963},{"$f":"IF(H255<CALCULATIONS!$M$9,Aktina*COS(epsilon*H255)*COS(D*H255),Aktina*COS(epsilon*XRONOS)*COS(D*XRONOS))","v":-37.341599568082856}]
[206,2.06,{"$f":"IF(B256<CALCULATIONS!$M$9,Alfa1*SIN(miia*B256)-Alfa2*SIN(miib*B256),CURRENTX)","v":58.78316066340156},{"$f":"IF(B256<CALCULATIONS!$M$9,-(Alfa1*COS(miia*B256)-Alfa2*COS(miib*B256)),CURRENTY)","v":-34.074502938343493},null,null,206,2.06,{"$f":"IF(H256<CALCULATIONS!$M$9,Aktina*SIN(epsilon*H256)*COS(D*H256),Aktina*SIN(epsilon*XRONOS)*COS(D*XRONOS))","v":-46.743252651740129},{"$f":"IF(H256<CALCULATIONS!$M$9,Aktina*COS(epsilon*H256)*COS(D*H256),Aktina*COS(epsilon*XRONOS)*COS(D*XRONOS))","v":-39.018972035938859}]
[207,2.0699999999999998,{"$f":"IF(B257<CALCULATIONS!$M$9,Alfa1*SIN(miia*B257)-Alfa2*SIN(miib*B257),CURRENTX)","v":59.702101043762738},{"$f":"IF(B257<CALCULATIONS!$M$9,-(Alfa1*COS(miia*B257)-Alfa2*COS(miib*B257)),CURRENTY)","v":-34.517737474865655},null,null,207,2.0699999999999998,{"$f":"IF(H257<CALCULATIONS!$M$9,Aktina*SIN(epsilon*H257)*COS(D*H257),Aktina*SIN(epsilon*XRONOS)*COS(D*XRONOS))","v":-52.210966578831169},{"$f":"IF(H257<CALCULATIONS!$M$9,Aktina*COS(epsilon*H257)*COS(D*H257),Aktina*COS(epsilon*XRONOS)*COS(D*XRONOS))","v":-39.327617730980222}]
[208,2.0799999999999996,{"$f":"IF(B258<CALCULATIONS!$M$9,Alfa1*SIN(miia*B258)-Alfa2*SIN(miib*B258),CURRENTX)","v":60.303790685799427},{"$f":"IF(B258<CALCULATIONS!$M$9,-(Alfa1*COS(miia*B258)-Alfa2*COS(miib*B258)),CURRENTY)","v":-34.826442949482299},null,null,208,2.0799999999999996,{"$f":"IF(H258<CALCULATIONS!$M$9,Aktina*SIN(epsilon*H258)*COS(D*H258),Aktina*SIN(epsilon*XRONOS)*COS(D*XRONOS))","v":-56.602205230021745},{"$f":"IF(H258<CALCULATIONS!$M$9,Aktina*COS(epsilon*H258)*COS(D*H258),Aktina*COS(epsilon*XRONOS)*COS(D*XRONOS))","v":-38.357007483439205}]
[209,2.0899999999999994,{"$f":"IF(B259<CALCULATIONS!$M$9,Alfa1*SIN(miia*B259)-Alfa2*SIN(miib*B259),CURRENTX)","v":60.592382343148046},{"$f":"IF(B259<CALCULATIONS!$M$9,-(Alfa1*COS(miia*B259)-Alfa2*COS(miib*B259)),CURRENTY)","v":-34.983314154399196},null,null,209,2.0899999999999994,{"$f":"IF(H259<CALCULATIONS!$M$9,Aktina*SIN(epsilon*H259)*COS(D*H259),Aktina*SIN(epsilon*XRONOS)*COS(D*XRONOS))","v":-59.708069778671728},{"$f":"IF(H259<CALCULATIONS!$M$9,Aktina*COS(epsilon*H259)*COS(D*H259),Aktina*COS(epsilon*XRONOS)*COS(D*XRONOS))","v":-36.244728304643303}]
[210,2.0999999999999992,{"$f":"IF(B260<CALCULATIONS!$M$9,Alfa1*SIN(miia*B260)-Alfa2*SIN(miib*B260),CURRENTX)","v":60.574433697852584},{"$f":"IF(B260<CALCULATIONS!$M$9,-(Alfa1*COS(miia*B260)-Alfa2*COS(miib*B260)),CURRENTY)","v":-34.972072711712585},null,null,210,2.0999999999999992,{"$f":"IF(H260<CALCULATIONS!$M$9,Aktina*SIN(epsilon*H260)*COS(D*H260),Aktina*SIN(epsilon*XRONOS)*COS(D*XRONOS))","v":-61.361201525809079},{"$f":"IF(H260<CALCULATIONS!$M$9,Aktina*COS(epsilon*H260)*COS(D*H260),Aktina*COS(epsilon*XRONOS)*COS(D*XRONOS))","v":-33.170010132441938}]
[211,2.109999999999999,{"$f":"IF(B261<CALCULATIONS!$M$9,Alfa1*SIN(miia*B261)-Alfa2*SIN(miib*B261),CURRENTX)","v":60.258818240103977},{"$f":"IF(B261<CALCULATIONS!$M$9,-(Alfa1*COS(miia*B261)-Alfa2*COS(miib*B261)),CURRENTY)","v":-34.777666491350615},null,null,211,2.109999999999999,{"$f":"IF(H261<CALCULATIONS!$M$9,Aktina*SIN(epsilon*H261)*COS(D*H261),Aktina*SIN(epsilon*XRONOS)*COS(D*XRONOS))","v":-61.442888977439083},{"$f":"IF(H261<CALCULATIONS!$M$9,Aktina*COS(epsilon*H261)*COS(D*H261),Aktina*COS(epsilon*XRONOS)*COS(D*XRONOS))","v":-29.345631090420053}]
[212,2.1199999999999988,{"$f":"IF(B262<CALCULATIONS!$M$9,Alfa1*SIN(miia*B262)-Alfa2*SIN(miib*B262),CURRENTX)","v":59.656614876403978},{"$f":"IF(B262<CALCULATIONS!$M$9,-(Alfa1*COS(miia*B262)-Alfa2*COS(miib*B262)),CURRENTY)","v":-34.386457910211107},null,null,212,2.1199999999999988,{"$f":"IF(H262<CALCULATIONS!$M$9,Aktina*SIN(epsilon*H262)*COS(D*H262),Aktina*SIN(epsilon*XRONOS)*COS(D*XRONOS))","v":-59.888328120767774},{"$f":"IF(H262<CALCULATIONS!$M$9,Aktina*COS(epsilon*H262)*COS(D*H262),Aktina*COS(epsilon*XRONOS)*COS(D*XRONOS))","v":-25.008533458848266}]
[213,2.1299999999999986,{"$f":"IF(B263<CALCULATIONS!$M$9,Alfa1*SIN(miia*B263)-Alfa2*SIN(miib*B263),CURRENTX)","v":58.78097742346808},{"$f":"IF(B263<CALCULATIONS!$M$9,-(Alfa1*COS(miia*B263)-Alfa2*COS(miib*B263)),CURRENTY)","v":-33.786399136334502},null,null,213,2.1299999999999986,{"$f":"IF(H263<CALCULATIONS!$M$9,Aktina*SIN(epsilon*H263)*COS(D*H263),Aktina*SIN(epsilon*XRONOS)*COS(D*XRONOS))","v":-56.689820916886191},{"$f":"IF(H263<CALCULATIONS!$M$9,Aktina*COS(epsilon*H263)*COS(D*H263),Aktina*COS(epsilon*XRONOS)*COS(D*XRONOS))","v":-20.409533473854324}]
[214,2.1399999999999983,{"$f":"IF(B264<CALCULATIONS!$M$9,Alfa1*SIN(miia*B264)-Alfa2*SIN(miib*B264),CURRENTX)","v":57.646985341354373},{"$f":"IF(B264<CALCULATIONS!$M$9,-(Alfa1*COS(miia*B264)-Alfa2*COS(miib*B264)),CURRENTY)","v":-32.967192350195177},null,null,214,2.1399999999999983,{"$f":"IF(H264<CALCULATIONS!$M$9,Aktina*SIN(epsilon*H264)*COS(D*H264),Aktina*SIN(epsilon*XRONOS)*COS(D*XRONOS))","v":-51.897778351615663},{"$f":"IF(H264<CALCULATIONS!$M$9,Aktina*COS(epsilon*H264)*COS(D*H264),Aktina*COS(epsilon*XRONOS)*COS(D*XRONOS))","v":-15.802543626216638}]
[215,2.1499999999999981,{"$f":"IF(B265<CALCULATIONS!$M$9,Alfa1*SIN(miia*B265)-Alfa2*SIN(miib*B265),CURRENTX)","v":56.271477241829828},{"$f":"IF(B265<CALCULATIONS!$M$9,-(Alfa1*COS(miia*B265)-Alfa2*COS(miib*B265)),CURRENTY)","v":-31.920433362145836},null,null,215,2.1499999999999981,{"$f":"IF(H265<CALCULATIONS!$M$9,Aktina*SIN(epsilon*H265)*COS(D*H265),Aktina*SIN(epsilon*XRONOS)*COS(D*XRONOS))","v":-45.619481100299126},{"$f":"IF(H265<CALCULATIONS!$M$9,Aktina*COS(epsilon*H265)*COS(D*H265),Aktina*COS(epsilon*XRONOS)*COS(D*XRONOS))","v":-11.43374491072521}]
[216,2.1599999999999979,{"$f":"IF(B266<CALCULATIONS!$M$9,Alfa1*SIN(miia*B266)-Alfa2*SIN(miib*B266),CURRENTX)","v":54.672868875051897},{"$f":"IF(B266<CALCULATIONS!$M$9,-(Alfa1*COS(miia*B266)-Alfa2*COS(miib*B266)),CURRENTY)","v":-30.639737049245426},null,null,216,2.1599999999999979,{"$f":"IF(H266<CALCULATIONS!$M$9,Aktina*SIN(epsilon*H266)*COS(D*H266),Aktina*SIN(epsilon*XRONOS)*COS(D*XRONOS))","v":-38.015639517423338},{"$f":"IF(H266<CALCULATIONS!$M$9,Aktina*COS(epsilon*H266)*COS(D*H266),Aktina*COS(epsilon*XRONOS)*COS(D*XRONOS))","v":-7.5311477390943766}]
[217,2.1699999999999977,{"$f":"IF(B267<CALCULATIONS!$M$9,Alfa1*SIN(miia*B267)-Alfa2*SIN(miib*B267),CURRENTX)","v":52.870957447593788},{"$f":"IF(B267<CALCULATIONS!$M$9,-(Alfa1*COS(miia*B267)-Alfa2*COS(miib*B267)),CURRENTY)","v":-29.1208432545066},null,null,217,2.1699999999999977,{"$f":"IF(H267<CALCULATIONS!$M$9,Aktina*SIN(epsilon*H267)*COS(D*H267),Aktina*SIN(epsilon*XRONOS)*COS(D*XRONOS))","v":-29.294881731084512},{"$f":"IF(H267<CALCULATIONS!$M$9,Aktina*COS(epsilon*H267)*COS(D*H267),Aktina*COS(epsilon*XRONOS)*COS(D*XRONOS))","v":-4.2949639309601286}]
[218,2.1799999999999975,{"$f":"IF(B268<CALCULATIONS!$M$9,Alfa1*SIN(miia*B268)-Alfa2*SIN(miib*B268),CURRENTX)","v":50.886714256191667},{"$f":"IF(B268<CALCULATIONS!$M$9,-(Alfa1*COS(miia*B268)-Alfa2*COS(miib*B268)),CURRENTY)","v":-27.361701985221288},null,null,218,2.1799999999999975,{"$f":"IF(H268<CALCULATIONS!$M$9,Aktina*SIN(epsilon*H268)*COS(D*H268),Aktina*SIN(epsilon*XRONOS)*COS(D*XRONOS))","v":-19.706380640944804},{"$f":"IF(H268<CALCULATIONS!$M$9,Aktina*COS(epsilon*H268)*COS(D*H268),Aktina*COS(epsilon*XRONOS)*COS(D*XRONOS))","v":-1.8891789963512455}]
[219,2.1899999999999973,{"$f":"IF(B269<CALCULATIONS!$M$9,Alfa1*SIN(miia*B269)-Alfa2*SIN(miib*B269),CURRENTX)","v":48.742067733041786},{"$f":"IF(B269<CALCULATIONS!$M$9,-(Alfa1*COS(miia*B269)-Alfa2*COS(miib*B269)),CURRENTY)","v":-25.362536952532484},null,null,219,2.1899999999999973,{"$f":"IF(H269<CALCULATIONS!$M$9,Aktina*SIN(epsilon*H269)*COS(D*H269),Aktina*SIN(epsilon*XRONOS)*COS(D*XRONOS))","v":-9.5309043224366956},{"$f":"IF(H269<CALCULATIONS!$M$9,Aktina*COS(epsilon*H269)*COS(D*H269),Aktina*COS(epsilon*XRONOS)*COS(D*XRONOS))","v":-0.43466515146260576}]
[220,2.1999999999999971,{"$f":"IF(B270<CALCULATIONS!$M$9,Alfa1*SIN(miia*B270)-Alfa2*SIN(miib*B270),CURRENTX)","v":46.459679088924069},{"$f":"IF(B270<CALCULATIONS!$M$9,-(Alfa1*COS(miia*B270)-Alfa2*COS(miib*B270)),CURRENTY)","v":-23.125886709766498},null,null,220,2.1999999999999971,{"$f":"IF(H270<CALCULATIONS!$M$9,Aktina*SIN(epsilon*H270)*COS(D*H270),Aktina*SIN(epsilon*XRONOS)*COS(D*XRONOS))","v":0.92936320385062698},{"$f":"IF(H270<CALCULATIONS!$M$9,Aktina*COS(epsilon*H270)*COS(D*H270),Aktina*COS(epsilon*XRONOS)*COS(D*XRONOS))","v":-4.1131211430803097E-3}]
[221,2.2099999999999969,{"$f":"IF(B271<CALCULATIONS!$M$9,Alfa1*SIN(miia*B271)-Alfa2*SIN(miib*B271),CURRENTX)","v":44.062712808987705},{"$f":"IF(B271<CALCULATIONS!$M$9,-(Alfa1*COS(miia*B271)-Alfa2*COS(miib*B271)),CURRENTY)","v":-20.656622870073605},null,null,221,2.2099999999999969,{"$f":"IF(H271<CALCULATIONS!$M$9,Aktina*SIN(epsilon*H271)*COS(D*H271),Aktina*SIN(epsilon*XRONOS)*COS(D*XRONOS))","v":11.361835156427457},{"$f":"IF(H271<CALCULATIONS!$M$9,Aktina*COS(epsilon*H271)*COS(D*H271),Aktina*COS(epsilon*XRONOS)*COS(D*XRONOS))","v":-0.61898727309726964}]
[222,2.2199999999999966,{"$f":"IF(B272<CALCULATIONS!$M$9,Alfa1*SIN(miia*B272)-Alfa2*SIN(miib*B272),CURRENTX)","v":41.574604302029265},{"$f":"IF(B272<CALCULATIONS!$M$9,-(Alfa1*COS(miia*B272)-Alfa2*COS(miib*B272)),CURRENTY)","v":-17.961945112420217},null,null,222,2.2199999999999966,{"$f":"IF(H272<CALCULATIONS!$M$9,Aktina*SIN(epsilon*H272)*COS(D*H272),Aktina*SIN(epsilon*XRONOS)*COS(D*XRONOS))","v":21.454940400669937},{"$f":"IF(H272<CALCULATIONS!$M$9,Aktina*COS(epsilon*H272)*COS(D*H272),Aktina*COS(epsilon*XRONOS)*COS(D*XRONOS))","v":-2.2486269409286543}]
[223,2.2299999999999964,{"$f":"IF(B273<CALCULATIONS!$M$9,Alfa1*SIN(miia*B273)-Alfa2*SIN(miib*B273),CURRENTX)","v":39.018827027081727},{"$f":"IF(B273<CALCULATIONS!$M$9,-(Alfa1*COS(miia*B273)-Alfa2*COS(miib*B273)),CURRENTY)","v":-15.051352916649776},null,null,223,2.2299999999999964,{"$f":"IF(H273<CALCULATIONS!$M$9,Aktina*SIN(epsilon*H273)*COS(D*H273),Aktina*SIN(epsilon*XRONOS)*COS(D*XRONOS))","v":30.909502289932806},{"$f":"IF(H273<CALCULATIONS!$M$9,Aktina*COS(epsilon*H273)*COS(D*H273),Aktina*COS(epsilon*XRONOS)*COS(D*XRONOS))","v":-4.8115301926840166}]
[224,2.2399999999999962,{"$f":"IF(B274<CALCULATIONS!$M$9,Alfa1*SIN(miia*B274)-Alfa2*SIN(miib*B274),CURRENTX)","v":36.418661420895639},{"$f":"IF(B274<CALCULATIONS!$M$9,-(Alfa1*COS(miia*B274)-Alfa2*COS(miib*B274)),CURRENTY)","v":-11.936594200869552},null,null,224,2.2399999999999962,{"$f":"IF(H274<CALCULATIONS!$M$9,Aktina*SIN(epsilon*H274)*COS(D*H274),Aktina*SIN(epsilon*XRONOS)*COS(D*XRONOS))","v":39.449634717997185},{"$f":"IF(H274<CALCULATIONS!$M$9,Aktina*COS(epsilon*H274)*COS(D*H274),Aktina*COS(epsilon*XRONOS)*COS(D*XRONOS))","v":-8.1787682513642643}]
[225,2.249999999999996,{"$f":"IF(B275<CALCULATIONS!$M$9,Alfa1*SIN(miia*B275)-Alfa2*SIN(miib*B275),CURRENTX)","v":33.796967926448005},{"$f":"IF(B275<CALCULATIONS!$M$9,-(Alfa1*COS(miia*B275)-Alfa2*COS(miib*B275)),CURRENTY)","v":-8.6315912655014859},null,null,225,2.249999999999996,{"$f":"IF(H275<CALCULATIONS!$M$9,Aktina*SIN(epsilon*H275)*COS(D*H275),Aktina*SIN(epsilon*XRONOS)*COS(D*XRONOS))","v":46.832731294809427},{"$f":"IF(H275<CALCULATIONS!$M$9,Aktina*COS(epsilon*H275)*COS(D*H275),Aktina*COS(epsilon*XRONOS)*COS(D*XRONOS))","v":-12.179392794650866}]
[226,2.2599999999999958,{"$f":"IF(B276<CALCULATIONS!$M$9,Alfa1*SIN(miia*B276)-Alfa2*SIN(miib*B276),CURRENTX)","v":31.17596637620878},{"$f":"IF(B276<CALCULATIONS!$M$9,-(Alfa1*COS(miia*B276)-Alfa2*COS(miib*B276)),CURRENTY)","v":-5.1523446756488962},null,null,226,2.2599999999999958,{"$f":"IF(H276<CALCULATIONS!$M$9,Aktina*SIN(epsilon*H276)*COS(D*H276),Aktina*SIN(epsilon*XRONOS)*COS(D*XRONOS))","v":52.858159495506747},{"$f":"IF(H276<CALCULATIONS!$M$9,Aktina*COS(epsilon*H276)*COS(D*H276),Aktina*COS(epsilon*XRONOS)*COS(D*XRONOS))","v":-16.607617890935391}]
[227,2.2699999999999956,{"$f":"IF(B277<CALCULATIONS!$M$9,Alfa1*SIN(miia*B277)-Alfa2*SIN(miib*B277),CURRENTX)","v":28.577023915005199},{"$f":"IF(B277<CALCULATIONS!$M$9,-(Alfa1*COS(miia*B277)-Alfa2*COS(miib*B277)),CURRENTY)","v":-1.5168159347035584},null,null,227,2.2699999999999956,{"$f":"IF(H277<CALCULATIONS!$M$9,Aktina*SIN(epsilon*H277)*COS(D*H277),Aktina*SIN(epsilon*XRONOS)*COS(D*XRONOS))","v":57.374322944324291},{"$f":"IF(H277<CALCULATIONS!$M$9,Aktina*COS(epsilon*H277)*COS(D*H277),Aktina*COS(epsilon*XRONOS)*COS(D*XRONOS))","v":-21.231486585923786}]
[228,2.2799999999999954,{"$f":"IF(B278<CALCULATIONS!$M$9,Alfa1*SIN(miia*B278)-Alfa2*SIN(miib*B278),CURRENTX)","v":26.020453556653649},{"$f":"IF(B278<CALCULATIONS!$M$9,-(Alfa1*COS(miia*B278)-Alfa2*COS(miib*B278)),CURRENTY)","v":2.2552099848631144},null,null,228,2.2799999999999954,{"$f":"IF(H278<CALCULATIONS!$M$9,Aktina*SIN(epsilon*H278)*COS(D*H278),Aktina*SIN(epsilon*XRONOS)*COS(D*XRONOS))","v":60.283819637623345},{"$f":"IF(H278<CALCULATIONS!$M$9,Aktina*COS(epsilon*H278)*COS(D*H278),Aktina*COS(epsilon*XRONOS)*COS(D*XRONOS))","v":-25.802672008699489}]
[229,2.2899999999999952,{"$f":"IF(B279<CALCULATIONS!$M$9,Alfa1*SIN(miia*B279)-Alfa2*SIN(miib*B279),CURRENTX)","v":23.525325356995683},{"$f":"IF(B279<CALCULATIONS!$M$9,-(Alfa1*COS(miia*B279)-Alfa2*COS(miib*B279)),CURRENTY)","v":6.1422809849464013},null,null,229,2.2899999999999952,{"$f":"IF(H279<CALCULATIONS!$M$9,Aktina*SIN(epsilon*H279)*COS(D*H279),Aktina*SIN(epsilon*XRONOS)*COS(D*XRONOS))","v":61.546499311056628},{"$f":"IF(H279<CALCULATIONS!$M$9,Aktina*COS(epsilon*H279)*COS(D*H279),Aktina*COS(epsilon*XRONOS)*COS(D*XRONOS))","v":-30.067016725547436}]
[230,2.2999999999999949,{"$f":"IF(B280<CALCULATIONS!$M$9,Alfa1*SIN(miia*B280)-Alfa2*SIN(miib*B280),CURRENTX)","v":21.109292054707197},{"$f":"IF(B280<CALCULATIONS!$M$9,-(Alfa1*COS(miia*B280)-Alfa2*COS(miib*B280)),CURRENTY)","v":10.121451600692334},null,null,230,2.2999999999999949,{"$f":"IF(H280<CALCULATIONS!$M$9,Aktina*SIN(epsilon*H280)*COS(D*H280),Aktina*SIN(epsilon*XRONOS)*COS(D*XRONOS))","v":61.180306313839857},{"$f":"IF(H280<CALCULATIONS!$M$9,Aktina*COS(epsilon*H280)*COS(D*H280),Aktina*COS(epsilon*XRONOS)*COS(D*XRONOS))","v":-33.775383782634485}]
[231,2.3099999999999947,{"$f":"IF(B281<CALCULATIONS!$M$9,Alfa1*SIN(miia*B281)-Alfa2*SIN(miib*B281),CURRENTX)","v":18.788430881572388},{"$f":"IF(B281<CALCULATIONS!$M$9,-(Alfa1*COS(miia*B281)-Alfa2*COS(miib*B281)),CURRENTY)","v":14.16847254011536},null,null,231,2.3099999999999947,{"$f":"IF(H281<CALCULATIONS!$M$9,Aktina*SIN(epsilon*H281)*COS(D*H281),Aktina*SIN(epsilon*XRONOS)*COS(D*XRONOS))","v":59.259881958982369},{"$f":"IF(H281<CALCULATIONS!$M$9,Aktina*COS(epsilon*H281)*COS(D*H281),Aktina*COS(epsilon*XRONOS)*COS(D*XRONOS))","v":-36.694379660825476}]
[232,2.3199999999999945,{"$f":"IF(B282<CALCULATIONS!$M$9,Alfa1*SIN(miia*B282)-Alfa2*SIN(miib*B282),CURRENTX)","v":16.577103077334982},{"$f":"IF(B282<CALCULATIONS!$M$9,-(Alfa1*COS(miia*B282)-Alfa2*COS(miib*B282)),CURRENTY)","v":18.257994209921542},null,null,232,2.3199999999999945,{"$f":"IF(H282<CALCULATIONS!$M$9,Aktina*SIN(epsilon*H282)*COS(D*H282),Aktina*SIN(epsilon*XRONOS)*COS(D*XRONOS))","v":55.912988886329494},{"$f":"IF(H282<CALCULATIONS!$M$9,Aktina*COS(epsilon*H282)*COS(D*H282),Aktina*COS(epsilon*XRONOS)*COS(D*XRONOS))","v":-38.616513752344211}]
[233,2.3299999999999943,{"$f":"IF(B283<CALCULATIONS!$M$9,Alfa1*SIN(miia*B283)-Alfa2*SIN(miib*B283),CURRENTX)","v":14.487832462435101},{"$f":"IF(B283<CALCULATIONS!$M$9,-(Alfa1*COS(miia*B283)-Alfa2*COS(miib*B283)),CURRENTY)","v":22.363782290866943},null,null,233,2.3299999999999943,{"$f":"IF(H283<CALCULATIONS!$M$9,Aktina*SIN(epsilon*H283)*COS(D*H283),Aktina*SIN(epsilon*XRONOS)*COS(D*XRONOS))","v":51.314905982015901},{"$f":"IF(H283<CALCULATIONS!$M$9,Aktina*COS(epsilon*H283)*COS(D*H283),Aktina*COS(epsilon*XRONOS)*COS(D*XRONOS))","v":-39.369380791990707}]
[234,2.3399999999999941,{"$f":"IF(B284<CALCULATIONS!$M$9,Alfa1*SIN(miia*B284)-Alfa2*SIN(miib*B284),CURRENTX)","v":12.531204226740822},{"$f":"IF(B284<CALCULATIONS!$M$9,-(Alfa1*COS(miia*B284)-Alfa2*COS(miib*B284)),CURRENTY)","v":26.458943302947482},null,null,234,2.3399999999999941,{"$f":"IF(H284<CALCULATIONS!$M$9,Aktina*SIN(epsilon*H284)*COS(D*H284),Aktina*SIN(epsilon*XRONOS)*COS(D*XRONOS))","v":45.681022422813342},{"$f":"IF(H284<CALCULATIONS!$M$9,Aktina*COS(epsilon*H284)*COS(D*H284),Aktina*COS(epsilon*XRONOS)*COS(D*XRONOS))","v":-38.823491071588798}]
[235,2.3499999999999939,{"$f":"IF(B285<CALCULATIONS!$M$9,Alfa1*SIN(miia*B285)-Alfa2*SIN(miib*B285),CURRENTX)","v":10.715784885749738},{"$f":"IF(B285<CALCULATIONS!$M$9,-(Alfa1*COS(miia*B285)-Alfa2*COS(miib*B285)),CURRENTY)","v":30.516157998026905},null,null,235,2.3499999999999939,{"$f":"IF(H285<CALCULATIONS!$M$9,Aktina*SIN(epsilon*H285)*COS(D*H285),Aktina*SIN(epsilon*XRONOS)*COS(D*XRONOS))","v":39.257930275365837},{"$f":"IF(H285<CALCULATIONS!$M$9,Aktina*COS(epsilon*H285)*COS(D*H285),Aktina*COS(epsilon*XRONOS)*COS(D*XRONOS))","v":-36.898426710088863}]
[236,2.3599999999999937,{"$f":"IF(B286<CALCULATIONS!$M$9,Alfa1*SIN(miia*B286)-Alfa2*SIN(miib*B286),CURRENTX)","v":9.0480641397454136},{"$f":"IF(B286<CALCULATIONS!$M$9,-(Alfa1*COS(miia*B286)-Alfa2*COS(miib*B286)),CURRENTY)","v":34.507920336197927},null,null,236,2.3599999999999937,{"$f":"IF(H286<CALCULATIONS!$M$9,Aktina*SIN(epsilon*H286)*COS(D*H286),Aktina*SIN(epsilon*XRONOS)*COS(D*XRONOS))","v":32.313373962744137},{"$f":"IF(H286<CALCULATIONS!$M$9,Aktina*COS(epsilon*H286)*COS(D*H286),Aktina*COS(epsilon*XRONOS)*COS(D*XRONOS))","v":-33.567068617305523}]
[237,2.3699999999999934,{"$f":"IF(B287<CALCULATIONS!$M$9,Alfa1*SIN(miia*B287)-Alfa2*SIN(miib*B287),CURRENTX)","v":7.5324191482146503},{"$f":"IF(B287<CALCULATIONS!$M$9,-(Alfa1*COS(miia*B287)-Alfa2*COS(miib*B287)),CURRENTY)","v":38.406779743057278},null,null,237,2.3699999999999934,{"$f":"IF(H287<CALCULATIONS!$M$9,Aktina*SIN(epsilon*H287)*COS(D*H287),Aktina*SIN(epsilon*XRONOS)*COS(D*XRONOS))","v":25.125459476397442},{"$f":"IF(H287<CALCULATIONS!$M$9,Aktina*COS(epsilon*H287)*COS(D*H287),Aktina*COS(epsilon*XRONOS)*COS(D*XRONOS))","v":-28.857715434521499}]
[238,2.3799999999999932,{"$f":"IF(B288<CALCULATIONS!$M$9,Alfa1*SIN(miia*B288)-Alfa2*SIN(miib*B288),CURRENTX)","v":6.1711015037056072},{"$f":"IF(B288<CALCULATIONS!$M$9,-(Alfa1*COS(miia*B288)-Alfa2*COS(miib*B288)),CURRENTY)","v":42.185584308758195},null,null,238,2.3799999999999932,{"$f":"IF(H288<CALCULATIONS!$M$9,Aktina*SIN(epsilon*H288)*COS(D*H288),Aktina*SIN(epsilon*XRONOS)*COS(D*XRONOS))","v":17.971554693828306},{"$f":"IF(H288<CALCULATIONS!$M$9,Aktina*COS(epsilon*H288)*COS(D*H288),Aktina*COS(epsilon*XRONOS)*COS(D*XRONOS))","v":-22.853999607249538}]
[239,2.389999999999993,{"$f":"IF(B289<CALCULATIONS!$M$9,Alfa1*SIN(miia*B289)-Alfa2*SIN(miib*B289),CURRENTX)","v":4.9642469585232369},{"$f":"IF(B289<CALCULATIONS!$M$9,-(Alfa1*COS(miia*B289)-Alfa2*COS(miib*B289)),CURRENTY)","v":45.817722576554452},null,null,239,2.389999999999993,{"$f":"IF(H289<CALCULATIONS!$M$9,Aktina*SIN(epsilon*H289)*COS(D*H289),Aktina*SIN(epsilon*XRONOS)*COS(D*XRONOS))","v":11.117323435932402},{"$f":"IF(H289<CALCULATIONS!$M$9,Aktina*COS(epsilon*H289)*COS(D*H289),Aktina*COS(epsilon*XRONOS)*COS(D*XRONOS))","v":-15.692593502259912}]
[240,2.3999999999999928,{"$f":"IF(B290<CALCULATIONS!$M$9,Alfa1*SIN(miia*B290)-Alfa2*SIN(miib*B290),CURRENTX)","v":3.9099077265331026},{"$f":"IF(B290<CALCULATIONS!$M$9,-(Alfa1*COS(miia*B290)-Alfa2*COS(miib*B290)),CURRENTY)","v":49.277361578710497},null,null,240,2.3999999999999928,{"$f":"IF(H290<CALCULATIONS!$M$9,Aktina*SIN(epsilon*H290)*COS(D*H290),Aktina*SIN(epsilon*XRONOS)*COS(D*XRONOS))","v":4.8063295239077357},{"$f":"IF(H290<CALCULATIONS!$M$9,Aktina*COS(epsilon*H290)*COS(D*H290),Aktina*COS(epsilon*XRONOS)*COS(D*XRONOS))","v":-7.5587866246331705}]
[241,2.4099999999999926,{"$f":"IF(B291<CALCULATIONS!$M$9,Alfa1*SIN(miia*B291)-Alfa2*SIN(miib*B291),CURRENTX)","v":3.0041069531968141},{"$f":"IF(B291<CALCULATIONS!$M$9,-(Alfa1*COS(miia*B291)-Alfa2*COS(miib*B291)),CURRENTY)","v":52.539678811029219},null,null,241,2.4099999999999926,{"$f":"IF(H291<CALCULATIONS!$M$9,Aktina*SIN(epsilon*H291)*COS(D*H291),Aktina*SIN(epsilon*XRONOS)*COS(D*XRONOS))","v":-0.74937666155188087},{"$f":"IF(H291<CALCULATIONS!$M$9,Aktina*COS(epsilon*H291)*COS(D*H291),Aktina*COS(epsilon*XRONOS)*COS(D*XRONOS))","v":1.3198999933531912}]
[242,2.4199999999999924,{"$f":"IF(B292<CALCULATIONS!$M$9,Alfa1*SIN(miia*B292)-Alfa2*SIN(miib*B292),CURRENTX)","v":2.2409147220896415},{"$f":"IF(B292<CALCULATIONS!$M$9,-(Alfa1*COS(miia*B292)-Alfa2*COS(miib*B292)),CURRENTY)","v":55.581085893521063},null,null,242,2.4199999999999924,{"$f":"IF(H292<CALCULATIONS!$M$9,Aktina*SIN(epsilon*H292)*COS(D*H292),Aktina*SIN(epsilon*XRONOS)*COS(D*XRONOS))","v":-5.3773167989254711},{"$f":"IF(H292<CALCULATIONS!$M$9,Aktina*COS(epsilon*H292)*COS(D*H292),Aktina*COS(epsilon*XRONOS)*COS(D*XRONOS))","v":10.681817661960652}]
[243,2.4299999999999922,{"$f":"IF(B293<CALCULATIONS!$M$9,Alfa1*SIN(miia*B293)-Alfa2*SIN(miib*B293),CURRENTX)","v":1.6125447478094657},{"$f":"IF(B293<CALCULATIONS!$M$9,-(Alfa1*COS(miia*B293)-Alfa2*COS(miib*B293)),CURRENTY)","v":58.379441743352153},null,null,243,2.4299999999999922,{"$f":"IF(H293<CALCULATIONS!$M$9,Aktina*SIN(epsilon*H293)*COS(D*H293),Aktina*SIN(epsilon*XRONOS)*COS(D*XRONOS))","v":-8.9509710990193643},{"$f":"IF(H293<CALCULATIONS!$M$9,Aktina*COS(epsilon*H293)*COS(D*H293),Aktina*COS(epsilon*XRONOS)*COS(D*XRONOS))","v":20.24069874534506}]
[244,2.439999999999992,{"$f":"IF(B294<CALCULATIONS!$M$9,Alfa1*SIN(miia*B294)-Alfa2*SIN(miib*B294),CURRENTX)","v":1.1094706955651201},{"$f":"IF(B294<CALCULATIONS!$M$9,-(Alfa1*COS(miia*B294)-Alfa2*COS(miib*B294)),CURRENTY)","v":60.914253186391903},null,null,244,2.439999999999992,{"$f":"IF(H294<CALCULATIONS!$M$9,Aktina*SIN(epsilon*H294)*COS(D*H294),Aktina*SIN(epsilon*XRONOS)*COS(D*XRONOS))","v":-11.394242916925732},{"$f":"IF(H294<CALCULATIONS!$M$9,Aktina*COS(epsilon*H294)*COS(D*H294),Aktina*COS(epsilon*XRONOS)*COS(D*XRONOS))","v":29.696200348487537}]
[245,2.4499999999999917,{"$f":"IF(B295<CALCULATIONS!$M$9,Alfa1*SIN(miia*B295)-Alfa2*SIN(miib*B295),CURRENTX)","v":0.72056086893331361},{"$f":"IF(B295<CALCULATIONS!$M$9,-(Alfa1*COS(miia*B295)-Alfa2*COS(miib*B295)),CURRENTY)","v":63.166861054442322},null,null,245,2.4499999999999917,{"$f":"IF(H295<CALCULATIONS!$M$9,Aktina*SIN(epsilon*H295)*COS(D*H295),Aktina*SIN(epsilon*XRONOS)*COS(D*XRONOS))","v":-12.683829301301605},{"$f":"IF(H295<CALCULATIONS!$M$9,Aktina*COS(epsilon*H295)*COS(D*H295),Aktina*COS(epsilon*XRONOS)*COS(D*XRONOS))","v":38.745071317949161}]
[246,2.4599999999999915,{"$f":"IF(B296<CALCULATIONS!$M$9,Alfa1*SIN(miia*B296)-Alfa2*SIN(miib*B296),CURRENTX)","v":0.43322982128973386},{"$f":"IF(B296<CALCULATIONS!$M$9,-(Alfa1*COS(miia*B296)-Alfa2*COS(miib*B296)),CURRENTY)","v":65.120609955376651},null,null,246,2.4599999999999915,{"$f":"IF(H296<CALCULATIONS!$M$9,Aktina*SIN(epsilon*H296)*COS(D*H296),Aktina*SIN(epsilon*XRONOS)*COS(D*XRONOS))","v":-12.849409600959131},{"$f":"IF(H296<CALCULATIONS!$M$9,Aktina*COS(epsilon*H296)*COS(D*H296),Aktina*COS(epsilon*XRONOS)*COS(D*XRONOS))","v":47.092505423868332}]
[247,2.4699999999999913,{"$f":"IF(B297<CALCULATIONS!$M$9,Alfa1*SIN(miia*B297)-Alfa2*SIN(miib*B297),CURRENTX)","v":0.23360527511607998},{"$f":"IF(B297<CALCULATIONS!$M$9,-(Alfa1*COS(miia*B297)-Alfa2*COS(miib*B297)),CURRENTY)","v":66.761000061556942},null,null,247,2.4699999999999913,{"$f":"IF(H297<CALCULATIONS!$M$9,Aktina*SIN(epsilon*H297)*COS(D*H297),Aktina*SIN(epsilon*XRONOS)*COS(D*XRONOS))","v":-11.97165200753698},{"$f":"IF(H297<CALCULATIONS!$M$9,Aktina*COS(epsilon*H297)*COS(D*H297),Aktina*COS(epsilon*XRONOS)*COS(D*XRONOS))","v":54.463235466376382}]
[248,2.4799999999999911,{"$f":"IF(B298<CALCULATIONS!$M$9,Alfa1*SIN(miia*B298)-Alfa2*SIN(miib*B298),CURRENTX)","v":0.10670857847767135},{"$f":"IF(B298<CALCULATIONS!$M$9,-(Alfa1*COS(miia*B298)-Alfa2*COS(miib*B298)),CURRENTY)","v":68.075819436469942},null,null,248,2.4799999999999911,{"$f":"IF(H298<CALCULATIONS!$M$9,Aktina*SIN(epsilon*H298)*COS(D*H298),Aktina*SIN(epsilon*XRONOS)*COS(D*XRONOS))","v":-10.178125602707837},{"$f":"IF(H298<CALCULATIONS!$M$9,Aktina*COS(epsilon*H298)*COS(D*H298),Aktina*COS(epsilon*XRONOS)*COS(D*XRONOS))","v":60.611932602799776}]
[249,2.4899999999999909,{"$f":"IF(B299<CALCULATIONS!$M$9,Alfa1*SIN(miia*B299)-Alfa2*SIN(miib*B299),CURRENTX)","v":3.6646791008871027E-2},{"$f":"IF(B299<CALCULATIONS!$M$9,-(Alfa1*COS(miia*B299)-Alfa2*COS(miib*B299)),CURRENTY)","v":69.055255608788059},null,null,249,2.4899999999999909,{"$f":"IF(H299<CALCULATIONS!$M$9,Aktina*SIN(epsilon*H299)*COS(D*H299),Aktina*SIN(epsilon*XRONOS)*COS(D*XRONOS))","v":-7.6372895961033471},{"$f":"IF(H299<CALCULATIONS!$M$9,Aktina*COS(epsilon*H299)*COS(D*H299),Aktina*COS(epsilon*XRONOS)*COS(D*XRONOS))","v":65.332502049584249}]
[250,2.4999999999999907,{"$f":"IF(B300<CALCULATIONS!$M$9,Alfa1*SIN(miia*B300)-Alfa2*SIN(miib*B300),CURRENTX)","v":6.8143741080088915E-3},{"$f":"IF(B300<CALCULATIONS!$M$9,-(Alfa1*COS(miia*B300)-Alfa2*COS(miib*B300)),CURRENTY)","v":69.691985305147711},null,null,250,2.4999999999999907,{"$f":"IF(H300<CALCULATIONS!$M$9,Aktina*SIN(epsilon*H300)*COS(D*H300),Aktina*SIN(epsilon*XRONOS)*COS(D*XRONOS))","v":-4.5508086262184833},{"$f":"IF(H300<CALCULATIONS!$M$9,Aktina*COS(epsilon*H300)*COS(D*H300),Aktina*COS(epsilon*XRONOS)*COS(D*XRONOS))","v":68.465909412443366}]
[251,2.5099999999999905,{"$f":"IF(B301<CALCULATIONS!$M$9,Alfa1*SIN(miia*B301)-Alfa2*SIN(miib*B301),CURRENTX)","v":1.0236290954035443E-4},{"$f":"IF(B301<CALCULATIONS!$M$9,-(Alfa1*COS(miia*B301)-Alfa2*COS(miib*B301)),CURRENTY)","v":69.98124146583595},null,null,251,2.5099999999999905,{"$f":"IF(H301<CALCULATIONS!$M$9,Aktina*SIN(epsilon*H301)*COS(D*H301),Aktina*SIN(epsilon*XRONOS)*COS(D*XRONOS))","v":-1.1445101685485017},{"$f":"IF(H301<CALCULATIONS!$M$9,Aktina*COS(epsilon*H301)*COS(D*H301),Aktina*COS(epsilon*XRONOS)*COS(D*XRONOS))","v":69.906229530585378}]
[252,2.5199999999999902,{"$f":"IF(B302<CALCULATIONS!$M$9,Alfa1*SIN(miia*B302)-Alfa2*SIN(miib*B302),CURRENTX)","v":-8.8717805862703614E-4},{"$f":"IF(B302<CALCULATIONS!$M$9,-(Alfa1*COS(miia*B302)-Alfa2*COS(miib*B302)),CURRENTY)","v":69.920856889173493},null,null,252,2.5199999999999902,{"$f":"IF(H302<CALCULATIONS!$M$9,Aktina*SIN(epsilon*H302)*COS(D*H302),Aktina*SIN(epsilon*XRONOS)*COS(D*XRONOS))","v":2.3416454292030733},{"$f":"IF(H302<CALCULATIONS!$M$9,Aktina*COS(epsilon*H302)*COS(D*H302),Aktina*COS(epsilon*XRONOS)*COS(D*XRONOS))","v":69.604679597809422}]
[253,2.52999999999999,{"$f":"IF(B303<CALCULATIONS!$M$9,Alfa1*SIN(miia*B303)-Alfa2*SIN(miib*B303),CURRENTX)","v":-1.3623667051307908E-2},{"$f":"IF(B303<CALCULATIONS!$M$9,-(Alfa1*COS(miia*B303)-Alfa2*COS(miib*B303)),CURRENTY)","v":69.511284078478496},null,null,253,2.52999999999999,{"$f":"IF(H303<CALCULATIONS!$M$9,Aktina*SIN(epsilon*H303)*COS(D*H303),Aktina*SIN(epsilon*XRONOS)*COS(D*XRONOS))","v":5.6641721609953981},{"$f":"IF(H303<CALCULATIONS!$M$9,Aktina*COS(epsilon*H303)*COS(D*H303),Aktina*COS(epsilon*XRONOS)*COS(D*XRONOS))","v":67.571477668890253}]
[254,2.5399999999999898,{"$f":"IF(B304<CALCULATIONS!$M$9,Alfa1*SIN(miia*B304)-Alfa2*SIN(miib*B304),CURRENTX)","v":-5.5429767292955567E-2},{"$f":"IF(B304<CALCULATIONS!$M$9,-(Alfa1*COS(miia*B304)-Alfa2*COS(miib*B304)),CURRENTY)","v":68.755591097822901},null,null,254,2.5399999999999898,{"$f":"IF(H304<CALCULATIONS!$M$9,Aktina*SIN(epsilon*H304)*COS(D*H304),Aktina*SIN(epsilon*XRONOS)*COS(D*XRONOS))","v":8.5868095504059738},{"$f":"IF(H304<CALCULATIONS!$M$9,Aktina*COS(epsilon*H304)*COS(D*H304),Aktina*COS(epsilon*XRONOS)*COS(D*XRONOS))","v":63.875453320847321}]
[255,2.5499999999999896,{"$f":"IF(B305<CALCULATIONS!$M$9,Alfa1*SIN(miia*B305)-Alfa2*SIN(miib*B305),CURRENTX)","v":-0.14326468893554001},{"$f":"IF(B305<CALCULATIONS!$M$9,-(Alfa1*COS(miia*B305)-Alfa2*COS(miib*B305)),CURRENTY)","v":67.659433477047088},null,null,255,2.5499999999999896,{"$f":"IF(H305<CALCULATIONS!$M$9,Aktina*SIN(epsilon*H305)*COS(D*H305),Aktina*SIN(epsilon*XRONOS)*COS(D*XRONOS))","v":10.89097876374025},{"$f":"IF(H305<CALCULATIONS!$M$9,Aktina*COS(epsilon*H305)*COS(D*H305),Aktina*COS(epsilon*XRONOS)*COS(D*XRONOS))","v":58.641425810725849}]
[256,2.5599999999999894,{"$f":"IF(B306<CALCULATIONS!$M$9,Alfa1*SIN(miia*B306)-Alfa2*SIN(miib*B306),CURRENTX)","v":-0.29351130497920153},{"$f":"IF(B306<CALCULATIONS!$M$9,-(Alfa1*COS(miia*B306)-Alfa2*COS(miib*B306)),CURRENTY)","v":66.231002440349897},null,null,256,2.5599999999999894,{"$f":"IF(H306<CALCULATIONS!$M$9,Aktina*SIN(epsilon*H306)*COS(D*H306),Aktina*SIN(epsilon*XRONOS)*COS(D*XRONOS))","v":12.385516433167263},{"$f":"IF(H306<CALCULATIONS!$M$9,Aktina*COS(epsilon*H306)*COS(D*H306),Aktina*COS(epsilon*XRONOS)*COS(D*XRONOS))","v":52.045453033727902}]
[257,{"$f":"B306+dt","v":2.5699999999999892},{"$f":"IF(B307<CALCULATIONS!$M$9,Alfa1*SIN(miia*B307)-Alfa2*SIN(miib*B307),CURRENTX)","v":-0.52176931678351224},{"$f":"IF(B307<CALCULATIONS!$M$9,-(Alfa1*COS(miia*B307)-Alfa2*COS(miib*B307)),CURRENTY)","v":64.48094996389699},null,null,257,{"$f":"H306+dt","v":2.5699999999999892},{"$f":"IF(H307<CALCULATIONS!$M$9,Aktina*SIN(epsilon*H307)*COS(D*H307),Aktina*SIN(epsilon*XRONOS)*COS(D*XRONOS))","v":12.915287943816685},{"$f":"IF(H307<CALCULATIONS!$M$9,Aktina*COS(epsilon*H307)*COS(D*H307),Aktina*COS(epsilon*XRONOS)*COS(D*XRONOS))","v":44.308138441531561}]
[{"$f":"A307+1","v":258},2.579999999999989,{"$f":"IF(B308<CALCULATIONS!$M$9,Alfa1*SIN(miia*B308)-Alfa2*SIN(miib*B308),CURRENTX)","v":-0.84265664362435011},{"$f":"IF(B308<CALCULATIONS!$M$9,-(Alfa1*COS(miia*B308)-Alfa2*COS(miib*B308)),CURRENTY)","v":62.422291393997085},null,null,{"$f":"G307+1","v":258},2.579999999999989,{"$f":"IF(H308<CALCULATIONS!$M$9,Aktina*SIN(epsilon*H308)*COS(D*H308),Aktina*SIN(epsilon*XRONOS)*COS(D*XRONOS))","v":12.368326886458782},{"$f":"IF(H308<CALCULATIONS!$M$9,Aktina*COS(epsilon*H308)*COS(D*H308),Aktina*COS(epsilon*XRONOS)*COS(D*XRONOS))","v":35.686259497650155}]
[259,2.5899999999999888,{"$f":"IF(B309<CALCULATIONS!$M$9,Alfa1*SIN(miia*B309)-Alfa2*SIN(miib*B309),CURRENTX)","v":-1.269621127582468},{"$f":"IF(B309<CALCULATIONS!$M$9,-(Alfa1*COS(miia*B309)-Alfa2*COS(miib*B309)),CURRENTY)","v":60.070286576234544},null,null,259,2.5899999999999888,{"$f":"IF(H309<CALCULATIONS!$M$9,Aktina*SIN(epsilon*H309)*COS(D*H309),Aktina*SIN(epsilon*XRONOS)*COS(D*XRONOS))","v":10.681206509019928},{"$f":"IF(H309<CALCULATIONS!$M$9,Aktina*COS(epsilon*H309)*COS(D*H309),Aktina*COS(epsilon*XRONOS)*COS(D*XRONOS))","v":26.463047188232725}]
[260,2.5999999999999885,{"$f":"IF(B310<CALCULATIONS!$M$9,Alfa1*SIN(miia*B310)-Alfa2*SIN(miib*B310),CURRENTX)","v":-1.8147645407184889},{"$f":"IF(B310<CALCULATIONS!$M$9,-(Alfa1*COS(miia*B310)-Alfa2*COS(miib*B310)),CURRENTY)","v":57.442300655347232},null,null,260,2.5999999999999885,{"$f":"IF(H310<CALCULATIONS!$M$9,Aktina*SIN(epsilon*H310)*COS(D*H310),Aktina*SIN(epsilon*XRONOS)*COS(D*XRONOS))","v":7.842419954634761},{"$f":"IF(H310<CALCULATIONS!$M$9,Aktina*COS(epsilon*H310)*COS(D*H310),Aktina*COS(epsilon*XRONOS)*COS(D*XRONOS))","v":16.937498953663606}]
[261,2.6099999999999883,{"$f":"IF(B311<CALCULATIONS!$M$9,Alfa1*SIN(miia*B311)-Alfa2*SIN(miib*B311),CURRENTX)","v":-2.4886807570408855},{"$f":"IF(B311<CALCULATIONS!$M$9,-(Alfa1*COS(miia*B311)-Alfa2*COS(miib*B311)),CURRENTY)","v":54.55764590352004},null,null,261,2.6099999999999883,{"$f":"IF(H311<CALCULATIONS!$M$9,Aktina*SIN(epsilon*H311)*COS(D*H311),Aktina*SIN(epsilon*XRONOS)*COS(D*XRONOS))","v":3.8936260177668527},{"$f":"IF(H311<CALCULATIONS!$M$9,Aktina*COS(epsilon*H311)*COS(D*H311),Aktina*COS(epsilon*XRONOS)*COS(D*XRONOS))","v":7.4131450611088088}]
[262,2.6199999999999881,{"$f":"IF(B312<CALCULATIONS!$M$9,Alfa1*SIN(miia*B312)-Alfa2*SIN(miib*B312),CURRENTX)","v":-3.3003098084556513},{"$f":"IF(B312<CALCULATIONS!$M$9,-(Alfa1*COS(miia*B312)-Alfa2*COS(miib*B312)),CURRENTY)","v":51.437406119163867},null,null,262,2.6199999999999881,{"$f":"IF(H312<CALCULATIONS!$M$9,Aktina*SIN(epsilon*H312)*COS(D*H312),Aktina*SIN(epsilon*XRONOS)*COS(D*XRONOS))","v":-1.0712971095496935},{"$f":"IF(H312<CALCULATIONS!$M$9,Aktina*COS(epsilon*H312)*COS(D*H312),Aktina*COS(epsilon*XRONOS)*COS(D*XRONOS))","v":-1.8132905915588491}]
[263,2.6299999999999879,{"$f":"IF(B313<CALCULATIONS!$M$9,Alfa1*SIN(miia*B313)-Alfa2*SIN(miib*B313),CURRENTX)","v":-4.2568093831353941},{"$f":"IF(B313<CALCULATIONS!$M$9,-(Alfa1*COS(miia*B313)-Alfa2*COS(miib*B313)),CURRENTY)","v":48.104245307336868},null,null,263,2.6299999999999879,{"$f":"IF(H313<CALCULATIONS!$M$9,Aktina*SIN(epsilon*H313)*COS(D*H313),Aktina*SIN(epsilon*XRONOS)*COS(D*XRONOS))","v":-6.9093595167551625},{"$f":"IF(H313<CALCULATIONS!$M$9,Aktina*COS(epsilon*H313)*COS(D*H313),Aktina*COS(epsilon*XRONOS)*COS(D*XRONOS))","v":-10.462890792129876}]
[264,2.6399999999999877,{"$f":"IF(B314<CALCULATIONS!$M$9,Alfa1*SIN(miia*B314)-Alfa2*SIN(miib*B314),CURRENTX)","v":-5.3634451481727119},{"$f":"IF(B314<CALCULATIONS!$M$9,-(Alfa1*COS(miia*B314)-Alfa2*COS(miib*B314)),CURRENTY)","v":44.582202505063059},null,null,264,2.6399999999999877,{"$f":"IF(H314<CALCULATIONS!$M$9,Aktina*SIN(epsilon*H314)*COS(D*H314),Aktina*SIN(epsilon*XRONOS)*COS(D*XRONOS))","v":-13.433611129927948},{"$f":"IF(H314<CALCULATIONS!$M$9,Aktina*COS(epsilon*H314)*COS(D*H314),Aktina*COS(epsilon*XRONOS)*COS(D*XRONOS))","v":-18.284776187200126}]
[265,2.6499999999999875,{"$f":"IF(B315<CALCULATIONS!$M$9,Alfa1*SIN(miia*B315)-Alfa2*SIN(miib*B315),CURRENTX)","v":-6.6235010877580756},{"$f":"IF(B315<CALCULATIONS!$M$9,-(Alfa1*COS(miia*B315)-Alfa2*COS(miib*B315)),CURRENTY)","v":40.896474748405687},null,null,265,2.6499999999999875,{"$f":"IF(H315<CALCULATIONS!$M$9,Aktina*SIN(epsilon*H315)*COS(D*H315),Aktina*SIN(epsilon*XRONOS)*COS(D*XRONOS))","v":-20.420137252264098},{"$f":"IF(H315<CALCULATIONS!$M$9,Aktina*COS(epsilon*H315)*COS(D*H315),Aktina*COS(epsilon*XRONOS)*COS(D*XRONOS))","v":-25.065168303865168}]
[266,2.6599999999999873,{"$f":"IF(B316<CALCULATIONS!$M$9,Alfa1*SIN(miia*B316)-Alfa2*SIN(miib*B316),CURRENTX)","v":-8.0382108453566445},{"$f":"IF(B316<CALCULATIONS!$M$9,-(Alfa1*COS(miia*B316)-Alfa2*COS(miib*B316)),CURRENTY)","v":37.073190291935532},null,null,266,2.6599999999999873,{"$f":"IF(H316<CALCULATIONS!$M$9,Aktina*SIN(epsilon*H316)*COS(D*H316),Aktina*SIN(epsilon*XRONOS)*COS(D*XRONOS))","v":-27.616623771623932},{"$f":"IF(H316<CALCULATIONS!$M$9,Aktina*COS(epsilon*H316)*COS(D*H316),Aktina*COS(epsilon*XRONOS)*COS(D*XRONOS))","v":-30.63493248552928}]
[267,2.6699999999999871,{"$f":"IF(B317<CALCULATIONS!$M$9,Alfa1*SIN(miia*B317)-Alfa2*SIN(miib*B317),CURRENTX)","v":-9.6067108454850825},{"$f":"IF(B317<CALCULATIONS!$M$9,-(Alfa1*COS(miia*B317)-Alfa2*COS(miib*B317)),CURRENTY)","v":33.139174284073604},null,null,267,2.6699999999999871,{"$f":"IF(H317<CALCULATIONS!$M$9,Aktina*SIN(epsilon*H317)*COS(D*H317),Aktina*SIN(epsilon*XRONOS)*COS(D*XRONOS))","v":-34.752154179989105},{"$f":"IF(H317<CALCULATIONS!$M$9,Aktina*COS(epsilon*H317)*COS(D*H317),Aktina*COS(epsilon*XRONOS)*COS(D*XRONOS))","v":-34.875309817997078}]
[268,2.6799999999999868,{"$f":"IF(B318<CALCULATIONS!$M$9,Alfa1*SIN(miia*B318)-Alfa2*SIN(miib*B318),CURRENTX)","v":-11.326015749842199},{"$f":"IF(B318<CALCULATIONS!$M$9,-(Alfa1*COS(miia*B318)-Alfa2*COS(miib*B318)),CURRENTY)","v":29.121709172766082},null,null,268,2.6799999999999868,{"$f":"IF(H318<CALCULATIONS!$M$9,Aktina*SIN(epsilon*H318)*COS(D*H318),Aktina*SIN(epsilon*XRONOS)*COS(D*XRONOS))","v":-41.547850445873792},{"$f":"IF(H318<CALCULATIONS!$M$9,Aktina*COS(epsilon*H318)*COS(D*H318),Aktina*COS(epsilon*XRONOS)*COS(D*XRONOS))","v":-37.721619633005112}]
[269,2.6899999999999866,{"$f":"IF(B319<CALCULATIONS!$M$9,Alfa1*SIN(miia*B319)-Alfa2*SIN(miib*B319),CURRENTX)","v":-13.191016575941365},{"$f":"IF(B319<CALCULATIONS!$M$9,-(Alfa1*COS(miia*B319)-Alfa2*COS(miib*B319)),CURRENTY)","v":25.048292164369315},null,null,269,2.6899999999999866,{"$f":"IF(H319<CALCULATIONS!$M$9,Aktina*SIN(epsilon*H319)*COS(D*H319),Aktina*SIN(epsilon*XRONOS)*COS(D*XRONOS))","v":-47.727935117499499},{"$f":"IF(H319<CALCULATIONS!$M$9,Aktina*COS(epsilon*H319)*COS(D*H319),Aktina*COS(epsilon*XRONOS)*COS(D*XRONOS))","v":-39.164795293866732}]
[270,2.6999999999999864,{"$f":"IF(B320<CALCULATIONS!$M$9,Alfa1*SIN(miia*B320)-Alfa2*SIN(miib*B320),CURRENTX)","v":-15.194501576301107},{"$f":"IF(B320<CALCULATIONS!$M$9,-(Alfa1*COS(miia*B320)-Alfa2*COS(miib*B320)),CURRENTY)","v":20.946392084010995},null,null,270,2.6999999999999864,{"$f":"IF(H320<CALCULATIONS!$M$9,Aktina*SIN(epsilon*H320)*COS(D*H320),Aktina*SIN(epsilon*XRONOS)*COS(D*XRONOS))","v":-53.030774203957655},{"$f":"IF(H320<CALCULATIONS!$M$9,Aktina*COS(epsilon*H320)*COS(D*H320),Aktina*COS(epsilon*XRONOS)*COS(D*XRONOS))","v":-39.250702455895237}]
[271,2.7099999999999862,{"$f":"IF(B321<CALCULATIONS!$M$9,Alfa1*SIN(miia*B321)-Alfa2*SIN(miib*B321),CURRENTX)","v":-17.327199744980145},{"$f":"IF(B321<CALCULATIONS!$M$9,-(Alfa1*COS(miia*B321)-Alfa2*COS(miib*B321)),CURRENTY)","v":16.843207987806515},null,null,271,2.7099999999999862,{"$f":"IF(H321<CALCULATIONS!$M$9,Aktina*SIN(epsilon*H321)*COS(D*H321),Aktina*SIN(epsilon*XRONOS)*COS(D*XRONOS))","v":-57.219460104897941},{"$f":"IF(H321<CALCULATIONS!$M$9,Aktina*COS(epsilon*H321)*COS(D*H321),Aktina*COS(epsilon*XRONOS)*COS(D*XRONOS))","v":-38.077277403701203}]
[272,2.719999999999986,{"$f":"IF(B322<CALCULATIONS!$M$9,Alfa1*SIN(miia*B322)-Alfa2*SIN(miib*B322),CURRENTX)","v":-19.577846588116373},{"$f":"IF(B322<CALCULATIONS!$M$9,-(Alfa1*COS(miia*B322)-Alfa2*COS(miib*B322)),CURRENTY)","v":12.765431856135551},null,null,272,2.719999999999986,{"$f":"IF(H322<CALCULATIONS!$M$9,Aktina*SIN(epsilon*H322)*COS(D*H322),Aktina*SIN(epsilon*XRONOS)*COS(D*XRONOS))","v":-60.091511157918326},{"$f":"IF(H322<CALCULATIONS!$M$9,Aktina*COS(epsilon*H322)*COS(D*H322),Aktina*COS(epsilon*XRONOS)*COS(D*XRONOS))","v":-35.789609873654086}]
[273,2.7299999999999858,{"$f":"IF(B323<CALCULATIONS!$M$9,Alfa1*SIN(miia*B323)-Alfa2*SIN(miib*B323),CURRENTX)","v":-21.933271568454057},{"$f":"IF(B323<CALCULATIONS!$M$9,-(Alfa1*COS(miia*B323)-Alfa2*COS(miib*B323)),CURRENTY)","v":8.7390176529439696},null,null,273,2.7299999999999858,{"$f":"IF(H323<CALCULATIONS!$M$9,Aktina*SIN(epsilon*H323)*COS(D*H323),Aktina*SIN(epsilon*XRONOS)*COS(D*XRONOS))","v":-61.487298567546922},{"$f":"IF(H323<CALCULATIONS!$M$9,Aktina*COS(epsilon*H323)*COS(D*H323),Aktina*COS(epsilon*XRONOS)*COS(D*XRONOS))","v":-32.573176513094339}]
[274,2.7399999999999856,{"$f":"IF(B324<CALCULATIONS!$M$9,Alfa1*SIN(miia*B324)-Alfa2*SIN(miib*B324),CURRENTX)","v":-24.37850641289565},{"$f":"IF(B324<CALCULATIONS!$M$9,-(Alfa1*COS(miia*B324)-Alfa2*COS(miib*B324)),CURRENTY)","v":4.7889589691810013},null,null,274,2.7399999999999856,{"$f":"IF(H324<CALCULATIONS!$M$9,Aktina*SIN(epsilon*H324)*COS(D*H324),Aktina*SIN(epsilon*XRONOS)*COS(D*XRONOS))","v":-61.296861217461107},{"$f":"IF(H324<CALCULATIONS!$M$9,Aktina*COS(epsilon*H324)*COS(D*H324),Aktina*COS(epsilon*XRONOS)*COS(D*XRONOS))","v":-28.645504551448138}]
[275,2.7499999999999853,{"$f":"IF(B325<CALCULATIONS!$M$9,Alfa1*SIN(miia*B325)-Alfa2*SIN(miib*B325),CURRENTX)","v":-26.896913259113276},{"$f":"IF(B325<CALCULATIONS!$M$9,-(Alfa1*COS(miia*B325)-Alfa2*COS(miib*B325)),CURRENTY)","v":0.93907737968702776},null,null,275,2.7499999999999853,{"$f":"IF(H325<CALCULATIONS!$M$9,Aktina*SIN(epsilon*H325)*COS(D*H325),Aktina*SIN(epsilon*XRONOS)*COS(D*XRONOS))","v":-59.464832175484034},{"$f":"IF(H325<CALCULATIONS!$M$9,Aktina*COS(epsilon*H325)*COS(D*H325),Aktina*COS(epsilon*XRONOS)*COS(D*XRONOS))","v":-24.246607438126475}]
[276,2.7599999999999851,{"$f":"IF(B326<CALCULATIONS!$M$9,Alfa1*SIN(miia*B326)-Alfa2*SIN(miib*B326),CURRENTX)","v":-29.470331414338549},{"$f":"IF(B326<CALCULATIONS!$M$9,-(Alfa1*COS(miia*B326)-Alfa2*COS(miib*B326)),CURRENTY)","v":-2.7881764669916826},null,null,276,2.7599999999999851,{"$f":"IF(H326<CALCULATIONS!$M$9,Aktina*SIN(epsilon*H326)*COS(D*H326),Aktina*SIN(epsilon*XRONOS)*COS(D*XRONOS))","v":-55.993275064650163},{"$f":"IF(H326<CALCULATIONS!$M$9,Aktina*COS(epsilon*H326)*COS(D*H326),Aktina*COS(epsilon*XRONOS)*COS(D*XRONOS))","v":-19.628582663090445}]
[277,2.7699999999999849,{"$f":"IF(B327<CALCULATIONS!$M$9,Alfa1*SIN(miia*B327)-Alfa2*SIN(miib*B327),CURRENTX)","v":-32.079241308658503},{"$f":"IF(B327<CALCULATIONS!$M$9,-(Alfa1*COS(miia*B327)-Alfa2*COS(miib*B327)),CURRENTY)","v":-6.3719071361638182},null,null,277,2.7699999999999849,{"$f":"IF(H327<CALCULATIONS!$M$9,Aktina*SIN(epsilon*H327)*COS(D*H327),Aktina*SIN(epsilon*XRONOS)*COS(D*XRONOS))","v":-50.942310937752943},{"$f":"IF(H327<CALCULATIONS!$M$9,Aktina*COS(epsilon*H327)*COS(D*H327),Aktina*COS(epsilon*XRONOS)*COS(D*XRONOS))","v":-15.04479479121165}]
[278,2.7799999999999847,{"$f":"IF(B328<CALCULATIONS!$M$9,Alfa1*SIN(miia*B328)-Alfa2*SIN(miib*B328),CURRENTX)","v":-34.702944048397036},{"$f":"IF(B328<CALCULATIONS!$M$9,-(Alfa1*COS(miia*B328)-Alfa2*COS(miib*B328)),CURRENTY)","v":-9.7929423306480263},null,null,278,2.7799999999999847,{"$f":"IF(H328<CALCULATIONS!$M$9,Aktina*SIN(epsilon*H328)*COS(D*H328),Aktina*SIN(epsilon*XRONOS)*COS(D*XRONOS))","v":-44.428503578326705},{"$f":"IF(H328<CALCULATIONS!$M$9,Aktina*COS(epsilon*H328)*COS(D*H328),Aktina*COS(epsilon*XRONOS)*COS(D*XRONOS))","v":-10.739082608669653}]
[279,2.7899999999999845,{"$f":"IF(B329<CALCULATIONS!$M$9,Alfa1*SIN(miia*B329)-Alfa2*SIN(miib*B329),CURRENTX)","v":-37.319754814235303},{"$f":"IF(B329<CALCULATIONS!$M$9,-(Alfa1*COS(miia*B329)-Alfa2*COS(miib*B329)),CURRENTY)","v":-13.033982874804646},null,null,279,2.7899999999999845,{"$f":"IF(H329<CALCULATIONS!$M$9,Aktina*SIN(epsilon*H329)*COS(D*H329),Aktina*SIN(epsilon*XRONOS)*COS(D*XRONOS))","v":-36.621059786154134},{"$f":"IF(H329<CALCULATIONS!$M$9,Aktina*COS(epsilon*H329)*COS(D*H329),Aktina*COS(epsilon*XRONOS)*COS(D*XRONOS))","v":-6.9354275727145547}]
[280,2.7999999999999843,{"$f":"IF(B330<CALCULATIONS!$M$9,Alfa1*SIN(miia*B330)-Alfa2*SIN(miib*B330),CURRENTX)","v":-39.907208205239655},{"$f":"IF(B330<CALCULATIONS!$M$9,-(Alfa1*COS(miia*B330)-Alfa2*COS(miib*B330)),CURRENTY)","v":-16.079733364279718},null,null,280,2.7999999999999843,{"$f":"IF(H330<CALCULATIONS!$M$9,Aktina*SIN(epsilon*H330)*COS(D*H330),Aktina*SIN(epsilon*XRONOS)*COS(D*XRONOS))","v":-27.735987663831935},{"$f":"IF(H330<CALCULATIONS!$M$9,Aktina*COS(epsilon*H330)*COS(D*H330),Aktina*COS(epsilon*XRONOS)*COS(D*XRONOS))","v":-3.8285015506886122}]
[281,2.8099999999999841,{"$f":"IF(B331<CALCULATIONS!$M$9,Alfa1*SIN(miia*B331)-Alfa2*SIN(miib*B331),CURRENTX)","v":-42.442273505370665},{"$f":"IF(B331<CALCULATIONS!$M$9,-(Alfa1*COS(miia*B331)-Alfa2*COS(miib*B331)),CURRENTY)","v":-18.917012281525039},null,null,281,2.8099999999999841,{"$f":"IF(H331<CALCULATIONS!$M$9,Aktina*SIN(epsilon*H331)*COS(D*H331),Aktina*SIN(epsilon*XRONOS)*COS(D*XRONOS))","v":-18.028436762321938},{"$f":"IF(H331<CALCULATIONS!$M$9,Aktina*COS(epsilon*H331)*COS(D*H331),Aktina*COS(epsilon*XRONOS)*COS(D*XRONOS))","v":-1.5754759040373392}]
[282,2.8199999999999839,{"$f":"IF(B332<CALCULATIONS!$M$9,Alfa1*SIN(miia*B332)-Alfa2*SIN(miib*B332),CURRENTX)","v":-44.901577744597205},{"$f":"IF(B332<CALCULATIONS!$M$9,-(Alfa1*COS(miia*B332)-Alfa2*COS(miib*B332)),CURRENTY)","v":-21.534840583611818},null,null,282,2.8199999999999839,{"$f":"IF(H332<CALCULATIONS!$M$9,Aktina*SIN(epsilon*H332)*COS(D*H332),Aktina*SIN(epsilon*XRONOS)*COS(D*XRONOS))","v":-7.7835159505768141},{"$f":"IF(H332<CALCULATIONS!$M$9,Aktina*COS(epsilon*H332)*COS(D*H332),Aktina*COS(epsilon*XRONOS)*COS(D*XRONOS))","v":-0.2894227593318941}]
[283,2.8299999999999836,{"$f":"IF(B333<CALCULATIONS!$M$9,Alfa1*SIN(miia*B333)-Alfa2*SIN(miib*B333),CURRENTX)","v":-47.261634343494762},{"$f":"IF(B333<CALCULATIONS!$M$9,-(Alfa1*COS(miia*B333)-Alfa2*COS(miib*B333)),CURRENTY)","v":-23.924507984969292},null,null,283,2.8299999999999836,{"$f":"IF(H333<CALCULATIONS!$M$9,Aktina*SIN(epsilon*H333)*COS(D*H333),Aktina*SIN(epsilon*XRONOS)*COS(D*XRONOS))","v":2.6940548187267974},{"$f":"IF(H333<CALCULATIONS!$M$9,Aktina*COS(epsilon*H333)*COS(D*H333),Aktina*COS(epsilon*XRONOS)*COS(D*XRONOS))","v":-3.4574862058208151E-2}]
[284,2.8399999999999834,{"$f":"IF(B334<CALCULATIONS!$M$9,Alfa1*SIN(miia*B334)-Alfa2*SIN(miib*B334),CURRENTX)","v":-49.499075069010011},{"$f":"IF(B334<CALCULATIONS!$M$9,-(Alfa1*COS(miia*B334)-Alfa2*COS(miib*B334)),CURRENTY)","v":-26.079616381291},null,null,284,2.8399999999999834,{"$f":"IF(H334<CALCULATIONS!$M$9,Aktina*SIN(epsilon*H334)*COS(D*H334),Aktina*SIN(epsilon*XRONOS)*COS(D*XRONOS))","v":13.091056468980048},{"$f":"IF(H334<CALCULATIONS!$M$9,Aktina*COS(epsilon*H334)*COS(D*H334),Aktina*COS(epsilon*XRONOS)*COS(D*XRONOS))","v":-0.82363530908251781}]
[285,2.8499999999999832,{"$f":"IF(B335<CALCULATIONS!$M$9,Alfa1*SIN(miia*B335)-Alfa2*SIN(miib*B335),CURRENTX)","v":-51.590882990550803},{"$f":"IF(B335<CALCULATIONS!$M$9,-(Alfa1*COS(miia*B335)-Alfa2*COS(miib*B335)),CURRENTY)","v":-27.996100089724667},null,null,285,2.8499999999999832,{"$f":"IF(H335<CALCULATIONS!$M$9,Aktina*SIN(epsilon*H335)*COS(D*H335),Aktina*SIN(epsilon*XRONOS)*COS(D*XRONOS))","v":23.097213840195646},{"$f":"IF(H335<CALCULATIONS!$M$9,Aktina*COS(epsilon*H335)*COS(D*H335),Aktina*COS(epsilon*XRONOS)*COS(D*XRONOS))","v":-2.6172457062974601}]
[286,2.859999999999983,{"$f":"IF(B336<CALCULATIONS!$M$9,Alfa1*SIN(miia*B336)-Alfa2*SIN(miib*B336),CURRENTX)","v":-53.51462411011012},{"$f":"IF(B336<CALCULATIONS!$M$9,-(Alfa1*COS(miia*B336)-Alfa2*COS(miib*B336)),CURRENTY)","v":-29.67222281230854},null,null,286,2.859999999999983,{"$f":"IF(H336<CALCULATIONS!$M$9,Aktina*SIN(epsilon*H336)*COS(D*H336),Aktina*SIN(epsilon*XRONOS)*COS(D*XRONOS))","v":32.416524043858672},{"$f":"IF(H336<CALCULATIONS!$M$9,Aktina*COS(epsilon*H336)*COS(D*H336),Aktina*COS(epsilon*XRONOS)*COS(D*XRONOS))","v":-5.3256342082135051}]
[287,2.8699999999999828,{"$f":"IF(B337<CALCULATIONS!$M$9,Alfa1*SIN(miia*B337)-Alfa2*SIN(miib*B337),CURRENTX)","v":-55.248675347921669},{"$f":"IF(B337<CALCULATIONS!$M$9,-(Alfa1*COS(miia*B337)-Alfa2*COS(miib*B337)),CURRENTY)","v":-31.108551462120623},null,null,287,2.8699999999999828,{"$f":"IF(H337<CALCULATIONS!$M$9,Aktina*SIN(epsilon*H337)*COS(D*H337),Aktina*SIN(epsilon*XRONOS)*COS(D*XRONOS))","v":40.778028911012115},{"$f":"IF(H337<CALCULATIONS!$M$9,Aktina*COS(epsilon*H337)*COS(D*H337),Aktina*COS(epsilon*XRONOS)*COS(D*XRONOS))","v":-8.8123769485695309}]
[288,2.8799999999999826,{"$f":"IF(B338<CALCULATIONS!$M$9,Alfa1*SIN(miia*B338)-Alfa2*SIN(miib*B338),CURRENTX)","v":-56.772446596110548},{"$f":"IF(B338<CALCULATIONS!$M$9,-(Alfa1*COS(miia*B338)-Alfa2*COS(miib*B338)),CURRENTY)","v":-32.307907222444456},null,null,288,2.8799999999999826,{"$f":"IF(H338<CALCULATIONS!$M$9,Aktina*SIN(epsilon*H338)*COS(D*H338),Aktina*SIN(epsilon*XRONOS)*COS(D*XRONOS))","v":47.94561234402353},{"$f":"IF(H338<CALCULATIONS!$M$9,Aktina*COS(epsilon*H338)*COS(D*H338),Aktina*COS(epsilon*XRONOS)*COS(D*XRONOS))","v":-12.900121082009226}]
[289,2.8899999999999824,{"$f":"IF(B339<CALCULATIONS!$M$9,Alfa1*SIN(miia*B339)-Alfa2*SIN(miib*B339),CURRENTX)","v":-58.066594606647797},{"$f":"IF(B339<CALCULATIONS!$M$9,-(Alfa1*COS(miia*B339)-Alfa2*COS(miib*B339)),CURRENTY)","v":-33.27529443612066},null,null,289,2.8899999999999824,{"$f":"IF(H339<CALCULATIONS!$M$9,Aktina*SIN(epsilon*H339)*COS(D*H339),Aktina*SIN(epsilon*XRONOS)*COS(D*XRONOS))","v":53.726442023126253},{"$f":"IF(H339<CALCULATIONS!$M$9,Aktina*COS(epsilon*H339)*COS(D*H339),Aktina*COS(epsilon*XRONOS)*COS(D*XRONOS))","v":-17.378038437054638}]
[290,2.8999999999999821,{"$f":"IF(B340<CALCULATIONS!$M$9,Alfa1*SIN(miia*B340)-Alfa2*SIN(miib*B340),CURRENTX)","v":-59.113226556119479},{"$f":"IF(B340<CALCULATIONS!$M$9,-(Alfa1*COS(miia*B340)-Alfa2*COS(miib*B340)),CURRENTY)","v":-34.017808142881776},null,null,290,2.8999999999999821,{"$f":"IF(H340<CALCULATIONS!$M$9,Aktina*SIN(epsilon*H340)*COS(D*H340),Aktina*SIN(epsilon*XRONOS)*COS(D*XRONOS))","v":57.977728630406418},{"$f":"IF(H340<CALCULATIONS!$M$9,Aktina*COS(epsilon*H340)*COS(D*H340),Aktina*COS(epsilon*XRONOS)*COS(D*XRONOS))","v":-22.010708798398074}]
[291,2.9099999999999819,{"$f":"IF(B341<CALCULATIONS!$M$9,Alfa1*SIN(miia*B341)-Alfa2*SIN(miib*B341),CURRENTX)","v":-59.896091227630137},{"$f":"IF(B341<CALCULATIONS!$M$9,-(Alfa1*COS(miia*B341)-Alfa2*COS(miib*B341)),CURRENTY)","v":-34.54452129465696},null,null,291,2.9099999999999819,{"$f":"IF(H341<CALCULATIONS!$M$9,Aktina*SIN(epsilon*H341)*COS(D*H341),Aktina*SIN(epsilon*XRONOS)*COS(D*XRONOS))","v":60.611542398496177},{"$f":"IF(H341<CALCULATIONS!$M$9,Aktina*COS(epsilon*H341)*COS(D*H341),Aktina*COS(epsilon*XRONOS)*COS(D*XRONOS))","v":-26.548073891780994}]
[292,2.9199999999999817,{"$f":"IF(B342<CALCULATIONS!$M$9,Alfa1*SIN(miia*B342)-Alfa2*SIN(miib*B342),CURRENTX)","v":-60.400755868613857},{"$f":"IF(B342<CALCULATIONS!$M$9,-(Alfa1*COS(miia*B342)-Alfa2*COS(miib*B342)),CURRENTY)","v":-34.866352880465598},null,null,292,2.9199999999999817,{"$f":"IF(H342<CALCULATIONS!$M$9,Aktina*SIN(epsilon*H342)*COS(D*H342),Aktina*SIN(epsilon*XRONOS)*COS(D*XRONOS))","v":61.597503716182892},{"$f":"IF(H342<CALCULATIONS!$M$9,Aktina*COS(epsilon*H342)*COS(D*H342),Aktina*COS(epsilon*XRONOS)*COS(D*XRONOS))","v":-30.736059556990991}]
[293,2.9299999999999815,{"$f":"IF(B343<CALCULATIONS!$M$9,Alfa1*SIN(miia*B343)-Alfa2*SIN(miib*B343),CURRENTX)","v":-60.614766921253235},{"$f":"IF(B343<CALCULATIONS!$M$9,-(Alfa1*COS(miia*B343)-Alfa2*COS(miib*B343)),CURRENTY)","v":-34.995918381583884},null,null,293,2.9299999999999815,{"$f":"IF(H343<CALCULATIONS!$M$9,Aktina*SIN(epsilon*H343)*COS(D*H343),Aktina*SIN(epsilon*XRONOS)*COS(D*XRONOS))","v":60.963248666963068},{"$f":"IF(H343<CALCULATIONS!$M$9,Aktina*COS(epsilon*H343)*COS(D*H343),Aktina*COS(epsilon*XRONOS)*COS(D*XRONOS))","v":-34.327436110515528}]
[294,2.9399999999999813,{"$f":"IF(B344<CALCULATIONS!$M$9,Alfa1*SIN(miia*B344)-Alfa2*SIN(miib*B344),CURRENTX)","v":-60.527792978241699},{"$f":"IF(B344<CALCULATIONS!$M$9,-(Alfa1*COS(miia*B344)-Alfa2*COS(miib*B344)),CURRENTY)","v":-34.947364152280436},null,null,294,2.9399999999999813,{"$f":"IF(H344<CALCULATIONS!$M$9,Aktina*SIN(epsilon*H344)*COS(D*H344),Aktina*SIN(epsilon*XRONOS)*COS(D*XRONOS))","v":58.792658390779792},{"$f":"IF(H344<CALCULATIONS!$M$9,Aktina*COS(epsilon*H344)*COS(D*H344),Aktina*COS(epsilon*XRONOS)*COS(D*XRONOS))","v":-37.092476623278742}]
[295,2.9499999999999811,{"$f":"IF(B345<CALCULATIONS!$M$9,Alfa1*SIN(miia*B345)-Alfa2*SIN(miib*B345),CURRENTX)","v":-60.131748489222346},{"$f":"IF(B345<CALCULATIONS!$M$9,-(Alfa1*COS(miia*B345)-Alfa2*COS(miib*B345)),CURRENTY)","v":-34.736187479837291},null,null,295,2.9499999999999811,{"$f":"IF(H345<CALCULATIONS!$M$9,Aktina*SIN(epsilon*H345)*COS(D*H345),Aktina*SIN(epsilon*XRONOS)*COS(D*XRONOS))","v":55.22192954188116},{"$f":"IF(H345<CALCULATIONS!$M$9,Aktina*COS(epsilon*H345)*COS(D*H345),Aktina*COS(epsilon*XRONOS)*COS(D*XRONOS))","v":-38.828980188139347}]
[296,2.9599999999999809,{"$f":"IF(B346<CALCULATIONS!$M$9,Alfa1*SIN(miia*B346)-Alfa2*SIN(miib*B346),CURRENTX)","v":-59.42089693068408},{"$f":"IF(B346<CALCULATIONS!$M$9,-(Alfa1*COS(miia*B346)-Alfa2*COS(miib*B346)),CURRENTY)","v":-34.379044218222589},null,null,296,2.9599999999999809,{"$f":"IF(H346<CALCULATIONS!$M$9,Aktina*SIN(epsilon*H346)*COS(D*H346),Aktina*SIN(epsilon*XRONOS)*COS(D*XRONOS))","v":50.433648351025241},{"$f":"IF(H346<CALCULATIONS!$M$9,Aktina*COS(epsilon*H346)*COS(D*H346),Aktina*COS(epsilon*XRONOS)*COS(D*XRONOS))","v":-39.37125194051135}]
[297,2.9699999999999807,{"$f":"IF(B347<CALCULATIONS!$M$9,Alfa1*SIN(miia*B347)-Alfa2*SIN(miib*B347),CURRENTX)","v":-58.391932352532727},{"$f":"IF(B347<CALCULATIONS!$M$9,-(Alfa1*COS(miia*B347)-Alfa2*COS(miib*B347)),CURRENTY)","v":-33.893546011262586},null,null,297,2.9699999999999807,{"$f":"IF(H347<CALCULATIONS!$M$9,Aktina*SIN(epsilon*H347)*COS(D*H347),Aktina*SIN(epsilon*XRONOS)*COS(D*XRONOS))","v":44.649109498406958},{"$f":"IF(H347<CALCULATIONS!$M$9,Aktina*COS(epsilon*H347)*COS(D*H347),Aktina*COS(epsilon*XRONOS)*COS(D*XRONOS))","v":-38.597672645592787}]
[298,2.9799999999999804,{"$f":"IF(B348<CALCULATIONS!$M$9,Alfa1*SIN(miia*B348)-Alfa2*SIN(miib*B348),CURRENTX)","v":-57.044038425990635},{"$f":"IF(B348<CALCULATIONS!$M$9,-(Alfa1*COS(miia*B348)-Alfa2*COS(miib*B348)),CURRENTY)","v":-33.298049222265732},null,null,298,2.9799999999999804,{"$f":"IF(H348<CALCULATIONS!$M$9,Aktina*SIN(epsilon*H348)*COS(D*H348),Aktina*SIN(epsilon*XRONOS)*COS(D*XRONOS))","v":38.119190036157946},{"$f":"IF(H348<CALCULATIONS!$M$9,Aktina*COS(epsilon*H348)*COS(D*H348),Aktina*COS(epsilon*XRONOS)*COS(D*XRONOS))","v":-36.43654644611815}]
[299,2.9899999999999802,{"$f":"IF(B349<CALCULATIONS!$M$9,Alfa1*SIN(miia*B349)-Alfa2*SIN(miib*B349),CURRENTX)","v":-55.378924337811391},{"$f":"IF(B349<CALCULATIONS!$M$9,-(Alfa1*COS(miia*B349)-Alfa2*COS(miib*B349)),CURRENTY)","v":-32.611437766777449},null,null,299,2.9899999999999802,{"$f":"IF(H349<CALCULATIONS!$M$9,Aktina*SIN(epsilon*H349)*COS(D*H349),Aktina*SIN(epsilon*XRONOS)*COS(D*XRONOS))","v":31.114145223368006},{"$f":"IF(H349<CALCULATIONS!$M$9,Aktina*COS(epsilon*H349)*COS(D*H349),Aktina*COS(epsilon*XRONOS)*COS(D*XRONOS))","v":-32.869983655981152}]
[300,2.99999999999998,{"$f":"IF(B350<CALCULATIONS!$M$9,Alfa1*SIN(miia*B350)-Alfa2*SIN(miib*B350),CURRENTX)","v":-53.400837102836469},{"$f":"IF(B350<CALCULATIONS!$M$9,-(Alfa1*COS(miia*B350)-Alfa2*COS(miib*B350)),CURRENTY)","v":-31.852902102702931},null,null,300,2.99999999999998,{"$f":"IF(H350<CALCULATIONS!$M$9,Aktina*SIN(epsilon*H350)*COS(D*H350),Aktina*SIN(epsilon*XRONOS)*COS(D*XRONOS))","v":23.912735104686917},{"$f":"IF(H350<CALCULATIONS!$M$9,Aktina*COS(epsilon*H350)*COS(D*H350),Aktina*COS(epsilon*XRONOS)*COS(D*XRONOS))","v":-27.935653568476155}]
[301,3.0099999999999798,{"$f":"IF(B351<CALCULATIONS!$M$9,Alfa1*SIN(miia*B351)-Alfa2*SIN(miib*B351),CURRENTX)","v":-51.116550098410954},{"$f":"IF(B351<CALCULATIONS!$M$9,-(Alfa1*COS(miia*B351)-Alfa2*COS(miib*B351)),CURRENTY)","v":-31.041716666858587},null,null,301,3.0099999999999798,{"$f":"IF(H351<CALCULATIONS!$M$9,Aktina*SIN(epsilon*H351)*COS(D*H351),Aktina*SIN(epsilon*XRONOS)*COS(D*XRONOS))","v":16.791116312644924},{"$f":"IF(H351<CALCULATIONS!$M$9,Aktina*COS(epsilon*H351)*COS(D*H351),Aktina*COS(epsilon*XRONOS)*COS(D*XRONOS))","v":-21.726327012852625}]
[302,3.0199999999999796,{"$f":"IF(B352<CALCULATIONS!$M$9,Alfa1*SIN(miia*B352)-Alfa2*SIN(miib*B352),CURRENTX)","v":-48.535327857811552},{"$f":"IF(B352<CALCULATIONS!$M$9,-(Alfa1*COS(miia*B352)-Alfa2*COS(miib*B352)),CURRENTY)","v":-30.197018058763518},null,null,302,3.0199999999999796,{"$f":"IF(H352<CALCULATIONS!$M$9,Aktina*SIN(epsilon*H352)*COS(D*H352),Aktina*SIN(epsilon*XRONOS)*COS(D*XRONOS))","v":10.011941891668776},{"$f":"IF(H352<CALCULATIONS!$M$9,Aktina*COS(epsilon*H352)*COS(D*H352),Aktina*COS(epsilon*XRONOS)*COS(D*XRONOS))","v":-14.387216461587872}]
[303,3.0299999999999794,{"$f":"IF(B353<CALCULATIONS!$M$9,Alfa1*SIN(miia*B353)-Alfa2*SIN(miib*B353),CURRENTX)","v":-45.668867393299465},{"$f":"IF(B353<CALCULATIONS!$M$9,-(Alfa1*COS(miia*B353)-Alfa2*COS(miib*B353)),CURRENTY)","v":-29.337586261050969},null,null,303,3.0299999999999794,{"$f":"IF(H353<CALCULATIONS!$M$9,Aktina*SIN(epsilon*H353)*COS(D*H353),Aktina*SIN(epsilon*XRONOS)*COS(D*XRONOS))","v":3.8141026071452164},{"$f":"IF(H353<CALCULATIONS!$M$9,Aktina*COS(epsilon*H353)*COS(D*H353),Aktina*COS(epsilon*XRONOS)*COS(D*XRONOS))","v":-6.1112093526813371}]
[304,3.0399999999999792,{"$f":"IF(B354<CALCULATIONS!$M$9,Alfa1*SIN(miia*B354)-Alfa2*SIN(miib*B354),CURRENTX)","v":-42.53121655036837},{"$f":"IF(B354<CALCULATIONS!$M$9,-(Alfa1*COS(miia*B354)-Alfa2*COS(miib*B354)),CURRENTY)","v":-28.481631151391277},null,null,304,3.0399999999999792,{"$f":"IF(H354<CALCULATIONS!$M$9,Aktina*SIN(epsilon*H354)*COS(D*H354),Aktina*SIN(epsilon*XRONOS)*COS(D*XRONOS))","v":-1.5964834016302523},{"$f":"IF(H354<CALCULATIONS!$M$9,Aktina*COS(epsilon*H354)*COS(D*H354),Aktina*COS(epsilon*XRONOS)*COS(D*XRONOS))","v":2.8678255569611992}]
[305,3.049999999999979,{"$f":"IF(B355<CALCULATIONS!$M$9,Alfa1*SIN(miia*B355)-Alfa2*SIN(miib*B355),CURRENTX)","v":-39.138670120915855},{"$f":"IF(B355<CALCULATIONS!$M$9,-(Alfa1*COS(miia*B355)-Alfa2*COS(miib*B355)),CURRENTY)","v":-27.646586503626885},null,null,305,3.049999999999979,{"$f":"IF(H355<CALCULATIONS!$M$9,Aktina*SIN(epsilon*H355)*COS(D*H355),Aktina*SIN(epsilon*XRONOS)*COS(D*XRONOS))","v":-6.0546685692805715},{"$f":"IF(H355<CALCULATIONS!$M$9,Aktina*COS(epsilon*H355)*COS(D*H355),Aktina*COS(epsilon*XRONOS)*COS(D*XRONOS))","v":12.283401905863219}]
[306,3.0599999999999787,{"$f":"IF(B356<CALCULATIONS!$M$9,Alfa1*SIN(miia*B356)-Alfa2*SIN(miib*B356),CURRENTX)","v":-35.509644662173713},{"$f":"IF(B356<CALCULATIONS!$M$9,-(Alfa1*COS(miia*B356)-Alfa2*COS(miib*B356)),CURRENTY)","v":-26.848913596508979},null,null,306,3.0599999999999787,{"$f":"IF(H356<CALCULATIONS!$M$9,Aktina*SIN(epsilon*H356)*COS(D*H356),Aktina*SIN(epsilon*XRONOS)*COS(D*XRONOS))","v":-9.4421546835327437},{"$f":"IF(H356<CALCULATIONS!$M$9,Aktina*COS(epsilon*H356)*COS(D*H356),Aktina*COS(epsilon*XRONOS)*COS(D*XRONOS))","v":21.846125666083015}]
[307,3.0699999999999785,{"$f":"IF(B357<CALCULATIONS!$M$9,Alfa1*SIN(miia*B357)-Alfa2*SIN(miib*B357),CURRENTX)","v":-31.664533178106808},{"$f":"IF(B357<CALCULATIONS!$M$9,-(Alfa1*COS(miia*B357)-Alfa2*COS(miib*B357)),CURRENTY)","v":-26.103916447797527},null,null,307,3.0699999999999785,{"$f":"IF(H357<CALCULATIONS!$M$9,Aktina*SIN(epsilon*H357)*COS(D*H357),Aktina*SIN(epsilon*XRONOS)*COS(D*XRONOS))","v":-11.691615201144165},{"$f":"IF(H357<CALCULATIONS!$M$9,Aktina*COS(epsilon*H357)*COS(D*H357),Aktina*COS(epsilon*XRONOS)*COS(D*XRONOS))","v":31.254373333210538}]
[308,3.0799999999999783,{"$f":"IF(B358<CALCULATIONS!$M$9,Alfa1*SIN(miia*B358)-Alfa2*SIN(miib*B358),CURRENTX)","v":-27.625541018542123},{"$f":"IF(B358<CALCULATIONS!$M$9,-(Alfa1*COS(miia*B358)-Alfa2*COS(miib*B358)),CURRENTY)","v":-25.425570570559827},null,null,308,3.0799999999999783,{"$f":"IF(H358<CALCULATIONS!$M$9,Aktina*SIN(epsilon*H358)*COS(D*H358),Aktina*SIN(epsilon*XRONOS)*COS(D*XRONOS))","v":-12.788702690496859},{"$f":"IF(H358<CALCULATIONS!$M$9,Aktina*COS(epsilon*H358)*COS(D*H358),Aktina*COS(epsilon*XRONOS)*COS(D*XRONOS))","v":40.205521245720902}]
[309,3.0899999999999781,{"$f":"IF(B359<CALCULATIONS!$M$9,Alfa1*SIN(miia*B359)-Alfa2*SIN(miib*B359),CURRENTX)","v":-23.416504536542252},{"$f":"IF(B359<CALCULATIONS!$M$9,-(Alfa1*COS(miia*B359)-Alfa2*COS(miib*B359)),CURRENTY)","v":-24.826367008495652},null,null,309,3.0899999999999781,{"$f":"IF(H359<CALCULATIONS!$M$9,Aktina*SIN(epsilon*H359)*COS(D*H359),Aktina*SIN(epsilon*XRONOS)*COS(D*XRONOS))","v":-12.771868131367594},{"$f":"IF(H359<CALCULATIONS!$M$9,Aktina*COS(epsilon*H359)*COS(D*H359),Aktina*COS(epsilon*XRONOS)*COS(D*XRONOS))","v":48.407286304119573}]
[310,3.0999999999999779,{"$f":"IF(B360<CALCULATIONS!$M$9,Alfa1*SIN(miia*B360)-Alfa2*SIN(miib*B360),CURRENTX)","v":-19.062694214645084},{"$f":"IF(B360<CALCULATIONS!$M$9,-(Alfa1*COS(miia*B360)-Alfa2*COS(miib*B360)),CURRENTY)","v":-24.317173249443215},null,null,310,3.0999999999999779,{"$f":"IF(H360<CALCULATIONS!$M$9,Aktina*SIN(epsilon*H360)*COS(D*H360),Aktina*SIN(epsilon*XRONOS)*COS(D*XRONOS))","v":-11.730006796418827},{"$f":"IF(H360<CALCULATIONS!$M$9,Aktina*COS(epsilon*H360)*COS(D*H360),Aktina*COS(epsilon*XRONOS)*COS(D*XRONOS))","v":55.588733204469463}]
[311,3.1099999999999777,{"$f":"IF(B361<CALCULATIONS!$M$9,Alfa1*SIN(miia*B361)-Alfa2*SIN(miib*B361),CURRENTX)","v":-14.590604123860953},{"$f":"IF(B361<CALCULATIONS!$M$9,-(Alfa1*COS(miia*B361)-Alfa2*COS(miib*B361)),CURRENTY)","v":-23.907112442464907},null,null,311,3.1099999999999777,{"$f":"IF(H361<CALCULATIONS!$M$9,Aktina*SIN(epsilon*H361)*COS(D*H361),Aktina*SIN(epsilon*XRONOS)*COS(D*XRONOS))","v":-9.7980327708401216},{"$f":"IF(H361<CALCULATIONS!$M$9,Aktina*COS(epsilon*H361)*COS(D*H361),Aktina*COS(epsilon*XRONOS)*COS(D*XRONOS))","v":61.510515808977523}]
[312,3.1199999999999775,{"$f":"IF(B362<CALCULATIONS!$M$9,Alfa1*SIN(miia*B362)-Alfa2*SIN(miib*B362),CURRENTX)","v":-10.027729714221728},{"$f":"IF(B362<CALCULATIONS!$M$9,-(Alfa1*COS(miia*B362)-Alfa2*COS(miib*B362)),CURRENTY)","v":-23.603462155825845},null,null,312,3.1199999999999775,{"$f":"IF(H362<CALCULATIONS!$M$9,Aktina*SIN(epsilon*H362)*COS(D*H362),Aktina*SIN(epsilon*XRONOS)*COS(D*XRONOS))","v":-7.1505673477953975},{"$f":"IF(H362<CALCULATIONS!$M$9,Aktina*COS(epsilon*H362)*COS(D*H362),Aktina*COS(epsilon*XRONOS)*COS(D*XRONOS))","v":65.973949957494028}]
[313,3.1299999999999772,{"$f":"IF(B363<CALCULATIONS!$M$9,Alfa1*SIN(miia*B363)-Alfa2*SIN(miib*B363),CURRENTX)","v":-5.4023360508711855},{"$f":"IF(B363<CALCULATIONS!$M$9,-(Alfa1*COS(miia*B363)-Alfa2*COS(miib*B363)),CURRENTY)","v":-23.411573712653109},null,null,313,3.1299999999999772,{"$f":"IF(H363<CALCULATIONS!$M$9,Aktina*SIN(epsilon*H363)*COS(D*H363),Aktina*SIN(epsilon*XRONOS)*COS(D*XRONOS))","v":-3.9940022457183755},{"$f":"IF(H363<CALCULATIONS!$M$9,Aktina*COS(epsilon*H363)*COS(D*H363),Aktina*COS(epsilon*XRONOS)*COS(D*XRONOS))","v":68.828560703295935}]
[314,3.139999999999977,{"$f":"IF(B364<CALCULATIONS!$M$9,Alfa1*SIN(miia*B364)-Alfa2*SIN(miib*B364),CURRENTX)","v":-0.74321870402339452},{"$f":"IF(B364<CALCULATIONS!$M$9,-(Alfa1*COS(miia*B364)-Alfa2*COS(miib*B364)),CURRENTY)","v":-23.334812930116303},null,null,314,3.139999999999977,{"$f":"IF(H364<CALCULATIONS!$M$9,Aktina*SIN(epsilon*H364)*COS(D*H364),Aktina*SIN(epsilon*XRONOS)*COS(D*XRONOS))","v":-0.55726380563963929},{"$f":"IF(H364<CALCULATIONS!$M$9,Aktina*COS(epsilon*H364)*COS(D*H364),Aktina*COS(epsilon*XRONOS)*COS(D*XRONOS))","v":69.977806822309745}]
[315,3.1499999999999768,{"$f":"IF(B365<CALCULATIONS!$M$9,Alfa1*SIN(miia*B365)-Alfa2*SIN(miib*B365),CURRENTX)","v":3.9205404263425772},{"$f":"IF(B365<CALCULATIONS!$M$9,-(Alfa1*COS(miia*B365)-Alfa2*COS(miib*B365)),CURRENTY)","v":-23.374522868721115},null,null,315,3.1499999999999768,{"$f":"IF(H365<CALCULATIONS!$M$9,Aktina*SIN(epsilon*H365)*COS(D*H365),Aktina*SIN(epsilon*XRONOS)*COS(D*XRONOS))","v":2.9183435613792206},{"$f":"IF(H365<CALCULATIONS!$M$9,Aktina*COS(epsilon*H365)*COS(D*H365),Aktina*COS(epsilon*XRONOS)*COS(D*XRONOS))","v":69.382757119892005}]
[316,3.1599999999999766,{"$f":"IF(B366<CALCULATIONS!$M$9,Alfa1*SIN(miia*B366)-Alfa2*SIN(miib*B366),CURRENTX)","v":8.5598200201613679},{"$f":"IF(B366<CALCULATIONS!$M$9,-(Alfa1*COS(miia*B366)-Alfa2*COS(miib*B366)),CURRENTY)","v":-23.530008972962392},null,null,316,3.1599999999999766,{"$f":"IF(H366<CALCULATIONS!$M$9,Aktina*SIN(epsilon*H366)*COS(D*H366),Aktina*SIN(epsilon*XRONOS)*COS(D*XRONOS))","v":6.1897994757671686},{"$f":"IF(H366<CALCULATIONS!$M$9,Aktina*COS(epsilon*H366)*COS(D*H366),Aktina*COS(epsilon*XRONOS)*COS(D*XRONOS))","v":67.063573695851389}]
[317,3.1699999999999764,{"$f":"IF(B367<CALCULATIONS!$M$9,Alfa1*SIN(miia*B367)-Alfa2*SIN(miib*B367),CURRENTX)","v":13.145706623438432},{"$f":"IF(B367<CALCULATIONS!$M$9,-(Alfa1*COS(miia*B367)-Alfa2*COS(miib*B367)),CURRENTY)","v":-23.798546755405411},null,null,317,3.1699999999999764,{"$f":"IF(H367<CALCULATIONS!$M$9,Aktina*SIN(epsilon*H367)*COS(D*H367),Aktina*SIN(epsilon*XRONOS)*COS(D*XRONOS))","v":9.0230997636990988},{"$f":"IF(H367<CALCULATIONS!$M$9,Aktina*COS(epsilon*H367)*COS(D*H367),Aktina*COS(epsilon*XRONOS)*COS(D*XRONOS))","v":63.098743722032907}]
[318,3.1799999999999762,{"$f":"IF(B368<CALCULATIONS!$M$9,Alfa1*SIN(miia*B368)-Alfa2*SIN(miib*B368),CURRENTX)","v":17.649739949272348},{"$f":"IF(B368<CALCULATIONS!$M$9,-(Alfa1*COS(miia*B368)-Alfa2*COS(miib*B368)),CURRENTY)","v":-24.175411945558089},null,null,318,3.1799999999999762,{"$f":"IF(H368<CALCULATIONS!$M$9,Aktina*SIN(epsilon*H368)*COS(D*H368),Aktina*SIN(epsilon*XRONOS)*COS(D*XRONOS))","v":11.203620417673466},{"$f":"IF(H368<CALCULATIONS!$M$9,Aktina*COS(epsilon*H368)*COS(D*H368),Aktina*COS(epsilon*XRONOS)*COS(D*XRONOS))","v":57.622090003594728}]
[319,3.189999999999976,{"$f":"IF(B369<CALCULATIONS!$M$9,Alfa1*SIN(miia*B369)-Alfa2*SIN(miib*B369),CURRENTX)","v":22.044153851734571},{"$f":"IF(B369<CALCULATIONS!$M$9,-(Alfa1*COS(miia*B369)-Alfa2*COS(miib*B369)),CURRENTY)","v":-24.653932794981461},null,null,319,3.189999999999976,{"$f":"IF(H369<CALCULATIONS!$M$9,Aktina*SIN(epsilon*H369)*COS(D*H369),Aktina*SIN(epsilon*XRONOS)*COS(D*XRONOS))","v":12.545689824104628},{"$f":"IF(H369<CALCULATIONS!$M$9,Aktina*COS(epsilon*H369)*COS(D*H369),Aktina*COS(epsilon*XRONOS)*COS(D*XRONOS))","v":50.817678108656239}]
[320,3.1999999999999758,{"$f":"IF(B370<CALCULATIONS!$M$9,Alfa1*SIN(miia*B370)-Alfa2*SIN(miib*B370),CURRENTX)","v":26.30211067333239},{"$f":"IF(B370<CALCULATIONS!$M$9,-(Alfa1*COS(miia*B370)-Alfa2*COS(miib*B370)),CURRENTY)","v":-25.22556400327122},null,null,320,3.1999999999999758,{"$f":"IF(H370<CALCULATIONS!$M$9,Aktina*SIN(epsilon*H370)*COS(D*H370),Aktina*SIN(epsilon*XRONOS)*COS(D*XRONOS))","v":12.900977493428933},{"$f":"IF(H370<CALCULATIONS!$M$9,Aktina*COS(epsilon*H370)*COS(D*H370),Aktina*COS(epsilon*XRONOS)*COS(D*XRONOS))","v":42.912820682782332}]
[321,{"$f":"B370+dt","v":3.2099999999999755},{"$f":"IF(B371<CALCULATIONS!$M$9,Alfa1*SIN(miia*B371)-Alfa2*SIN(miib*B371),CURRENTX)","v":30.397926732216881},{"$f":"IF(B371<CALCULATIONS!$M$9,-(Alfa1*COS(miia*B371)-Alfa2*COS(miib*B371)),CURRENTY)","v":-25.879981508110035},null,null,321,{"$f":"H370+dt","v":3.2099999999999755},{"$f":"IF(H371<CALCULATIONS!$M$9,Aktina*SIN(epsilon*H371)*COS(D*H371),Aktina*SIN(epsilon*XRONOS)*COS(D*XRONOS))","v":12.165355002857456},{"$f":"IF(H371<CALCULATIONS!$M$9,Aktina*COS(epsilon*H371)*COS(D*H371),Aktina*COS(epsilon*XRONOS)*COS(D*XRONOS))","v":34.16945442277877}]
[{"$f":"A371+1","v":322},3.2199999999999753,{"$f":"IF(B372<CALCULATIONS!$M$9,Alfa1*SIN(miia*B372)-Alfa2*SIN(miib*B372),CURRENTX)","v":34.30728680278542},{"$f":"IF(B372<CALCULATIONS!$M$9,-(Alfa1*COS(miia*B372)-Alfa2*COS(miib*B372)),CURRENTY)","v":-26.605197168764033},null,null,{"$f":"G371+1","v":322},3.2199999999999753,{"$f":"IF(H372<CALCULATIONS!$M$9,Aktina*SIN(epsilon*H372)*COS(D*H372),Aktina*SIN(epsilon*XRONOS)*COS(D*XRONOS))","v":10.283946160790734},{"$f":"IF(H372<CALCULATIONS!$M$9,Aktina*COS(epsilon*H372)*COS(D*H372),Aktina*COS(epsilon*XRONOS)*COS(D*XRONOS))","v":24.874229094188205}]
[323,3.2299999999999751,{"$f":"IF(B373<CALCULATIONS!$M$9,Alfa1*SIN(miia*B373)-Alfa2*SIN(miib*B373),CURRENTX)","v":38.007445551990145},{"$f":"IF(B373<CALCULATIONS!$M$9,-(Alfa1*COS(miia*B373)-Alfa2*COS(miib*B373)),CURRENTY)","v":-27.387692168327412},null,null,323,3.2299999999999751,{"$f":"IF(H373<CALCULATIONS!$M$9,Aktina*SIN(epsilon*H373)*COS(D*H373),Aktina*SIN(epsilon*XRONOS)*COS(D*XRONOS))","v":7.2541560773347955},{"$f":"IF(H373<CALCULATIONS!$M$9,Aktina*COS(epsilon*H373)*COS(D*H373),Aktina*COS(epsilon*XRONOS)*COS(D*XRONOS))","v":15.327698400438194}]
[324,3.2399999999999749,{"$f":"IF(B374<CALCULATIONS!$M$9,Alfa1*SIN(miia*B374)-Alfa2*SIN(miib*B374),CURRENTX)","v":41.477414022434957},{"$f":"IF(B374<CALCULATIONS!$M$9,-(Alfa1*COS(miia*B374)-Alfa2*COS(miib*B374)),CURRENTY)","v":-28.212567767760245},null,null,324,3.2399999999999749,{"$f":"IF(H374<CALCULATIONS!$M$9,Aktina*SIN(epsilon*H374)*COS(D*H374),Aktina*SIN(epsilon*XRONOS)*COS(D*XRONOS))","v":3.1265499751500907},{"$f":"IF(H374<CALCULATIONS!$M$9,Aktina*COS(epsilon*H374)*COS(D*H374),Aktina*COS(epsilon*XRONOS)*COS(D*XRONOS))","v":5.8330374478307476}]
[325,3.2499999999999747,{"$f":"IF(B375<CALCULATIONS!$M$9,Alfa1*SIN(miia*B375)-Alfa2*SIN(miib*B375),CURRENTX)","v":44.698129400906581},{"$f":"IF(B375<CALCULATIONS!$M$9,-(Alfa1*COS(miia*B375)-Alfa2*COS(miib*B375)),CURRENTY)","v":-29.063711866245395},null,null,325,3.2499999999999747,{"$f":"IF(H375<CALCULATIONS!$M$9,Aktina*SIN(epsilon*H375)*COS(D*H375),Aktina*SIN(epsilon*XRONOS)*COS(D*XRONOS))","v":-1.9964610419364479},{"$f":"IF(H375<CALCULATIONS!$M$9,Aktina*COS(epsilon*H375)*COS(D*H375),Aktina*COS(epsilon*XRONOS)*COS(D*XRONOS))","v":-3.3152703846661522}]
[326,3.2599999999999745,{"$f":"IF(B376<CALCULATIONS!$M$9,Alfa1*SIN(miia*B376)-Alfa2*SIN(miib*B376),CURRENTX)","v":47.652606475921502},{"$f":"IF(B376<CALCULATIONS!$M$9,-(Alfa1*COS(miia*B376)-Alfa2*COS(miib*B376)),CURRENTY)","v":-29.923979659416968},null,null,326,3.2599999999999745,{"$f":"IF(H376<CALCULATIONS!$M$9,Aktina*SIN(epsilon*H376)*COS(D*H376),Aktina*SIN(epsilon*XRONOS)*COS(D*XRONOS))","v":-7.9640818788929391},{"$f":"IF(H376<CALCULATIONS!$M$9,Aktina*COS(epsilon*H376)*COS(D*H376),Aktina*COS(epsilon*XRONOS)*COS(D*XRONOS))","v":-11.842333880620366}]
[327,3.2699999999999743,{"$f":"IF(B377<CALCULATIONS!$M$9,Alfa1*SIN(miia*B377)-Alfa2*SIN(miib*B377),CURRENTX)","v":50.326069368476283},{"$f":"IF(B377<CALCULATIONS!$M$9,-(Alfa1*COS(miia*B377)-Alfa2*COS(miib*B377)),CURRENTY)","v":-30.775386541212576},null,null,327,3.2699999999999743,{"$f":"IF(H377<CALCULATIONS!$M$9,Aktina*SIN(epsilon*H377)*COS(D*H377),Aktina*SIN(epsilon*XRONOS)*COS(D*XRONOS))","v":-14.582611187396376},{"$f":"IF(H377<CALCULATIONS!$M$9,Aktina*COS(epsilon*H377)*COS(D*H377),Aktina*COS(epsilon*XRONOS)*COS(D*XRONOS))","v":-19.502915550265126}]
[328,3.279999999999974,{"$f":"IF(B378<CALCULATIONS!$M$9,Alfa1*SIN(miia*B378)-Alfa2*SIN(miib*B378),CURRENTX)","v":52.706062314728428},{"$f":"IF(B378<CALCULATIONS!$M$9,-(Alfa1*COS(miia*B378)-Alfa2*COS(miib*B378)),CURRENTY)","v":-31.599311267959493},null,null,328,3.279999999999974,{"$f":"IF(H378<CALCULATIONS!$M$9,Aktina*SIN(epsilon*H378)*COS(D*H378),Aktina*SIN(epsilon*XRONOS)*COS(D*XRONOS))","v":-21.622721906988062},{"$f":"IF(H378<CALCULATIONS!$M$9,Aktina*COS(epsilon*H378)*COS(D*H378),Aktina*COS(epsilon*XRONOS)*COS(D*XRONOS))","v":-26.090262168074474}]
[329,3.2899999999999738,{"$f":"IF(B379<CALCULATIONS!$M$9,Alfa1*SIN(miia*B379)-Alfa2*SIN(miib*B379),CURRENTX)","v":54.782538485810349},{"$f":"IF(B379<CALCULATIONS!$M$9,-(Alfa1*COS(miia*B379)-Alfa2*COS(miib*B379)),CURRENTY)","v":-32.376707296087091},null,null,329,3.2899999999999738,{"$f":"IF(H379<CALCULATIONS!$M$9,Aktina*SIN(epsilon*H379)*COS(D*H379),Aktina*SIN(epsilon*XRONOS)*COS(D*XRONOS))","v":-28.82825877079793},{"$f":"IF(H379<CALCULATIONS!$M$9,Aktina*COS(epsilon*H379)*COS(D*H379),Aktina*COS(epsilon*XRONOS)*COS(D*XRONOS))","v":-31.443361693315932}]
[330,3.2999999999999736,{"$f":"IF(B380<CALCULATIONS!$M$9,Alfa1*SIN(miia*B380)-Alfa2*SIN(miib*B380),CURRENTX)","v":56.547926046391076},{"$f":"IF(B380<CALCULATIONS!$M$9,-(Alfa1*COS(miia*B380)-Alfa2*COS(miib*B380)),CURRENTY)","v":-33.088320118662914},null,null,330,3.2999999999999736,{"$f":"IF(H380<CALCULATIONS!$M$9,Aktina*SIN(epsilon*H380)*COS(D*H380),Aktina*SIN(epsilon*XRONOS)*COS(D*XRONOS))","v":-35.926205494574788},{"$f":"IF(H380<CALCULATIONS!$M$9,Aktina*COS(epsilon*H380)*COS(D*H380),Aktina*COS(epsilon*XRONOS)*COS(D*XRONOS))","v":-35.452347111620497}]
[331,3.3099999999999734,{"$f":"IF(B381<CALCULATIONS!$M$9,Alfa1*SIN(miia*B381)-Alfa2*SIN(miib*B381),CURRENTX)","v":57.997170877742114},{"$f":"IF(B381<CALCULATIONS!$M$9,-(Alfa1*COS(miia*B381)-Alfa2*COS(miib*B381)),CURRENTY)","v":-33.714908361635501},null,null,331,3.3099999999999734,{"$f":"IF(H381<CALCULATIONS!$M$9,Aktina*SIN(epsilon*H381)*COS(D*H381),Aktina*SIN(epsilon*XRONOS)*COS(D*XRONOS))","v":-42.637426735740554},{"$f":"IF(H381<CALCULATIONS!$M$9,Aktina*COS(epsilon*H381)*COS(D*H381),Aktina*COS(epsilon*XRONOS)*COS(D*XRONOS))","v":-38.061841907012131}]
[332,3.3199999999999732,{"$f":"IF(B382<CALCULATIONS!$M$9,Alfa1*SIN(miia*B382)-Alfa2*SIN(miib*B382),CURRENTX)","v":59.127755620750669},{"$f":"IF(B382<CALCULATIONS!$M$9,-(Alfa1*COS(miia*B382)-Alfa2*COS(miib*B382)),CURRENTY)","v":-34.237466358901017},null,null,332,3.3199999999999732,{"$f":"IF(H382<CALCULATIONS!$M$9,Aktina*SIN(epsilon*H382)*COS(D*H382),Aktina*SIN(epsilon*XRONOS)*COS(D*XRONOS))","v":-48.68775799665903},{"$f":"IF(H382<CALCULATIONS!$M$9,Aktina*COS(epsilon*H382)*COS(D*H382),Aktina*COS(epsilon*XRONOS)*COS(D*XRONOS))","v":-39.272124128149834}]
[333,3.329999999999973,{"$f":"IF(B383<CALCULATIONS!$M$9,Alfa1*SIN(miia*B383)-Alfa2*SIN(miib*B383),CURRENTX)","v":59.939694927228764},{"$f":"IF(B383<CALCULATIONS!$M$9,-(Alfa1*COS(miia*B383)-Alfa2*COS(miib*B383)),CURRENTY)","v":-34.63744590650748},null,null,333,3.329999999999973,{"$f":"IF(H383<CALCULATIONS!$M$9,Aktina*SIN(epsilon*H383)*COS(D*H383),Aktina*SIN(epsilon*XRONOS)*COS(D*XRONOS))","v":-53.819001735773888},{"$f":"IF(H383<CALCULATIONS!$M$9,Aktina*COS(epsilon*H383)*COS(D*H383),Aktina*COS(epsilon*XRONOS)*COS(D*XRONOS))","v":-39.138073068656475}]
[334,3.3399999999999728,{"$f":"IF(B384<CALCULATIONS!$M$9,Alfa1*SIN(miia*B384)-Alfa2*SIN(miib*B384),CURRENTX)","v":60.43550704170638},{"$f":"IF(B384<CALCULATIONS!$M$9,-(Alfa1*COS(miia*B384)-Alfa2*COS(miib*B384)),CURRENTY)","v":-34.896974900680107},null,null,334,3.3399999999999728,{"$f":"IF(H384<CALCULATIONS!$M$9,Aktina*SIN(epsilon*H384)*COS(D*H384),Aktina*SIN(epsilon*XRONOS)*COS(D*XRONOS))","v":-57.799390646537404},{"$f":"IF(H384<CALCULATIONS!$M$9,Aktina*COS(epsilon*H384)*COS(D*H384),Aktina*COS(epsilon*XRONOS)*COS(D*XRONOS))","v":-37.765950967722411}]
[335,3.3499999999999726,{"$f":"IF(B385<CALCULATIONS!$M$9,Alfa1*SIN(miia*B385)-Alfa2*SIN(miib*B385),CURRENTX)","v":60.620162068316276},{"$f":"IF(B385<CALCULATIONS!$M$9,-(Alfa1*COS(miia*B385)-Alfa2*COS(miib*B385)),CURRENTY)","v":-34.999070591848863},null,null,335,3.3499999999999726,{"$f":"IF(H385<CALCULATIONS!$M$9,Aktina*SIN(epsilon*H385)*COS(D*H385),Aktina*SIN(epsilon*XRONOS)*COS(D*XRONOS))","v":-60.433099270052168},{"$f":"IF(H385<CALCULATIONS!$M$9,Aktina*COS(epsilon*H385)*COS(D*H385),Aktina*COS(epsilon*XRONOS)*COS(D*XRONOS))","v":-35.308158330199241}]
[336,3.3599999999999723,{"$f":"IF(B386<CALCULATIONS!$M$9,Alfa1*SIN(miia*B386)-Alfa2*SIN(miib*B386),CURRENTX)","v":60.50100750608793},{"$f":"IF(B386<CALCULATIONS!$M$9,-(Alfa1*COS(miia*B386)-Alfa2*COS(miib*B386)),CURRENTY)","v":-34.927845237228709},null,null,336,3.3599999999999723,{"$f":"IF(H386<CALCULATIONS!$M$9,Aktina*SIN(epsilon*H386)*COS(D*H386),Aktina*SIN(epsilon*XRONOS)*COS(D*XRONOS))","v":-61.568422027897547},{"$f":"IF(H386<CALCULATIONS!$M$9,Aktina*COS(epsilon*H386)*COS(D*H386),Aktina*COS(epsilon*XRONOS)*COS(D*XRONOS))","v":-31.956182030011696}]
[337,3.3699999999999721,{"$f":"IF(B387<CALCULATIONS!$M$9,Alfa1*SIN(miia*B387)-Alfa2*SIN(miib*B387),CURRENTX)","v":60.087671858675563},{"$f":"IF(B387<CALCULATIONS!$M$9,-(Alfa1*COS(miia*B387)-Alfa2*COS(miib*B387)),CURRENTY)","v":-34.668702007241706},null,null,337,3.3699999999999721,{"$f":"IF(H387<CALCULATIONS!$M$9,Aktina*SIN(epsilon*H387)*COS(D*H387),Aktina*SIN(epsilon*XRONOS)*COS(D*XRONOS))","v":-61.104287934970451},{"$f":"IF(H387<CALCULATIONS!$M$9,Aktina*COS(epsilon*H387)*COS(D*H387),Aktina*COS(epsilon*XRONOS)*COS(D*XRONOS))","v":-27.932027087320535}]
[338,3.3799999999999719,{"$f":"IF(B388<CALCULATIONS!$M$9,Alfa1*SIN(miia*B388)-Alfa2*SIN(miib*B388),CURRENTX)","v":59.391947339050198},{"$f":"IF(B388<CALCULATIONS!$M$9,-(Alfa1*COS(miia*B388)-Alfa2*COS(miib*B388)),CURRENTY)","v":-34.208519095465},null,null,338,3.3799999999999719,{"$f":"IF(H388<CALCULATIONS!$M$9,Aktina*SIN(epsilon*H388)*COS(D*H388),Aktina*SIN(epsilon*XRONOS)*COS(D*XRONOS))","v":-58.994847608287181},{"$f":"IF(H388<CALCULATIONS!$M$9,Aktina*COS(epsilon*H388)*COS(D*H388),Aktina*COS(epsilon*XRONOS)*COS(D*XRONOS))","v":-23.478483042106291}]
[339,3.3899999999999717,{"$f":"IF(B389<CALCULATIONS!$M$9,Alfa1*SIN(miia*B389)-Alfa2*SIN(miib*B389),CURRENTX)","v":58.427652893846769},{"$f":"IF(B389<CALCULATIONS!$M$9,-(Alfa1*COS(miia*B389)-Alfa2*COS(miib*B389)),CURRENTY)","v":-33.535820096900856},null,null,339,3.3899999999999717,{"$f":"IF(H389<CALCULATIONS!$M$9,Aktina*SIN(epsilon*H389)*COS(D*H389),Aktina*SIN(epsilon*XRONOS)*COS(D*XRONOS))","v":-55.251944130545496},{"$f":"IF(H389<CALCULATIONS!$M$9,Aktina*COS(epsilon*H389)*COS(D*H389),Aktina*COS(epsilon*XRONOS)*COS(D*XRONOS))","v":-18.848621795662478}]
[340,3.3999999999999715,{"$f":"IF(B390<CALCULATIONS!$M$9,Alfa1*SIN(miia*B390)-Alfa2*SIN(miib*B390),CURRENTX)","v":57.210478963850335},{"$f":"IF(B390<CALCULATIONS!$M$9,-(Alfa1*COS(miia*B390)-Alfa2*COS(miib*B390)),CURRENTY)","v":-32.640928854051509},null,null,340,3.3999999999999715,{"$f":"IF(H390<CALCULATIONS!$M$9,Aktina*SIN(epsilon*H390)*COS(D*H390),Aktina*SIN(epsilon*XRONOS)*COS(D*XRONOS))","v":-49.945362838343222},{"$f":"IF(H390<CALCULATIONS!$M$9,Aktina*COS(epsilon*H390)*COS(D*H390),Aktina*COS(epsilon*XRONOS)*COS(D*XRONOS))","v":-14.294953830112357}]
[341,3.4099999999999713,{"$f":"IF(B391<CALCULATIONS!$M$9,Alfa1*SIN(miia*B391)-Alfa2*SIN(miib*B391),CURRENTX)","v":55.757815574629007},{"$f":"IF(B391<CALCULATIONS!$M$9,-(Alfa1*COS(miia*B391)-Alfa2*COS(miib*B391)),CURRENTY)","v":-31.516107123205877},null,null,341,3.4099999999999713,{"$f":"IF(H391<CALCULATIONS!$M$9,Aktina*SIN(epsilon*H391)*COS(D*H391),Aktina*SIN(epsilon*XRONOS)*COS(D*XRONOS))","v":-43.200842863447527},{"$f":"IF(H391<CALCULATIONS!$M$9,Aktina*COS(epsilon*H391)*COS(D*H391),Aktina*COS(epsilon*XRONOS)*COS(D*XRONOS))","v":-10.058682653000634}]
[342,3.4199999999999711,{"$f":"IF(B392<CALCULATIONS!$M$9,Alfa1*SIN(miia*B392)-Alfa2*SIN(miib*B392),CURRENTX)","v":54.08856551280396},{"$f":"IF(B392<CALCULATIONS!$M$9,-(Alfa1*COS(miia*B392)-Alfa2*COS(miib*B392)),CURRENTY)","v":-30.155673582978661},null,null,342,3.4199999999999711,{"$f":"IF(H392<CALCULATIONS!$M$9,Aktina*SIN(epsilon*H392)*COS(D*H392),Aktina*SIN(epsilon*XRONOS)*COS(D*XRONOS))","v":-35.195921770682155},{"$f":"IF(H392<CALCULATIONS!$M$9,Aktina*COS(epsilon*H392)*COS(D*H392),Aktina*COS(epsilon*XRONOS)*COS(D*XRONOS))","v":-6.3594926402782068}]
[343,3.4299999999999708,{"$f":"IF(B393<CALCULATIONS!$M$9,Alfa1*SIN(miia*B393)-Alfa2*SIN(miib*B393),CURRENTX)","v":52.222944487304666},{"$f":"IF(B393<CALCULATIONS!$M$9,-(Alfa1*COS(miia*B393)-Alfa2*COS(miib*B393)),CURRENTY)","v":-28.556102891805207},null,null,343,3.4299999999999708,{"$f":"IF(H393<CALCULATIONS!$M$9,Aktina*SIN(epsilon*H393)*COS(D*H393),Aktina*SIN(epsilon*XRONOS)*COS(D*XRONOS))","v":-26.153770386142305},{"$f":"IF(H393<CALCULATIONS!$M$9,Aktina*COS(epsilon*H393)*COS(D*H393),Aktina*COS(epsilon*XRONOS)*COS(D*XRONOS))","v":-3.3862833605360385}]
[344,3.4399999999999706,{"$f":"IF(B394<CALCULATIONS!$M$9,Alfa1*SIN(miia*B394)-Alfa2*SIN(miib*B394),CURRENTX)","v":50.182270299743564},{"$f":"IF(B394<CALCULATIONS!$M$9,-(Alfa1*COS(miia*B394)-Alfa2*COS(miib*B394)),CURRENTY)","v":-26.716103698932717},null,null,344,3.4399999999999706,{"$f":"IF(H394<CALCULATIONS!$M$9,Aktina*SIN(epsilon*H394)*COS(D*H394),Aktina*SIN(epsilon*XRONOS)*COS(D*XRONOS))","v":-16.335254482384681},{"$f":"IF(H394<CALCULATIONS!$M$9,Aktina*COS(epsilon*H394)*COS(D*H394),Aktina*COS(epsilon*XRONOS)*COS(D*XRONOS))","v":-1.2892248450387671}]
[345,3.4499999999999704,{"$f":"IF(B395<CALCULATIONS!$M$9,Alfa1*SIN(miia*B395)-Alfa2*SIN(miib*B395),CURRENTX)","v":47.988743152551791},{"$f":"IF(B395<CALCULATIONS!$M$9,-(Alfa1*COS(miia*B395)-Alfa2*COS(miib*B395)),CURRENTY)","v":-24.636674722505944},null,null,345,3.4499999999999704,{"$f":"IF(H395<CALCULATIONS!$M$9,Aktina*SIN(epsilon*H395)*COS(D*H395),Aktina*SIN(epsilon*XRONOS)*COS(D*XRONOS))","v":-6.0295302161145967},{"$f":"IF(H395<CALCULATIONS!$M$9,Aktina*COS(epsilon*H395)*COS(D*H395),Aktina*COS(epsilon*XRONOS)*COS(D*XRONOS))","v":-0.17345467042825502}]
[346,3.4599999999999702,{"$f":"IF(B396<CALCULATIONS!$M$9,Alfa1*SIN(miia*B396)-Alfa2*SIN(miib*B396),CURRENTX)","v":45.665219306685422},{"$f":"IF(B396<CALCULATIONS!$M$9,-(Alfa1*COS(miia*B396)-Alfa2*COS(miib*B396)),CURRENTY)","v":-22.321138226514055},null,null,346,3.4599999999999702,{"$f":"IF(H396<CALCULATIONS!$M$9,Aktina*SIN(epsilon*H396)*COS(D*H396),Aktina*SIN(epsilon*XRONOS)*COS(D*XRONOS))","v":4.4564616964384083},{"$f":"IF(H396<CALCULATIONS!$M$9,Aktina*COS(epsilon*H396)*COS(D*H396),Aktina*COS(epsilon*XRONOS)*COS(D*XRONOS))","v":-9.4671290004494299E-2}]
[347,3.46999999999997,{"$f":"IF(B397<CALCULATIONS!$M$9,Alfa1*SIN(miia*B397)-Alfa2*SIN(miib*B397),CURRENTX)","v":43.23498036175463},{"$f":"IF(B397<CALCULATIONS!$M$9,-(Alfa1*COS(miia*B397)-Alfa2*COS(miib*B397)),CURRENTY)","v":-19.775150453495417},null,null,347,3.46999999999997,{"$f":"IF(H397<CALCULATIONS!$M$9,Aktina*SIN(epsilon*H397)*COS(D*H397),Aktina*SIN(epsilon*XRONOS)*COS(D*XRONOS))","v":14.809194443062411},{"$f":"IF(H397<CALCULATIONS!$M$9,Aktina*COS(epsilon*H397)*COS(D*H397),Aktina*COS(epsilon*XRONOS)*COS(D*XRONOS))","v":-1.0568014434222768}]
[348,3.4799999999999698,{"$f":"IF(B398<CALCULATIONS!$M$9,Alfa1*SIN(miia*B398)-Alfa2*SIN(miib*B398),CURRENTX)","v":40.721500469715735},{"$f":"IF(B398<CALCULATIONS!$M$9,-(Alfa1*COS(miia*B398)-Alfa2*COS(miib*B398)),CURRENTY)","v":-17.006688799709046},null,null,348,3.4799999999999698,{"$f":"IF(H398<CALCULATIONS!$M$9,Aktina*SIN(epsilon*H398)*COS(D*H398),Aktina*SIN(epsilon*XRONOS)*COS(D*XRONOS))","v":24.720010144904506},{"$f":"IF(H398<CALCULATIONS!$M$9,Aktina*COS(epsilon*H398)*COS(D*H398),Aktina*COS(epsilon*XRONOS)*COS(D*XRONOS))","v":-3.0118357575707062}]
[349,3.4899999999999696,{"$f":"IF(B399<CALCULATIONS!$M$9,Alfa1*SIN(miia*B399)-Alfa2*SIN(miib*B399),CURRENTX)","v":38.148213808465556},{"$f":"IF(B399<CALCULATIONS!$M$9,-(Alfa1*COS(miia*B399)-Alfa2*COS(miib*B399)),CURRENTY)","v":-14.026015751715871},null,null,349,3.4899999999999696,{"$f":"IF(H399<CALCULATIONS!$M$9,Aktina*SIN(epsilon*H399)*COS(D*H399),Aktina*SIN(epsilon*XRONOS)*COS(D*XRONOS))","v":33.896385210003423},{"$f":"IF(H399<CALCULATIONS!$M$9,Aktina*COS(epsilon*H399)*COS(D*H399),Aktina*COS(epsilon*XRONOS)*COS(D*XRONOS))","v":-5.861839171168346}]
[350,3.4999999999999694,{"$f":"IF(B400<CALCULATIONS!$M$9,Alfa1*SIN(miia*B400)-Alfa2*SIN(miib*B400),CURRENTX)","v":35.538284633611838},{"$f":"IF(B400<CALCULATIONS!$M$9,-(Alfa1*COS(miia*B400)-Alfa2*COS(miib*B400)),CURRENTY)","v":-10.845619835610398},null,null,350,3.4999999999999694,{"$f":"IF(H400<CALCULATIONS!$M$9,Aktina*SIN(epsilon*H400)*COS(D*H400),Aktina*SIN(epsilon*XRONOS)*COS(D*XRONOS))","v":42.072567286868008},{"$f":"IF(H400<CALCULATIONS!$M$9,Aktina*COS(epsilon*H400)*COS(D*H400),Aktina*COS(epsilon*XRONOS)*COS(D*XRONOS))","v":-9.4630550701702276}]
[351,3.5099999999999691,{"$f":"IF(B401<CALCULATIONS!$M$9,Alfa1*SIN(miia*B401)-Alfa2*SIN(miib*B401),CURRENTX)","v":32.914382195498447},{"$f":"IF(B401<CALCULATIONS!$M$9,-(Alfa1*COS(miia*B401)-Alfa2*COS(miib*B401)),CURRENTY)","v":-7.4801340602259181},null,null,351,3.5099999999999691,{"$f":"IF(H401<CALCULATIONS!$M$9,Aktina*SIN(epsilon*H401)*COS(D*H401),Aktina*SIN(epsilon*XRONOS)*COS(D*XRONOS))","v":49.019169998184971},{"$f":"IF(H401<CALCULATIONS!$M$9,Aktina*COS(epsilon*H401)*COS(D*H401),Aktina*COS(epsilon*XRONOS)*COS(D*XRONOS))","v":-13.631937518986213}]
[352,3.5199999999999689,{"$f":"IF(B402<CALCULATIONS!$M$9,Alfa1*SIN(miia*B402)-Alfa2*SIN(miib*B402),CURRENTX)","v":30.298462754521076},{"$f":"IF(B402<CALCULATIONS!$M$9,-(Alfa1*COS(miia*B402)-Alfa2*COS(miib*B402)),CURRENTY)","v":-3.9462325611564566},null,null,352,3.5199999999999689,{"$f":"IF(H402<CALCULATIONS!$M$9,Aktina*SIN(epsilon*H402)*COS(D*H402),Aktina*SIN(epsilon*XRONOS)*COS(D*XRONOS))","v":54.551352934302777},{"$f":"IF(H402<CALCULATIONS!$M$9,Aktina*COS(epsilon*H402)*COS(D*H402),Aktina*COS(epsilon*XRONOS)*COS(D*XRONOS))","v":-18.152868092911614}]
[353,3.5299999999999687,{"$f":"IF(B403<CALCULATIONS!$M$9,Alfa1*SIN(miia*B403)-Alfa2*SIN(miib*B403),CURRENTX)","v":27.711560851477053},{"$f":"IF(B403<CALCULATIONS!$M$9,-(Alfa1*COS(miia*B403)-Alfa2*COS(miib*B403)),CURRENTY)","v":-0.26250637119326115},null,null,353,3.5299999999999687,{"$f":"IF(H403<CALCULATIONS!$M$9,Aktina*SIN(epsilon*H403)*COS(D*H403),Aktina*SIN(epsilon*XRONOS)*COS(D*XRONOS))","v":58.535270437110498},{"$f":"IF(H403<CALCULATIONS!$M$9,Aktina*COS(epsilon*H403)*COS(D*H403),Aktina*COS(epsilon*XRONOS)*COS(D*XRONOS))","v":-22.787245674985925}]
[354,3.5399999999999685,{"$f":"IF(B404<CALCULATIONS!$M$9,Alfa1*SIN(miia*B404)-Alfa2*SIN(miib*B404),CURRENTX)","v":25.173591891881731},{"$f":"IF(B404<CALCULATIONS!$M$9,-(Alfa1*COS(miia*B404)-Alfa2*COS(miib*B404)),CURRENTY)","v":3.5506805474812388},null,null,354,3.5399999999999685,{"$f":"IF(H404<CALCULATIONS!$M$9,Aktina*SIN(epsilon*H404)*COS(D*H404),Aktina*SIN(epsilon*XRONOS)*COS(D*XRONOS))","v":60.892541276174953},{"$f":"IF(H404<CALCULATIONS!$M$9,Aktina*COS(epsilon*H404)*COS(D*H404),Aktina*COS(epsilon*XRONOS)*COS(D*XRONOS))","v":-27.283581902173708}]
[355,3.5499999999999683,{"$f":"IF(B405<CALCULATIONS!$M$9,Alfa1*SIN(miia*B405)-Alfa2*SIN(miib*B405),CURRENTX)","v":22.703167984889777},{"$f":"IF(B405<CALCULATIONS!$M$9,-(Alfa1*COS(miia*B405)-Alfa2*COS(miib*B405)),CURRENTY)","v":7.4713536753026073},null,null,355,3.5499999999999683,{"$f":"IF(H405<CALCULATIONS!$M$9,Aktina*SIN(epsilon*H405)*COS(D*H405),Aktina*SIN(epsilon*XRONOS)*COS(D*XRONOS))","v":61.602569681320212},{"$f":"IF(H405<CALCULATIONS!$M$9,Aktina*COS(epsilon*H405)*COS(D*H405),Aktina*COS(epsilon*XRONOS)*COS(D*XRONOS))","v":-31.388193960413805}]
[356,3.5599999999999681,{"$f":"IF(B406<CALCULATIONS!$M$9,Alfa1*SIN(miia*B406)-Alfa2*SIN(miib*B406),CURRENTX)","v":20.317428839832303},{"$f":"IF(B406<CALCULATIONS!$M$9,-(Alfa1*COS(miia*B406)-Alfa2*COS(miib*B406)),CURRENTY)","v":11.476107191901155},null,null,356,3.5599999999999681,{"$f":"IF(H406<CALCULATIONS!$M$9,Aktina*SIN(epsilon*H406)*COS(D*H406),Aktina*SIN(epsilon*XRONOS)*COS(D*XRONOS))","v":60.702633230501306},{"$f":"IF(H406<CALCULATIONS!$M$9,Aktina*COS(epsilon*H406)*COS(D*H406),Aktina*COS(epsilon*XRONOS)*COS(D*XRONOS))","v":-34.856061778624365}]
[357,3.5699999999999679,{"$f":"IF(B407<CALCULATIONS!$M$9,Alfa1*SIN(miia*B407)-Alfa2*SIN(miib*B407),CURRENTX)","v":18.031889367853754},{"$f":"IF(B407<CALCULATIONS!$M$9,-(Alfa1*COS(miia*B407)-Alfa2*COS(miib*B407)),CURRENTY)","v":15.540298426908057},null,null,357,3.5699999999999679,{"$f":"IF(H407<CALCULATIONS!$M$9,Aktina*SIN(epsilon*H407)*COS(D*H407),Aktina*SIN(epsilon*XRONOS)*COS(D*XRONOS))","v":58.285741415063072},{"$f":"IF(H407<CALCULATIONS!$M$9,Aktina*COS(epsilon*H407)*COS(D*H407),Aktina*COS(epsilon*XRONOS)*COS(D*XRONOS))","v":-37.461409349183221}]
[358,3.5799999999999677,{"$f":"IF(B408<CALCULATIONS!$M$9,Alfa1*SIN(miia*B408)-Alfa2*SIN(miib*B408),CURRENTX)","v":15.860305464227135},{"$f":"IF(B408<CALCULATIONS!$M$9,-(Alfa1*COS(miia*B408)-Alfa2*COS(miib*B408)),CURRENTY)","v":19.638255660622043},null,null,358,3.5799999999999677,{"$f":"IF(H408<CALCULATIONS!$M$9,Aktina*SIN(epsilon*H408)*COS(D*H408),Aktina*SIN(epsilon*XRONOS)*COS(D*XRONOS))","v":54.496356802118292},{"$f":"IF(H408<CALCULATIONS!$M$9,Aktina*COS(epsilon*H408)*COS(D*H408),Aktina*COS(epsilon*XRONOS)*COS(D*XRONOS))","v":-39.007580206372296}]
[359,3.5899999999999674,{"$f":"IF(B409<CALCULATIONS!$M$9,Alfa1*SIN(miia*B409)-Alfa2*SIN(miib*B409),CURRENTX)","v":13.814559260416797},{"$f":"IF(B409<CALCULATIONS!$M$9,-(Alfa1*COS(miia*B409)-Alfa2*COS(miib*B409)),CURRENTY)","v":23.743497294283909},null,null,359,3.5899999999999674,{"$f":"IF(H409<CALCULATIONS!$M$9,Aktina*SIN(epsilon*H409)*COS(D*H409),Aktina*SIN(epsilon*XRONOS)*COS(D*XRONOS))","v":49.524155081474007},{"$f":"IF(H409<CALCULATIONS!$M$9,Aktina*COS(epsilon*H409)*COS(D*H409),Aktina*COS(epsilon*XRONOS)*COS(D*XRONOS))","v":-39.335804620887828}]
[360,3.5999999999999672,{"$f":"IF(B410<CALCULATIONS!$M$9,Alfa1*SIN(miia*B410)-Alfa2*SIN(miib*B410),CURRENTX)","v":11.904564935678192},{"$f":"IF(B410<CALCULATIONS!$M$9,-(Alfa1*COS(miia*B410)-Alfa2*COS(miib*B410)),CURRENTY)","v":27.828960293404339},null,null,360,3.5999999999999672,{"$f":"IF(H410<CALCULATIONS!$M$9,Aktina*SIN(epsilon*H410)*COS(D*H410),Aktina*SIN(epsilon*XRONOS)*COS(D*XRONOS))","v":43.596077567200986},{"$f":"IF(H410<CALCULATIONS!$M$9,Aktina*COS(epsilon*H410)*COS(D*H410),Aktina*COS(epsilon*XRONOS)*COS(D*XRONOS))","v":-38.332499726550587}]
[361,3.609999999999967,{"$f":"IF(B411<CALCULATIONS!$M$9,Alfa1*SIN(miia*B411)-Alfa2*SIN(miib*B411),CURRENTX)","v":10.1381959679766},{"$f":"IF(B411<CALCULATIONS!$M$9,-(Alfa1*COS(miia*B411)-Alfa2*COS(miib*B411)),CURRENTY)","v":31.867235711966796},null,null,361,3.609999999999967,{"$f":"IF(H411<CALCULATIONS!$M$9,Aktina*SIN(epsilon*H411)*COS(D*H411),Aktina*SIN(epsilon*XRONOS)*COS(D*XRONOS))","v":36.966996849590288},{"$f":"IF(H411<CALCULATIONS!$M$9,Aktina*COS(epsilon*H411)*COS(D*H411),Aktina*COS(epsilon*XRONOS)*COS(D*XRONOS))","v":-35.934801849491919}]
[362,3.6199999999999668,{"$f":"IF(B412<CALCULATIONS!$M$9,Alfa1*SIN(miia*B412)-Alfa2*SIN(miib*B412),CURRENTX)","v":8.5212344853433564},{"$f":"IF(B412<CALCULATIONS!$M$9,-(Alfa1*COS(miia*B412)-Alfa2*COS(miib*B412)),CURRENTY)","v":35.830809031418404},null,null,362,3.6199999999999668,{"$f":"IF(H412<CALCULATIONS!$M$9,Aktina*SIN(epsilon*H412)*COS(D*H412),Aktina*SIN(epsilon*XRONOS)*COS(D*XRONOS))","v":29.909370595244166},{"$f":"IF(H412<CALCULATIONS!$M$9,Aktina*COS(epsilon*H412)*COS(D*H412),Aktina*COS(epsilon*XRONOS)*COS(D*XRONOS))","v":-32.134100450293737}]
[363,3.6299999999999666,{"$f":"IF(B413<CALCULATIONS!$M$9,Alfa1*SIN(miia*B413)-Alfa2*SIN(miib*B413),CURRENTX)","v":7.0573431537018365},{"$f":"IF(B413<CALCULATIONS!$M$9,-(Alfa1*COS(miia*B413)-Alfa2*COS(miib*B413)),CURRENTY)","v":39.6923029968397},null,null,363,3.6299999999999666,{"$f":"IF(H413<CALCULATIONS!$M$9,Aktina*SIN(epsilon*H413)*COS(D*H413),Aktina*SIN(epsilon*XRONOS)*COS(D*XRONOS))","v":22.702297816441973},{"$f":"IF(H413<CALCULATIONS!$M$9,Aktina*COS(epsilon*H413)*COS(D*H413),Aktina*COS(epsilon*XRONOS)*COS(D*XRONOS))","v":-26.977422522857651}]
[364,3.6399999999999664,{"$f":"IF(B414<CALCULATIONS!$M$9,Alfa1*SIN(miia*B414)-Alfa2*SIN(miib*B414),CURRENTX)","v":5.7480598079096197},{"$f":"IF(B414<CALCULATIONS!$M$9,-(Alfa1*COS(miia*B414)-Alfa2*COS(miib*B414)),CURRENTY)","v":43.424720604146451},null,null,364,3.6399999999999664,{"$f":"IF(H414<CALCULATIONS!$M$9,Aktina*SIN(epsilon*H414)*COS(D*H414),Aktina*SIN(epsilon*XRONOS)*COS(D*XRONOS))","v":15.620414718138253},{"$f":"IF(H414<CALCULATIONS!$M$9,Aktina*COS(epsilon*H414)*COS(D*H414),Aktina*COS(epsilon*XRONOS)*COS(D*XRONOS))","v":-20.566601855832346}]
[365,3.6499999999999662,{"$f":"IF(B415<CALCULATIONS!$M$9,Alfa1*SIN(miia*B415)-Alfa2*SIN(miib*B415),CURRENTX)","v":4.5928148016137946},{"$f":"IF(B415<CALCULATIONS!$M$9,-(Alfa1*COS(miia*B415)-Alfa2*COS(miib*B415)),CURRENTY)","v":47.001685886844037},null,null,365,3.6499999999999662,{"$f":"IF(H415<CALCULATIONS!$M$9,Aktina*SIN(epsilon*H415)*COS(D*H415),Aktina*SIN(epsilon*XRONOS)*COS(D*XRONOS))","v":8.9230725838805665},{"$f":"IF(H415<CALCULATIONS!$M$9,Aktina*COS(epsilon*H415)*COS(D*H415),Aktina*COS(epsilon*XRONOS)*COS(D*XRONOS))","v":-13.055255843420756}]
[366,3.6599999999999659,{"$f":"IF(B416<CALCULATIONS!$M$9,Alfa1*SIN(miia*B416)-Alfa2*SIN(miib*B416),CURRENTX)","v":3.5889708207905429},{"$f":"IF(B416<CALCULATIONS!$M$9,-(Alfa1*COS(miia*B416)-Alfa2*COS(miib*B416)),CURRENTY)","v":50.397680168862443},null,null,366,3.6599999999999659,{"$f":"IF(H416<CALCULATIONS!$M$9,Aktina*SIN(epsilon*H416)*COS(D*H416),Aktina*SIN(epsilon*XRONOS)*COS(D*XRONOS))","v":2.8442278775937964},{"$f":"IF(H416<CALCULATIONS!$M$9,Aktina*COS(epsilon*H416)*COS(D*H416),Aktina*COS(epsilon*XRONOS)*COS(D*XRONOS))","v":-4.6436800131964278}]
[367,3.6699999999999657,{"$f":"IF(B417<CALCULATIONS!$M$9,Alfa1*SIN(miia*B417)-Alfa2*SIN(miib*B417),CURRENTX)","v":2.7318846778815171},{"$f":"IF(B417<CALCULATIONS!$M$9,-(Alfa1*COS(miia*B417)-Alfa2*COS(miib*B417)),CURRENTY)","v":53.588271491106624},null,null,367,3.6699999999999657,{"$f":"IF(H417<CALCULATIONS!$M$9,Aktina*SIN(epsilon*H417)*COS(D*H417),Aktina*SIN(epsilon*XRONOS)*COS(D*XRONOS))","v":-2.4165546833088234},{"$f":"IF(H417<CALCULATIONS!$M$9,Aktina*COS(epsilon*H417)*COS(D*H417),Aktina*COS(epsilon*XRONOS)*COS(D*XRONOS))","v":4.4281463692109675}]
[368,3.6799999999999655,{"$f":"IF(B418<CALCULATIONS!$M$9,Alfa1*SIN(miia*B418)-Alfa2*SIN(miib*B418),CURRENTX)","v":2.0149903805087916},{"$f":"IF(B418<CALCULATIONS!$M$9,-(Alfa1*COS(miia*B418)-Alfa2*COS(miib*B418)),CURRENTY)","v":56.550334983231885},null,null,368,3.6799999999999655,{"$f":"IF(H418<CALCULATIONS!$M$9,Aktina*SIN(epsilon*H418)*COS(D*H418),Aktina*SIN(epsilon*XRONOS)*COS(D*XRONOS))","v":-6.7016307034416815},{"$f":"IF(H418<CALCULATIONS!$M$9,Aktina*COS(epsilon*H418)*COS(D*H418),Aktina*COS(epsilon*XRONOS)*COS(D*XRONOS))","v":13.889174673383522}]
[369,3.6899999999999653,{"$f":"IF(B419<CALCULATIONS!$M$9,Alfa1*SIN(miia*B419)-Alfa2*SIN(miib*B419),CURRENTX)","v":1.4299025531058653},{"$f":"IF(B419<CALCULATIONS!$M$9,-(Alfa1*COS(miia*B419)-Alfa2*COS(miib*B419)),CURRENTY)","v":59.262262038103096},null,null,369,3.6899999999999653,{"$f":"IF(H419<CALCULATIONS!$M$9,Aktina*SIN(epsilon*H419)*COS(D*H419),Aktina*SIN(epsilon*XRONOS)*COS(D*XRONOS))","v":-9.9010404638853657},{"$f":"IF(H419<CALCULATIONS!$M$9,Aktina*COS(epsilon*H419)*COS(D*H419),Aktina*COS(epsilon*XRONOS)*COS(D*XRONOS))","v":23.447187347957108}]
[370,3.6999999999999651,{"$f":"IF(B420<CALCULATIONS!$M$9,Alfa1*SIN(miia*B420)-Alfa2*SIN(miib*B420),CURRENTX)","v":0.96653908358668161},{"$f":"IF(B420<CALCULATIONS!$M$9,-(Alfa1*COS(miia*B420)-Alfa2*COS(miib*B420)),CURRENTY)","v":61.704156253635276},null,null,370,3.6999999999999651,{"$f":"IF(H420<CALCULATIONS!$M$9,Aktina*SIN(epsilon*H420)*COS(D*H420),Aktina*SIN(epsilon*XRONOS)*COS(D*XRONOS))","v":-11.956284448888463},{"$f":"IF(H420<CALCULATIONS!$M$9,Aktina*COS(epsilon*H420)*COS(D*H420),Aktina*COS(epsilon*XRONOS)*COS(D*XRONOS))","v":32.799598782132179}]
[371,3.7099999999999649,{"$f":"IF(B421<CALCULATIONS!$M$9,Alfa1*SIN(miia*B421)-Alfa2*SIN(miib*B421),CURRENTX)","v":0.6132616724726585},{"$f":"IF(B421<CALCULATIONS!$M$9,-(Alfa1*COS(miia*B421)-Alfa2*COS(miib*B421)),CURRENTY)","v":63.858014234123232},null,null,371,3.7099999999999649,{"$f":"IF(H421<CALCULATIONS!$M$9,Aktina*SIN(epsilon*H421)*COS(D*H421),Aktina*SIN(epsilon*XRONOS)*COS(D*XRONOS))","v":-12.861965603637067},{"$f":"IF(H421<CALCULATIONS!$M$9,Aktina*COS(epsilon*H421)*COS(D*H421),Aktina*COS(epsilon*XRONOS)*COS(D*XRONOS))","v":41.644734470822506}]
[372,3.7199999999999647,{"$f":"IF(B422<CALCULATIONS!$M$9,Alfa1*SIN(miia*B422)-Alfa2*SIN(miib*B422),CURRENTX)","v":0.35703278064671373},{"$f":"IF(B422<CALCULATIONS!$M$9,-(Alfa1*COS(miia*B422)-Alfa2*COS(miib*B422)),CURRENTY)","v":65.707889489541884},null,null,372,3.7199999999999647,{"$f":"IF(H422<CALCULATIONS!$M$9,Aktina*SIN(epsilon*H422)*COS(D*H422),Aktina*SIN(epsilon*XRONOS)*COS(D*XRONOS))","v":-12.66523974503812},{"$f":"IF(H422<CALCULATIONS!$M$9,Aktina*COS(epsilon*H422)*COS(D*H422),Aktina*COS(epsilon*XRONOS)*COS(D*XRONOS))","v":49.693146651867174}]
[373,3.7299999999999645,{"$f":"IF(B423<CALCULATIONS!$M$9,Alfa1*SIN(miia*B423)-Alfa2*SIN(miib*B423),CURRENTX)","v":0.18358730593211448},{"$f":"IF(B423<CALCULATIONS!$M$9,-(Alfa1*COS(miia*B423)-Alfa2*COS(miib*B423)),CURRENTY)","v":67.240037835137841},null,null,373,3.7299999999999645,{"$f":"IF(H423<CALCULATIONS!$M$9,Aktina*SIN(epsilon*H423)*COS(D*H423),Aktina*SIN(epsilon*XRONOS)*COS(D*XRONOS))","v":-11.46310367706738},{"$f":"IF(H423<CALCULATIONS!$M$9,Aktina*COS(epsilon*H423)*COS(D*H423),Aktina*COS(epsilon*XRONOS)*COS(D*XRONOS))","v":56.678522402374554}]
[374,3.7399999999999642,{"$f":"IF(B424<CALCULATIONS!$M$9,Alfa1*SIN(miia*B424)-Alfa2*SIN(miib*B424),CURRENTX)","v":7.7617169656877039E-2},{"$f":"IF(B424<CALCULATIONS!$M$9,-(Alfa1*COS(miia*B424)-Alfa2*COS(miib*B424)),CURRENTY)","v":68.443042873356049},null,null,374,3.7399999999999642,{"$f":"IF(H424<CALCULATIONS!$M$9,Aktina*SIN(epsilon*H424)*COS(D*H424),Aktina*SIN(epsilon*XRONOS)*COS(D*XRONOS))","v":-9.3976374373387248},{"$f":"IF(H424<CALCULATIONS!$M$9,Aktina*COS(epsilon*H424)*COS(D*H424),Aktina*COS(epsilon*XRONOS)*COS(D*XRONOS))","v":62.36775563028074}]
[375,3.749999999999964,{"$f":"IF(B425<CALCULATIONS!$M$9,Alfa1*SIN(miia*B425)-Alfa2*SIN(miib*B425),CURRENTX)","v":2.2966863762254874E-2},{"$f":"IF(B425<CALCULATIONS!$M$9,-(Alfa1*COS(miia*B425)-Alfa2*COS(miib*B425)),CURRENTY)","v":69.307920333931008},null,null,375,3.749999999999964,{"$f":"IF(H425<CALCULATIONS!$M$9,Aktina*SIN(epsilon*H425)*COS(D*H425),Aktina*SIN(epsilon*XRONOS)*COS(D*XRONOS))","v":-6.6493992520648435},{"$f":"IF(H425<CALCULATIONS!$M$9,Aktina*COS(epsilon*H425)*COS(D*H425),Aktina*COS(epsilon*XRONOS)*COS(D*XRONOS))","v":66.569786868707737}]
[376,3.7599999999999638,{"$f":"IF(B426<CALCULATIONS!$M$9,Alfa1*SIN(miia*B426)-Alfa2*SIN(miib*B426),CURRENTX)","v":2.8378981504211254E-3},{"$f":"IF(B426<CALCULATIONS!$M$9,-(Alfa1*COS(miia*B426)-Alfa2*COS(miib*B426)),CURRENTY)","v":69.828200253931115},null,null,376,3.7599999999999638,{"$f":"IF(H426<CALCULATIONS!$M$9,Aktina*SIN(epsilon*H426)*COS(D*H426),Aktina*SIN(epsilon*XRONOS)*COS(D*XRONOS))","v":-3.4292459214910491},{"$f":"IF(H426<CALCULATIONS!$M$9,Aktina*COS(epsilon*H426)*COS(D*H426),Aktina*COS(epsilon*XRONOS)*COS(D*XRONOS))","v":69.142862988735246}]
[377,3.7699999999999636,{"$f":"IF(B427<CALCULATIONS!$M$9,Alfa1*SIN(miia*B427)-Alfa2*SIN(miib*B427),CURRENTX)","v":-2.0434117765921744E-9},{"$f":"IF(B427<CALCULATIONS!$M$9,-(Alfa1*COS(miia*B427)-Alfa2*COS(miib*B427)),CURRENTY)","v":69.999986195603114},null,null,377,3.7699999999999636,{"$f":"IF(H427<CALCULATIONS!$M$9,Aktina*SIN(epsilon*H427)*COS(D*H427),Aktina*SIN(epsilon*XRONOS)*COS(D*XRONOS))","v":3.1085463666246153E-2},{"$f":"IF(H427<CALCULATIONS!$M$9,Aktina*COS(epsilon*H427)*COS(D*H427),Aktina*COS(epsilon*XRONOS)*COS(D*XRONOS))","v":69.999930978027592}]
[378,3.7799999999999634,{"$f":"IF(B428<CALCULATIONS!$M$9,Alfa1*SIN(miia*B428)-Alfa2*SIN(miib*B428),CURRENTX)","v":-2.9931678261454486E-3},{"$f":"IF(B428<CALCULATIONS!$M$9,-(Alfa1*COS(miia*B428)-Alfa2*COS(miib*B428)),CURRENTY)","v":69.821990923900401},null,null,378,3.7799999999999634,{"$f":"IF(H428<CALCULATIONS!$M$9,Aktina*SIN(epsilon*H428)*COS(D*H428),Aktina*SIN(epsilon*XRONOS)*COS(D*XRONOS))","v":3.4892488850876409},{"$f":"IF(H428<CALCULATIONS!$M$9,Aktina*COS(epsilon*H428)*COS(D*H428),Aktina*COS(epsilon*XRONOS)*COS(D*XRONOS))","v":69.111953324948203}]
[379,3.7899999999999632,{"$f":"IF(B429<CALCULATIONS!$M$9,Alfa1*SIN(miia*B429)-Alfa2*SIN(miib*B429),CURRENTX)","v":-2.3585990759075415E-2},{"$f":"IF(B429<CALCULATIONS!$M$9,-(Alfa1*COS(miia*B429)-Alfa2*COS(miib*B429)),CURRENTY)","v":69.29554819535042},null,null,379,3.7899999999999632,{"$f":"IF(H429<CALCULATIONS!$M$9,Aktina*SIN(epsilon*H429)*COS(D*H429),Aktina*SIN(epsilon*XRONOS)*COS(D*XRONOS))","v":6.7029940334330043},{"$f":"IF(H429<CALCULATIONS!$M$9,Aktina*COS(epsilon*H429)*COS(D*H429),Aktina*COS(epsilon*XRONOS)*COS(D*XRONOS))","v":66.509014384415394}]
[380,3.799999999999963,{"$f":"IF(B430<CALCULATIONS!$M$9,Alfa1*SIN(miia*B430)-Alfa2*SIN(miib*B430),CURRENTX)","v":-7.9002947718494809E-2},{"$f":"IF(B430<CALCULATIONS!$M$9,-(Alfa1*COS(miia*B430)-Alfa2*COS(miib*B430)),CURRENTY)","v":68.424600543151954},null,null,380,3.799999999999963,{"$f":"IF(H430<CALCULATIONS!$M$9,Aktina*SIN(epsilon*H430)*COS(D*H430),Aktina*SIN(epsilon*XRONOS)*COS(D*XRONOS))","v":9.4408670365988563},{"$f":"IF(H430<CALCULATIONS!$M$9,Aktina*COS(epsilon*H430)*COS(D*H430),Aktina*COS(epsilon*XRONOS)*COS(D*XRONOS))","v":62.279174130438321}]
[381,3.8099999999999627,{"$f":"IF(B431<CALCULATIONS!$M$9,Alfa1*SIN(miia*B431)-Alfa2*SIN(miib*B431),CURRENTX)","v":-0.18603293310998659},{"$f":"IF(B431<CALCULATIONS!$M$9,-(Alfa1*COS(miia*B431)-Alfa2*COS(miib*B431)),CURRENTY)","v":67.215663177772186},null,null,381,3.8099999999999627,{"$f":"IF(H431<CALCULATIONS!$M$9,Aktina*SIN(epsilon*H431)*COS(D*H431),Aktina*SIN(epsilon*XRONOS)*COS(D*XRONOS))","v":11.492470254335332},{"$f":"IF(H431<CALCULATIONS!$M$9,Aktina*COS(epsilon*H431)*COS(D*H431),Aktina*COS(epsilon*XRONOS)*COS(D*XRONOS))","v":56.565114461836437}]
[382,3.8199999999999625,{"$f":"IF(B432<CALCULATIONS!$M$9,Alfa1*SIN(miia*B432)-Alfa2*SIN(miib*B432),CURRENTX)","v":-0.36081816231127384},{"$f":"IF(B432<CALCULATIONS!$M$9,-(Alfa1*COS(miia*B432)-Alfa2*COS(miib*B432)),CURRENTY)","v":65.67776435550428},null,null,382,3.8199999999999625,{"$f":"IF(H432<CALCULATIONS!$M$9,Aktina*SIN(epsilon*H432)*COS(D*H432),Aktina*SIN(epsilon*XRONOS)*COS(D*XRONOS))","v":12.677861797605217},{"$f":"IF(H432<CALCULATIONS!$M$9,Aktina*COS(epsilon*H432)*COS(D*H432),Aktina*COS(epsilon*XRONOS)*COS(D*XRONOS))","v":49.558710193867867}]
[383,3.8299999999999623,{"$f":"IF(B433<CALCULATIONS!$M$9,Alfa1*SIN(miia*B433)-Alfa2*SIN(miib*B433),CURRENTX)","v":-0.61864986389663379},{"$f":"IF(B433<CALCULATIONS!$M$9,-(Alfa1*COS(miia*B433)-Alfa2*COS(miib*B433)),CURRENTY)","v":63.822362797142219},null,null,383,3.8299999999999623,{"$f":"IF(H433<CALCULATIONS!$M$9,Aktina*SIN(epsilon*H433)*COS(D*H433),Aktina*SIN(epsilon*XRONOS)*COS(D*XRONOS))","v":12.855709935636055},{"$f":"IF(H433<CALCULATIONS!$M$9,Aktina*COS(epsilon*H433)*COS(D*H433),Aktina*COS(epsilon*XRONOS)*COS(D*XRONOS))","v":41.49373858267036}]
[384,3.8399999999999621,{"$f":"IF(B434<CALCULATIONS!$M$9,Alfa1*SIN(miia*B434)-Alfa2*SIN(miib*B434),CURRENTX)","v":-0.97377290954667473},{"$f":"IF(B434<CALCULATIONS!$M$9,-(Alfa1*COS(miia*B434)-Alfa2*COS(miib*B434)),CURRENTY)","v":61.66324296283419},null,null,384,3.8399999999999621,{"$f":"IF(H434<CALCULATIONS!$M$9,Aktina*SIN(epsilon*H434)*COS(D*H434),Aktina*SIN(epsilon*XRONOS)*COS(D*XRONOS))","v":11.929867501448481},{"$f":"IF(H434<CALCULATIONS!$M$9,Aktina*COS(epsilon*H434)*COS(D*H434),Aktina*COS(epsilon*XRONOS)*COS(D*XRONOS))","v":32.63701444408435}]
[385,{"$f":"B434+dt","v":3.8499999999999619},{"$f":"IF(B435<CALCULATIONS!$M$9,Alfa1*SIN(miia*B435)-Alfa2*SIN(miib*B435),CURRENTX)","v":-1.4392014401572908},{"$f":"IF(B435<CALCULATIONS!$M$9,-(Alfa1*COS(miia*B435)-Alfa2*COS(miib*B435)),CURRENTY)","v":59.216389205085783},null,null,385,{"$f":"H434+dt","v":3.8499999999999619},{"$f":"IF(H435<CALCULATIONS!$M$9,Aktina*SIN(epsilon*H435)*COS(D*H435),Aktina*SIN(epsilon*XRONOS)*COS(D*XRONOS))","v":9.8540948033280475},{"$f":"IF(H435<CALCULATIONS!$M$9,Aktina*COS(epsilon*H435)*COS(D*H435),Aktina*COS(epsilon*XRONOS)*COS(D*XRONOS))","v":23.278299734679628}]
[{"$f":"A435+1","v":386},3.8599999999999617,{"$f":"IF(B436<CALCULATIONS!$M$9,Alfa1*SIN(miia*B436)-Alfa2*SIN(miib*B436),CURRENTX)","v":-2.0265474354390136},{"$f":"IF(B436<CALCULATIONS!$M$9,-(Alfa1*COS(miia*B436)-Alfa2*COS(miib*B436)),CURRENTY)","v":56.49984002762956},null,null,{"$f":"G435+1","v":386},3.8599999999999617,{"$f":"IF(H436<CALCULATIONS!$M$9,Aktina*SIN(epsilon*H436)*COS(D*H436),Aktina*SIN(epsilon*XRONOS)*COS(D*XRONOS))","v":6.6347338638097719},{"$f":"IF(H436<CALCULATIONS!$M$9,Aktina*COS(epsilon*H436)*COS(D*H436),Aktina*COS(epsilon*XRONOS)*COS(D*XRONOS))","v":13.719384406247395}]
[387,3.8699999999999615,{"$f":"IF(B437<CALCULATIONS!$M$9,Alfa1*SIN(miia*B437)-Alfa2*SIN(miib*B437),CURRENTX)","v":-2.7458640433538442},{"$f":"IF(B437<CALCULATIONS!$M$9,-(Alfa1*COS(miia*B437)-Alfa2*COS(miib*B437)),CURRENTY)","v":53.533523871447272},null,null,387,3.8699999999999615,{"$f":"IF(H437<CALCULATIONS!$M$9,Aktina*SIN(epsilon*H437)*COS(D*H437),Aktina*SIN(epsilon*XRONOS)*COS(D*XRONOS))","v":2.3312190715375856},{"$f":"IF(H437<CALCULATIONS!$M$9,Aktina*COS(epsilon*H437)*COS(D*H437),Aktina*COS(epsilon*XRONOS)*COS(D*XRONOS))","v":4.2627675234070681}]
[388,3.8799999999999613,{"$f":"IF(B438<CALCULATIONS!$M$9,Alfa1*SIN(miia*B438)-Alfa2*SIN(miib*B438),CURRENTX)","v":-3.6055053363886387},{"$f":"IF(B438<CALCULATIONS!$M$9,-(Alfa1*COS(miia*B438)-Alfa2*COS(miib*B438)),CURRENTY)","v":50.339078028667373},null,null,388,3.8799999999999613,{"$f":"IF(H438<CALCULATIONS!$M$9,Aktina*SIN(epsilon*H438)*COS(D*H438),Aktina*SIN(epsilon*XRONOS)*COS(D*XRONOS))","v":-2.9456037405958666},{"$f":"IF(H438<CALCULATIONS!$M$9,Aktina*COS(epsilon*H438)*COS(D*H438),Aktina*COS(epsilon*XRONOS)*COS(D*XRONOS))","v":-4.7996172269149628}]
[389,3.889999999999961,{"$f":"IF(B439<CALCULATIONS!$M$9,Alfa1*SIN(miia*B439)-Alfa2*SIN(miib*B439),CURRENTX)","v":-4.6120039954020164},{"$f":"IF(B439<CALCULATIONS!$M$9,-(Alfa1*COS(miia*B439)-Alfa2*COS(miib*B439)),CURRENTY)","v":46.939652448625068},null,null,389,3.889999999999961,{"$f":"IF(H439<CALCULATIONS!$M$9,Aktina*SIN(epsilon*H439)*COS(D*H439),Aktina*SIN(epsilon*XRONOS)*COS(D*XRONOS))","v":-9.037289657645621},{"$f":"IF(H439<CALCULATIONS!$M$9,Aktina*COS(epsilon*H439)*COS(D*H439),Aktina*COS(epsilon*XRONOS)*COS(D*XRONOS))","v":-13.197190001168835}]
[390,3.8999999999999608,{"$f":"IF(B440<CALCULATIONS!$M$9,Alfa1*SIN(miia*B440)-Alfa2*SIN(miib*B440),CURRENTX)","v":-5.7699682402811732},{"$f":"IF(B440<CALCULATIONS!$M$9,-(Alfa1*COS(miia*B440)-Alfa2*COS(miib*B440)),CURRENTY)","v":43.359700346396899},null,null,390,3.8999999999999608,{"$f":"IF(H440<CALCULATIONS!$M$9,Aktina*SIN(epsilon*H440)*COS(D*H440),Aktina*SIN(epsilon*XRONOS)*COS(D*XRONOS))","v":-15.743592560352086},{"$f":"IF(H440<CALCULATIONS!$M$9,Aktina*COS(epsilon*H440)*COS(D*H440),Aktina*COS(epsilon*XRONOS)*COS(D*XRONOS))","v":-20.690605630949346}]
[391,3.9099999999999606,{"$f":"IF(B441<CALCULATIONS!$M$9,Alfa1*SIN(miia*B441)-Alfa2*SIN(miib*B441),CURRENTX)","v":-7.0819991317143511},{"$f":"IF(B441<CALCULATIONS!$M$9,-(Alfa1*COS(miia*B441)-Alfa2*COS(miib*B441)),CURRENTY)","v":39.624757651210608},null,null,391,3.9099999999999606,{"$f":"IF(H441<CALCULATIONS!$M$9,Aktina*SIN(epsilon*H441)*COS(D*H441),Aktina*SIN(epsilon*XRONOS)*COS(D*XRONOS))","v":-22.830022559221796},{"$f":"IF(H441<CALCULATIONS!$M$9,Aktina*COS(epsilon*H441)*COS(D*H441),Aktina*COS(epsilon*XRONOS)*COS(D*XRONOS))","v":-27.080341959048855}]
[392,3.9199999999999604,{"$f":"IF(B442<CALCULATIONS!$M$9,Alfa1*SIN(miia*B442)-Alfa2*SIN(miib*B442),CURRENTX)","v":-8.5486291619913963},{"$f":"IF(B442<CALCULATIONS!$M$9,-(Alfa1*COS(miia*B442)-Alfa2*COS(miib*B442)),CURRENTY)","v":35.761213438971744},null,null,392,3.9199999999999604,{"$f":"IF(H442<CALCULATIONS!$M$9,Aktina*SIN(epsilon*H442)*COS(D*H442),Aktina*SIN(epsilon*XRONOS)*COS(D*XRONOS))","v":-30.036865947821024},{"$f":"IF(H442<CALCULATIONS!$M$9,Aktina*COS(epsilon*H442)*COS(D*H442),Aktina*COS(epsilon*XRONOS)*COS(D*XRONOS))","v":-32.213662817992933}]
[393,3.9299999999999602,{"$f":"IF(B443<CALCULATIONS!$M$9,Alfa1*SIN(miia*B443)-Alfa2*SIN(miib*B443),CURRENTX)","v":-10.168282836942467},{"$f":"IF(B443<CALCULATIONS!$M$9,-(Alfa1*COS(miia*B443)-Alfa2*COS(miib*B443)),CURRENTY)","v":31.796073578742782},null,null,393,3.9299999999999602,{"$f":"IF(H443<CALCULATIONS!$M$9,Aktina*SIN(epsilon*H443)*COS(D*H443),Aktina*SIN(epsilon*XRONOS)*COS(D*XRONOS))","v":-37.089311359662574},{"$f":"IF(H443<CALCULATIONS!$M$9,Aktina*COS(epsilon*H443)*COS(D*H443),Aktina*COS(epsilon*XRONOS)*COS(D*XRONOS))","v":-35.989687964230484}]
[394,3.93999999999996,{"$f":"IF(B444<CALCULATIONS!$M$9,Alfa1*SIN(miia*B444)-Alfa2*SIN(miib*B444),CURRENTX)","v":-11.937259728096297},{"$f":"IF(B444<CALCULATIONS!$M$9,-(Alfa1*COS(miia*B444)-Alfa2*COS(miib*B444)),CURRENTY)","v":27.756719886453411},null,null,394,3.93999999999996,{"$f":"IF(H444<CALCULATIONS!$M$9,Aktina*SIN(epsilon*H444)*COS(D*H444),Aktina*SIN(epsilon*XRONOS)*COS(D*XRONOS))","v":-43.708280706956202},{"$f":"IF(H444<CALCULATIONS!$M$9,Aktina*COS(epsilon*H444)*COS(D*H444),Aktina*COS(epsilon*XRONOS)*COS(D*XRONOS))","v":-38.362378028951191}]
[395,3.9499999999999598,{"$f":"IF(B445<CALCULATIONS!$M$9,Alfa1*SIN(miia*B445)-Alfa2*SIN(miib*B445),CURRENTX)","v":-13.849740246099067},{"$f":"IF(B445<CALCULATIONS!$M$9,-(Alfa1*COS(miia*B445)-Alfa2*COS(miib*B445)),CURRENTY)","v":23.670667119853647},null,null,395,3.9499999999999598,{"$f":"IF(H445<CALCULATIONS!$M$9,Aktina*SIN(epsilon*H445)*COS(D*H445),Aktina*SIN(epsilon*XRONOS)*COS(D*XRONOS))","v":-49.621534354064941},{"$f":"IF(H445<CALCULATIONS!$M$9,Aktina*COS(epsilon*H445)*COS(D*H445),Aktina*COS(epsilon*XRONOS)*COS(D*XRONOS))","v":-39.341325844591047}]
[396,3.9599999999999596,{"$f":"IF(B446<CALCULATIONS!$M$9,Alfa1*SIN(miia*B446)-Alfa2*SIN(miib*B446),CURRENTX)","v":-15.897814155695169},{"$f":"IF(B446<CALCULATIONS!$M$9,-(Alfa1*COS(miia*B446)-Alfa2*COS(miib*B446)),CURRENTY)","v":19.565320166280479},null,null,396,3.9599999999999596,{"$f":"IF(H446<CALCULATIONS!$M$9,Aktina*SIN(epsilon*H446)*COS(D*H446),Aktina*SIN(epsilon*XRONOS)*COS(D*XRONOS))","v":-54.574608005165103},{"$f":"IF(H446<CALCULATIONS!$M$9,Aktina*COS(epsilon*H446)*COS(D*H446),Aktina*COS(epsilon*XRONOS)*COS(D*XRONOS))","v":-38.990333031808994}]
[397,3.9699999999999593,{"$f":"IF(B447<CALCULATIONS!$M$9,Alfa1*SIN(miia*B447)-Alfa2*SIN(miib*B447),CURRENTX)","v":-18.071531621419464},{"$f":"IF(B447<CALCULATIONS!$M$9,-(Alfa1*COS(miia*B447)-Alfa2*COS(miib*B447)),CURRENTY)","v":15.467733769098009},null,null,397,3.9699999999999593,{"$f":"IF(H447<CALCULATIONS!$M$9,Aktina*SIN(epsilon*H447)*COS(D*H447),Aktina*SIN(epsilon*XRONOS)*COS(D*XRONOS))","v":-58.341144452083988},{"$f":"IF(H447<CALCULATIONS!$M$9,Aktina*COS(epsilon*H447)*COS(D*H447),Aktina*COS(epsilon*XRONOS)*COS(D*XRONOS))","v":-37.423838995027069}]
[398,3.9799999999999591,{"$f":"IF(B448<CALCULATIONS!$M$9,Alfa1*SIN(miia*B448)-Alfa2*SIN(miib*B448),CURRENTX)","v":-20.358976343935833},{"$f":"IF(B448<CALCULATIONS!$M$9,-(Alfa1*COS(miia*B448)-Alfa2*COS(miib*B448)),CURRENTY)","v":11.404377109685834},null,null,398,3.9799999999999591,{"$f":"IF(H448<CALCULATIONS!$M$9,Aktina*SIN(epsilon*H448)*COS(D*H448),Aktina*SIN(epsilon*XRONOS)*COS(D*XRONOS))","v":-60.732206419098056},{"$f":"IF(H448<CALCULATIONS!$M$9,Aktina*COS(epsilon*H448)*COS(D*H448),Aktina*COS(epsilon*XRONOS)*COS(D*XRONOS))","v":-34.801354956997528}]
[399,3.9899999999999589,{"$f":"IF(B449<CALCULATIONS!$M$9,Alfa1*SIN(miia*B449)-Alfa2*SIN(miib*B449),CURRENTX)","v":-22.746360121947426},{"$f":"IF(B449<CALCULATIONS!$M$9,-(Alfa1*COS(miia*B449)-Alfa2*COS(miib*B449)),CURRENTY)","v":7.4009055099619534},null,null,399,3.9899999999999589,{"$f":"IF(H449<CALCULATIONS!$M$9,Aktina*SIN(epsilon*H449)*COS(D*H449),Aktina*SIN(epsilon*XRONOS)*COS(D*XRONOS))","v":-61.604196346387795},{"$f":"IF(H449<CALCULATIONS!$M$9,Aktina*COS(epsilon*H449)*COS(D*H449),Aktina*COS(epsilon*XRONOS)*COS(D*XRONOS))","v":-31.320134957795585}]
[400,3.9999999999999587,{"$f":"IF(B450<CALCULATIONS!$M$9,Alfa1*SIN(miia*B450)-Alfa2*SIN(miib*B450),CURRENTX)","v":-25.218137956094147},{"$f":"IF(B450<CALCULATIONS!$M$9,-(Alfa1*COS(miia*B450)-Alfa2*COS(miib*B450)),CURRENTY)","v":3.4819414460881237},null,null,400,3.9999999999999587,{"$f":"IF(H450<CALCULATIONS!$M$9,Aktina*SIN(epsilon*H450)*COS(D*H450),Aktina*SIN(epsilon*XRONOS)*COS(D*XRONOS))","v":-60.865063504101769},{"$f":"IF(H450<CALCULATIONS!$M$9,Aktina*COS(epsilon*H450)*COS(D*H450),Aktina*COS(epsilon*XRONOS)*COS(D*XRONOS))","v":-27.206385692213754}]
[401,4.0099999999999589,{"$f":"IF(B451<CALCULATIONS!$M$9,Alfa1*SIN(miia*B451)-Alfa2*SIN(miib*B451),CURRENTX)","v":-27.757142601398233},{"$f":"IF(B451<CALCULATIONS!$M$9,-(Alfa1*COS(miia*B451)-Alfa2*COS(miib*B451)),CURRENTY)","v":-0.32913303195824639},null,null,401,4.0099999999999589,{"$f":"IF(H451<CALCULATIONS!$M$9,Aktina*SIN(epsilon*H451)*COS(D*H451),Aktina*SIN(epsilon*XRONOS)*COS(D*XRONOS))","v":-58.478546159669392},{"$f":"IF(H451<CALCULATIONS!$M$9,Aktina*COS(epsilon*H451)*COS(D*H451),Aktina*COS(epsilon*XRONOS)*COS(D*XRONOS))","v":-22.705374876557311}]
[402,4.0199999999999587,{"$f":"IF(B452<CALCULATIONS!$M$9,Alfa1*SIN(miia*B452)-Alfa2*SIN(miib*B452),CURRENTX)","v":-30.344737275768395},{"$f":"IF(B452<CALCULATIONS!$M$9,-(Alfa1*COS(miia*B452)-Alfa2*COS(miib*B452)),CURRENTY)","v":-4.0103704969562344},null,null,402,4.0199999999999587,{"$f":"IF(H452<CALCULATIONS!$M$9,Aktina*SIN(epsilon*H452)*COS(D*H452),Aktina*SIN(epsilon*XRONOS)*COS(D*XRONOS))","v":-54.466273957357593},{"$f":"IF(H452<CALCULATIONS!$M$9,Aktina*COS(epsilon*H452)*COS(D*H452),Aktina*COS(epsilon*XRONOS)*COS(D*XRONOS))","v":-18.070841220620519}]
[403,4.0299999999999585,{"$f":"IF(B453<CALCULATIONS!$M$9,Alfa1*SIN(miia*B453)-Alfa2*SIN(miib*B453),CURRENTX)","v":-32.960985045789023},{"$f":"IF(B453<CALCULATIONS!$M$9,-(Alfa1*COS(miia*B453)-Alfa2*COS(miib*B453)),CURRENTY)","v":-7.541437115356965},null,null,403,4.0299999999999585,{"$f":"IF(H453<CALCULATIONS!$M$9,Aktina*SIN(epsilon*H453)*COS(D*H453),Aktina*SIN(epsilon*XRONOS)*COS(D*XRONOS))","v":-48.907640132915326},{"$f":"IF(H453<CALCULATIONS!$M$9,Aktina*COS(epsilon*H453)*COS(D*H453),Aktina*COS(epsilon*XRONOS)*COS(D*XRONOS))","v":-13.554136308863388}]
[404,4.0399999999999583,{"$f":"IF(B454<CALCULATIONS!$M$9,Alfa1*SIN(miia*B454)-Alfa2*SIN(miib*B454),CURRENTX)","v":-35.584833239407835},{"$f":"IF(B454<CALCULATIONS!$M$9,-(Alfa1*COS(miia*B454)-Alfa2*COS(miib*B454)),CURRENTY)","v":-10.903774705107745},null,null,404,4.0399999999999583,{"$f":"IF(H454<CALCULATIONS!$M$9,Aktina*SIN(epsilon*H454)*COS(D*H454),Aktina*SIN(epsilon*XRONOS)*COS(D*XRONOS))","v":-41.937441318621332},{"$f":"IF(H454<CALCULATIONS!$M$9,Aktina*COS(epsilon*H454)*COS(D*H454),Aktina*COS(epsilon*XRONOS)*COS(D*XRONOS))","v":-9.3935386871070286}]
[405,4.0499999999999581,{"$f":"IF(B455<CALCULATIONS!$M$9,Alfa1*SIN(miia*B455)-Alfa2*SIN(miib*B455),CURRENTX)","v":-38.194311079898227},{"$f":"IF(B455<CALCULATIONS!$M$9,-(Alfa1*COS(miia*B455)-Alfa2*COS(miib*B455)),CURRENTY)","v":-14.0807443639103},null,null,405,4.0499999999999581,{"$f":"IF(H455<CALCULATIONS!$M$9,Aktina*SIN(epsilon*H455)*COS(D*H455),Aktina*SIN(epsilon*XRONOS)*COS(D*XRONOS))","v":-33.741370989337021},{"$f":"IF(H455<CALCULATIONS!$M$9,Aktina*COS(epsilon*H455)*COS(D*H455),Aktina*COS(epsilon*XRONOS)*COS(D*XRONOS))","v":-5.8041728160373607}]
[406,4.0599999999999579,{"$f":"IF(B456<CALCULATIONS!$M$9,Alfa1*SIN(miia*B456)-Alfa2*SIN(miib*B456),CURRENTX)","v":-40.766738598190841},{"$f":"IF(B456<CALCULATIONS!$M$9,-(Alfa1*COS(miia*B456)-Alfa2*COS(miib*B456)),CURRENTY)","v":-17.057750337304146},null,null,406,4.0599999999999579,{"$f":"IF(H456<CALCULATIONS!$M$9,Aktina*SIN(epsilon*H456)*COS(D*H456),Aktina*SIN(epsilon*XRONOS)*COS(D*XRONOS))","v":-24.549537545251532},{"$f":"IF(H456<CALCULATIONS!$M$9,Aktina*COS(epsilon*H456)*COS(D*H456),Aktina*COS(epsilon*XRONOS)*COS(D*XRONOS))","v":-2.9689406025098926}]
[407,4.0699999999999577,{"$f":"IF(B457<CALCULATIONS!$M$9,Alfa1*SIN(miia*B457)-Alfa2*SIN(miib*B457),CURRENTX)","v":-43.278944762717643},{"$f":"IF(B457<CALCULATIONS!$M$9,-(Alfa1*COS(miia*B457)-Alfa2*COS(miib*B457)),CURRENTY)","v":-19.822342994860694},null,null,407,4.0699999999999577,{"$f":"IF(H457<CALCULATIONS!$M$9,Aktina*SIN(epsilon*H457)*COS(D*H457),Aktina*SIN(epsilon*XRONOS)*COS(D*XRONOS))","v":-14.628256241619633},{"$f":"IF(H457<CALCULATIONS!$M$9,Aktina*COS(epsilon*H457)*COS(D*H457),Aktina*COS(epsilon*XRONOS)*COS(D*XRONOS))","v":-1.0308319571379301}]
[408,4.0799999999999574,{"$f":"IF(B458<CALCULATIONS!$M$9,Alfa1*SIN(miia*B458)-Alfa2*SIN(miib*B458),CURRENTX)","v":-45.707492668484242},{"$f":"IF(B458<CALCULATIONS!$M$9,-(Alfa1*COS(miia*B458)-Alfa2*COS(miib*B458)),CURRENTY)","v":-22.364299992709942},null,null,408,4.0799999999999574,{"$f":"IF(H458<CALCULATIONS!$M$9,Aktina*SIN(epsilon*H458)*COS(D*H458),Aktina*SIN(epsilon*XRONOS)*COS(D*XRONOS))","v":-4.2704325471470836},{"$f":"IF(H458<CALCULATIONS!$M$9,Aktina*COS(epsilon*H458)*COS(D*H458),Aktina*COS(epsilon*XRONOS)*COS(D*XRONOS))","v":-8.6924905862023213E-2}]
[409,4.0899999999999572,{"$f":"IF(B459<CALCULATIONS!$M$9,Alfa1*SIN(miia*B459)-Alfa2*SIN(miib*B459),CURRENTX)","v":-48.028909551172255},{"$f":"IF(B459<CALCULATIONS!$M$9,-(Alfa1*COS(miia*B459)-Alfa2*COS(miib*B459)),CURRENTY)","v":-24.675684919502672},null,null,409,4.0899999999999572,{"$f":"IF(H459<CALCULATIONS!$M$9,Aktina*SIN(epsilon*H459)*COS(D*H459),Aktina*SIN(epsilon*XRONOS)*COS(D*XRONOS))","v":6.215089680567516},{"$f":"IF(H459<CALCULATIONS!$M$9,Aktina*COS(epsilon*H459)*COS(D*H459),Aktina*COS(epsilon*XRONOS)*COS(D*XRONOS))","v":-0.18431744294301455}]
[410,4.099999999999957,{"$f":"IF(B460<CALCULATIONS!$M$9,Alfa1*SIN(miia*B460)-Alfa2*SIN(miib*B460),CURRENTX)","v":-50.219919338444811},{"$f":"IF(B460<CALCULATIONS!$M$9,-(Alfa1*COS(miia*B460)-Alfa2*COS(miib*B460)),CURRENTY)","v":-26.750882948546145},null,null,410,4.099999999999957,{"$f":"IF(H460<CALCULATIONS!$M$9,Aktina*SIN(epsilon*H460)*COS(D*H460),Aktina*SIN(epsilon*XRONOS)*COS(D*XRONOS))","v":16.514800793279239},{"$f":"IF(H460<CALCULATIONS!$M$9,Aktina*COS(epsilon*H460)*COS(D*H460),Aktina*COS(epsilon*XRONOS)*COS(D*XRONOS))","v":-1.3181552874378946}]
[411,4.1099999999999568,{"$f":"IF(B461<CALCULATIONS!$M$9,Alfa1*SIN(miia*B461)-Alfa2*SIN(miib*B461),CURRENTX)","v":-52.257675419830797},{"$f":"IF(B461<CALCULATIONS!$M$9,-(Alfa1*COS(miia*B461)-Alfa2*COS(miib*B461)),CURRENTY)","v":-28.586613248981521},null,null,411,4.1099999999999568,{"$f":"IF(H461<CALCULATIONS!$M$9,Aktina*SIN(epsilon*H461)*COS(D*H461),Aktina*SIN(epsilon*XRONOS)*COS(D*XRONOS))","v":26.321979712760918},{"$f":"IF(H461<CALCULATIONS!$M$9,Aktina*COS(epsilon*H461)*COS(D*H461),Aktina*COS(epsilon*XRONOS)*COS(D*XRONOS))","v":-3.4318351154470008}]
[412,4.1199999999999566,{"$f":"IF(B462<CALCULATIONS!$M$9,Alfa1*SIN(miia*B462)-Alfa2*SIN(miib*B462),CURRENTX)","v":-54.119991308920007},{"$f":"IF(B462<CALCULATIONS!$M$9,-(Alfa1*COS(miia*B462)-Alfa2*COS(miib*B462)),CURRENTY)","v":-30.181918141196544},null,null,412,4.1199999999999566,{"$f":"IF(H462<CALCULATIONS!$M$9,Aktina*SIN(epsilon*H462)*COS(D*H462),Aktina*SIN(epsilon*XRONOS)*COS(D*XRONOS))","v":35.34788383877811},{"$f":"IF(H462<CALCULATIONS!$M$9,Aktina*COS(epsilon*H462)*COS(D*H462),Aktina*COS(epsilon*XRONOS)*COS(D*XRONOS))","v":-6.4193750689118492}]
[413,4.1299999999999564,{"$f":"IF(B463<CALCULATIONS!$M$9,Alfa1*SIN(miia*B463)-Alfa2*SIN(miib*B463),CURRENTX)","v":-55.785566887203288},{"$f":"IF(B463<CALCULATIONS!$M$9,-(Alfa1*COS(miia*B463)-Alfa2*COS(miib*B463)),CURRENTY)","v":-31.538129213870114},null,null,413,4.1299999999999564,{"$f":"IF(H463<CALCULATIONS!$M$9,Aktina*SIN(epsilon*H463)*COS(D*H463),Aktina*SIN(epsilon*XRONOS)*COS(D*XRONOS))","v":43.332238770335572},{"$f":"IF(H463<CALCULATIONS!$M$9,Aktina*COS(epsilon*H463)*COS(D*H463),Aktina*COS(epsilon*XRONOS)*COS(D*XRONOS))","v":-10.129856898077744}]
[414,4.1399999999999562,{"$f":"IF(B464<CALCULATIONS!$M$9,Alfa1*SIN(miia*B464)-Alfa2*SIN(miib*B464),CURRENTX)","v":-57.234207957597732},{"$f":"IF(B464<CALCULATIONS!$M$9,-(Alfa1*COS(miia*B464)-Alfa2*COS(miib*B464)),CURRENTY)","v":-32.658810849803373},null,null,414,4.1399999999999562,{"$f":"IF(H464<CALCULATIONS!$M$9,Aktina*SIN(epsilon*H464)*COS(D*H464),Aktina*SIN(epsilon*XRONOS)*COS(D*XRONOS))","v":50.0526198549545},{"$f":"IF(H464<CALCULATIONS!$M$9,Aktina*COS(epsilon*H464)*COS(D*H464),Aktina*COS(epsilon*XRONOS)*COS(D*XRONOS))","v":-14.37376047542417}]
[415,4.1499999999999559,{"$f":"IF(B465<CALCULATIONS!$M$9,Alfa1*SIN(miia*B465)-Alfa2*SIN(miib*B465),CURRENTX)","v":-58.447036897130133},{"$f":"IF(B465<CALCULATIONS!$M$9,-(Alfa1*COS(miia*B465)-Alfa2*COS(miib*B465)),CURRENTY)","v":-33.549681832709879},null,null,415,4.1499999999999559,{"$f":"IF(H465<CALCULATIONS!$M$9,Aktina*SIN(epsilon*H465)*COS(D*H465),Aktina*SIN(epsilon*XRONOS)*COS(D*XRONOS))","v":55.332361492628053},{"$f":"IF(H465<CALCULATIONS!$M$9,Aktina*COS(epsilon*H465)*COS(D*H465),Aktina*COS(epsilon*XRONOS)*COS(D*XRONOS))","v":-18.930934967836293}]
[416,4.1599999999999557,{"$f":"IF(B466<CALCULATIONS!$M$9,Alfa1*SIN(miia*B466)-Alfa2*SIN(miib*B466),CURRENTX)","v":-59.40669228181315},{"$f":"IF(B466<CALCULATIONS!$M$9,-(Alfa1*COS(miia*B466)-Alfa2*COS(miib*B466)),CURRENTY)","v":-34.218515925168553},null,null,416,4.1599999999999557,{"$f":"IF(H466<CALCULATIONS!$M$9,Aktina*SIN(epsilon*H466)*COS(D*H466),Aktina*SIN(epsilon*XRONOS)*COS(D*XRONOS))","v":59.04668844812938},{"$f":"IF(H466<CALCULATIONS!$M$9,Aktina*COS(epsilon*H466)*COS(D*H466),Aktina*COS(epsilon*XRONOS)*COS(D*XRONOS))","v":-23.559884728970637}]
[417,4.1699999999999555,{"$f":"IF(B467<CALCULATIONS!$M$9,Alfa1*SIN(miia*B467)-Alfa2*SIN(miib*B467),CURRENTX)","v":-60.097515461619366},{"$f":"IF(B467<CALCULATIONS!$M$9,-(Alfa1*COS(miia*B467)-Alfa2*COS(miib*B467)),CURRENTY)","v":-34.675022516814273},null,null,417,4.1699999999999555,{"$f":"IF(H467<CALCULATIONS!$M$9,Aktina*SIN(epsilon*H467)*COS(D*H467),Aktina*SIN(epsilon*XRONOS)*COS(D*XRONOS))","v":61.126833845887418},{"$f":"IF(H467<CALCULATIONS!$M$9,Aktina*COS(epsilon*H467)*COS(D*H467),Aktina*COS(epsilon*XRONOS)*COS(D*XRONOS))","v":-28.007994625098256}]
[418,4.1799999999999553,{"$f":"IF(B468<CALCULATIONS!$M$9,Alfa1*SIN(miia*B468)-Alfa2*SIN(miib*B468),CURRENTX)","v":-60.505722188601567},{"$f":"IF(B468<CALCULATIONS!$M$9,-(Alfa1*COS(miia*B468)-Alfa2*COS(miib*B468)),CURRENTY)","v":-34.93070863946599},null,null,418,4.1799999999999553,{"$f":"IF(H468<CALCULATIONS!$M$9,Aktina*SIN(epsilon*H468)*COS(D*H468),Aktina*SIN(epsilon*XRONOS)*COS(D*XRONOS))","v":61.561988232830629},{"$f":"IF(H468<CALCULATIONS!$M$9,Aktina*COS(epsilon*H468)*COS(D*H468),Aktina*COS(epsilon*XRONOS)*COS(D*XRONOS))","v":-32.022281171365314}]
[419,4.1899999999999551,{"$f":"IF(B469<CALCULATIONS!$M$9,Alfa1*SIN(miia*B469)-Alfa2*SIN(miib*B469),CURRENTX)","v":-60.619557545385796},{"$f":"IF(B469<CALCULATIONS!$M$9,-(Alfa1*COS(miia*B469)-Alfa2*COS(miib*B469)),CURRENTY)","v":-34.998723830299895},null,null,419,4.1899999999999551,{"$f":"IF(H469<CALCULATIONS!$M$9,Aktina*SIN(epsilon*H469)*COS(D*H469),Aktina*SIN(epsilon*XRONOS)*COS(D*XRONOS))","v":60.39900992416667},{"$f":"IF(H469<CALCULATIONS!$M$9,Aktina*COS(epsilon*H469)*COS(D*H469),Aktina*COS(epsilon*XRONOS)*COS(D*XRONOS))","v":-35.360234068581761}]
[420,4.1999999999999549,{"$f":"IF(B470<CALCULATIONS!$M$9,Alfa1*SIN(miia*B470)-Alfa2*SIN(miib*B470),CURRENTX)","v":-60.429432583048964},{"$f":"IF(B470<CALCULATIONS!$M$9,-(Alfa1*COS(miia*B470)-Alfa2*COS(miib*B470)),CURRENTY)","v":-34.893689493528235},null,null,420,4.1999999999999549,{"$f":"IF(H470<CALCULATIONS!$M$9,Aktina*SIN(epsilon*H470)*COS(D*H470),Aktina*SIN(epsilon*XRONOS)*COS(D*XRONOS))","v":57.739915379627618},{"$f":"IF(H470<CALCULATIONS!$M$9,Aktina*COS(epsilon*H470)*COS(D*H470),Aktina*COS(epsilon*XRONOS)*COS(D*XRONOS))","v":-37.800308370140357}]
[421,4.2099999999999547,{"$f":"IF(B471<CALCULATIONS!$M$9,Alfa1*SIN(miia*B471)-Alfa2*SIN(miib*B471),CURRENTX)","v":-59.92804125518451},{"$f":"IF(B471<CALCULATIONS!$M$9,-(Alfa1*COS(miia*B471)-Alfa2*COS(miib*B471)),CURRENTY)","v":-34.631514563656339},null,null,421,4.2099999999999547,{"$f":"IF(H471<CALCULATIONS!$M$9,Aktina*SIN(epsilon*H471)*COS(D*H471),Aktina*SIN(epsilon*XRONOS)*COS(D*XRONOS))","v":53.737256070920132},{"$f":"IF(H471<CALCULATIONS!$M$9,Aktina*COS(epsilon*H471)*COS(D*H471),Aktina*COS(epsilon*XRONOS)*COS(D*XRONOS))","v":-39.151640755877864}]
[422,4.2199999999999545,{"$f":"IF(B472<CALCULATIONS!$M$9,Alfa1*SIN(miia*B472)-Alfa2*SIN(miib*B472),CURRENTX)","v":-59.110456426989259},{"$f":"IF(B472<CALCULATIONS!$M$9,-(Alfa1*COS(miia*B472)-Alfa2*COS(miib*B472)),CURRENTY)","v":-34.229199407741241},null,null,422,4.2199999999999545,{"$f":"IF(H472<CALCULATIONS!$M$9,Aktina*SIN(epsilon*H472)*COS(D*H472),Aktina*SIN(epsilon*XRONOS)*COS(D*XRONOS))","v":48.587571706036968},{"$f":"IF(H472<CALCULATIONS!$M$9,Aktina*COS(epsilon*H472)*COS(D*H472),Aktina*COS(epsilon*XRONOS)*COS(D*XRONOS))","v":-39.262593723307077}]
[423,4.2299999999999542,{"$f":"IF(B473<CALCULATIONS!$M$9,Alfa1*SIN(miia*B473)-Alfa2*SIN(miib*B473),CURRENTX)","v":-57.97420394256882},{"$f":"IF(B473<CALCULATIONS!$M$9,-(Alfa1*COS(miia*B473)-Alfa2*COS(miib*B473)),CURRENTY)","v":-33.704630018828475},null,null,423,4.2299999999999542,{"$f":"IF(H473<CALCULATIONS!$M$9,Aktina*SIN(epsilon*H473)*COS(D*H473),Aktina*SIN(epsilon*XRONOS)*COS(D*XRONOS))","v":42.523185456140524},{"$f":"IF(H473<CALCULATIONS!$M$9,Aktina*COS(epsilon*H473)*COS(D*H473),Aktina*COS(epsilon*XRONOS)*COS(D*XRONOS))","v":-38.027777723337884}]
[424,4.239999999999954,{"$f":"IF(B474<CALCULATIONS!$M$9,Alfa1*SIN(miia*B474)-Alfa2*SIN(miib*B474),CURRENTX)","v":-56.519313948325383},{"$f":"IF(B474<CALCULATIONS!$M$9,-(Alfa1*COS(miia*B474)-Alfa2*COS(miib*B474)),CURRENTY)","v":-33.076364646760638},null,null,424,4.239999999999954,{"$f":"IF(H474<CALCULATIONS!$M$9,Aktina*SIN(epsilon*H474)*COS(D*H474),Aktina*SIN(epsilon*XRONOS)*COS(D*XRONOS))","v":35.802671973908481},{"$f":"IF(H474<CALCULATIONS!$M$9,Aktina*COS(epsilon*H474)*COS(D*H474),Aktina*COS(epsilon*XRONOS)*COS(D*XRONOS))","v":-35.393261529963979}]
[425,4.2499999999999538,{"$f":"IF(B475<CALCULATIONS!$M$9,Alfa1*SIN(miia*B475)-Alfa2*SIN(miib*B475),CURRENTX)","v":-54.748348893130142},{"$f":"IF(B475<CALCULATIONS!$M$9,-(Alfa1*COS(miia*B475)-Alfa2*COS(miib*B475)),CURRENTY)","v":-32.363415084900126},null,null,425,4.2499999999999538,{"$f":"IF(H475<CALCULATIONS!$M$9,Aktina*SIN(epsilon*H475)*COS(D*H475),Aktina*SIN(epsilon*XRONOS)*COS(D*XRONOS))","v":28.700380911018634},{"$f":"IF(H475<CALCULATIONS!$M$9,Aktina*COS(epsilon*H475)*COS(D*H475),Aktina*COS(epsilon*XRONOS)*COS(D*XRONOS))","v":-31.359753043110217}]
[426,4.2599999999999536,{"$f":"IF(B476<CALCULATIONS!$M$9,Alfa1*SIN(miia*B476)-Alfa2*SIN(miib*B476),CURRENTX)","v":-52.666407854772935},{"$f":"IF(B476<CALCULATIONS!$M$9,-(Alfa1*COS(miia*B476)-Alfa2*COS(miib*B476)),CURRENTY)","v":-31.585024881272751},null,null,426,4.2599999999999536,{"$f":"IF(H476<CALCULATIONS!$M$9,Aktina*SIN(epsilon*H476)*COS(D*H476),Aktina*SIN(epsilon*XRONOS)*COS(D*XRONOS))","v":21.49543527694204},{"$f":"IF(H476<CALCULATIONS!$M$9,Aktina*COS(epsilon*H476)*COS(D*H476),Aktina*COS(epsilon*XRONOS)*COS(D*XRONOS))","v":-25.983613417305563}]
[427,4.2699999999999534,{"$f":"IF(B477<CALCULATIONS!$M$9,Alfa1*SIN(miia*B477)-Alfa2*SIN(miib*B477),CURRENTX)","v":-50.281107074651729},{"$f":"IF(B477<CALCULATIONS!$M$9,-(Alfa1*COS(miia*B477)-Alfa2*COS(miib*B477)),CURRENTY)","v":-30.760446769729644},null,null,427,4.2699999999999534,{"$f":"IF(H477<CALCULATIONS!$M$9,Aktina*SIN(epsilon*H477)*COS(D*H477),Aktina*SIN(epsilon*XRONOS)*COS(D*XRONOS))","v":14.460643881093416},{"$f":"IF(H477<CALCULATIONS!$M$9,Aktina*COS(epsilon*H477)*COS(D*H477),Aktina*COS(epsilon*XRONOS)*COS(D*XRONOS))","v":-19.375653671254856}]
[428,4.2799999999999532,{"$f":"IF(B478<CALCULATIONS!$M$9,Alfa1*SIN(miia*B478)-Alfa2*SIN(miib*B478),CURRENTX)","v":-47.602536816501811},{"$f":"IF(B478<CALCULATIONS!$M$9,-(Alfa1*COS(miia*B478)-Alfa2*COS(miib*B478)),CURRENTY)","v":-29.908721620680247},null,null,428,4.2799999999999532,{"$f":"IF(H478<CALCULATIONS!$M$9,Aktina*SIN(epsilon*H478)*COS(D*H478),Aktina*SIN(epsilon*XRONOS)*COS(D*XRONOS))","v":7.8517694826548849},{"$f":"IF(H478<CALCULATIONS!$M$9,Aktina*COS(epsilon*H478)*COS(D*H478),Aktina*COS(epsilon*XRONOS)*COS(D*XRONOS))","v":-11.697751326866342}]
[429,4.289999999999953,{"$f":"IF(B479<CALCULATIONS!$M$9,Alfa1*SIN(miia*B479)-Alfa2*SIN(miib*B479),CURRENTX)","v":-44.643194897842022},{"$f":"IF(B479<CALCULATIONS!$M$9,-(Alfa1*COS(miia*B479)-Alfa2*COS(miib*B479)),CURRENTY)","v":-29.048461191738671},null,null,429,4.289999999999953,{"$f":"IF(H479<CALCULATIONS!$M$9,Aktina*SIN(epsilon*H479)*COS(D*H479),Aktina*SIN(epsilon*XRONOS)*COS(D*XRONOS))","v":1.8975790525151581},{"$f":"IF(H479<CALCULATIONS!$M$9,Aktina*COS(epsilon*H479)*COS(D*H479),Aktina*COS(epsilon*XRONOS)*COS(D*XRONOS))","v":-3.1574116270312533}]
[430,4.2999999999999527,{"$f":"IF(B480<CALCULATIONS!$M$9,Alfa1*SIN(miia*B480)-Alfa2*SIN(miib*B480),CURRENTX)","v":-41.417897472412172},{"$f":"IF(B480<CALCULATIONS!$M$9,-(Alfa1*COS(miia*B480)-Alfa2*COS(miib*B480)),CURRENTY)","v":-28.197636916451138},null,null,430,4.2999999999999527,{"$f":"IF(H480<CALCULATIONS!$M$9,Aktina*SIN(epsilon*H480)*COS(D*H480),Aktina*SIN(epsilon*XRONOS)*COS(D*XRONOS))","v":-3.2089296531192124},{"$f":"IF(H480<CALCULATIONS!$M$9,Aktina*COS(epsilon*H480)*COS(D*H480),Aktina*COS(epsilon*XRONOS)*COS(D*XRONOS))","v":5.9995199799365313}]
[431,4.3099999999999525,{"$f":"IF(B481<CALCULATIONS!$M$9,Alfa1*SIN(miia*B481)-Alfa2*SIN(miib*B481),CURRENTX)","v":-37.943667865910257},{"$f":"IF(B481<CALCULATIONS!$M$9,-(Alfa1*COS(miia*B481)-Alfa2*COS(miib*B481)),CURRENTY)","v":-27.373376904566058},null,null,431,4.3099999999999525,{"$f":"IF(H481<CALCULATIONS!$M$9,Aktina*SIN(epsilon*H481)*COS(D*H481),Aktina*SIN(epsilon*XRONOS)*COS(D*XRONOS))","v":-7.3177789036464223},{"$f":"IF(H481<CALCULATIONS!$M$9,Aktina*COS(epsilon*H481)*COS(D*H481),Aktina*COS(epsilon*XRONOS)*COS(D*XRONOS))","v":15.497713401399819}]
[432,4.3199999999999523,{"$f":"IF(B482<CALCULATIONS!$M$9,Alfa1*SIN(miia*B482)-Alfa2*SIN(miib*B482),CURRENTX)","v":-34.239604483581417},{"$f":"IF(B482<CALCULATIONS!$M$9,-(Alfa1*COS(miia*B482)-Alfa2*COS(miib*B482)),CURRENTY)","v":-26.591773240728894},null,null,432,4.3199999999999523,{"$f":"IF(H482<CALCULATIONS!$M$9,Aktina*SIN(epsilon*H482)*COS(D*H482),Aktina*SIN(epsilon*XRONOS)*COS(D*XRONOS))","v":-10.327454552872643},{"$f":"IF(H482<CALCULATIONS!$M$9,Aktina*COS(epsilon*H482)*COS(D*H482),Aktina*COS(epsilon*XRONOS)*COS(D*XRONOS))","v":25.04243391107202}]
[433,4.3299999999999521,{"$f":"IF(B483<CALCULATIONS!$M$9,Alfa1*SIN(miia*B483)-Alfa2*SIN(miib*B483),CURRENTX)","v":-30.32672901450541},{"$f":"IF(B483<CALCULATIONS!$M$9,-(Alfa1*COS(miia*B483)-Alfa2*COS(miib*B483)),CURRENTY)","v":-25.867701560905655},null,null,433,4.3299999999999521,{"$f":"IF(H483<CALCULATIONS!$M$9,Aktina*SIN(epsilon*H483)*COS(D*H483),Aktina*SIN(epsilon*XRONOS)*COS(D*XRONOS))","v":-12.188330679538295},{"$f":"IF(H483<CALCULATIONS!$M$9,Aktina*COS(epsilon*H483)*COS(D*H483),Aktina*COS(epsilon*XRONOS)*COS(D*XRONOS))","v":34.330453708918753}]
[434,4.3399999999999519,{"$f":"IF(B484<CALCULATIONS!$M$9,Alfa1*SIN(miia*B484)-Alfa2*SIN(miib*B484),CURRENTX)","v":-26.227816351722026},{"$f":"IF(B484<CALCULATIONS!$M$9,-(Alfa1*COS(miia*B484)-Alfa2*COS(miib*B484)),CURRENTY)","v":-25.214654758349315},null,null,434,4.3399999999999519,{"$f":"IF(H484<CALCULATIONS!$M$9,Aktina*SIN(epsilon*H484)*COS(D*H484),Aktina*SIN(epsilon*XRONOS)*COS(D*XRONOS))","v":-12.903944998841641},{"$f":"IF(H484<CALCULATIONS!$M$9,Aktina*COS(epsilon*H484)*COS(D*H484),Aktina*COS(epsilon*XRONOS)*COS(D*XRONOS))","v":43.061368399655251}]
[435,4.3499999999999517,{"$f":"IF(B485<CALCULATIONS!$M$9,Alfa1*SIN(miia*B485)-Alfa2*SIN(miib*B485),CURRENTX)","v":-21.967207827690771},{"$f":"IF(B485<CALCULATIONS!$M$9,-(Alfa1*COS(miia*B485)-Alfa2*COS(miib*B485)),CURRENTY)","v":-24.644592524808722},null,null,435,4.3499999999999517,{"$f":"IF(H485<CALCULATIONS!$M$9,Aktina*SIN(epsilon*H485)*COS(D*H485),Aktina*SIN(epsilon*XRONOS)*COS(D*XRONOS))","v":-12.530081222649118},{"$f":"IF(H485<CALCULATIONS!$M$9,Aktina*COS(epsilon*H485)*COS(D*H485),Aktina*COS(epsilon*XRONOS)*COS(D*XRONOS))","v":50.948874953699629}]
[436,4.3599999999999515,{"$f":"IF(B486<CALCULATIONS!$M$9,Alfa1*SIN(miia*B486)-Alfa2*SIN(miib*B486),CURRENTX)","v":-17.570609529210124},{"$f":"IF(B486<CALCULATIONS!$M$9,-(Alfa1*COS(miia*B486)-Alfa2*COS(miib*B486)),CURRENTY)","v":-24.167808269412376},null,null,436,4.3599999999999515,{"$f":"IF(H486<CALCULATIONS!$M$9,Aktina*SIN(epsilon*H486)*COS(D*H486),Aktina*SIN(epsilon*XRONOS)*COS(D*XRONOS))","v":-11.17170271134888},{"$f":"IF(H486<CALCULATIONS!$M$9,Aktina*COS(epsilon*H486)*COS(D*H486),Aktina*COS(epsilon*XRONOS)*COS(D*XRONOS))","v":57.731568510200795}]
[437,4.3699999999999513,{"$f":"IF(B487<CALCULATIONS!$M$9,Alfa1*SIN(miia*B487)-Alfa2*SIN(miib*B487),CURRENTX)","v":-13.064877603176253},{"$f":"IF(B487<CALCULATIONS!$M$9,-(Alfa1*COS(miia*B487)-Alfa2*COS(miib*B487)),CURRENTY)","v":-23.792814778882033},null,null,437,4.3699999999999513,{"$f":"IF(H487<CALCULATIONS!$M$9,Aktina*SIN(epsilon*H487)*COS(D*H487),Aktina*SIN(epsilon*XRONOS)*COS(D*XRONOS))","v":-8.9778680802262052},{"$f":"IF(H487<CALCULATIONS!$M$9,Aktina*COS(epsilon*H487)*COS(D*H487),Aktina*COS(epsilon*XRONOS)*COS(D*XRONOS))","v":63.182833754472469}]
[438,4.379999999999951,{"$f":"IF(B488<CALCULATIONS!$M$9,Alfa1*SIN(miia*B488)-Alfa2*SIN(miib*B488),CURRENTX)","v":-8.47779259297476},{"$f":"IF(B488<CALCULATIONS!$M$9,-(Alfa1*COS(miia*B488)-Alfa2*COS(miib*B488)),CURRENTY)","v":-23.526249790244115},null,null,438,4.379999999999951,{"$f":"IF(H488<CALCULATIONS!$M$9,Aktina*SIN(epsilon*H488)*COS(D*H488),Aktina*SIN(epsilon*XRONOS)*COS(D*XRONOS))","v":-6.1348404499537894},{"$f":"IF(H488<CALCULATIONS!$M$9,Aktina*COS(epsilon*H488)*COS(D*H488),Aktina*COS(epsilon*XRONOS)*COS(D*XRONOS))","v":67.119441827518017}]
[439,4.3899999999999508,{"$f":"IF(B489<CALCULATIONS!$M$9,Alfa1*SIN(miia*B489)-Alfa2*SIN(miib*B489),CURRENTX)","v":-3.837824953597103},{"$f":"IF(B489<CALCULATIONS!$M$9,-(Alfa1*COS(miia*B489)-Alfa2*COS(miib*B489)),CURRENTY)","v":-23.372802442945865},null,null,439,4.3899999999999508,{"$f":"IF(H489<CALCULATIONS!$M$9,Aktina*SIN(epsilon*H489)*COS(D*H489),Aktina*SIN(epsilon*XRONOS)*COS(D*XRONOS))","v":-2.8576745282625464},{"$f":"IF(H489<CALCULATIONS!$M$9,Aktina*COS(epsilon*H489)*COS(D*H489),Aktina*COS(epsilon*XRONOS)*COS(D*XRONOS))","v":69.408514407628715}]
[440,4.3999999999999506,{"$f":"IF(B490<CALCULATIONS!$M$9,Alfa1*SIN(miia*B490)-Alfa2*SIN(miib*B490),CURRENTX)","v":0.82610601932195538},{"$f":"IF(B490<CALCULATIONS!$M$9,-(Alfa1*COS(miia*B490)-Alfa2*COS(miib*B490)),CURRENTY)","v":-23.335161363303499},null,null,440,4.3999999999999506,{"$f":"IF(H490<CALCULATIONS!$M$9,Aktina*SIN(epsilon*H490)*COS(D*H490),Aktina*SIN(epsilon*XRONOS)*COS(D*XRONOS))","v":0.61937321697125935},{"$f":"IF(H490<CALCULATIONS!$M$9,Aktina*COS(epsilon*H490)*COS(D*H490),Aktina*COS(epsilon*XRONOS)*COS(D*XRONOS))","v":69.972580732000083}]
[441,4.4099999999999504,{"$f":"IF(B491<CALCULATIONS!$M$9,Alfa1*SIN(miia*B491)-Alfa2*SIN(miib*B491),CURRENTX)","v":5.4848775463115924},{"$f":"IF(B491<CALCULATIONS!$M$9,-(Alfa1*COS(miia*B491)-Alfa2*COS(miib*B491)),CURRENTY)","v":-23.413984912660762},null,null,441,4.4099999999999504,{"$f":"IF(H491<CALCULATIONS!$M$9,Aktina*SIN(epsilon*H491)*COS(D*H491),Aktina*SIN(epsilon*XRONOS)*COS(D*XRONOS))","v":4.0532188228060937},{"$f":"IF(H491<CALCULATIONS!$M$9,Aktina*COS(epsilon*H491)*COS(D*H491),Aktina*COS(epsilon*XRONOS)*COS(D*XRONOS))","v":68.792528353054607}]
[442,4.4199999999999502,{"$f":"IF(B492<CALCULATIONS!$M$9,Alfa1*SIN(miia*B492)-Alfa2*SIN(miib*B492),CURRENTX)","v":10.109410664159416},{"$f":"IF(B492<CALCULATIONS!$M$9,-(Alfa1*COS(miia*B492)-Alfa2*COS(miib*B492)),CURRENTY)","v":-23.607893903746607},null,null,442,4.4199999999999502,{"$f":"IF(H492<CALCULATIONS!$M$9,Aktina*SIN(epsilon*H492)*COS(D*H492),Aktina*SIN(epsilon*XRONOS)*COS(D*XRONOS))","v":7.2026856019073699},{"$f":"IF(H492<CALCULATIONS!$M$9,Aktina*COS(epsilon*H492)*COS(D*H492),Aktina*COS(epsilon*XRONOS)*COS(D*XRONOS))","v":65.908331368562585}]
[443,4.42999999999995,{"$f":"IF(B493<CALCULATIONS!$M$9,Alfa1*SIN(miia*B493)-Alfa2*SIN(miib*B493),CURRENTX)","v":14.670917107543744},{"$f":"IF(B493<CALCULATIONS!$M$9,-(Alfa1*COS(miia*B493)-Alfa2*COS(miib*B493)),CURRENTY)","v":-23.913486859771528},null,null,443,4.42999999999995,{"$f":"IF(H493<CALCULATIONS!$M$9,Aktina*SIN(epsilon*H493)*COS(D*H493),Aktina*SIN(epsilon*XRONOS)*COS(D*XRONOS))","v":9.8391610282754201},{"$f":"IF(H493<CALCULATIONS!$M$9,Aktina*COS(epsilon*H493)*COS(D*H493),Aktina*COS(epsilon*XRONOS)*COS(D*XRONOS))","v":61.417527430273331}]
[444,4.4399999999999498,{"$f":"IF(B494<CALCULATIONS!$M$9,Alfa1*SIN(miia*B494)-Alfa2*SIN(miib*B494),CURRENTX)","v":19.141143414584302},{"$f":"IF(B494<CALCULATIONS!$M$9,-(Alfa1*COS(miia*B494)-Alfa2*COS(miib*B494)),CURRENTY)","v":-24.325377660102408},null,null,444,4.4399999999999498,{"$f":"IF(H494<CALCULATIONS!$M$9,Aktina*SIN(epsilon*H494)*COS(D*H494),Aktina*SIN(epsilon*XRONOS)*COS(D*XRONOS))","v":11.756740470980553},{"$f":"IF(H494<CALCULATIONS!$M$9,Aktina*COS(epsilon*H494)*COS(D*H494),Aktina*COS(epsilon*XRONOS)*COS(D*XRONOS))","v":55.471503542004001}]
[445,4.4499999999999496,{"$f":"IF(B495<CALCULATIONS!$M$9,Alfa1*SIN(miia*B495)-Alfa2*SIN(miib*B495),CURRENTX)","v":23.492609926108585},{"$f":"IF(B495<CALCULATIONS!$M$9,-(Alfa1*COS(miia*B495)-Alfa2*COS(miib*B495)),CURRENTY)","v":-24.836255187226755},null,null,445,4.4499999999999496,{"$f":"IF(H495<CALCULATIONS!$M$9,Aktina*SIN(epsilon*H495)*COS(D*H495),Aktina*SIN(epsilon*XRONOS)*COS(D*XRONOS))","v":12.781443089091162},{"$f":"IF(H495<CALCULATIONS!$M$9,Aktina*COS(epsilon*H495)*COS(D*H495),Aktina*COS(epsilon*XRONOS)*COS(D*XRONOS))","v":48.269736978987119}]
[446,4.4599999999999493,{"$f":"IF(B496<CALCULATIONS!$M$9,Alfa1*SIN(miia*B496)-Alfa2*SIN(miib*B496),CURRENTX)","v":27.698842398861036},{"$f":"IF(B496<CALCULATIONS!$M$9,-(Alfa1*COS(miia*B496)-Alfa2*COS(miib*B496)),CURRENTY)","v":-25.436964364459755},null,null,446,4.4599999999999493,{"$f":"IF(H496<CALCULATIONS!$M$9,Aktina*SIN(epsilon*H496)*COS(D*H496),Aktina*SIN(epsilon*XRONOS)*COS(D*XRONOS))","v":12.779122416267796},{"$f":"IF(H496<CALCULATIONS!$M$9,Aktina*COS(epsilon*H496)*COS(D*H496),Aktina*COS(epsilon*XRONOS)*COS(D*XRONOS))","v":40.052218164735699}]
[447,4.4699999999999491,{"$f":"IF(B497<CALCULATIONS!$M$9,Alfa1*SIN(miia*B497)-Alfa2*SIN(miib*B497),CURRENTX)","v":31.734594025817383},{"$f":"IF(B497<CALCULATIONS!$M$9,-(Alfa1*COS(miia*B497)-Alfa2*COS(miib*B497)),CURRENTY)","v":-26.116607754728012},null,null,447,4.4699999999999491,{"$f":"IF(H497<CALCULATIONS!$M$9,Aktina*SIN(epsilon*H497)*COS(D*H497),Aktina*SIN(epsilon*XRONOS)*COS(D*XRONOS))","v":11.661746527920082},{"$f":"IF(H497<CALCULATIONS!$M$9,Aktina*COS(epsilon*H497)*COS(D*H497),Aktina*COS(epsilon*XRONOS)*COS(D*XRONOS))","v":31.090353830468914}]
[448,4.4799999999999489,{"$f":"IF(B498<CALCULATIONS!$M$9,Alfa1*SIN(miia*B498)-Alfa2*SIN(miib*B498),CURRENTX)","v":35.576055751480993},{"$f":"IF(B498<CALCULATIONS!$M$9,-(Alfa1*COS(miia*B498)-Alfa2*COS(miib*B498)),CURRENTY)","v":-26.862666679983192},null,null,448,4.4799999999999489,{"$f":"IF(H498<CALCULATIONS!$M$9,Aktina*SIN(epsilon*H498)*COS(D*H498),Aktina*SIN(epsilon*XRONOS)*COS(D*XRONOS))","v":9.3917881065404973},{"$f":"IF(H498<CALCULATIONS!$M$9,Aktina*COS(epsilon*H498)*COS(D*H498),Aktina*COS(epsilon*XRONOS)*COS(D*XRONOS))","v":21.67670841516188}]
[449,{"$f":"B498+dt","v":4.4899999999999487},{"$f":"IF(B499<CALCULATIONS!$M$9,Alfa1*SIN(miia*B499)-Alfa2*SIN(miib*B499),CURRENTX)","v":39.201052885593484},{"$f":"IF(B499<CALCULATIONS!$M$9,-(Alfa1*COS(miia*B499)-Alfa2*COS(miib*B499)),CURRENTY)","v":-27.661140620476601},null,null,449,{"$f":"H498+dt","v":4.4899999999999487},{"$f":"IF(H499<CALCULATIONS!$M$9,Aktina*SIN(epsilon*H499)*COS(D*H499),Aktina*SIN(epsilon*XRONOS)*COS(D*XRONOS))","v":5.9845405893894315},{"$f":"IF(H499<CALCULATIONS!$M$9,Aktina*COS(epsilon*H499)*COS(D*H499),Aktina*COS(epsilon*XRONOS)*COS(D*XRONOS))","v":12.113987073584376}]
[{"$f":"A499+1","v":450},4.4999999999999485,{"$f":"IF(B500<CALCULATIONS!$M$9,Alfa1*SIN(miia*B500)-Alfa2*SIN(miib*B500),CURRENTX)","v":42.589226153936508},{"$f":"IF(B500<CALCULATIONS!$M$9,-(Alfa1*COS(miia*B500)-Alfa2*COS(miib*B500)),CURRENTY)","v":-28.496703465279356},null,null,{"$f":"G499+1","v":450},4.4999999999999485,{"$f":"IF(H500<CALCULATIONS!$M$9,Aktina*SIN(epsilon*H500)*COS(D*H500),Aktina*SIN(epsilon*XRONOS)*COS(D*XRONOS))","v":1.5082598673508336},{"$f":"IF(H500<CALCULATIONS!$M$9,Aktina*COS(epsilon*H500)*COS(D*H500),Aktina*COS(epsilon*XRONOS)*COS(D*XRONOS))","v":2.7036930441468359}]
[451,4.5099999999999483,{"$f":"IF(B501<CALCULATIONS!$M$9,Alfa1*SIN(miia*B501)-Alfa2*SIN(miib*B501),CURRENTX)","v":45.722195478483314},{"$f":"IF(B501<CALCULATIONS!$M$9,-(Alfa1*COS(miia*B501)-Alfa2*COS(miib*B501)),CURRENTY)","v":-29.352875011948015},null,null,451,4.5099999999999483,{"$f":"IF(H501<CALCULATIONS!$M$9,Aktina*SIN(epsilon*H501)*COS(D*H501),Aktina*SIN(epsilon*XRONOS)*COS(D*XRONOS))","v":-3.9178816218687538},{"$f":"IF(H501<CALCULATIONS!$M$9,Aktina*COS(epsilon*H501)*COS(D*H501),Aktina*COS(epsilon*XRONOS)*COS(D*XRONOS))","v":-6.2650956751326481}]
[452,4.5199999999999481,{"$f":"IF(B502<CALCULATIONS!$M$9,Alfa1*SIN(miia*B502)-Alfa2*SIN(miib*B502),CURRENTX)","v":48.583704949548277},{"$f":"IF(B502<CALCULATIONS!$M$9,-(Alfa1*COS(miia*B502)-Alfa2*COS(miib*B502)),CURRENTY)","v":-30.212205955861833},null,null,452,4.5199999999999481,{"$f":"IF(H502<CALCULATIONS!$M$9,Aktina*SIN(epsilon*H502)*COS(D*H502),Aktina*SIN(epsilon*XRONOS)*COS(D*XRONOS))","v":-10.127953589132684},{"$f":"IF(H502<CALCULATIONS!$M$9,Aktina*COS(epsilon*H502)*COS(D*H502),Aktina*COS(epsilon*XRONOS)*COS(D*XRONOS))","v":-14.526390863986038}]
[453,4.5299999999999478,{"$f":"IF(B503<CALCULATIONS!$M$9,Alfa1*SIN(miia*B503)-Alfa2*SIN(miib*B503),CURRENTX)","v":51.159747638088646},{"$f":"IF(B503<CALCULATIONS!$M$9,-(Alfa1*COS(miia*B503)-Alfa2*COS(miib*B503)),CURRENTY)","v":-31.056474470078051},null,null,453,4.5299999999999478,{"$f":"IF(H503<CALCULATIONS!$M$9,Aktina*SIN(epsilon*H503)*COS(D*H503),Aktina*SIN(epsilon*XRONOS)*COS(D*XRONOS))","v":-16.91537950218957},{"$f":"IF(H503<CALCULATIONS!$M$9,Aktina*COS(epsilon*H503)*COS(D*H503),Aktina*COS(epsilon*XRONOS)*COS(D*XRONOS))","v":-21.846983262848411}]
[454,4.5399999999999476,{"$f":"IF(B504<CALCULATIONS!$M$9,Alfa1*SIN(miia*B504)-Alfa2*SIN(miib*B504),CURRENTX)","v":53.438669095085345},{"$f":"IF(B504<CALCULATIONS!$M$9,-(Alfa1*COS(miia*B504)-Alfa2*COS(miib*B504)),CURRENTY)","v":-31.866892355975533},null,null,454,4.5399999999999476,{"$f":"IF(H504<CALCULATIONS!$M$9,Aktina*SIN(epsilon*H504)*COS(D*H504),Aktina*SIN(epsilon*XRONOS)*COS(D*XRONOS))","v":-24.040762487269625},{"$f":"IF(H504<CALCULATIONS!$M$9,Aktina*COS(epsilon*H504)*COS(D*H504),Aktina*COS(epsilon*XRONOS)*COS(D*XRONOS))","v":-28.034779265925192}]
[455,4.5499999999999474,{"$f":"IF(B505<CALCULATIONS!$M$9,Alfa1*SIN(miia*B505)-Alfa2*SIN(miib*B505),CURRENTX)","v":55.411248594985608},{"$f":"IF(B505<CALCULATIONS!$M$9,-(Alfa1*COS(miia*B505)-Alfa2*COS(miib*B505)),CURRENTY)","v":-32.624318644700317},null,null,455,4.5499999999999474,{"$f":"IF(H505<CALCULATIONS!$M$9,Aktina*SIN(epsilon*H505)*COS(D*H505),Aktina*SIN(epsilon*XRONOS)*COS(D*XRONOS))","v":-31.241117623083642},{"$f":"IF(H505<CALCULATIONS!$M$9,Aktina*COS(epsilon*H505)*COS(D*H505),Aktina*COS(epsilon*XRONOS)*COS(D*XRONOS))","v":-32.945462364973643}]
[456,4.5599999999999472,{"$f":"IF(B506<CALCULATIONS!$M$9,Alfa1*SIN(miia*B506)-Alfa2*SIN(miib*B506),CURRENTX)","v":57.070757399440588},{"$f":"IF(B506<CALCULATIONS!$M$9,-(Alfa1*COS(miia*B506)-Alfa2*COS(miib*B506)),CURRENTY)","v":-33.309478450500968},null,null,456,4.5599999999999472,{"$f":"IF(H506<CALCULATIONS!$M$9,Aktina*SIN(epsilon*H506)*COS(D*H506),Aktina*SIN(epsilon*XRONOS)*COS(D*XRONOS))","v":-38.240145679229187},{"$f":"IF(H506<CALCULATIONS!$M$9,Aktina*COS(epsilon*H506)*COS(D*H506),Aktina*COS(epsilon*XRONOS)*COS(D*XRONOS))","v":-36.487223731960398}]
[457,4.569999999999947,{"$f":"IF(B507<CALCULATIONS!$M$9,Alfa1*SIN(miia*B507)-Alfa2*SIN(miib*B507),CURRENTX)","v":58.412993543834574},{"$f":"IF(B507<CALCULATIONS!$M$9,-(Alfa1*COS(miia*B507)-Alfa2*COS(miib*B507)),CURRENTY)","v":-33.903184820250232},null,null,457,4.569999999999947,{"$f":"IF(H507<CALCULATIONS!$M$9,Aktina*SIN(epsilon*H507)*COS(D*H507),Aktina*SIN(epsilon*XRONOS)*COS(D*XRONOS))","v":-44.759140822129538},{"$f":"IF(H507<CALCULATIONS!$M$9,Aktina*COS(epsilon*H507)*COS(D*H507),Aktina*COS(epsilon*XRONOS)*COS(D*XRONOS))","v":-38.623383567291889}]
[458,4.5799999999999468,{"$f":"IF(B508<CALCULATIONS!$M$9,Alfa1*SIN(miia*B508)-Alfa2*SIN(miib*B508),CURRENTX)","v":59.436292880126373},{"$f":"IF(B508<CALCULATIONS!$M$9,-(Alfa1*COS(miia*B508)-Alfa2*COS(miib*B508)),CURRENTY)","v":-34.386561289368267},null,null,458,4.5799999999999468,{"$f":"IF(H508<CALCULATIONS!$M$9,Aktina*SIN(epsilon*H508)*COS(D*H508),Aktina*SIN(epsilon*XRONOS)*COS(D*XRONOS))","v":-50.528098506524493},{"$f":"IF(H508<CALCULATIONS!$M$9,Aktina*COS(epsilon*H508)*COS(D*H508),Aktina*COS(epsilon*XRONOS)*COS(D*XRONOS))","v":-39.372809087885429}]
[459,4.5899999999999466,{"$f":"IF(B509<CALCULATIONS!$M$9,Alfa1*SIN(miia*B509)-Alfa2*SIN(miib*B509),CURRENTX)","v":60.141516343004866},{"$f":"IF(B509<CALCULATIONS!$M$9,-(Alfa1*COS(miia*B509)-Alfa2*COS(miib*B509)),CURRENTY)","v":-34.74126284334271},null,null,459,4.5899999999999466,{"$f":"IF(H509<CALCULATIONS!$M$9,Aktina*SIN(epsilon*H509)*COS(D*H509),Aktina*SIN(epsilon*XRONOS)*COS(D*XRONOS))","v":-55.296580748201158},{"$f":"IF(H509<CALCULATIONS!$M$9,Aktina*COS(epsilon*H509)*COS(D*H509),Aktina*COS(epsilon*XRONOS)*COS(D*XRONOS))","v":-38.808122925702008}]
[460,4.5999999999999464,{"$f":"IF(B510<CALCULATIONS!$M$9,Alfa1*SIN(miia*B510)-Alfa2*SIN(miib*B510),CURRENTX)","v":60.532013639978913},{"$f":"IF(B510<CALCULATIONS!$M$9,-(Alfa1*COS(miia*B510)-Alfa2*COS(miib*B510)),CURRENTY)","v":-34.949692996202678},null,null,460,4.5999999999999464,{"$f":"IF(H510<CALCULATIONS!$M$9,Aktina*SIN(epsilon*H510)*COS(D*H510),Aktina*SIN(epsilon*XRONOS)*COS(D*XRONOS))","v":-58.843904604245978},{"$f":"IF(H510<CALCULATIONS!$M$9,Aktina*COS(epsilon*H510)*COS(D*H510),Aktina*COS(epsilon*XRONOS)*COS(D*XRONOS))","v":-37.051783747841533}]
[461,4.6099999999999461,{"$f":"IF(B511<CALCULATIONS!$M$9,Alfa1*SIN(miia*B511)-Alfa2*SIN(miib*B511),CURRENTX)","v":60.613563797453047},{"$f":"IF(B511<CALCULATIONS!$M$9,-(Alfa1*COS(miia*B511)-Alfa2*COS(miib*B511)),CURRENTY)","v":-34.995214732534656},null,null,461,4.6099999999999461,{"$f":"IF(H511<CALCULATIONS!$M$9,Aktina*SIN(epsilon*H511)*COS(D*H511),Aktina*SIN(epsilon*XRONOS)*COS(D*XRONOS))","v":-60.988245636872406},{"$f":"IF(H511<CALCULATIONS!$M$9,Aktina*COS(epsilon*H511)*COS(D*H511),Aktina*COS(epsilon*XRONOS)*COS(D*XRONOS))","v":-34.270205584416551}]
[462,4.6199999999999459,{"$f":"IF(B512<CALCULATIONS!$M$9,Alfa1*SIN(miia*B512)-Alfa2*SIN(miib*B512),CURRENTX)","v":60.394293221781837},{"$f":"IF(B512<CALCULATIONS!$M$9,-(Alfa1*COS(miia*B512)-Alfa2*COS(miib*B512)),CURRENTY)","v":-34.862353117586849},null,null,462,4.6199999999999459,{"$f":"IF(H512<CALCULATIONS!$M$9,Aktina*SIN(epsilon*H512)*COS(D*H512),Aktina*SIN(epsilon*XRONOS)*COS(D*XRONOS))","v":-61.59429038168777},{"$f":"IF(H512<CALCULATIONS!$M$9,Aktina*COS(epsilon*H512)*COS(D*H512),Aktina*COS(epsilon*XRONOS)*COS(D*XRONOS))","v":-30.666160286045336}]
[463,4.6299999999999457,{"$f":"IF(B513<CALCULATIONS!$M$9,Alfa1*SIN(miia*B513)-Alfa2*SIN(miib*B513),CURRENTX)","v":59.884572154489078},{"$f":"IF(B513<CALCULATIONS!$M$9,-(Alfa1*COS(miia*B513)-Alfa2*COS(miib*B513)),CURRENTY)","v":-34.536987460121168},null,null,463,4.6299999999999457,{"$f":"IF(H513<CALCULATIONS!$M$9,Aktina*SIN(epsilon*H513)*COS(D*H513),Aktina*SIN(epsilon*XRONOS)*COS(D*XRONOS))","v":-60.579128706982353},{"$f":"IF(H513<CALCULATIONS!$M$9,Aktina*COS(epsilon*H513)*COS(D*H513),Aktina*COS(epsilon*XRONOS)*COS(D*XRONOS))","v":-26.46977562438471}]
[464,4.6399999999999455,{"$f":"IF(B514<CALCULATIONS!$M$9,Alfa1*SIN(miia*B514)-Alfa2*SIN(miib*B514),CURRENTX)","v":59.096890612095862},{"$f":"IF(B514<CALCULATIONS!$M$9,-(Alfa1*COS(miia*B514)-Alfa2*COS(miib*B514)),CURRENTY)","v":-34.006531014148479},null,null,464,4.6399999999999455,{"$f":"IF(H514<CALCULATIONS!$M$9,Aktina*SIN(epsilon*H514)*COS(D*H514),Aktina*SIN(epsilon*XRONOS)*COS(D*XRONOS))","v":-57.916146180033671},{"$f":"IF(H514<CALCULATIONS!$M$9,Aktina*COS(epsilon*H514)*COS(D*H514),Aktina*COS(epsilon*XRONOS)*COS(D*XRONOS))","v":-21.928497085637893}]
[465,4.6499999999999453,{"$f":"IF(B515<CALCULATIONS!$M$9,Alfa1*SIN(miia*B515)-Alfa2*SIN(miib*B515),CURRENTX)","v":58.045715101226271},{"$f":"IF(B515<CALCULATIONS!$M$9,-(Alfa1*COS(miia*B515)-Alfa2*COS(miib*B515)),CURRENTY)","v":-33.260096327515981},null,null,465,4.6499999999999453,{"$f":"IF(H515<CALCULATIONS!$M$9,Aktina*SIN(epsilon*H515)*COS(D*H515),Aktina*SIN(epsilon*XRONOS)*COS(D*XRONOS))","v":-53.636755398940991},{"$f":"IF(H515<CALCULATIONS!$M$9,Aktina*COS(epsilon*H515)*COS(D*H515),Aktina*COS(epsilon*XRONOS)*COS(D*XRONOS))","v":-17.296422178841482}]
[466,4.6599999999999451,{"$f":"IF(B516<CALCULATIONS!$M$9,Alfa1*SIN(miia*B516)-Alfa2*SIN(miib*B516),CURRENTX)","v":56.747327586858063},{"$f":"IF(B516<CALCULATIONS!$M$9,-(Alfa1*COS(miia*B516)-Alfa2*COS(miib*B516)),CURRENTY)","v":-32.288644486294068},null,null,466,4.6599999999999451,{"$f":"IF(H516<CALCULATIONS!$M$9,Aktina*SIN(epsilon*H516)*COS(D*H516),Aktina*SIN(epsilon*XRONOS)*COS(D*XRONOS))","v":-47.82989056985803},{"$f":"IF(H516<CALCULATIONS!$M$9,Aktina*COS(epsilon*H516)*COS(D*H516),Aktina*COS(epsilon*XRONOS)*COS(D*XRONOS))","v":-12.823440467942532}]
[467,4.6699999999999449,{"$f":"IF(B517<CALCULATIONS!$M$9,Alfa1*SIN(miia*B517)-Alfa2*SIN(miib*B517),CURRENTX)","v":55.219648363903403},{"$f":"IF(B517<CALCULATIONS!$M$9,-(Alfa1*COS(miia*B517)-Alfa2*COS(miib*B517)),CURRENTY)","v":-31.085116662631375},null,null,467,4.6699999999999449,{"$f":"IF(H517<CALCULATIONS!$M$9,Aktina*SIN(epsilon*H517)*COS(D*H517),Aktina*SIN(epsilon*XRONOS)*COS(D*XRONOS))","v":-40.639278016473291},{"$f":"IF(H517<CALCULATIONS!$M$9,Aktina*COS(epsilon*H517)*COS(D*H517),Aktina*COS(epsilon*XRONOS)*COS(D*XRONOS))","v":-8.7446195732553651}]
[468,4.6799999999999446,{"$f":"IF(B518<CALCULATIONS!$M$9,Alfa1*SIN(miia*B518)-Alfa2*SIN(miib*B518),CURRENTX)","v":53.482044638031837},{"$f":"IF(B518<CALCULATIONS!$M$9,-(Alfa1*COS(miia*B518)-Alfa2*COS(miib*B518)),CURRENTY)","v":-29.644546548631737},null,null,468,4.6799999999999446,{"$f":"IF(H518<CALCULATIONS!$M$9,Aktina*SIN(epsilon*H518)*COS(D*H518),Aktina*SIN(epsilon*XRONOS)*COS(D*XRONOS))","v":-32.258583284344958},{"$f":"IF(H518<CALCULATIONS!$M$9,Aktina*COS(epsilon*H518)*COS(D*H518),Aktina*COS(epsilon*XRONOS)*COS(D*XRONOS))","v":-5.2702668003976232}]
[469,4.6899999999999444,{"$f":"IF(B519<CALCULATIONS!$M$9,Alfa1*SIN(miia*B519)-Alfa2*SIN(miib*B519),CURRENTX)","v":51.555126759240544},{"$f":"IF(B519<CALCULATIONS!$M$9,-(Alfa1*COS(miia*B519)-Alfa2*COS(miib*B519)),CURRENTY)","v":-27.964152448112305},null,null,469,4.6899999999999444,{"$f":"IF(H519<CALCULATIONS!$M$9,Aktina*SIN(epsilon*H519)*COS(D*H519),Aktina*SIN(epsilon*XRONOS)*COS(D*XRONOS))","v":-22.924619546850071},{"$f":"IF(H519<CALCULATIONS!$M$9,Aktina*COS(epsilon*H519)*COS(D*H519),Aktina*COS(epsilon*XRONOS)*COS(D*XRONOS))","v":-2.577068273146784}]
[470,4.6999999999999442,{"$f":"IF(B520<CALCULATIONS!$M$9,Alfa1*SIN(miia*B520)-Alfa2*SIN(miib*B520),CURRENTX)","v":49.460534169772409},{"$f":"IF(B520<CALCULATIONS!$M$9,-(Alfa1*COS(miia*B520)-Alfa2*COS(miib*B520)),CURRENTY)","v":-26.043407999939273},null,null,470,4.6999999999999442,{"$f":"IF(H520<CALCULATIONS!$M$9,Aktina*SIN(epsilon*H520)*COS(D*H520),Aktina*SIN(epsilon*XRONOS)*COS(D*XRONOS))","v":-12.90887878750809},{"$f":"IF(H520<CALCULATIONS!$M$9,Aktina*COS(epsilon*H520)*COS(D*H520),Aktina*COS(epsilon*XRONOS)*COS(D*XRONOS))","v":-0.80066358684008687}]
[471,4.709999999999944,{"$f":"IF(B521<CALCULATIONS!$M$9,Alfa1*SIN(miia*B521)-Alfa2*SIN(miib*B521),CURRENTX)","v":47.220713225415473},{"$f":"IF(B521<CALCULATIONS!$M$9,-(Alfa1*COS(miia*B521)-Alfa2*COS(miib*B521)),CURRENTY)","v":-23.884090718994766},null,null,471,4.709999999999944,{"$f":"IF(H521<CALCULATIONS!$M$9,Aktina*SIN(epsilon*H521)*COS(D*H521),Aktina*SIN(epsilon*XRONOS)*COS(D*XRONOS))","v":-2.5077136700404723},{"$f":"IF(H521<CALCULATIONS!$M$9,Aktina*COS(epsilon*H521)*COS(D*H521),Aktina*COS(epsilon*XRONOS)*COS(D*XRONOS))","v":-2.9955818560520975E-2}]
[472,4.7199999999999438,{"$f":"IF(B522<CALCULATIONS!$M$9,Alfa1*SIN(miia*B522)-Alfa2*SIN(miib*B522),CURRENTX)","v":44.8586891250281},{"$f":"IF(B522<CALCULATIONS!$M$9,-(Alfa1*COS(miia*B522)-Alfa2*COS(miib*B522)),CURRENTY)","v":-21.490307761588245},null,null,472,4.7199999999999438,{"$f":"IF(H522<CALCULATIONS!$M$9,Aktina*SIN(epsilon*H522)*COS(D*H522),Aktina*SIN(epsilon*XRONOS)*COS(D*XRONOS))","v":7.9684485315709637},{"$f":"IF(H522<CALCULATIONS!$M$9,Aktina*COS(epsilon*H522)*COS(D*H522),Aktina*COS(epsilon*XRONOS)*COS(D*XRONOS))","v":-0.30338655836894762}]
[473,4.7299999999999436,{"$f":"IF(B523<CALCULATIONS!$M$9,Alfa1*SIN(miia*B523)-Alfa2*SIN(miib*B523),CURRENTX)","v":42.397834236578881},{"$f":"IF(B523<CALCULATIONS!$M$9,-(Alfa1*COS(miia*B523)-Alfa2*COS(miib*B523)),CURRENTY)","v":-18.868498549081771},null,null,473,4.7299999999999436,{"$f":"IF(H523<CALCULATIONS!$M$9,Aktina*SIN(epsilon*H523)*COS(D*H523),Aktina*SIN(epsilon*XRONOS)*COS(D*XRONOS))","v":18.206440213650112},{"$f":"IF(H523<CALCULATIONS!$M$9,Aktina*COS(epsilon*H523)*COS(D*H523),Aktina*COS(epsilon*XRONOS)*COS(D*XRONOS))","v":-1.6073262696611021}]
[474,4.7399999999999434,{"$f":"IF(B524<CALCULATIONS!$M$9,Alfa1*SIN(miia*B524)-Alfa2*SIN(miib*B524),CURRENTX)","v":39.861635138543321},{"$f":"IF(B524<CALCULATIONS!$M$9,-(Alfa1*COS(miia*B524)-Alfa2*COS(miib*B524)),CURRENTY)","v":-16.027414114384868},null,null,474,4.7399999999999434,{"$f":"IF(H524<CALCULATIONS!$M$9,Aktina*SIN(epsilon*H524)*COS(D*H524),Aktina*SIN(epsilon*XRONOS)*COS(D*XRONOS))","v":27.901794478104978},{"$f":"IF(H524<CALCULATIONS!$M$9,Aktina*COS(epsilon*H524)*COS(D*H524),Aktina*COS(epsilon*XRONOS)*COS(D*XRONOS))","v":-3.8766449202084816}]
[475,4.7499999999999432,{"$f":"IF(B525<CALCULATIONS!$M$9,Alfa1*SIN(miia*B525)-Alfa2*SIN(miib*B525),CURRENTX)","v":37.273460702876768},{"$f":"IF(B525<CALCULATIONS!$M$9,-(Alfa1*COS(miia*B525)-Alfa2*COS(miib*B525)),CURRENTY)","v":-12.978073268485991},null,null,475,4.7499999999999432,{"$f":"IF(H525<CALCULATIONS!$M$9,Aktina*SIN(epsilon*H525)*COS(D*H525),Aktina*SIN(epsilon*XRONOS)*COS(D*XRONOS))","v":36.769847235413373},{"$f":"IF(H525<CALCULATIONS!$M$9,Aktina*COS(epsilon*H525)*COS(D*H525),Aktina*COS(epsilon*XRONOS)*COS(D*XRONOS))","v":-6.9974398622065559}]
[476,4.7599999999999429,{"$f":"IF(B526<CALCULATIONS!$M$9,Alfa1*SIN(miia*B526)-Alfa2*SIN(miib*B526),CURRENTX)","v":34.65633352992085},{"$f":"IF(B526<CALCULATIONS!$M$9,-(Alfa1*COS(miia*B526)-Alfa2*COS(miib*B526)),CURRENTY)","v":-9.7336959160036081},null,null,476,4.7599999999999429,{"$f":"IF(H526<CALCULATIONS!$M$9,Aktina*SIN(epsilon*H526)*COS(D*H526),Aktina*SIN(epsilon*XRONOS)*COS(D*XRONOS))","v":44.556068121216576},{"$f":"IF(H526<CALCULATIONS!$M$9,Aktina*COS(epsilon*H526)*COS(D*H526),Aktina*COS(epsilon*XRONOS)*COS(D*XRONOS))","v":-10.81181089694546}]
[477,4.7699999999999427,{"$f":"IF(B527<CALCULATIONS!$M$9,Alfa1*SIN(miia*B527)-Alfa2*SIN(miib*B527),CURRENTX)","v":32.032707006671373},{"$f":"IF(B527<CALCULATIONS!$M$9,-(Alfa1*COS(miia*B527)-Alfa2*COS(miib*B527)),CURRENTY)","v":-6.3096140775397256},null,null,477,4.7699999999999427,{"$f":"IF(H527<CALCULATIONS!$M$9,Aktina*SIN(epsilon*H527)*COS(D*H527),Aktina*SIN(epsilon*XRONOS)*COS(D*XRONOS))","v":51.045218534398948},{"$f":"IF(H527<CALCULATIONS!$M$9,Aktina*COS(epsilon*H527)*COS(D*H527),Aktina*COS(epsilon*XRONOS)*COS(D*XRONOS))","v":-15.124489818035537}]
[478,4.7799999999999425,{"$f":"IF(B528<CALCULATIONS!$M$9,Alfa1*SIN(miia*B528)-Alfa2*SIN(miib*B528),CURRENTX)","v":29.424250198239616},{"$f":"IF(B528<CALCULATIONS!$M$9,-(Alfa1*COS(miia*B528)-Alfa2*COS(miib*B528)),CURRENTY)","v":-2.7231614001147442},null,null,478,4.7799999999999425,{"$f":"IF(H528<CALCULATIONS!$M$9,Aktina*SIN(epsilon*H528)*COS(D*H528),Aktina*SIN(epsilon*XRONOS)*COS(D*XRONOS))","v":56.068981579188502},{"$f":"IF(H528<CALCULATIONS!$M$9,Aktina*COS(epsilon*H528)*COS(D*H528),Aktina*COS(epsilon*XRONOS)*COS(D*XRONOS))","v":-19.711056791401742}]
[479,4.7899999999999423,{"$f":"IF(B529<CALCULATIONS!$M$9,Alfa1*SIN(miia*B529)-Alfa2*SIN(miib*B529),CURRENTX)","v":26.851642698708641},{"$f":"IF(B529<CALCULATIONS!$M$9,-(Alfa1*COS(miia*B529)-Alfa2*COS(miib*B529)),CURRENTY)","v":1.0064578470773569},null,null,479,4.7899999999999423,{"$f":"IF(H529<CALCULATIONS!$M$9,Aktina*SIN(epsilon*H529)*COS(D*H529),Aktina*SIN(epsilon*XRONOS)*COS(D*XRONOS))","v":59.511769231063617},{"$f":"IF(H529<CALCULATIONS!$M$9,Aktina*COS(epsilon*H529)*COS(D*H529),Aktina*COS(epsilon*XRONOS)*COS(D*XRONOS))","v":-24.327411697975968}]
[480,4.7999999999999421,{"$f":"IF(B530<CALCULATIONS!$M$9,Alfa1*SIN(miia*B530)-Alfa2*SIN(miib*B530),CURRENTX)","v":24.334381462771361},{"$f":"IF(B530<CALCULATIONS!$M$9,-(Alfa1*COS(miia*B530)-Alfa2*COS(miib*B530)),CURRENTY)","v":4.8583190880891092},null,null,480,4.7999999999999421,{"$f":"IF(H530<CALCULATIONS!$M$9,Aktina*SIN(epsilon*H530)*COS(D*H530),Aktina*SIN(epsilon*XRONOS)*COS(D*XRONOS))","v":61.314484236524834},{"$f":"IF(H530<CALCULATIONS!$M$9,Aktina*COS(epsilon*H530)*COS(D*H530),Aktina*COS(epsilon*XRONOS)*COS(D*XRONOS))","v":-28.720117606585532}]
[481,4.8099999999999419,{"$f":"IF(B531<CALCULATIONS!$M$9,Alfa1*SIN(miia*B531)-Alfa2*SIN(miib*B531),CURRENTX)","v":21.890601514594177},{"$f":"IF(B531<CALCULATIONS!$M$9,-(Alfa1*COS(miia*B531)-Alfa2*COS(miib*B531)),CURRENTY)","v":8.8099456688083819},null,null,481,4.8099999999999419,{"$f":"IF(H531<CALCULATIONS!$M$9,Aktina*SIN(epsilon*H531)*COS(D*H531),Aktina*SIN(epsilon*XRONOS)*COS(D*XRONOS))","v":61.476095226926098},{"$f":"IF(H531<CALCULATIONS!$M$9,Aktina*COS(epsilon*H531)*COS(D*H531),Aktina*COS(epsilon*XRONOS)*COS(D*XRONOS))","v":-32.637197900802164}]
[482,4.8199999999999417,{"$f":"IF(B532<CALCULATIONS!$M$9,Alfa1*SIN(miia*B532)-Alfa2*SIN(miib*B532),CURRENTX)","v":19.536912286541352},{"$f":"IF(B532<CALCULATIONS!$M$9,-(Alfa1*COS(miia*B532)-Alfa2*COS(miib*B532)),CURRENTY)","v":12.837493419918296},null,null,482,4.8199999999999417,{"$f":"IF(H532<CALCULATIONS!$M$9,Aktina*SIN(epsilon*H532)*COS(D*H532),Aktina*SIN(epsilon*XRONOS)*COS(D*XRONOS))","v":60.052970054101415},{"$f":"IF(H532<CALCULATIONS!$M$9,Aktina*COS(epsilon*H532)*COS(D*H532),Aktina*COS(epsilon*XRONOS)*COS(D*XRONOS))","v":-35.838949684187334}]
[483,4.8299999999999415,{"$f":"IF(B533<CALCULATIONS!$M$9,Alfa1*SIN(miia*B533)-Alfa2*SIN(miib*B533),CURRENTX)","v":17.288251179173098},{"$f":"IF(B533<CALCULATIONS!$M$9,-(Alfa1*COS(miia*B533)-Alfa2*COS(miib*B533)),CURRENTY)","v":16.915949810157343},null,null,483,4.8299999999999415,{"$f":"IF(H533<CALCULATIONS!$M$9,Aktina*SIN(epsilon*H533)*COS(D*H533),Aktina*SIN(epsilon*XRONOS)*COS(D*XRONOS))","v":57.156000997519953},{"$f":"IF(H533<CALCULATIONS!$M$9,Aktina*COS(epsilon*H533)*COS(D*H533),Aktina*COS(epsilon*XRONOS)*COS(D*XRONOS))","v":-38.108334695064137}]
[484,4.8399999999999412,{"$f":"IF(B534<CALCULATIONS!$M$9,Alfa1*SIN(miia*B534)-Alfa2*SIN(miib*B534),CURRENTX)","v":15.157755756918704},{"$f":"IF(B534<CALCULATIONS!$M$9,-(Alfa1*COS(miia*B534)-Alfa2*COS(miib*B534)),CURRENTY)","v":21.019345797709292},null,null,484,4.8399999999999412,{"$f":"IF(H534<CALCULATIONS!$M$9,Aktina*SIN(epsilon*H534)*COS(D*H534),Aktina*SIN(epsilon*XRONOS)*COS(D*XRONOS))","v":52.94564272250269},{"$f":"IF(H534<CALCULATIONS!$M$9,Aktina*COS(epsilon*H534)*COS(D*H534),Aktina*COS(epsilon*XRONOS)*COS(D*XRONOS))","v":-39.260525137618828}]
[485,4.849999999999941,{"$f":"IF(B535<CALCULATIONS!$M$9,Alfa1*SIN(miia*B535)-Alfa2*SIN(miib*B535),CURRENTX)","v":13.156655802801762},{"$f":"IF(B535<CALCULATIONS!$M$9,-(Alfa1*COS(miia*B535)-Alfa2*COS(miib*B535)),CURRENTY)","v":25.120978358116581},null,null,485,4.849999999999941,{"$f":"IF(H535<CALCULATIONS!$M$9,Aktina*SIN(epsilon*H535)*COS(D*H535),Aktina*SIN(epsilon*XRONOS)*COS(D*XRONOS))","v":47.625066217105761},{"$f":"IF(H535<CALCULATIONS!$M$9,Aktina*COS(epsilon*H535)*COS(D*H535),Aktina*COS(epsilon*XRONOS)*COS(D*XRONOS))","v":-39.151214942603922}]
[486,4.8599999999999408,{"$f":"IF(B536<CALCULATIONS!$M$9,Alfa1*SIN(miia*B536)-Alfa2*SIN(miib*B536),CURRENTX)","v":11.294186252480223},{"$f":"IF(B536<CALCULATIONS!$M$9,-(Alfa1*COS(miia*B536)-Alfa2*COS(miib*B536)),CURRENTY)","v":29.1936415576393},null,null,486,4.8599999999999408,{"$f":"IF(H536<CALCULATIONS!$M$9,Aktina*SIN(epsilon*H536)*COS(D*H536),Aktina*SIN(epsilon*XRONOS)*COS(D*XRONOS))","v":41.431706127282347},{"$f":"IF(H536<CALCULATIONS!$M$9,Aktina*COS(epsilon*H536)*COS(D*H536),Aktina*COS(epsilon*XRONOS)*COS(D*XRONOS))","v":-37.683355694165911}]
[487,4.8699999999999406,{"$f":"IF(B537<CALCULATIONS!$M$9,Alfa1*SIN(miia*B537)-Alfa2*SIN(miib*B537),CURRENTX)","v":9.5775218147022763},{"$f":"IF(B537<CALCULATIONS!$M$9,-(Alfa1*COS(miia*B537)-Alfa2*COS(miib*B537)),CURRENTY)","v":33.20986395256962},null,null,487,4.8699999999999406,{"$f":"IF(H537<CALCULATIONS!$M$9,Aktina*SIN(epsilon*H537)*COS(D*H537),Aktina*SIN(epsilon*XRONOS)*COS(D*XRONOS))","v":34.627541997237437},{"$f":"IF(H537<CALCULATIONS!$M$9,Aktina*COS(epsilon*H537)*COS(D*H537),Aktina*COS(epsilon*XRONOS)*COS(D*XRONOS))","v":-34.812038861843533}]
[488,4.8799999999999404,{"$f":"IF(B538<CALCULATIONS!$M$9,Alfa1*SIN(miia*B538)-Alfa2*SIN(miib*B538),CURRENTX)","v":8.0117338642113261},{"$f":"IF(B538<CALCULATIONS!$M$9,-(Alfa1*COS(miia*B538)-Alfa2*COS(miib*B538)),CURRENTY)","v":37.142150028550745},null,null,488,4.8799999999999404,{"$f":"IF(H538<CALCULATIONS!$M$9,Aktina*SIN(epsilon*H538)*COS(D*H538),Aktina*SIN(epsilon*XRONOS)*COS(D*XRONOS))","v":27.488503399048039},{"$f":"IF(H538<CALCULATIONS!$M$9,Aktina*COS(epsilon*H538)*COS(D*H538),Aktina*COS(epsilon*XRONOS)*COS(D*XRONOS))","v":-30.547319574818534}]
[489,4.8899999999999402,{"$f":"IF(B539<CALCULATIONS!$M$9,Alfa1*SIN(miia*B539)-Alfa2*SIN(miib*B539),CURRENTX)","v":6.5997699663768117},{"$f":"IF(B539<CALCULATIONS!$M$9,-(Alfa1*COS(miia*B539)-Alfa2*COS(miib*B539)),CURRENTY)","v":40.963223350115612},null,null,489,4.8899999999999402,{"$f":"IF(H539<CALCULATIONS!$M$9,Aktina*SIN(epsilon*H539)*COS(D*H539),Aktina*SIN(epsilon*XRONOS)*COS(D*XRONOS))","v":20.293422840068285},{"$f":"IF(H539<CALCULATIONS!$M$9,Aktina*COS(epsilon*H539)*COS(D*H539),Aktina*COS(epsilon*XRONOS)*COS(D*XRONOS))","v":-24.954859037930472}]
[490,4.89999999999994,{"$f":"IF(B540<CALCULATIONS!$M$9,Alfa1*SIN(miia*B540)-Alfa2*SIN(miib*B540),CURRENTX)","v":5.3424561626585039},{"$f":"IF(B540<CALCULATIONS!$M$9,-(Alfa1*COS(miia*B540)-Alfa2*COS(miib*B540)),CURRENTY)","v":44.646269069901891},null,null,490,4.89999999999994,{"$f":"IF(H540<CALCULATIONS!$M$9,Aktina*SIN(epsilon*H540)*COS(D*H540),Aktina*SIN(epsilon*XRONOS)*COS(D*XRONOS))","v":13.312977326957222},{"$f":"IF(H540<CALCULATIONS!$M$9,Aktina*COS(epsilon*H540)*COS(D*H540),Aktina*COS(epsilon*XRONOS)*COS(D*XRONOS))","v":-18.154349554217657}]
[491,4.9099999999999397,{"$f":"IF(B541<CALCULATIONS!$M$9,Alfa1*SIN(miia*B541)-Alfa2*SIN(miib*B541),CURRENTX)","v":4.2385219147437034},{"$f":"IF(B541<CALCULATIONS!$M$9,-(Alfa1*COS(miia*B541)-Alfa2*COS(miib*B541)),CURRENTY)","v":48.165173449526407},null,null,491,4.9099999999999397,{"$f":"IF(H541<CALCULATIONS!$M$9,Aktina*SIN(epsilon*H541)*COS(D*H541),Aktina*SIN(epsilon*XRONOS)*COS(D*XRONOS))","v":6.7990588744066702},{"$f":"IF(H541<CALCULATIONS!$M$9,Aktina*COS(epsilon*H541)*COS(D*H541),Aktina*COS(epsilon*XRONOS)*COS(D*XRONOS))","v":-10.315774524791278}]
[492,4.9199999999999395,{"$f":"IF(B542<CALCULATIONS!$M$9,Alfa1*SIN(miia*B542)-Alfa2*SIN(miib*B542),CURRENTX)","v":3.2846473751473226},{"$f":"IF(B542<CALCULATIONS!$M$9,-(Alfa1*COS(miia*B542)-Alfa2*COS(miib*B542)),CURRENTY)","v":51.494758069900172},null,null,492,4.9199999999999395,{"$f":"IF(H542<CALCULATIONS!$M$9,Aktina*SIN(epsilon*H542)*COS(D*H542),Aktina*SIN(epsilon*XRONOS)*COS(D*XRONOS))","v":0.97499610870521314},{"$f":"IF(H542<CALCULATIONS!$M$9,Aktina*COS(epsilon*H542)*COS(D*H542),Aktina*COS(epsilon*XRONOS)*COS(D*XRONOS))","v":-1.6536422190782774}]
[493,4.9299999999999393,{"$f":"IF(B543<CALCULATIONS!$M$9,Alfa1*SIN(miia*B543)-Alfa2*SIN(miib*B543),CURRENTX)","v":2.475532425541374},{"$f":"IF(B543<CALCULATIONS!$M$9,-(Alfa1*COS(miia*B543)-Alfa2*COS(miib*B543)),CURRENTY)","v":54.611006457590967},null,null,493,4.9299999999999393,{"$f":"IF(H543<CALCULATIONS!$M$9,Aktina*SIN(epsilon*H543)*COS(D*H543),Aktina*SIN(epsilon*XRONOS)*COS(D*XRONOS))","v":-3.9729858352753351},{"$f":"IF(H543<CALCULATIONS!$M$9,Aktina*COS(epsilon*H543)*COS(D*H543),Aktina*COS(epsilon*XRONOS)*COS(D*XRONOS))","v":7.5805868994689032}]
[494,4.9399999999999391,{"$f":"IF(B544<CALCULATIONS!$M$9,Alfa1*SIN(miia*B544)-Alfa2*SIN(miib*B544),CURRENTX)","v":1.8039867033551644},{"$f":"IF(B544<CALCULATIONS!$M$9,-(Alfa1*COS(miia*B544)-Alfa2*COS(miib*B544)),CURRENTY)","v":57.491280925216081},null,null,494,4.9399999999999391,{"$f":"IF(H544<CALCULATIONS!$M$9,Aktina*SIN(epsilon*H544)*COS(D*H544),Aktina*SIN(epsilon*XRONOS)*COS(D*XRONOS))","v":-7.9027302867395566},{"$f":"IF(H544<CALCULATIONS!$M$9,Aktina*COS(epsilon*H544)*COS(D*H544),Aktina*COS(epsilon*XRONOS)*COS(D*XRONOS))","v":17.107587176352659}]
[495,4.9499999999999389,{"$f":"IF(B545<CALCULATIONS!$M$9,Alfa1*SIN(miia*B545)-Alfa2*SIN(miib*B545),CURRENTX)","v":1.2610396244753979},{"$f":"IF(B545<CALCULATIONS!$M$9,-(Alfa1*COS(miia*B545)-Alfa2*COS(miib*B545)),CURRENTY)","v":60.11452751706733},null,null,495,4.9499999999999389,{"$f":"IF(H545<CALCULATIONS!$M$9,Aktina*SIN(epsilon*H545)*COS(D*H545),Aktina*SIN(epsilon*XRONOS)*COS(D*XRONOS))","v":-10.721265798329481},{"$f":"IF(H545<CALCULATIONS!$M$9,Aktina*COS(epsilon*H545)*COS(D*H545),Aktina*COS(epsilon*XRONOS)*COS(D*XRONOS))","v":26.630416199085598}]
[496,4.9599999999999387,{"$f":"IF(B546<CALCULATIONS!$M$9,Alfa1*SIN(miia*B546)-Alfa2*SIN(miib*B546),CURRENTX)","v":0.83606920730854561},{"$f":"IF(B546<CALCULATIONS!$M$9,-(Alfa1*COS(miia*B546)-Alfa2*COS(miib*B546)),CURRENTY)","v":62.461467065313471},null,null,496,4.9599999999999387,{"$f":"IF(H546<CALCULATIONS!$M$9,Aktina*SIN(epsilon*H546)*COS(D*H546),Aktina*SIN(epsilon*XRONOS)*COS(D*XRONOS))","v":-12.387876204325103},{"$f":"IF(H546<CALCULATIONS!$M$9,Aktina*COS(epsilon*H546)*COS(D*H546),Aktina*COS(epsilon*XRONOS)*COS(D*XRONOS))","v":35.845524954215179}]
[497,4.9699999999999385,{"$f":"IF(B547<CALCULATIONS!$M$9,Alfa1*SIN(miia*B547)-Alfa2*SIN(miib*B547),CURRENTX)","v":0.51694831307614209},{"$f":"IF(B547<CALCULATIONS!$M$9,-(Alfa1*COS(miia*B547)-Alfa2*COS(miib*B547)),CURRENTY)","v":64.514770496069332},null,null,497,4.9699999999999385,{"$f":"IF(H547<CALCULATIONS!$M$9,Aktina*SIN(epsilon*H547)*COS(D*H547),Aktina*SIN(epsilon*XRONOS)*COS(D*XRONOS))","v":-12.91500794306371},{"$f":"IF(H547<CALCULATIONS!$M$9,Aktina*COS(epsilon*H547)*COS(D*H547),Aktina*COS(epsilon*XRONOS)*COS(D*XRONOS))","v":44.454099041228162}]
[498,4.9799999999999383,{"$f":"IF(B548<CALCULATIONS!$M$9,Alfa1*SIN(miia*B548)-Alfa2*SIN(miib*B548),CURRENTX)","v":0.29020674090649123},{"$f":"IF(B548<CALCULATIONS!$M$9,-(Alfa1*COS(miia*B548)-Alfa2*COS(miib*B548)),CURRENTY)","v":66.259216677035425},null,null,498,4.9799999999999383,{"$f":"IF(H548<CALCULATIONS!$M$9,Aktina*SIN(epsilon*H548)*COS(D*H548),Aktina*SIN(epsilon*XRONOS)*COS(D*XRONOS))","v":-12.366985624548796},{"$f":"IF(H548<CALCULATIONS!$M$9,Aktina*COS(epsilon*H548)*COS(D*H548),Aktina*COS(epsilon*XRONOS)*COS(D*XRONOS))","v":52.173286401843917}]
[499,4.989999999999938,{"$f":"IF(B549<CALCULATIONS!$M$9,Alfa1*SIN(miia*B549)-Alfa2*SIN(miib*B549),CURRENTX)","v":0.14120745583175065},{"$f":"IF(B549<CALCULATIONS!$M$9,-(Alfa1*COS(miia*B549)-Alfa2*COS(miib*B549)),CURRENTY)","v":67.681831267786336},null,null,499,4.989999999999938,{"$f":"IF(H549<CALCULATIONS!$M$9,Aktina*SIN(epsilon*H549)*COS(D*H549),Aktina*SIN(epsilon*XRONOS)*COS(D*XRONOS))","v":-10.856594925274266},{"$f":"IF(H549<CALCULATIONS!$M$9,Aktina*COS(epsilon*H549)*COS(D*H549),Aktina*COS(epsilon*XRONOS)*COS(D*XRONOS))","v":58.746870795443051}]
[500,4.9999999999999378,{"$f":"IF(B550<CALCULATIONS!$M$9,Alfa1*SIN(miia*B550)-Alfa2*SIN(miib*B550),CURRENTX)","v":5.4335084804786327E-2},{"$f":"IF(B550<CALCULATIONS!$M$9,-(Alfa1*COS(miia*B550)-Alfa2*COS(miib*B550)),CURRENTY)","v":68.772005218438977},null,null,500,4.9999999999999378,{"$f":"IF(H550<CALCULATIONS!$M$9,Aktina*SIN(epsilon*H550)*COS(D*H550),Aktina*SIN(epsilon*XRONOS)*COS(D*XRONOS))","v":-8.5396775592206744},{"$f":"IF(H550<CALCULATIONS!$M$9,Aktina*COS(epsilon*H550)*COS(D*H550),Aktina*COS(epsilon*XRONOS)*COS(D*XRONOS))","v":63.954971527264988}]
[501,5.0099999999999376,{"$f":"IF(B551<CALCULATIONS!$M$9,Alfa1*SIN(miia*B551)-Alfa2*SIN(miib*B551),CURRENTX)","v":1.3194691748925624E-2},{"$f":"IF(B551<CALCULATIONS!$M$9,-(Alfa1*COS(miia*B551)-Alfa2*COS(miib*B551)),CURRENTY)","v":69.521591760537348},null,null,501,5.0099999999999376,{"$f":"IF(H551<CALCULATIONS!$M$9,Aktina*SIN(epsilon*H551)*COS(D*H551),Aktina*SIN(epsilon*XRONOS)*COS(D*XRONOS))","v":-5.6079628851019487},{"$f":"IF(H551<CALCULATIONS!$M$9,Aktina*COS(epsilon*H551)*COS(D*H551),Aktina*COS(epsilon*XRONOS)*COS(D*XRONOS))","v":67.622387875567426}]
[502,5.0199999999999374,{"$f":"IF(B552<CALCULATIONS!$M$9,Alfa1*SIN(miia*B552)-Alfa2*SIN(miib*B552),CURRENTX)","v":8.1873868964277285E-4},{"$f":"IF(B552<CALCULATIONS!$M$9,-(Alfa1*COS(miia*B552)-Alfa2*COS(miib*B552)),CURRENTY)","v":69.924980943576742},null,null,502,5.0199999999999374,{"$f":"IF(H552<CALCULATIONS!$M$9,Aktina*SIN(epsilon*H552)*COS(D*H552),Aktina*SIN(epsilon*XRONOS)*COS(D*XRONOS))","v":-2.2804314778570887},{"$f":"IF(H552<CALCULATIONS!$M$9,Aktina*COS(epsilon*H552)*COS(D*H552),Aktina*COS(epsilon*XRONOS)*COS(D*XRONOS))","v":69.625259763489041}]
[503,5.0299999999999372,{"$f":"IF(B553<CALCULATIONS!$M$9,Alfa1*SIN(miia*B553)-Alfa2*SIN(miib*B553),CURRENTX)","v":-1.1994276738069853E-4},{"$f":"IF(B553<CALCULATIONS!$M$9,-(Alfa1*COS(miia*B553)-Alfa2*COS(miib*B553)),CURRENTY)","v":69.979150989577775},null,null,503,5.0299999999999372,{"$f":"IF(H553<CALCULATIONS!$M$9,Aktina*SIN(epsilon*H553)*COS(D*H553),Aktina*SIN(epsilon*XRONOS)*COS(D*XRONOS))","v":1.2064351088946854},{"$f":"IF(H553<CALCULATIONS!$M$9,Aktina*COS(epsilon*H553)*COS(D*H553),Aktina*COS(epsilon*XRONOS)*COS(D*XRONOS))","v":69.895782373228727}]
[504,5.039999999999937,{"$f":"IF(B554<CALCULATIONS!$M$9,Alfa1*SIN(miia*B554)-Alfa2*SIN(miib*B554),CURRENTX)","v":-7.0914061233966486E-3},{"$f":"IF(B554<CALCULATIONS!$M$9,-(Alfa1*COS(miia*B554)-Alfa2*COS(miib*B554)),CURRENTY)","v":69.683695964334873},null,null,504,5.039999999999937,{"$f":"IF(H554<CALCULATIONS!$M$9,Aktina*SIN(epsilon*H554)*COS(D*H554),Aktina*SIN(epsilon*XRONOS)*COS(D*XRONOS))","v":4.6091194850007051},{"$f":"IF(H554<CALCULATIONS!$M$9,Aktina*COS(epsilon*H554)*COS(D*H554),Aktina*COS(epsilon*XRONOS)*COS(D*XRONOS))","v":68.424788976847722}]
[505,5.0499999999999368,{"$f":"IF(B555<CALCULATIONS!$M$9,Alfa1*SIN(miia*B555)-Alfa2*SIN(miib*B555),CURRENTX)","v":-3.7490345508714107E-2},{"$f":"IF(B555<CALCULATIONS!$M$9,-(Alfa1*COS(miia*B555)-Alfa2*COS(miib*B555)),CURRENTY)","v":69.040829495159642},null,null,505,5.0499999999999368,{"$f":"IF(H555<CALCULATIONS!$M$9,Aktina*SIN(epsilon*H555)*COS(D*H555),Aktina*SIN(epsilon*XRONOS)*COS(D*XRONOS))","v":7.6878208932823622},{"$f":"IF(H555<CALCULATIONS!$M$9,Aktina*COS(epsilon*H555)*COS(D*H555),Aktina*COS(epsilon*XRONOS)*COS(D*XRONOS))","v":65.262100216718068}]
[506,5.0599999999999365,{"$f":"IF(B556<CALCULATIONS!$M$9,Alfa1*SIN(miia*B556)-Alfa2*SIN(miib*B556),CURRENTX)","v":-0.10841864186740757},{"$f":"IF(B556<CALCULATIONS!$M$9,-(Alfa1*COS(miia*B556)-Alfa2*COS(miib*B556)),CURRENTY)","v":68.055364498818065},null,null,506,5.0599999999999365,{"$f":"IF(H556<CALCULATIONS!$M$9,Aktina*SIN(epsilon*H556)*COS(D*H556),Aktina*SIN(epsilon*XRONOS)*COS(D*XRONOS))","v":10.217055906079157},{"$f":"IF(H556<CALCULATIONS!$M$9,Aktina*COS(epsilon*H556)*COS(D*H556),Aktina*COS(epsilon*XRONOS)*COS(D*XRONOS))","v":60.514626072449367}]
[507,5.0699999999999363,{"$f":"IF(B557<CALCULATIONS!$M$9,Alfa1*SIN(miia*B557)-Alfa2*SIN(miib*B557),CURRENTX)","v":-0.23647098163796798},{"$f":"IF(B557<CALCULATIONS!$M$9,-(Alfa1*COS(miia*B557)-Alfa2*COS(miib*B557)),CURRENTY)","v":66.734669117599708},null,null,507,5.0699999999999363,{"$f":"IF(H557<CALCULATIONS!$M$9,Aktina*SIN(epsilon*H557)*COS(D*H557),Aktina*SIN(epsilon*XRONOS)*COS(D*XRONOS))","v":11.995674335209744},{"$f":"IF(H557<CALCULATIONS!$M$9,Aktina*COS(epsilon*H557)*COS(D*H557),Aktina*COS(epsilon*XRONOS)*COS(D*XRONOS))","v":54.342295302035566}]
[508,5.0799999999999361,{"$f":"IF(B558<CALCULATIONS!$M$9,Alfa1*SIN(miia*B558)-Alfa2*SIN(miib*B558),CURRENTX)","v":-0.43752579869700625},{"$f":"IF(B558<CALCULATIONS!$M$9,-(Alfa1*COS(miia*B558)-Alfa2*COS(miib*B558)),CURRENTY)","v":65.088599293730198},null,null,508,5.0799999999999361,{"$f":"IF(H558<CALCULATIONS!$M$9,Aktina*SIN(epsilon*H558)*COS(D*H558),Aktina*SIN(epsilon*XRONOS)*COS(D*XRONOS))","v":12.855880795204358},{"$f":"IF(H558<CALCULATIONS!$M$9,Aktina*COS(epsilon*H558)*COS(D*H558),Aktina*COS(epsilon*XRONOS)*COS(D*XRONOS))","v":46.951972723099445}]
[509,5.0899999999999359,{"$f":"IF(B559<CALCULATIONS!$M$9,Alfa1*SIN(miia*B559)-Alfa2*SIN(miib*B559),CURRENTX)","v":-0.72654373650602189},{"$f":"IF(B559<CALCULATIONS!$M$9,-(Alfa1*COS(miia*B559)-Alfa2*COS(miib*B559)),CURRENTY)","v":63.129408640338639},null,null,509,5.0899999999999359,{"$f":"IF(H559<CALCULATIONS!$M$9,Aktina*SIN(epsilon*H559)*COS(D*H559),Aktina*SIN(epsilon*XRONOS)*COS(D*XRONOS))","v":12.670892243501898},{"$f":"IF(H559<CALCULATIONS!$M$9,Aktina*COS(epsilon*H559)*COS(D*H559),Aktina*COS(epsilon*XRONOS)*COS(D*XRONOS))","v":38.589603904124914}]
[510,5.0999999999999357,{"$f":"IF(B560<CALCULATIONS!$M$9,Alfa1*SIN(miia*B560)-Alfa2*SIN(miib*B560),CURRENTX)","v":-1.1173757513529257},{"$f":"IF(B560<CALCULATIONS!$M$9,-(Alfa1*COS(miia*B560)-Alfa2*COS(miib*B560)),CURRENTY)","v":60.871636488653309},null,null,510,5.0999999999999357,{"$f":"IF(H560<CALCULATIONS!$M$9,Aktina*SIN(epsilon*H560)*COS(D*H560),Aktina*SIN(epsilon*XRONOS)*COS(D*XRONOS))","v":11.360916543038332},{"$f":"IF(H560<CALCULATIONS!$M$9,Aktina*COS(epsilon*H560)*COS(D*H560),Aktina*COS(epsilon*XRONOS)*COS(D*XRONOS))","v":29.530896517924084}]
[511,5.1099999999999355,{"$f":"IF(B561<CALCULATIONS!$M$9,Alfa1*SIN(miia*B561)-Alfa2*SIN(miib*B561),CURRENTX)","v":-1.6225828800727378},{"$f":"IF(B561<CALCULATIONS!$M$9,-(Alfa1*COS(miia*B561)-Alfa2*COS(miib*B561)),CURRENTY)","v":58.331975203822537},null,null,511,5.1099999999999355,{"$f":"IF(H561<CALCULATIONS!$M$9,Aktina*SIN(epsilon*H561)*COS(D*H561),Aktina*SIN(epsilon*XRONOS)*COS(D*XRONOS))","v":8.8972044672701767},{"$f":"IF(H561<CALCULATIONS!$M$9,Aktina*COS(epsilon*H561)*COS(D*H561),Aktina*COS(epsilon*XRONOS)*COS(D*XRONOS))","v":20.070905002139906}]
[512,5.1199999999999353,{"$f":"IF(B562<CALCULATIONS!$M$9,Alfa1*SIN(miia*B562)-Alfa2*SIN(miib*B562),CURRENTX)","v":-2.2532695776422891},{"$f":"IF(B562<CALCULATIONS!$M$9,-(Alfa1*COS(miia*B562)-Alfa2*COS(miib*B562)),CURRENTY)","v":55.529118063633845},null,null,512,5.1199999999999353,{"$f":"IF(H562<CALCULATIONS!$M$9,Aktina*SIN(epsilon*H562)*COS(D*H562),Aktina*SIN(epsilon*XRONOS)*COS(D*XRONOS))","v":5.3040049047972406},{"$f":"IF(H562<CALCULATIONS!$M$9,Aktina*COS(epsilon*H562)*COS(D*H562),Aktina*COS(epsilon*XRONOS)*COS(D*XRONOS))","v":10.51292799576929}]
[513,{"$f":"B562+dt","v":5.1299999999999351},{"$f":"IF(B563<CALCULATIONS!$M$9,Alfa1*SIN(miia*B563)-Alfa2*SIN(miib*B563),CURRENTX)","v":-3.0189323927546354},{"$f":"IF(B563<CALCULATIONS!$M$9,-(Alfa1*COS(miia*B563)-Alfa2*COS(miib*B563)),CURRENTY)","v":52.483589183427476},null,null,513,{"$f":"H562+dt","v":5.1299999999999351},{"$f":"IF(H563<CALCULATIONS!$M$9,Aktina*SIN(epsilon*H563)*COS(D*H563),Aktina*SIN(epsilon*XRONOS)*COS(D*XRONOS))","v":0.65833723184097848},{"$f":"IF(H563<CALCULATIONS!$M$9,Aktina*COS(epsilon*H563)*COS(D*H563),Aktina*COS(epsilon*XRONOS)*COS(D*XRONOS))","v":1.1571545780952857}]
[{"$f":"A563+1","v":514},5.1399999999999348,{"$f":"IF(B564<CALCULATIONS!$M$9,Alfa1*SIN(miia*B564)-Alfa2*SIN(miib*B564),CURRENTX)","v":-3.9273255942668506},{"$f":"IF(B564<CALCULATIONS!$M$9,-(Alfa1*COS(miia*B564)-Alfa2*COS(miib*B564)),CURRENTY)","v":49.217557144791371},null,null,{"$f":"G563+1","v":514},5.1399999999999348,{"$f":"IF(H564<CALCULATIONS!$M$9,Aktina*SIN(epsilon*H564)*COS(D*H564),Aktina*SIN(epsilon*XRONOS)*COS(D*XRONOS))","v":-4.9124174574565096},{"$f":"IF(H564<CALCULATIONS!$M$9,Aktina*COS(epsilon*H564)*COS(D*H564),Aktina*COS(epsilon*XRONOS)*COS(D*XRONOS))","v":-7.7104954231660932}]
[515,5.1499999999999346,{"$f":"IF(B565<CALCULATIONS!$M$9,Alfa1*SIN(miia*B565)-Alfa2*SIN(miib*B565),CURRENTX)","v":-4.9843451898348192},{"$f":"IF(B565<CALCULATIONS!$M$9,-(Alfa1*COS(miia*B565)-Alfa2*COS(miib*B565)),CURRENTY)","v":45.754634143459853},null,null,515,5.1499999999999346,{"$f":"IF(H565<CALCULATIONS!$M$9,Aktina*SIN(epsilon*H565)*COS(D*H565),Aktina*SIN(epsilon*XRONOS)*COS(D*XRONOS))","v":-11.23501684485362},{"$f":"IF(H565<CALCULATIONS!$M$9,Aktina*COS(epsilon*H565)*COS(D*H565),Aktina*COS(epsilon*XRONOS)*COS(D*XRONOS))","v":-15.828900225078995}]
[516,5.1599999999999344,{"$f":"IF(B566<CALCULATIONS!$M$9,Alfa1*SIN(miia*B566)-Alfa2*SIN(miib*B566),CURRENTX)","v":-6.1939325918207508},{"$f":"IF(B566<CALCULATIONS!$M$9,-(Alfa1*COS(miia*B566)-Alfa2*COS(miib*B566)),CURRENTY)","v":42.119662611652394},null,null,516,5.1599999999999344,{"$f":"IF(H566<CALCULATIONS!$M$9,Aktina*SIN(epsilon*H566)*COS(D*H566),Aktina*SIN(epsilon*XRONOS)*COS(D*XRONOS))","v":-18.096775958541251},{"$f":"IF(H566<CALCULATIONS!$M$9,Aktina*COS(epsilon*H566)*COS(D*H566),Aktina*COS(epsilon*XRONOS)*COS(D*XRONOS))","v":-22.971222926341671}]
[517,5.1699999999999342,{"$f":"IF(B567<CALCULATIONS!$M$9,Alfa1*SIN(miia*B567)-Alfa2*SIN(miib*B567),CURRENTX)","v":-7.5579989865496344},{"$f":"IF(B567<CALCULATIONS!$M$9,-(Alfa1*COS(miia*B567)-Alfa2*COS(miib*B567)),CURRENTY)","v":38.338491390495612},null,null,517,5.1699999999999342,{"$f":"IF(H567<CALCULATIONS!$M$9,Aktina*SIN(epsilon*H567)*COS(D*H567),Aktina*SIN(epsilon*XRONOS)*COS(D*XRONOS))","v":-25.253652808697929},{"$f":"IF(H567<CALCULATIONS!$M$9,Aktina*COS(epsilon*H567)*COS(D*H567),Aktina*COS(epsilon*XRONOS)*COS(D*XRONOS))","v":-28.95298740247296}]
[518,5.179999999999934,{"$f":"IF(B568<CALCULATIONS!$M$9,Alfa1*SIN(miia*B568)-Alfa2*SIN(miib*B568),CURRENTX)","v":-9.0763712531969603},{"$f":"IF(B568<CALCULATIONS!$M$9,-(Alfa1*COS(miia*B568)-Alfa2*COS(miib*B568)),CURRENTY)","v":34.437743627976921},null,null,518,5.179999999999934,{"$f":"IF(H568<CALCULATIONS!$M$9,Aktina*SIN(epsilon*H568)*COS(D*H568),Aktina*SIN(epsilon*XRONOS)*COS(D*XRONOS))","v":-32.439682670451717},{"$f":"IF(H568<CALCULATIONS!$M$9,Aktina*COS(epsilon*H568)*COS(D*H568),Aktina*COS(epsilon*XRONOS)*COS(D*XRONOS))","v":-33.638430964588018}]
[519,5.1899999999999338,{"$f":"IF(B569<CALCULATIONS!$M$9,Alfa1*SIN(miia*B569)-Alfa2*SIN(miib*B569),CURRENTX)","v":-10.74676006011353},{"$f":"IF(B569<CALCULATIONS!$M$9,-(Alfa1*COS(miia*B569)-Alfa2*COS(miib*B569)),CURRENTY)","v":30.444578656101761},null,null,519,5.1899999999999338,{"$f":"IF(H569<CALCULATIONS!$M$9,Aktina*SIN(epsilon*H569)*COS(D*H569),Aktina*SIN(epsilon*XRONOS)*COS(D*XRONOS))","v":-39.37738784571853},{"$f":"IF(H569<CALCULATIONS!$M$9,Aktina*COS(epsilon*H569)*COS(D*H569),Aktina*COS(epsilon*XRONOS)*COS(D*XRONOS))","v":-36.944890531184853}]
[520,5.1999999999999336,{"$f":"IF(B570<CALCULATIONS!$M$9,Alfa1*SIN(miia*B570)-Alfa2*SIN(miib*B570),CURRENTX)","v":-12.564750541424178},{"$f":"IF(B570<CALCULATIONS!$M$9,-(Alfa1*COS(miia*B570)-Alfa2*COS(miib*B570)),CURRENTY)","v":26.386450156797348},null,null,520,5.1999999999999336,{"$f":"IF(H570<CALCULATIONS!$M$9,Aktina*SIN(epsilon*H570)*COS(D*H570),Aktina*SIN(epsilon*XRONOS)*COS(D*XRONOS))","v":-45.788749832065299},{"$f":"IF(H570<CALCULATIONS!$M$9,Aktina*COS(epsilon*H570)*COS(D*H570),Aktina*COS(epsilon*XRONOS)*COS(D*XRONOS))","v":-38.84505770413427}]
[521,5.2099999999999334,{"$f":"IF(B571<CALCULATIONS!$M$9,Alfa1*SIN(miia*B571)-Alfa2*SIN(miib*B571),CURRENTX)","v":-14.523815727533481},{"$f":"IF(B571<CALCULATIONS!$M$9,-(Alfa1*COS(miia*B571)-Alfa2*COS(miib*B571)),CURRENTY)","v":22.290862959073571},null,null,521,5.2099999999999334,{"$f":"IF(H571<CALCULATIONS!$M$9,Aktina*SIN(epsilon*H571)*COS(D*H571),Aktina*SIN(epsilon*XRONOS)*COS(D*XRONOS))","v":-51.406307372018695},{"$f":"IF(H571<CALCULATIONS!$M$9,Aktina*COS(epsilon*H571)*COS(D*H571),Aktina*COS(epsilon*XRONOS)*COS(D*XRONOS))","v":-39.367023241853666}]
[522,5.2199999999999331,{"$f":"IF(B572<CALCULATIONS!$M$9,Alfa1*SIN(miia*B572)-Alfa2*SIN(miib*B572),CURRENTX)","v":-16.615352672033069},{"$f":"IF(B572<CALCULATIONS!$M$9,-(Alfa1*COS(miia*B572)-Alfa2*COS(miib*B572)),CURRENTY)","v":18.185130819695335},null,null,522,5.2199999999999331,{"$f":"IF(H572<CALCULATIONS!$M$9,Aktina*SIN(epsilon*H572)*COS(D*H572),Aktina*SIN(epsilon*XRONOS)*COS(D*XRONOS))","v":-55.983937795448696},{"$f":"IF(H572<CALCULATIONS!$M$9,Aktina*COS(epsilon*H572)*COS(D*H572),Aktina*COS(epsilon*XRONOS)*COS(D*XRONOS))","v":-38.59211959022619}]
[523,5.2299999999999329,{"$f":"IF(B573<CALCULATIONS!$M$9,Alfa1*SIN(miia*B573)-Alfa2*SIN(miib*B573),CURRENTX)","v":-18.828740986749079},{"$f":"IF(B573<CALCULATIONS!$M$9,-(Alfa1*COS(miia*B573)-Alfa2*COS(miib*B573)),CURRENTY)","v":14.096137526057914},null,null,523,5.2299999999999329,{"$f":"IF(H573<CALCULATIONS!$M$9,Aktina*SIN(epsilon*H573)*COS(D*H573),Aktina*SIN(epsilon*XRONOS)*COS(D*XRONOS))","v":-59.306890652846931},{"$f":"IF(H573<CALCULATIONS!$M$9,Aktina*COS(epsilon*H573)*COS(D*H573),Aktina*COS(epsilon*XRONOS)*COS(D*XRONOS))","v":-36.6506578498892}]
[524,5.2399999999999327,{"$f":"IF(B574<CALCULATIONS!$M$9,Alfa1*SIN(miia*B574)-Alfa2*SIN(miib*B574),CURRENTX)","v":-21.151423268608863},{"$f":"IF(B574<CALCULATIONS!$M$9,-(Alfa1*COS(miia*B574)-Alfa2*COS(miib*B574)),CURRENTY)","v":10.050103623233159},null,null,524,5.2399999999999327,{"$f":"IF(H574<CALCULATIONS!$M$9,Aktina*SIN(epsilon*H574)*COS(D*H574),Aktina*SIN(epsilon*XRONOS)*COS(D*XRONOS))","v":-61.20067141706695},{"$f":"IF(H574<CALCULATIONS!$M$9,Aktina*COS(epsilon*H574)*COS(D*H574),Aktina*COS(epsilon*XRONOS)*COS(D*XRONOS))","v":-33.715739330707727}]
[525,5.2499999999999325,{"$f":"IF(B575<CALCULATIONS!$M$9,Alfa1*SIN(miia*B575)-Alfa2*SIN(miib*B575),CURRENTX)","v":-23.569006678935782},{"$f":"IF(B575<CALCULATIONS!$M$9,-(Alfa1*COS(miia*B575)-Alfa2*COS(miib*B575)),CURRENTY)","v":6.0723610076397883},null,null,525,5.2499999999999325,{"$f":"IF(H575<CALCULATIONS!$M$9,Aktina*SIN(epsilon*H575)*COS(D*H575),Aktina*SIN(epsilon*XRONOS)*COS(D*XRONOS))","v":-61.538417868259216},{"$f":"IF(H575<CALCULATIONS!$M$9,Aktina*COS(epsilon*H575)*COS(D*H575),Aktina*COS(epsilon*XRONOS)*COS(D*XRONOS))","v":-29.99539833247875}]
[526,5.2599999999999323,{"$f":"IF(B576<CALCULATIONS!$M$9,Alfa1*SIN(miia*B576)-Alfa2*SIN(miib*B576),CURRENTX)","v":-26.065384719938542},{"$f":"IF(B576<CALCULATIONS!$M$9,-(Alfa1*COS(miia*B576)-Alfa2*COS(miib*B576)),CURRENTY)","v":2.1871375480896482},null,null,526,5.2599999999999323,{"$f":"IF(H576<CALCULATIONS!$M$9,Aktina*SIN(epsilon*H576)*COS(D*H576),Aktina*SIN(epsilon*XRONOS)*COS(D*XRONOS))","v":-60.246470893926045},{"$f":"IF(H576<CALCULATIONS!$M$9,Aktina*COS(epsilon*H576)*COS(D*H576),Aktina*COS(epsilon*XRONOS)*COS(D*XRONOS))","v":-25.723398948605297}]
[527,5.2699999999999321,{"$f":"IF(B577<CALCULATIONS!$M$9,Alfa1*SIN(miia*B577)-Alfa2*SIN(miib*B577),CURRENTX)","v":-28.622878046714021},{"$f":"IF(B577<CALCULATIONS!$M$9,-(Alfa1*COS(miia*B577)-Alfa2*COS(miib*B577)),CURRENTY)","v":-1.582646208098847},null,null,527,5.2699999999999321,{"$f":"IF(H577<CALCULATIONS!$M$9,Aktina*SIN(epsilon*H577)*COS(D*H577),Aktina*SIN(epsilon*XRONOS)*COS(D*XRONOS))","v":-57.307912486113004},{"$f":"IF(H577<CALCULATIONS!$M$9,Aktina*COS(epsilon*H577)*COS(D*H577),Aktina*COS(epsilon*XRONOS)*COS(D*XRONOS))","v":-21.149061882807889}]
[528,5.2799999999999319,{"$f":"IF(B578<CALCULATIONS!$M$9,Alfa1*SIN(miia*B578)-Alfa2*SIN(miib*B578),CURRENTX)","v":-31.222392958102539},{"$f":"IF(B578<CALCULATIONS!$M$9,-(Alfa1*COS(miia*B578)-Alfa2*COS(miib*B578)),CURRENTY)","v":-5.2155663096107148},null,null,528,5.2799999999999319,{"$f":"IF(H578<CALCULATIONS!$M$9,Aktina*SIN(epsilon*H578)*COS(D*H578),Aktina*SIN(epsilon*XRONOS)*COS(D*XRONOS))","v":-52.763923877560082},{"$f":"IF(H578<CALCULATIONS!$M$9,Aktina*COS(epsilon*H578)*COS(D*H578),Aktina*COS(epsilon*XRONOS)*COS(D*XRONOS))","v":-16.526535381944615}]
[529,5.2899999999999316,{"$f":"IF(B579<CALCULATIONS!$M$9,Alfa1*SIN(miia*B579)-Alfa2*SIN(miib*B579),CURRENTX)","v":-33.843596028185267},{"$f":"IF(B579<CALCULATIONS!$M$9,-(Alfa1*COS(miia*B579)-Alfa2*COS(miib*B579)),CURRENTY)","v":-8.6918688644278461},null,null,529,5.2899999999999316,{"$f":"IF(H579<CALCULATIONS!$M$9,Aktina*SIN(epsilon*H579)*COS(D*H579),Aktina*SIN(epsilon*XRONOS)*COS(D*XRONOS))","v":-46.7129028412119},{"$f":"IF(H579<CALCULATIONS!$M$9,Aktina*COS(epsilon*H579)*COS(D*H579),Aktina*COS(epsilon*XRONOS)*COS(D*XRONOS))","v":-12.103945906787127}]
[530,5.2999999999999314,{"$f":"IF(B580<CALCULATIONS!$M$9,Alfa1*SIN(miia*B580)-Alfa2*SIN(miib*B580),CURRENTX)","v":-36.465103173922159},{"$f":"IF(B580<CALCULATIONS!$M$9,-(Alfa1*COS(miia*B580)-Alfa2*COS(miib*B580)),CURRENTY)","v":-11.993626060192392},null,null,530,5.2999999999999314,{"$f":"IF(H580<CALCULATIONS!$M$9,Aktina*SIN(epsilon*H580)*COS(D*H580),Aktina*SIN(epsilon*XRONOS)*COS(D*XRONOS))","v":-39.307367759248734},{"$f":"IF(H580<CALCULATIONS!$M$9,Aktina*COS(epsilon*H580)*COS(D*H580),Aktina*COS(epsilon*XRONOS)*COS(D*XRONOS))","v":-8.1128682357049868}]
[531,5.3099999999999312,{"$f":"IF(B581<CALCULATIONS!$M$9,Alfa1*SIN(miia*B581)-Alfa2*SIN(miib*B581),CURRENTX)","v":-39.064681305065406},{"$f":"IF(B581<CALCULATIONS!$M$9,-(Alfa1*COS(miia*B581)-Alfa2*COS(miib*B581)),CURRENTY)","v":-15.104873286100672},null,null,531,5.3099999999999312,{"$f":"IF(H581<CALCULATIONS!$M$9,Aktina*SIN(epsilon*H581)*COS(D*H581),Aktina*SIN(epsilon*XRONOS)*COS(D*XRONOS))","v":-30.748763624746083},{"$f":"IF(H581<CALCULATIONS!$M$9,Aktina*COS(epsilon*H581)*COS(D*H581),Aktina*COS(epsilon*XRONOS)*COS(D*XRONOS))","v":-4.7585411684530676}]
[532,5.319999999999931,{"$f":"IF(B582<CALCULATIONS!$M$9,Alfa1*SIN(miia*B582)-Alfa2*SIN(miib*B582),CURRENTX)","v":-41.619460571554164},{"$f":"IF(B582<CALCULATIONS!$M$9,-(Alfa1*COS(miia*B582)-Alfa2*COS(miib*B582)),CURRENTY)","v":-18.011726091244995},null,null,532,5.319999999999931,{"$f":"IF(H582<CALCULATIONS!$M$9,Aktina*SIN(epsilon*H582)*COS(D*H582),Aktina*SIN(epsilon*XRONOS)*COS(D*XRONOS))","v":-21.280368187378464},{"$f":"IF(H582<CALCULATIONS!$M$9,Aktina*COS(epsilon*H582)*COS(D*H582),Aktina*COS(epsilon*XRONOS)*COS(D*XRONOS))","v":-2.2112244158813974}]
[533,5.3299999999999308,{"$f":"IF(B583<CALCULATIONS!$M$9,Alfa1*SIN(miia*B583)-Alfa2*SIN(miib*B583),CURRENTX)","v":-44.10615511242468},{"$f":"IF(B583<CALCULATIONS!$M$9,-(Alfa1*COS(miia*B583)-Alfa2*COS(miib*B583)),CURRENTY)","v":-20.702475917158385},null,null,533,5.3299999999999308,{"$f":"IF(H583<CALCULATIONS!$M$9,Aktina*SIN(epsilon*H583)*COS(D*H583),Aktina*SIN(epsilon*XRONOS)*COS(D*XRONOS))","v":-11.178571689353749},{"$f":"IF(H583<CALCULATIONS!$M$9,Aktina*COS(epsilon*H583)*COS(D*H583),Aktina*COS(epsilon*XRONOS)*COS(D*XRONOS))","v":-0.59904585413400957}]
[534,5.3399999999999306,{"$f":"IF(B584<CALCULATIONS!$M$9,Alfa1*SIN(miia*B584)-Alfa2*SIN(miib*B584),CURRENTX)","v":-46.501290119979771},{"$f":"IF(B584<CALCULATIONS!$M$9,-(Alfa1*COS(miia*B584)-Alfa2*COS(miib*B584)),CURRENTY)","v":-23.167663755503689},null,null,534,5.3399999999999306,{"$f":"IF(H584<CALCULATIONS!$M$9,Aktina*SIN(epsilon*H584)*COS(D*H584),Aktina*SIN(epsilon*XRONOS)*COS(D*XRONOS))","v":-0.74286806461304344},{"$f":"IF(H584<CALCULATIONS!$M$9,Aktina*COS(epsilon*H584)*COS(D*H584),Aktina*COS(epsilon*XRONOS)*COS(D*XRONOS))","v":-2.6279479801582903E-3}]
[535,5.3499999999999304,{"$f":"IF(B585<CALCULATIONS!$M$9,Alfa1*SIN(miia*B585)-Alfa2*SIN(miib*B585),CURRENTX)","v":-48.781432964466909},{"$f":"IF(B585<CALCULATIONS!$M$9,-(Alfa1*COS(miia*B585)-Alfa2*COS(miib*B585)),CURRENTY)","v":-25.40013110324772},null,null,535,5.3499999999999304,{"$f":"IF(H585<CALCULATIONS!$M$9,Aktina*SIN(epsilon*H585)*COS(D*H585),Aktina*SIN(epsilon*XRONOS)*COS(D*XRONOS))","v":9.7150534710565033},{"$f":"IF(H585<CALCULATIONS!$M$9,Aktina*COS(epsilon*H585)*COS(D*H585),Aktina*COS(epsilon*XRONOS)*COS(D*XRONOS))","v":-0.45171022383628973}]
[536,5.3599999999999302,{"$f":"IF(B586<CALCULATIONS!$M$9,Alfa1*SIN(miia*B586)-Alfa2*SIN(miib*B586),CURRENTX)","v":-50.923426078510104},{"$f":"IF(B586<CALCULATIONS!$M$9,-(Alfa1*COS(miia*B586)-Alfa2*COS(miib*B586)),CURRENTY)","v":-27.395047815059844},null,null,536,5.3599999999999302,{"$f":"IF(H586<CALCULATIONS!$M$9,Aktina*SIN(epsilon*H586)*COS(D*H586),Aktina*SIN(epsilon*XRONOS)*COS(D*XRONOS))","v":19.882691861188636},{"$f":"IF(H586<CALCULATIONS!$M$9,Aktina*COS(epsilon*H586)*COS(D*H586),Aktina*COS(epsilon*XRONOS)*COS(D*XRONOS))","v":-1.9239040760995263}]
[537,5.3699999999999299,{"$f":"IF(B587<CALCULATIONS!$M$9,Alfa1*SIN(miia*B587)-Alfa2*SIN(miib*B587),CURRENTX)","v":-52.904619277507024},{"$f":"IF(B587<CALCULATIONS!$M$9,-(Alfa1*COS(miia*B587)-Alfa2*COS(miib*B587)),CURRENTY)","v":-29.149916683802203},null,null,537,5.3699999999999299,{"$f":"IF(H587<CALCULATIONS!$M$9,Aktina*SIN(epsilon*H587)*COS(D*H587),Aktina*SIN(epsilon*XRONOS)*COS(D*XRONOS))","v":29.458149276773423},{"$f":"IF(H587<CALCULATIONS!$M$9,Aktina*COS(epsilon*H587)*COS(D*H587),Aktina*COS(epsilon*XRONOS)*COS(D*XRONOS))","v":-4.3456301439622278}]
[538,5.3799999999999297,{"$f":"IF(B588<CALCULATIONS!$M$9,Alfa1*SIN(miia*B588)-Alfa2*SIN(miib*B588),CURRENTX)","v":-54.70309919237976},{"$f":"IF(B588<CALCULATIONS!$M$9,-(Alfa1*COS(miia*B588)-Alfa2*COS(miib*B588)),CURRENTY)","v":-30.664554812524926},null,null,538,5.3799999999999297,{"$f":"IF(H588<CALCULATIONS!$M$9,Aktina*SIN(epsilon*H588)*COS(D*H588),Aktina*SIN(epsilon*XRONOS)*COS(D*XRONOS))","v":38.161133153563036},{"$f":"IF(H588<CALCULATIONS!$M$9,Aktina*COS(epsilon*H588)*COS(D*H588),Aktina*COS(epsilon*XRONOS)*COS(D*XRONOS))","v":-7.5952004406892231}]
[539,5.3899999999999295,{"$f":"IF(B589<CALCULATIONS!$M$9,Alfa1*SIN(miia*B589)-Alfa2*SIN(miib*B589),CURRENTX)","v":-56.297913514466224},{"$f":"IF(B589<CALCULATIONS!$M$9,-(Alfa1*COS(miia*B589)-Alfa2*COS(miib*B589)),CURRENTY)","v":-31.941052073016863},null,null,539,5.3899999999999295,{"$f":"IF(H589<CALCULATIONS!$M$9,Aktina*SIN(epsilon*H589)*COS(D*H589),Aktina*SIN(epsilon*XRONOS)*COS(D*XRONOS))","v":45.743116910169519},{"$f":"IF(H589<CALCULATIONS!$M$9,Aktina*COS(epsilon*H589)*COS(D*H589),Aktina*COS(epsilon*XRONOS)*COS(D*XRONOS))","v":-11.507920874303608}]
[540,5.3999999999999293,{"$f":"IF(B590<CALCULATIONS!$M$9,Alfa1*SIN(miia*B590)-Alfa2*SIN(miib*B590),CURRENTX)","v":-56.297913514466224},{"$f":"IF(B590<CALCULATIONS!$M$9,-(Alfa1*COS(miia*B590)-Alfa2*COS(miib*B590)),CURRENTY)","v":-31.941052073016863},null,null,540,5.3999999999999293,{"$f":"IF(H590<CALCULATIONS!$M$9,Aktina*SIN(epsilon*H590)*COS(D*H590),Aktina*SIN(epsilon*XRONOS)*COS(D*XRONOS))","v":45.74311691021822},{"$f":"IF(H590<CALCULATIONS!$M$9,Aktina*COS(epsilon*H590)*COS(D*H590),Aktina*COS(epsilon*XRONOS)*COS(D*XRONOS))","v":-11.507920874332966}]
[541,5.4099999999999291,{"$f":"IF(B591<CALCULATIONS!$M$9,Alfa1*SIN(miia*B591)-Alfa2*SIN(miib*B591),CURRENTX)","v":-56.297913514466224},{"$f":"IF(B591<CALCULATIONS!$M$9,-(Alfa1*COS(miia*B591)-Alfa2*COS(miib*B591)),CURRENTY)","v":-31.941052073016863},null,null,541,5.4099999999999291,{"$f":"IF(H591<CALCULATIONS!$M$9,Aktina*SIN(epsilon*H591)*COS(D*H591),Aktina*SIN(epsilon*XRONOS)*COS(D*XRONOS))","v":45.74311691021822},{"$f":"IF(H591<CALCULATIONS!$M$9,Aktina*COS(epsilon*H591)*COS(D*H591),Aktina*COS(epsilon*XRONOS)*COS(D*XRONOS))","v":-11.507920874332966}]
[542,5.4199999999999289,{"$f":"IF(B592<CALCULATIONS!$M$9,Alfa1*SIN(miia*B592)-Alfa2*SIN(miib*B592),CURRENTX)","v":-56.297913514466224},{"$f":"IF(B592<CALCULATIONS!$M$9,-(Alfa1*COS(miia*B592)-Alfa2*COS(miib*B592)),CURRENTY)","v":-31.941052073016863},null,null,542,5.4199999999999289,{"$f":"IF(H592<CALCULATIONS!$M$9,Aktina*SIN(epsilon*H592)*COS(D*H592),Aktina*SIN(epsilon*XRONOS)*COS(D*XRONOS))","v":45.74311691021822},{"$f":"IF(H592<CALCULATIONS!$M$9,Aktina*COS(epsilon*H592)*COS(D*H592),Aktina*COS(epsilon*XRONOS)*COS(D*XRONOS))","v":-11.507920874332966}]
[543,5.4299999999999287,{"$f":"IF(B593<CALCULATIONS!$M$9,Alfa1*SIN(miia*B593)-Alfa2*SIN(miib*B593),CURRENTX)","v":-56.297913514466224},{"$f":"IF(B593<CALCULATIONS!$M$9,-(Alfa1*COS(miia*B593)-Alfa2*COS(miib*B593)),CURRENTY)","v":-31.941052073016863},null,null,543,5.4299999999999287,{"$f":"IF(H593<CALCULATIONS!$M$9,Aktina*SIN(epsilon*H593)*COS(D*H593),Aktina*SIN(epsilon*XRONOS)*COS(D*XRONOS))","v":45.74311691021822},{"$f":"IF(H593<CALCULATIONS!$M$9,Aktina*COS(epsilon*H593)*COS(D*H593),Aktina*COS(epsilon*XRONOS)*COS(D*XRONOS))","v":-11.507920874332966}]
[544,5.4399999999999284,{"$f":"IF(B594<CALCULATIONS!$M$9,Alfa1*SIN(miia*B594)-Alfa2*SIN(miib*B594),CURRENTX)","v":-56.297913514466224},{"$f":"IF(B594<CALCULATIONS!$M$9,-(Alfa1*COS(miia*B594)-Alfa2*COS(miib*B594)),CURRENTY)","v":-31.941052073016863},null,null,544,5.4399999999999284,{"$f":"IF(H594<CALCULATIONS!$M$9,Aktina*SIN(epsilon*H594)*COS(D*H594),Aktina*SIN(epsilon*XRONOS)*COS(D*XRONOS))","v":45.74311691021822},{"$f":"IF(H594<CALCULATIONS!$M$9,Aktina*COS(epsilon*H594)*COS(D*H594),Aktina*COS(epsilon*XRONOS)*COS(D*XRONOS))","v":-11.507920874332966}]
[545,5.4499999999999282,{"$f":"IF(B595<CALCULATIONS!$M$9,Alfa1*SIN(miia*B595)-Alfa2*SIN(miib*B595),CURRENTX)","v":-56.297913514466224},{"$f":"IF(B595<CALCULATIONS!$M$9,-(Alfa1*COS(miia*B595)-Alfa2*COS(miib*B595)),CURRENTY)","v":-31.941052073016863},null,null,545,5.4499999999999282,{"$f":"IF(H595<CALCULATIONS!$M$9,Aktina*SIN(epsilon*H595)*COS(D*H595),Aktina*SIN(epsilon*XRONOS)*COS(D*XRONOS))","v":45.74311691021822},{"$f":"IF(H595<CALCULATIONS!$M$9,Aktina*COS(epsilon*H595)*COS(D*H595),Aktina*COS(epsilon*XRONOS)*COS(D*XRONOS))","v":-11.507920874332966}]
[546,5.459999999999928,{"$f":"IF(B596<CALCULATIONS!$M$9,Alfa1*SIN(miia*B596)-Alfa2*SIN(miib*B596),CURRENTX)","v":-56.297913514466224},{"$f":"IF(B596<CALCULATIONS!$M$9,-(Alfa1*COS(miia*B596)-Alfa2*COS(miib*B596)),CURRENTY)","v":-31.941052073016863},null,null,546,5.459999999999928,{"$f":"IF(H596<CALCULATIONS!$M$9,Aktina*SIN(epsilon*H596)*COS(D*H596),Aktina*SIN(epsilon*XRONOS)*COS(D*XRONOS))","v":45.74311691021822},{"$f":"IF(H596<CALCULATIONS!$M$9,Aktina*COS(epsilon*H596)*COS(D*H596),Aktina*COS(epsilon*XRONOS)*COS(D*XRONOS))","v":-11.507920874332966}]
[547,5.4699999999999278,{"$f":"IF(B597<CALCULATIONS!$M$9,Alfa1*SIN(miia*B597)-Alfa2*SIN(miib*B597),CURRENTX)","v":-56.297913514466224},{"$f":"IF(B597<CALCULATIONS!$M$9,-(Alfa1*COS(miia*B597)-Alfa2*COS(miib*B597)),CURRENTY)","v":-31.941052073016863},null,null,547,5.4699999999999278,{"$f":"IF(H597<CALCULATIONS!$M$9,Aktina*SIN(epsilon*H597)*COS(D*H597),Aktina*SIN(epsilon*XRONOS)*COS(D*XRONOS))","v":45.74311691021822},{"$f":"IF(H597<CALCULATIONS!$M$9,Aktina*COS(epsilon*H597)*COS(D*H597),Aktina*COS(epsilon*XRONOS)*COS(D*XRONOS))","v":-11.507920874332966}]
[548,5.4799999999999276,{"$f":"IF(B598<CALCULATIONS!$M$9,Alfa1*SIN(miia*B598)-Alfa2*SIN(miib*B598),CURRENTX)","v":-56.297913514466224},{"$f":"IF(B598<CALCULATIONS!$M$9,-(Alfa1*COS(miia*B598)-Alfa2*COS(miib*B598)),CURRENTY)","v":-31.941052073016863},null,null,548,5.4799999999999276,{"$f":"IF(H598<CALCULATIONS!$M$9,Aktina*SIN(epsilon*H598)*COS(D*H598),Aktina*SIN(epsilon*XRONOS)*COS(D*XRONOS))","v":45.74311691021822},{"$f":"IF(H598<CALCULATIONS!$M$9,Aktina*COS(epsilon*H598)*COS(D*H598),Aktina*COS(epsilon*XRONOS)*COS(D*XRONOS))","v":-11.507920874332966}]
[549,5.4899999999999274,{"$f":"IF(B599<CALCULATIONS!$M$9,Alfa1*SIN(miia*B599)-Alfa2*SIN(miib*B599),CURRENTX)","v":-56.297913514466224},{"$f":"IF(B599<CALCULATIONS!$M$9,-(Alfa1*COS(miia*B599)-Alfa2*COS(miib*B599)),CURRENTY)","v":-31.941052073016863},null,null,549,5.4899999999999274,{"$f":"IF(H599<CALCULATIONS!$M$9,Aktina*SIN(epsilon*H599)*COS(D*H599),Aktina*SIN(epsilon*XRONOS)*COS(D*XRONOS))","v":45.74311691021822},{"$f":"IF(H599<CALCULATIONS!$M$9,Aktina*COS(epsilon*H599)*COS(D*H599),Aktina*COS(epsilon*XRONOS)*COS(D*XRONOS))","v":-11.507920874332966}]
[550,5.4999999999999272,{"$f":"IF(B600<CALCULATIONS!$M$9,Alfa1*SIN(miia*B600)-Alfa2*SIN(miib*B600),CURRENTX)","v":-56.297913514466224},{"$f":"IF(B600<CALCULATIONS!$M$9,-(Alfa1*COS(miia*B600)-Alfa2*COS(miib*B600)),CURRENTY)","v":-31.941052073016863},null,null,550,5.4999999999999272,{"$f":"IF(H600<CALCULATIONS!$M$9,Aktina*SIN(epsilon*H600)*COS(D*H600),Aktina*SIN(epsilon*XRONOS)*COS(D*XRONOS))","v":45.74311691021822},{"$f":"IF(H600<CALCULATIONS!$M$9,Aktina*COS(epsilon*H600)*COS(D*H600),Aktina*COS(epsilon*XRONOS)*COS(D*XRONOS))","v":-11.507920874332966}]
[551,5.509999999999927,{"$f":"IF(B601<CALCULATIONS!$M$9,Alfa1*SIN(miia*B601)-Alfa2*SIN(miib*B601),CURRENTX)","v":-56.297913514466224},{"$f":"IF(B601<CALCULATIONS!$M$9,-(Alfa1*COS(miia*B601)-Alfa2*COS(miib*B601)),CURRENTY)","v":-31.941052073016863},null,null,551,5.509999999999927,{"$f":"IF(H601<CALCULATIONS!$M$9,Aktina*SIN(epsilon*H601)*COS(D*H601),Aktina*SIN(epsilon*XRONOS)*COS(D*XRONOS))","v":45.74311691021822},{"$f":"IF(H601<CALCULATIONS!$M$9,Aktina*COS(epsilon*H601)*COS(D*H601),Aktina*COS(epsilon*XRONOS)*COS(D*XRONOS))","v":-11.507920874332966}]
[552,5.5199999999999267,{"$f":"IF(B602<CALCULATIONS!$M$9,Alfa1*SIN(miia*B602)-Alfa2*SIN(miib*B602),CURRENTX)","v":-56.297913514466224},{"$f":"IF(B602<CALCULATIONS!$M$9,-(Alfa1*COS(miia*B602)-Alfa2*COS(miib*B602)),CURRENTY)","v":-31.941052073016863},null,null,552,5.5199999999999267,{"$f":"IF(H602<CALCULATIONS!$M$9,Aktina*SIN(epsilon*H602)*COS(D*H602),Aktina*SIN(epsilon*XRONOS)*COS(D*XRONOS))","v":45.74311691021822},{"$f":"IF(H602<CALCULATIONS!$M$9,Aktina*COS(epsilon*H602)*COS(D*H602),Aktina*COS(epsilon*XRONOS)*COS(D*XRONOS))","v":-11.507920874332966}]
[553,5.5299999999999265,{"$f":"IF(B603<CALCULATIONS!$M$9,Alfa1*SIN(miia*B603)-Alfa2*SIN(miib*B603),CURRENTX)","v":-56.297913514466224},{"$f":"IF(B603<CALCULATIONS!$M$9,-(Alfa1*COS(miia*B603)-Alfa2*COS(miib*B603)),CURRENTY)","v":-31.941052073016863},null,null,553,5.5299999999999265,{"$f":"IF(H603<CALCULATIONS!$M$9,Aktina*SIN(epsilon*H603)*COS(D*H603),Aktina*SIN(epsilon*XRONOS)*COS(D*XRONOS))","v":45.74311691021822},{"$f":"IF(H603<CALCULATIONS!$M$9,Aktina*COS(epsilon*H603)*COS(D*H603),Aktina*COS(epsilon*XRONOS)*COS(D*XRONOS))","v":-11.507920874332966}]
[554,5.5399999999999263,{"$f":"IF(B604<CALCULATIONS!$M$9,Alfa1*SIN(miia*B604)-Alfa2*SIN(miib*B604),CURRENTX)","v":-56.297913514466224},{"$f":"IF(B604<CALCULATIONS!$M$9,-(Alfa1*COS(miia*B604)-Alfa2*COS(miib*B604)),CURRENTY)","v":-31.941052073016863},null,null,554,5.5399999999999263,{"$f":"IF(H604<CALCULATIONS!$M$9,Aktina*SIN(epsilon*H604)*COS(D*H604),Aktina*SIN(epsilon*XRONOS)*COS(D*XRONOS))","v":45.74311691021822},{"$f":"IF(H604<CALCULATIONS!$M$9,Aktina*COS(epsilon*H604)*COS(D*H604),Aktina*COS(epsilon*XRONOS)*COS(D*XRONOS))","v":-11.507920874332966}]
[555,5.5499999999999261,{"$f":"IF(B605<CALCULATIONS!$M$9,Alfa1*SIN(miia*B605)-Alfa2*SIN(miib*B605),CURRENTX)","v":-56.297913514466224},{"$f":"IF(B605<CALCULATIONS!$M$9,-(Alfa1*COS(miia*B605)-Alfa2*COS(miib*B605)),CURRENTY)","v":-31.941052073016863},null,null,555,5.5499999999999261,{"$f":"IF(H605<CALCULATIONS!$M$9,Aktina*SIN(epsilon*H605)*COS(D*H605),Aktina*SIN(epsilon*XRONOS)*COS(D*XRONOS))","v":45.74311691021822},{"$f":"IF(H605<CALCULATIONS!$M$9,Aktina*COS(epsilon*H605)*COS(D*H605),Aktina*COS(epsilon*XRONOS)*COS(D*XRONOS))","v":-11.507920874332966}]
[556,5.5599999999999259,{"$f":"IF(B606<CALCULATIONS!$M$9,Alfa1*SIN(miia*B606)-Alfa2*SIN(miib*B606),CURRENTX)","v":-56.297913514466224},{"$f":"IF(B606<CALCULATIONS!$M$9,-(Alfa1*COS(miia*B606)-Alfa2*COS(miib*B606)),CURRENTY)","v":-31.941052073016863},null,null,556,5.5599999999999259,{"$f":"IF(H606<CALCULATIONS!$M$9,Aktina*SIN(epsilon*H606)*COS(D*H606),Aktina*SIN(epsilon*XRONOS)*COS(D*XRONOS))","v":45.74311691021822},{"$f":"IF(H606<CALCULATIONS!$M$9,Aktina*COS(epsilon*H606)*COS(D*H606),Aktina*COS(epsilon*XRONOS)*COS(D*XRONOS))","v":-11.507920874332966}]
[557,5.5699999999999257,{"$f":"IF(B607<CALCULATIONS!$M$9,Alfa1*SIN(miia*B607)-Alfa2*SIN(miib*B607),CURRENTX)","v":-56.297913514466224},{"$f":"IF(B607<CALCULATIONS!$M$9,-(Alfa1*COS(miia*B607)-Alfa2*COS(miib*B607)),CURRENTY)","v":-31.941052073016863},null,null,557,5.5699999999999257,{"$f":"IF(H607<CALCULATIONS!$M$9,Aktina*SIN(epsilon*H607)*COS(D*H607),Aktina*SIN(epsilon*XRONOS)*COS(D*XRONOS))","v":45.74311691021822},{"$f":"IF(H607<CALCULATIONS!$M$9,Aktina*COS(epsilon*H607)*COS(D*H607),Aktina*COS(epsilon*XRONOS)*COS(D*XRONOS))","v":-11.507920874332966}]
[558,5.5799999999999255,{"$f":"IF(B608<CALCULATIONS!$M$9,Alfa1*SIN(miia*B608)-Alfa2*SIN(miib*B608),CURRENTX)","v":-56.297913514466224},{"$f":"IF(B608<CALCULATIONS!$M$9,-(Alfa1*COS(miia*B608)-Alfa2*COS(miib*B608)),CURRENTY)","v":-31.941052073016863},null,null,558,5.5799999999999255,{"$f":"IF(H608<CALCULATIONS!$M$9,Aktina*SIN(epsilon*H608)*COS(D*H608),Aktina*SIN(epsilon*XRONOS)*COS(D*XRONOS))","v":45.74311691021822},{"$f":"IF(H608<CALCULATIONS!$M$9,Aktina*COS(epsilon*H608)*COS(D*H608),Aktina*COS(epsilon*XRONOS)*COS(D*XRONOS))","v":-11.507920874332966}]
[559,5.5899999999999253,{"$f":"IF(B609<CALCULATIONS!$M$9,Alfa1*SIN(miia*B609)-Alfa2*SIN(miib*B609),CURRENTX)","v":-56.297913514466224},{"$f":"IF(B609<CALCULATIONS!$M$9,-(Alfa1*COS(miia*B609)-Alfa2*COS(miib*B609)),CURRENTY)","v":-31.941052073016863},null,null,559,5.5899999999999253,{"$f":"IF(H609<CALCULATIONS!$M$9,Aktina*SIN(epsilon*H609)*COS(D*H609),Aktina*SIN(epsilon*XRONOS)*COS(D*XRONOS))","v":45.74311691021822},{"$f":"IF(H609<CALCULATIONS!$M$9,Aktina*COS(epsilon*H609)*COS(D*H609),Aktina*COS(epsilon*XRONOS)*COS(D*XRONOS))","v":-11.507920874332966}]
[560,5.599999999999925,{"$f":"IF(B610<CALCULATIONS!$M$9,Alfa1*SIN(miia*B610)-Alfa2*SIN(miib*B610),CURRENTX)","v":-56.297913514466224},{"$f":"IF(B610<CALCULATIONS!$M$9,-(Alfa1*COS(miia*B610)-Alfa2*COS(miib*B610)),CURRENTY)","v":-31.941052073016863},null,null,560,5.599999999999925,{"$f":"IF(H610<CALCULATIONS!$M$9,Aktina*SIN(epsilon*H610)*COS(D*H610),Aktina*SIN(epsilon*XRONOS)*COS(D*XRONOS))","v":45.74311691021822},{"$f":"IF(H610<CALCULATIONS!$M$9,Aktina*COS(epsilon*H610)*COS(D*H610),Aktina*COS(epsilon*XRONOS)*COS(D*XRONOS))","v":-11.507920874332966}]
[561,5.6099999999999248,{"$f":"IF(B611<CALCULATIONS!$M$9,Alfa1*SIN(miia*B611)-Alfa2*SIN(miib*B611),CURRENTX)","v":-56.297913514466224},{"$f":"IF(B611<CALCULATIONS!$M$9,-(Alfa1*COS(miia*B611)-Alfa2*COS(miib*B611)),CURRENTY)","v":-31.941052073016863},null,null,561,5.6099999999999248,{"$f":"IF(H611<CALCULATIONS!$M$9,Aktina*SIN(epsilon*H611)*COS(D*H611),Aktina*SIN(epsilon*XRONOS)*COS(D*XRONOS))","v":45.74311691021822},{"$f":"IF(H611<CALCULATIONS!$M$9,Aktina*COS(epsilon*H611)*COS(D*H611),Aktina*COS(epsilon*XRONOS)*COS(D*XRONOS))","v":-11.507920874332966}]
[562,5.6199999999999246,{"$f":"IF(B612<CALCULATIONS!$M$9,Alfa1*SIN(miia*B612)-Alfa2*SIN(miib*B612),CURRENTX)","v":-56.297913514466224},{"$f":"IF(B612<CALCULATIONS!$M$9,-(Alfa1*COS(miia*B612)-Alfa2*COS(miib*B612)),CURRENTY)","v":-31.941052073016863},null,null,562,5.6199999999999246,{"$f":"IF(H612<CALCULATIONS!$M$9,Aktina*SIN(epsilon*H612)*COS(D*H612),Aktina*SIN(epsilon*XRONOS)*COS(D*XRONOS))","v":45.74311691021822},{"$f":"IF(H612<CALCULATIONS!$M$9,Aktina*COS(epsilon*H612)*COS(D*H612),Aktina*COS(epsilon*XRONOS)*COS(D*XRONOS))","v":-11.507920874332966}]
[563,5.6299999999999244,{"$f":"IF(B613<CALCULATIONS!$M$9,Alfa1*SIN(miia*B613)-Alfa2*SIN(miib*B613),CURRENTX)","v":-56.297913514466224},{"$f":"IF(B613<CALCULATIONS!$M$9,-(Alfa1*COS(miia*B613)-Alfa2*COS(miib*B613)),CURRENTY)","v":-31.941052073016863},null,null,563,5.6299999999999244,{"$f":"IF(H613<CALCULATIONS!$M$9,Aktina*SIN(epsilon*H613)*COS(D*H613),Aktina*SIN(epsilon*XRONOS)*COS(D*XRONOS))","v":45.74311691021822},{"$f":"IF(H613<CALCULATIONS!$M$9,Aktina*COS(epsilon*H613)*COS(D*H613),Aktina*COS(epsilon*XRONOS)*COS(D*XRONOS))","v":-11.507920874332966}]
[564,5.6399999999999242,{"$f":"IF(B614<CALCULATIONS!$M$9,Alfa1*SIN(miia*B614)-Alfa2*SIN(miib*B614),CURRENTX)","v":-56.297913514466224},{"$f":"IF(B614<CALCULATIONS!$M$9,-(Alfa1*COS(miia*B614)-Alfa2*COS(miib*B614)),CURRENTY)","v":-31.941052073016863},null,null,564,5.6399999999999242,{"$f":"IF(H614<CALCULATIONS!$M$9,Aktina*SIN(epsilon*H614)*COS(D*H614),Aktina*SIN(epsilon*XRONOS)*COS(D*XRONOS))","v":45.74311691021822},{"$f":"IF(H614<CALCULATIONS!$M$9,Aktina*COS(epsilon*H614)*COS(D*H614),Aktina*COS(epsilon*XRONOS)*COS(D*XRONOS))","v":-11.507920874332966}]
[565,5.649999999999924,{"$f":"IF(B615<CALCULATIONS!$M$9,Alfa1*SIN(miia*B615)-Alfa2*SIN(miib*B615),CURRENTX)","v":-56.297913514466224},{"$f":"IF(B615<CALCULATIONS!$M$9,-(Alfa1*COS(miia*B615)-Alfa2*COS(miib*B615)),CURRENTY)","v":-31.941052073016863},null,null,565,5.649999999999924,{"$f":"IF(H615<CALCULATIONS!$M$9,Aktina*SIN(epsilon*H615)*COS(D*H615),Aktina*SIN(epsilon*XRONOS)*COS(D*XRONOS))","v":45.74311691021822},{"$f":"IF(H615<CALCULATIONS!$M$9,Aktina*COS(epsilon*H615)*COS(D*H615),Aktina*COS(epsilon*XRONOS)*COS(D*XRONOS))","v":-11.507920874332966}]
[566,5.6599999999999238,{"$f":"IF(B616<CALCULATIONS!$M$9,Alfa1*SIN(miia*B616)-Alfa2*SIN(miib*B616),CURRENTX)","v":-56.297913514466224},{"$f":"IF(B616<CALCULATIONS!$M$9,-(Alfa1*COS(miia*B616)-Alfa2*COS(miib*B616)),CURRENTY)","v":-31.941052073016863},null,null,566,5.6599999999999238,{"$f":"IF(H616<CALCULATIONS!$M$9,Aktina*SIN(epsilon*H616)*COS(D*H616),Aktina*SIN(epsilon*XRONOS)*COS(D*XRONOS))","v":45.74311691021822},{"$f":"IF(H616<CALCULATIONS!$M$9,Aktina*COS(epsilon*H616)*COS(D*H616),Aktina*COS(epsilon*XRONOS)*COS(D*XRONOS))","v":-11.507920874332966}]
[567,5.6699999999999235,{"$f":"IF(B617<CALCULATIONS!$M$9,Alfa1*SIN(miia*B617)-Alfa2*SIN(miib*B617),CURRENTX)","v":-56.297913514466224},{"$f":"IF(B617<CALCULATIONS!$M$9,-(Alfa1*COS(miia*B617)-Alfa2*COS(miib*B617)),CURRENTY)","v":-31.941052073016863},null,null,567,5.6699999999999235,{"$f":"IF(H617<CALCULATIONS!$M$9,Aktina*SIN(epsilon*H617)*COS(D*H617),Aktina*SIN(epsilon*XRONOS)*COS(D*XRONOS))","v":45.74311691021822},{"$f":"IF(H617<CALCULATIONS!$M$9,Aktina*COS(epsilon*H617)*COS(D*H617),Aktina*COS(epsilon*XRONOS)*COS(D*XRONOS))","v":-11.507920874332966}]
[568,5.6799999999999233,{"$f":"IF(B618<CALCULATIONS!$M$9,Alfa1*SIN(miia*B618)-Alfa2*SIN(miib*B618),CURRENTX)","v":-56.297913514466224},{"$f":"IF(B618<CALCULATIONS!$M$9,-(Alfa1*COS(miia*B618)-Alfa2*COS(miib*B618)),CURRENTY)","v":-31.941052073016863},null,null,568,5.6799999999999233,{"$f":"IF(H618<CALCULATIONS!$M$9,Aktina*SIN(epsilon*H618)*COS(D*H618),Aktina*SIN(epsilon*XRONOS)*COS(D*XRONOS))","v":45.74311691021822},{"$f":"IF(H618<CALCULATIONS!$M$9,Aktina*COS(epsilon*H618)*COS(D*H618),Aktina*COS(epsilon*XRONOS)*COS(D*XRONOS))","v":-11.507920874332966}]
[569,5.6899999999999231,{"$f":"IF(B619<CALCULATIONS!$M$9,Alfa1*SIN(miia*B619)-Alfa2*SIN(miib*B619),CURRENTX)","v":-56.297913514466224},{"$f":"IF(B619<CALCULATIONS!$M$9,-(Alfa1*COS(miia*B619)-Alfa2*COS(miib*B619)),CURRENTY)","v":-31.941052073016863},null,null,569,5.6899999999999231,{"$f":"IF(H619<CALCULATIONS!$M$9,Aktina*SIN(epsilon*H619)*COS(D*H619),Aktina*SIN(epsilon*XRONOS)*COS(D*XRONOS))","v":45.74311691021822},{"$f":"IF(H619<CALCULATIONS!$M$9,Aktina*COS(epsilon*H619)*COS(D*H619),Aktina*COS(epsilon*XRONOS)*COS(D*XRONOS))","v":-11.507920874332966}]
[570,5.6999999999999229,{"$f":"IF(B620<CALCULATIONS!$M$9,Alfa1*SIN(miia*B620)-Alfa2*SIN(miib*B620),CURRENTX)","v":-56.297913514466224},{"$f":"IF(B620<CALCULATIONS!$M$9,-(Alfa1*COS(miia*B620)-Alfa2*COS(miib*B620)),CURRENTY)","v":-31.941052073016863},null,null,570,5.6999999999999229,{"$f":"IF(H620<CALCULATIONS!$M$9,Aktina*SIN(epsilon*H620)*COS(D*H620),Aktina*SIN(epsilon*XRONOS)*COS(D*XRONOS))","v":45.74311691021822},{"$f":"IF(H620<CALCULATIONS!$M$9,Aktina*COS(epsilon*H620)*COS(D*H620),Aktina*COS(epsilon*XRONOS)*COS(D*XRONOS))","v":-11.507920874332966}]
[571,5.7099999999999227,{"$f":"IF(B621<CALCULATIONS!$M$9,Alfa1*SIN(miia*B621)-Alfa2*SIN(miib*B621),CURRENTX)","v":-56.297913514466224},{"$f":"IF(B621<CALCULATIONS!$M$9,-(Alfa1*COS(miia*B621)-Alfa2*COS(miib*B621)),CURRENTY)","v":-31.941052073016863},null,null,571,5.7099999999999227,{"$f":"IF(H621<CALCULATIONS!$M$9,Aktina*SIN(epsilon*H621)*COS(D*H621),Aktina*SIN(epsilon*XRONOS)*COS(D*XRONOS))","v":45.74311691021822},{"$f":"IF(H621<CALCULATIONS!$M$9,Aktina*COS(epsilon*H621)*COS(D*H621),Aktina*COS(epsilon*XRONOS)*COS(D*XRONOS))","v":-11.507920874332966}]
[572,5.7199999999999225,{"$f":"IF(B622<CALCULATIONS!$M$9,Alfa1*SIN(miia*B622)-Alfa2*SIN(miib*B622),CURRENTX)","v":-56.297913514466224},{"$f":"IF(B622<CALCULATIONS!$M$9,-(Alfa1*COS(miia*B622)-Alfa2*COS(miib*B622)),CURRENTY)","v":-31.941052073016863},null,null,572,5.7199999999999225,{"$f":"IF(H622<CALCULATIONS!$M$9,Aktina*SIN(epsilon*H622)*COS(D*H622),Aktina*SIN(epsilon*XRONOS)*COS(D*XRONOS))","v":45.74311691021822},{"$f":"IF(H622<CALCULATIONS!$M$9,Aktina*COS(epsilon*H622)*COS(D*H622),Aktina*COS(epsilon*XRONOS)*COS(D*XRONOS))","v":-11.507920874332966}]
[573,5.7299999999999223,{"$f":"IF(B623<CALCULATIONS!$M$9,Alfa1*SIN(miia*B623)-Alfa2*SIN(miib*B623),CURRENTX)","v":-56.297913514466224},{"$f":"IF(B623<CALCULATIONS!$M$9,-(Alfa1*COS(miia*B623)-Alfa2*COS(miib*B623)),CURRENTY)","v":-31.941052073016863},null,null,573,5.7299999999999223,{"$f":"IF(H623<CALCULATIONS!$M$9,Aktina*SIN(epsilon*H623)*COS(D*H623),Aktina*SIN(epsilon*XRONOS)*COS(D*XRONOS))","v":45.74311691021822},{"$f":"IF(H623<CALCULATIONS!$M$9,Aktina*COS(epsilon*H623)*COS(D*H623),Aktina*COS(epsilon*XRONOS)*COS(D*XRONOS))","v":-11.507920874332966}]
[574,5.7399999999999221,{"$f":"IF(B624<CALCULATIONS!$M$9,Alfa1*SIN(miia*B624)-Alfa2*SIN(miib*B624),CURRENTX)","v":-56.297913514466224},{"$f":"IF(B624<CALCULATIONS!$M$9,-(Alfa1*COS(miia*B624)-Alfa2*COS(miib*B624)),CURRENTY)","v":-31.941052073016863},null,null,574,5.7399999999999221,{"$f":"IF(H624<CALCULATIONS!$M$9,Aktina*SIN(epsilon*H624)*COS(D*H624),Aktina*SIN(epsilon*XRONOS)*COS(D*XRONOS))","v":45.74311691021822},{"$f":"IF(H624<CALCULATIONS!$M$9,Aktina*COS(epsilon*H624)*COS(D*H624),Aktina*COS(epsilon*XRONOS)*COS(D*XRONOS))","v":-11.507920874332966}]
[575,5.7499999999999218,{"$f":"IF(B625<CALCULATIONS!$M$9,Alfa1*SIN(miia*B625)-Alfa2*SIN(miib*B625),CURRENTX)","v":-56.297913514466224},{"$f":"IF(B625<CALCULATIONS!$M$9,-(Alfa1*COS(miia*B625)-Alfa2*COS(miib*B625)),CURRENTY)","v":-31.941052073016863},null,null,575,5.7499999999999218,{"$f":"IF(H625<CALCULATIONS!$M$9,Aktina*SIN(epsilon*H625)*COS(D*H625),Aktina*SIN(epsilon*XRONOS)*COS(D*XRONOS))","v":45.74311691021822},{"$f":"IF(H625<CALCULATIONS!$M$9,Aktina*COS(epsilon*H625)*COS(D*H625),Aktina*COS(epsilon*XRONOS)*COS(D*XRONOS))","v":-11.507920874332966}]
[576,5.7599999999999216,{"$f":"IF(B626<CALCULATIONS!$M$9,Alfa1*SIN(miia*B626)-Alfa2*SIN(miib*B626),CURRENTX)","v":-56.297913514466224},{"$f":"IF(B626<CALCULATIONS!$M$9,-(Alfa1*COS(miia*B626)-Alfa2*COS(miib*B626)),CURRENTY)","v":-31.941052073016863},null,null,576,5.7599999999999216,{"$f":"IF(H626<CALCULATIONS!$M$9,Aktina*SIN(epsilon*H626)*COS(D*H626),Aktina*SIN(epsilon*XRONOS)*COS(D*XRONOS))","v":45.74311691021822},{"$f":"IF(H626<CALCULATIONS!$M$9,Aktina*COS(epsilon*H626)*COS(D*H626),Aktina*COS(epsilon*XRONOS)*COS(D*XRONOS))","v":-11.507920874332966}]
[577,{"$f":"B626+dt","v":5.7699999999999214},{"$f":"IF(B627<CALCULATIONS!$M$9,Alfa1*SIN(miia*B627)-Alfa2*SIN(miib*B627),CURRENTX)","v":-56.297913514466224},{"$f":"IF(B627<CALCULATIONS!$M$9,-(Alfa1*COS(miia*B627)-Alfa2*COS(miib*B627)),CURRENTY)","v":-31.941052073016863},null,null,577,{"$f":"H626+dt","v":5.7699999999999214},{"$f":"IF(H627<CALCULATIONS!$M$9,Aktina*SIN(epsilon*H627)*COS(D*H627),Aktina*SIN(epsilon*XRONOS)*COS(D*XRONOS))","v":45.74311691021822},{"$f":"IF(H627<CALCULATIONS!$M$9,Aktina*COS(epsilon*H627)*COS(D*H627),Aktina*COS(epsilon*XRONOS)*COS(D*XRONOS))","v":-11.507920874332966}]
[{"$f":"A627+1","v":578},5.7799999999999212,{"$f":"IF(B628<CALCULATIONS!$M$9,Alfa1*SIN(miia*B628)-Alfa2*SIN(miib*B628),CURRENTX)","v":-56.297913514466224},{"$f":"IF(B628<CALCULATIONS!$M$9,-(Alfa1*COS(miia*B628)-Alfa2*COS(miib*B628)),CURRENTY)","v":-31.941052073016863},null,null,{"$f":"G627+1","v":578},5.7799999999999212,{"$f":"IF(H628<CALCULATIONS!$M$9,Aktina*SIN(epsilon*H628)*COS(D*H628),Aktina*SIN(epsilon*XRONOS)*COS(D*XRONOS))","v":45.74311691021822},{"$f":"IF(H628<CALCULATIONS!$M$9,Aktina*COS(epsilon*H628)*COS(D*H628),Aktina*COS(epsilon*XRONOS)*COS(D*XRONOS))","v":-11.507920874332966}]
[579,5.789999999999921,{"$f":"IF(B629<CALCULATIONS!$M$9,Alfa1*SIN(miia*B629)-Alfa2*SIN(miib*B629),CURRENTX)","v":-56.297913514466224},{"$f":"IF(B629<CALCULATIONS!$M$9,-(Alfa1*COS(miia*B629)-Alfa2*COS(miib*B629)),CURRENTY)","v":-31.941052073016863},null,null,579,5.789999999999921,{"$f":"IF(H629<CALCULATIONS!$M$9,Aktina*SIN(epsilon*H629)*COS(D*H629),Aktina*SIN(epsilon*XRONOS)*COS(D*XRONOS))","v":45.74311691021822},{"$f":"IF(H629<CALCULATIONS!$M$9,Aktina*COS(epsilon*H629)*COS(D*H629),Aktina*COS(epsilon*XRONOS)*COS(D*XRONOS))","v":-11.507920874332966}]
[580,5.7999999999999208,{"$f":"IF(B630<CALCULATIONS!$M$9,Alfa1*SIN(miia*B630)-Alfa2*SIN(miib*B630),CURRENTX)","v":-56.297913514466224},{"$f":"IF(B630<CALCULATIONS!$M$9,-(Alfa1*COS(miia*B630)-Alfa2*COS(miib*B630)),CURRENTY)","v":-31.941052073016863},null,null,580,5.7999999999999208,{"$f":"IF(H630<CALCULATIONS!$M$9,Aktina*SIN(epsilon*H630)*COS(D*H630),Aktina*SIN(epsilon*XRONOS)*COS(D*XRONOS))","v":45.74311691021822},{"$f":"IF(H630<CALCULATIONS!$M$9,Aktina*COS(epsilon*H630)*COS(D*H630),Aktina*COS(epsilon*XRONOS)*COS(D*XRONOS))","v":-11.507920874332966}]
[581,5.8099999999999206,{"$f":"IF(B631<CALCULATIONS!$M$9,Alfa1*SIN(miia*B631)-Alfa2*SIN(miib*B631),CURRENTX)","v":-56.297913514466224},{"$f":"IF(B631<CALCULATIONS!$M$9,-(Alfa1*COS(miia*B631)-Alfa2*COS(miib*B631)),CURRENTY)","v":-31.941052073016863},null,null,581,5.8099999999999206,{"$f":"IF(H631<CALCULATIONS!$M$9,Aktina*SIN(epsilon*H631)*COS(D*H631),Aktina*SIN(epsilon*XRONOS)*COS(D*XRONOS))","v":45.74311691021822},{"$f":"IF(H631<CALCULATIONS!$M$9,Aktina*COS(epsilon*H631)*COS(D*H631),Aktina*COS(epsilon*XRONOS)*COS(D*XRONOS))","v":-11.507920874332966}]
[582,5.8199999999999203,{"$f":"IF(B632<CALCULATIONS!$M$9,Alfa1*SIN(miia*B632)-Alfa2*SIN(miib*B632),CURRENTX)","v":-56.297913514466224},{"$f":"IF(B632<CALCULATIONS!$M$9,-(Alfa1*COS(miia*B632)-Alfa2*COS(miib*B632)),CURRENTY)","v":-31.941052073016863},null,null,582,5.8199999999999203,{"$f":"IF(H632<CALCULATIONS!$M$9,Aktina*SIN(epsilon*H632)*COS(D*H632),Aktina*SIN(epsilon*XRONOS)*COS(D*XRONOS))","v":45.74311691021822},{"$f":"IF(H632<CALCULATIONS!$M$9,Aktina*COS(epsilon*H632)*COS(D*H632),Aktina*COS(epsilon*XRONOS)*COS(D*XRONOS))","v":-11.507920874332966}]
[583,5.8299999999999201,{"$f":"IF(B633<CALCULATIONS!$M$9,Alfa1*SIN(miia*B633)-Alfa2*SIN(miib*B633),CURRENTX)","v":-56.297913514466224},{"$f":"IF(B633<CALCULATIONS!$M$9,-(Alfa1*COS(miia*B633)-Alfa2*COS(miib*B633)),CURRENTY)","v":-31.941052073016863},null,null,583,5.8299999999999201,{"$f":"IF(H633<CALCULATIONS!$M$9,Aktina*SIN(epsilon*H633)*COS(D*H633),Aktina*SIN(epsilon*XRONOS)*COS(D*XRONOS))","v":45.74311691021822},{"$f":"IF(H633<CALCULATIONS!$M$9,Aktina*COS(epsilon*H633)*COS(D*H633),Aktina*COS(epsilon*XRONOS)*COS(D*XRONOS))","v":-11.507920874332966}]
[584,5.8399999999999199,{"$f":"IF(B634<CALCULATIONS!$M$9,Alfa1*SIN(miia*B634)-Alfa2*SIN(miib*B634),CURRENTX)","v":-56.297913514466224},{"$f":"IF(B634<CALCULATIONS!$M$9,-(Alfa1*COS(miia*B634)-Alfa2*COS(miib*B634)),CURRENTY)","v":-31.941052073016863},null,null,584,5.8399999999999199,{"$f":"IF(H634<CALCULATIONS!$M$9,Aktina*SIN(epsilon*H634)*COS(D*H634),Aktina*SIN(epsilon*XRONOS)*COS(D*XRONOS))","v":45.74311691021822},{"$f":"IF(H634<CALCULATIONS!$M$9,Aktina*COS(epsilon*H634)*COS(D*H634),Aktina*COS(epsilon*XRONOS)*COS(D*XRONOS))","v":-11.507920874332966}]
[585,5.8499999999999197,{"$f":"IF(B635<CALCULATIONS!$M$9,Alfa1*SIN(miia*B635)-Alfa2*SIN(miib*B635),CURRENTX)","v":-56.297913514466224},{"$f":"IF(B635<CALCULATIONS!$M$9,-(Alfa1*COS(miia*B635)-Alfa2*COS(miib*B635)),CURRENTY)","v":-31.941052073016863},null,null,585,5.8499999999999197,{"$f":"IF(H635<CALCULATIONS!$M$9,Aktina*SIN(epsilon*H635)*COS(D*H635),Aktina*SIN(epsilon*XRONOS)*COS(D*XRONOS))","v":45.74311691021822},{"$f":"IF(H635<CALCULATIONS!$M$9,Aktina*COS(epsilon*H635)*COS(D*H635),Aktina*COS(epsilon*XRONOS)*COS(D*XRONOS))","v":-11.507920874332966}]
[586,5.8599999999999195,{"$f":"IF(B636<CALCULATIONS!$M$9,Alfa1*SIN(miia*B636)-Alfa2*SIN(miib*B636),CURRENTX)","v":-56.297913514466224},{"$f":"IF(B636<CALCULATIONS!$M$9,-(Alfa1*COS(miia*B636)-Alfa2*COS(miib*B636)),CURRENTY)","v":-31.941052073016863},null,null,586,5.8599999999999195,{"$f":"IF(H636<CALCULATIONS!$M$9,Aktina*SIN(epsilon*H636)*COS(D*H636),Aktina*SIN(epsilon*XRONOS)*COS(D*XRONOS))","v":45.74311691021822},{"$f":"IF(H636<CALCULATIONS!$M$9,Aktina*COS(epsilon*H636)*COS(D*H636),Aktina*COS(epsilon*XRONOS)*COS(D*XRONOS))","v":-11.507920874332966}]
[587,5.8699999999999193,{"$f":"IF(B637<CALCULATIONS!$M$9,Alfa1*SIN(miia*B637)-Alfa2*SIN(miib*B637),CURRENTX)","v":-56.297913514466224},{"$f":"IF(B637<CALCULATIONS!$M$9,-(Alfa1*COS(miia*B637)-Alfa2*COS(miib*B637)),CURRENTY)","v":-31.941052073016863},null,null,587,5.8699999999999193,{"$f":"IF(H637<CALCULATIONS!$M$9,Aktina*SIN(epsilon*H637)*COS(D*H637),Aktina*SIN(epsilon*XRONOS)*COS(D*XRONOS))","v":45.74311691021822},{"$f":"IF(H637<CALCULATIONS!$M$9,Aktina*COS(epsilon*H637)*COS(D*H637),Aktina*COS(epsilon*XRONOS)*COS(D*XRONOS))","v":-11.507920874332966}]
[588,5.8799999999999191,{"$f":"IF(B638<CALCULATIONS!$M$9,Alfa1*SIN(miia*B638)-Alfa2*SIN(miib*B638),CURRENTX)","v":-56.297913514466224},{"$f":"IF(B638<CALCULATIONS!$M$9,-(Alfa1*COS(miia*B638)-Alfa2*COS(miib*B638)),CURRENTY)","v":-31.941052073016863},null,null,588,5.8799999999999191,{"$f":"IF(H638<CALCULATIONS!$M$9,Aktina*SIN(epsilon*H638)*COS(D*H638),Aktina*SIN(epsilon*XRONOS)*COS(D*XRONOS))","v":45.74311691021822},{"$f":"IF(H638<CALCULATIONS!$M$9,Aktina*COS(epsilon*H638)*COS(D*H638),Aktina*COS(epsilon*XRONOS)*COS(D*XRONOS))","v":-11.507920874332966}]
[589,5.8899999999999189,{"$f":"IF(B639<CALCULATIONS!$M$9,Alfa1*SIN(miia*B639)-Alfa2*SIN(miib*B639),CURRENTX)","v":-56.297913514466224},{"$f":"IF(B639<CALCULATIONS!$M$9,-(Alfa1*COS(miia*B639)-Alfa2*COS(miib*B639)),CURRENTY)","v":-31.941052073016863},null,null,589,5.8899999999999189,{"$f":"IF(H639<CALCULATIONS!$M$9,Aktina*SIN(epsilon*H639)*COS(D*H639),Aktina*SIN(epsilon*XRONOS)*COS(D*XRONOS))","v":45.74311691021822},{"$f":"IF(H639<CALCULATIONS!$M$9,Aktina*COS(epsilon*H639)*COS(D*H639),Aktina*COS(epsilon*XRONOS)*COS(D*XRONOS))","v":-11.507920874332966}]
[590,5.8999999999999186,{"$f":"IF(B640<CALCULATIONS!$M$9,Alfa1*SIN(miia*B640)-Alfa2*SIN(miib*B640),CURRENTX)","v":-56.297913514466224},{"$f":"IF(B640<CALCULATIONS!$M$9,-(Alfa1*COS(miia*B640)-Alfa2*COS(miib*B640)),CURRENTY)","v":-31.941052073016863},null,null,590,5.8999999999999186,{"$f":"IF(H640<CALCULATIONS!$M$9,Aktina*SIN(epsilon*H640)*COS(D*H640),Aktina*SIN(epsilon*XRONOS)*COS(D*XRONOS))","v":45.74311691021822},{"$f":"IF(H640<CALCULATIONS!$M$9,Aktina*COS(epsilon*H640)*COS(D*H640),Aktina*COS(epsilon*XRONOS)*COS(D*XRONOS))","v":-11.507920874332966}]
[591,5.9099999999999184,{"$f":"IF(B641<CALCULATIONS!$M$9,Alfa1*SIN(miia*B641)-Alfa2*SIN(miib*B641),CURRENTX)","v":-56.297913514466224},{"$f":"IF(B641<CALCULATIONS!$M$9,-(Alfa1*COS(miia*B641)-Alfa2*COS(miib*B641)),CURRENTY)","v":-31.941052073016863},null,null,591,5.9099999999999184,{"$f":"IF(H641<CALCULATIONS!$M$9,Aktina*SIN(epsilon*H641)*COS(D*H641),Aktina*SIN(epsilon*XRONOS)*COS(D*XRONOS))","v":45.74311691021822},{"$f":"IF(H641<CALCULATIONS!$M$9,Aktina*COS(epsilon*H641)*COS(D*H641),Aktina*COS(epsilon*XRONOS)*COS(D*XRONOS))","v":-11.507920874332966}]
[592,5.9199999999999182,{"$f":"IF(B642<CALCULATIONS!$M$9,Alfa1*SIN(miia*B642)-Alfa2*SIN(miib*B642),CURRENTX)","v":-56.297913514466224},{"$f":"IF(B642<CALCULATIONS!$M$9,-(Alfa1*COS(miia*B642)-Alfa2*COS(miib*B642)),CURRENTY)","v":-31.941052073016863},null,null,592,5.9199999999999182,{"$f":"IF(H642<CALCULATIONS!$M$9,Aktina*SIN(epsilon*H642)*COS(D*H642),Aktina*SIN(epsilon*XRONOS)*COS(D*XRONOS))","v":45.74311691021822},{"$f":"IF(H642<CALCULATIONS!$M$9,Aktina*COS(epsilon*H642)*COS(D*H642),Aktina*COS(epsilon*XRONOS)*COS(D*XRONOS))","v":-11.507920874332966}]
[593,5.929999999999918,{"$f":"IF(B643<CALCULATIONS!$M$9,Alfa1*SIN(miia*B643)-Alfa2*SIN(miib*B643),CURRENTX)","v":-56.297913514466224},{"$f":"IF(B643<CALCULATIONS!$M$9,-(Alfa1*COS(miia*B643)-Alfa2*COS(miib*B643)),CURRENTY)","v":-31.941052073016863},null,null,593,5.929999999999918,{"$f":"IF(H643<CALCULATIONS!$M$9,Aktina*SIN(epsilon*H643)*COS(D*H643),Aktina*SIN(epsilon*XRONOS)*COS(D*XRONOS))","v":45.74311691021822},{"$f":"IF(H643<CALCULATIONS!$M$9,Aktina*COS(epsilon*H643)*COS(D*H643),Aktina*COS(epsilon*XRONOS)*COS(D*XRONOS))","v":-11.507920874332966}]
[594,5.9399999999999178,{"$f":"IF(B644<CALCULATIONS!$M$9,Alfa1*SIN(miia*B644)-Alfa2*SIN(miib*B644),CURRENTX)","v":-56.297913514466224},{"$f":"IF(B644<CALCULATIONS!$M$9,-(Alfa1*COS(miia*B644)-Alfa2*COS(miib*B644)),CURRENTY)","v":-31.941052073016863},null,null,594,5.9399999999999178,{"$f":"IF(H644<CALCULATIONS!$M$9,Aktina*SIN(epsilon*H644)*COS(D*H644),Aktina*SIN(epsilon*XRONOS)*COS(D*XRONOS))","v":45.74311691021822},{"$f":"IF(H644<CALCULATIONS!$M$9,Aktina*COS(epsilon*H644)*COS(D*H644),Aktina*COS(epsilon*XRONOS)*COS(D*XRONOS))","v":-11.507920874332966}]
[595,5.9499999999999176,{"$f":"IF(B645<CALCULATIONS!$M$9,Alfa1*SIN(miia*B645)-Alfa2*SIN(miib*B645),CURRENTX)","v":-56.297913514466224},{"$f":"IF(B645<CALCULATIONS!$M$9,-(Alfa1*COS(miia*B645)-Alfa2*COS(miib*B645)),CURRENTY)","v":-31.941052073016863},null,null,595,5.9499999999999176,{"$f":"IF(H645<CALCULATIONS!$M$9,Aktina*SIN(epsilon*H645)*COS(D*H645),Aktina*SIN(epsilon*XRONOS)*COS(D*XRONOS))","v":45.74311691021822},{"$f":"IF(H645<CALCULATIONS!$M$9,Aktina*COS(epsilon*H645)*COS(D*H645),Aktina*COS(epsilon*XRONOS)*COS(D*XRONOS))","v":-11.507920874332966}]
[596,5.9599999999999174,{"$f":"IF(B646<CALCULATIONS!$M$9,Alfa1*SIN(miia*B646)-Alfa2*SIN(miib*B646),CURRENTX)","v":-56.297913514466224},{"$f":"IF(B646<CALCULATIONS!$M$9,-(Alfa1*COS(miia*B646)-Alfa2*COS(miib*B646)),CURRENTY)","v":-31.941052073016863},null,null,596,5.9599999999999174,{"$f":"IF(H646<CALCULATIONS!$M$9,Aktina*SIN(epsilon*H646)*COS(D*H646),Aktina*SIN(epsilon*XRONOS)*COS(D*XRONOS))","v":45.74311691021822},{"$f":"IF(H646<CALCULATIONS!$M$9,Aktina*COS(epsilon*H646)*COS(D*H646),Aktina*COS(epsilon*XRONOS)*COS(D*XRONOS))","v":-11.507920874332966}]
[597,5.9699999999999172,{"$f":"IF(B647<CALCULATIONS!$M$9,Alfa1*SIN(miia*B647)-Alfa2*SIN(miib*B647),CURRENTX)","v":-56.297913514466224},{"$f":"IF(B647<CALCULATIONS!$M$9,-(Alfa1*COS(miia*B647)-Alfa2*COS(miib*B647)),CURRENTY)","v":-31.941052073016863},null,null,597,5.9699999999999172,{"$f":"IF(H647<CALCULATIONS!$M$9,Aktina*SIN(epsilon*H647)*COS(D*H647),Aktina*SIN(epsilon*XRONOS)*COS(D*XRONOS))","v":45.74311691021822},{"$f":"IF(H647<CALCULATIONS!$M$9,Aktina*COS(epsilon*H647)*COS(D*H647),Aktina*COS(epsilon*XRONOS)*COS(D*XRONOS))","v":-11.507920874332966}]
[598,5.9799999999999169,{"$f":"IF(B648<CALCULATIONS!$M$9,Alfa1*SIN(miia*B648)-Alfa2*SIN(miib*B648),CURRENTX)","v":-56.297913514466224},{"$f":"IF(B648<CALCULATIONS!$M$9,-(Alfa1*COS(miia*B648)-Alfa2*COS(miib*B648)),CURRENTY)","v":-31.941052073016863},null,null,598,5.9799999999999169,{"$f":"IF(H648<CALCULATIONS!$M$9,Aktina*SIN(epsilon*H648)*COS(D*H648),Aktina*SIN(epsilon*XRONOS)*COS(D*XRONOS))","v":45.74311691021822},{"$f":"IF(H648<CALCULATIONS!$M$9,Aktina*COS(epsilon*H648)*COS(D*H648),Aktina*COS(epsilon*XRONOS)*COS(D*XRONOS))","v":-11.507920874332966}]
[599,5.9899999999999167,{"$f":"IF(B649<CALCULATIONS!$M$9,Alfa1*SIN(miia*B649)-Alfa2*SIN(miib*B649),CURRENTX)","v":-56.297913514466224},{"$f":"IF(B649<CALCULATIONS!$M$9,-(Alfa1*COS(miia*B649)-Alfa2*COS(miib*B649)),CURRENTY)","v":-31.941052073016863},null,null,599,5.9899999999999167,{"$f":"IF(H649<CALCULATIONS!$M$9,Aktina*SIN(epsilon*H649)*COS(D*H649),Aktina*SIN(epsilon*XRONOS)*COS(D*XRONOS))","v":45.74311691021822},{"$f":"IF(H649<CALCULATIONS!$M$9,Aktina*COS(epsilon*H649)*COS(D*H649),Aktina*COS(epsilon*XRONOS)*COS(D*XRONOS))","v":-11.507920874332966}]
[600,5.9999999999999165,{"$f":"IF(B650<CALCULATIONS!$M$9,Alfa1*SIN(miia*B650)-Alfa2*SIN(miib*B650),CURRENTX)","v":-56.297913514466224},{"$f":"IF(B650<CALCULATIONS!$M$9,-(Alfa1*COS(miia*B650)-Alfa2*COS(miib*B650)),CURRENTY)","v":-31.941052073016863},null,null,600,5.9999999999999165,{"$f":"IF(H650<CALCULATIONS!$M$9,Aktina*SIN(epsilon*H650)*COS(D*H650),Aktina*SIN(epsilon*XRONOS)*COS(D*XRONOS))","v":45.74311691021822},{"$f":"IF(H650<CALCULATIONS!$M$9,Aktina*COS(epsilon*H650)*COS(D*H650),Aktina*COS(epsilon*XRONOS)*COS(D*XRONOS))","v":-11.507920874332966}]
[601,6.0099999999999163,{"$f":"IF(B651<CALCULATIONS!$M$9,Alfa1*SIN(miia*B651)-Alfa2*SIN(miib*B651),CURRENTX)","v":-56.297913514466224},{"$f":"IF(B651<CALCULATIONS!$M$9,-(Alfa1*COS(miia*B651)-Alfa2*COS(miib*B651)),CURRENTY)","v":-31.941052073016863},null,null,601,6.0099999999999163,{"$f":"IF(H651<CALCULATIONS!$M$9,Aktina*SIN(epsilon*H651)*COS(D*H651),Aktina*SIN(epsilon*XRONOS)*COS(D*XRONOS))","v":45.74311691021822},{"$f":"IF(H651<CALCULATIONS!$M$9,Aktina*COS(epsilon*H651)*COS(D*H651),Aktina*COS(epsilon*XRONOS)*COS(D*XRONOS))","v":-11.507920874332966}]
[602,6.0199999999999161,{"$f":"IF(B652<CALCULATIONS!$M$9,Alfa1*SIN(miia*B652)-Alfa2*SIN(miib*B652),CURRENTX)","v":-56.297913514466224},{"$f":"IF(B652<CALCULATIONS!$M$9,-(Alfa1*COS(miia*B652)-Alfa2*COS(miib*B652)),CURRENTY)","v":-31.941052073016863},null,null,602,6.0199999999999161,{"$f":"IF(H652<CALCULATIONS!$M$9,Aktina*SIN(epsilon*H652)*COS(D*H652),Aktina*SIN(epsilon*XRONOS)*COS(D*XRONOS))","v":45.74311691021822},{"$f":"IF(H652<CALCULATIONS!$M$9,Aktina*COS(epsilon*H652)*COS(D*H652),Aktina*COS(epsilon*XRONOS)*COS(D*XRONOS))","v":-11.507920874332966}]
[603,6.0299999999999159,{"$f":"IF(B653<CALCULATIONS!$M$9,Alfa1*SIN(miia*B653)-Alfa2*SIN(miib*B653),CURRENTX)","v":-56.297913514466224},{"$f":"IF(B653<CALCULATIONS!$M$9,-(Alfa1*COS(miia*B653)-Alfa2*COS(miib*B653)),CURRENTY)","v":-31.941052073016863},null,null,603,6.0299999999999159,{"$f":"IF(H653<CALCULATIONS!$M$9,Aktina*SIN(epsilon*H653)*COS(D*H653),Aktina*SIN(epsilon*XRONOS)*COS(D*XRONOS))","v":45.74311691021822},{"$f":"IF(H653<CALCULATIONS!$M$9,Aktina*COS(epsilon*H653)*COS(D*H653),Aktina*COS(epsilon*XRONOS)*COS(D*XRONOS))","v":-11.507920874332966}]
[604,6.0399999999999157,{"$f":"IF(B654<CALCULATIONS!$M$9,Alfa1*SIN(miia*B654)-Alfa2*SIN(miib*B654),CURRENTX)","v":-56.297913514466224},{"$f":"IF(B654<CALCULATIONS!$M$9,-(Alfa1*COS(miia*B654)-Alfa2*COS(miib*B654)),CURRENTY)","v":-31.941052073016863},null,null,604,6.0399999999999157,{"$f":"IF(H654<CALCULATIONS!$M$9,Aktina*SIN(epsilon*H654)*COS(D*H654),Aktina*SIN(epsilon*XRONOS)*COS(D*XRONOS))","v":45.74311691021822},{"$f":"IF(H654<CALCULATIONS!$M$9,Aktina*COS(epsilon*H654)*COS(D*H654),Aktina*COS(epsilon*XRONOS)*COS(D*XRONOS))","v":-11.507920874332966}]
[605,6.0499999999999154,{"$f":"IF(B655<CALCULATIONS!$M$9,Alfa1*SIN(miia*B655)-Alfa2*SIN(miib*B655),CURRENTX)","v":-56.297913514466224},{"$f":"IF(B655<CALCULATIONS!$M$9,-(Alfa1*COS(miia*B655)-Alfa2*COS(miib*B655)),CURRENTY)","v":-31.941052073016863},null,null,605,6.0499999999999154,{"$f":"IF(H655<CALCULATIONS!$M$9,Aktina*SIN(epsilon*H655)*COS(D*H655),Aktina*SIN(epsilon*XRONOS)*COS(D*XRONOS))","v":45.74311691021822},{"$f":"IF(H655<CALCULATIONS!$M$9,Aktina*COS(epsilon*H655)*COS(D*H655),Aktina*COS(epsilon*XRONOS)*COS(D*XRONOS))","v":-11.507920874332966}]
[606,6.0599999999999152,{"$f":"IF(B656<CALCULATIONS!$M$9,Alfa1*SIN(miia*B656)-Alfa2*SIN(miib*B656),CURRENTX)","v":-56.297913514466224},{"$f":"IF(B656<CALCULATIONS!$M$9,-(Alfa1*COS(miia*B656)-Alfa2*COS(miib*B656)),CURRENTY)","v":-31.941052073016863},null,null,606,6.0599999999999152,{"$f":"IF(H656<CALCULATIONS!$M$9,Aktina*SIN(epsilon*H656)*COS(D*H656),Aktina*SIN(epsilon*XRONOS)*COS(D*XRONOS))","v":45.74311691021822},{"$f":"IF(H656<CALCULATIONS!$M$9,Aktina*COS(epsilon*H656)*COS(D*H656),Aktina*COS(epsilon*XRONOS)*COS(D*XRONOS))","v":-11.507920874332966}]
[607,6.069999999999915,{"$f":"IF(B657<CALCULATIONS!$M$9,Alfa1*SIN(miia*B657)-Alfa2*SIN(miib*B657),CURRENTX)","v":-56.297913514466224},{"$f":"IF(B657<CALCULATIONS!$M$9,-(Alfa1*COS(miia*B657)-Alfa2*COS(miib*B657)),CURRENTY)","v":-31.941052073016863},null,null,607,6.069999999999915,{"$f":"IF(H657<CALCULATIONS!$M$9,Aktina*SIN(epsilon*H657)*COS(D*H657),Aktina*SIN(epsilon*XRONOS)*COS(D*XRONOS))","v":45.74311691021822},{"$f":"IF(H657<CALCULATIONS!$M$9,Aktina*COS(epsilon*H657)*COS(D*H657),Aktina*COS(epsilon*XRONOS)*COS(D*XRONOS))","v":-11.507920874332966}]
[608,6.0799999999999148,{"$f":"IF(B658<CALCULATIONS!$M$9,Alfa1*SIN(miia*B658)-Alfa2*SIN(miib*B658),CURRENTX)","v":-56.297913514466224},{"$f":"IF(B658<CALCULATIONS!$M$9,-(Alfa1*COS(miia*B658)-Alfa2*COS(miib*B658)),CURRENTY)","v":-31.941052073016863},null,null,608,6.0799999999999148,{"$f":"IF(H658<CALCULATIONS!$M$9,Aktina*SIN(epsilon*H658)*COS(D*H658),Aktina*SIN(epsilon*XRONOS)*COS(D*XRONOS))","v":45.74311691021822},{"$f":"IF(H658<CALCULATIONS!$M$9,Aktina*COS(epsilon*H658)*COS(D*H658),Aktina*COS(epsilon*XRONOS)*COS(D*XRONOS))","v":-11.507920874332966}]
[609,6.0899999999999146,{"$f":"IF(B659<CALCULATIONS!$M$9,Alfa1*SIN(miia*B659)-Alfa2*SIN(miib*B659),CURRENTX)","v":-56.297913514466224},{"$f":"IF(B659<CALCULATIONS!$M$9,-(Alfa1*COS(miia*B659)-Alfa2*COS(miib*B659)),CURRENTY)","v":-31.941052073016863},null,null,609,6.0899999999999146,{"$f":"IF(H659<CALCULATIONS!$M$9,Aktina*SIN(epsilon*H659)*COS(D*H659),Aktina*SIN(epsilon*XRONOS)*COS(D*XRONOS))","v":45.74311691021822},{"$f":"IF(H659<CALCULATIONS!$M$9,Aktina*COS(epsilon*H659)*COS(D*H659),Aktina*COS(epsilon*XRONOS)*COS(D*XRONOS))","v":-11.507920874332966}]
[610,6.0999999999999144,{"$f":"IF(B660<CALCULATIONS!$M$9,Alfa1*SIN(miia*B660)-Alfa2*SIN(miib*B660),CURRENTX)","v":-56.297913514466224},{"$f":"IF(B660<CALCULATIONS!$M$9,-(Alfa1*COS(miia*B660)-Alfa2*COS(miib*B660)),CURRENTY)","v":-31.941052073016863},null,null,610,6.0999999999999144,{"$f":"IF(H660<CALCULATIONS!$M$9,Aktina*SIN(epsilon*H660)*COS(D*H660),Aktina*SIN(epsilon*XRONOS)*COS(D*XRONOS))","v":45.74311691021822},{"$f":"IF(H660<CALCULATIONS!$M$9,Aktina*COS(epsilon*H660)*COS(D*H660),Aktina*COS(epsilon*XRONOS)*COS(D*XRONOS))","v":-11.507920874332966}]
[611,6.1099999999999142,{"$f":"IF(B661<CALCULATIONS!$M$9,Alfa1*SIN(miia*B661)-Alfa2*SIN(miib*B661),CURRENTX)","v":-56.297913514466224},{"$f":"IF(B661<CALCULATIONS!$M$9,-(Alfa1*COS(miia*B661)-Alfa2*COS(miib*B661)),CURRENTY)","v":-31.941052073016863},null,null,611,6.1099999999999142,{"$f":"IF(H661<CALCULATIONS!$M$9,Aktina*SIN(epsilon*H661)*COS(D*H661),Aktina*SIN(epsilon*XRONOS)*COS(D*XRONOS))","v":45.74311691021822},{"$f":"IF(H661<CALCULATIONS!$M$9,Aktina*COS(epsilon*H661)*COS(D*H661),Aktina*COS(epsilon*XRONOS)*COS(D*XRONOS))","v":-11.507920874332966}]
[612,6.119999999999914,{"$f":"IF(B662<CALCULATIONS!$M$9,Alfa1*SIN(miia*B662)-Alfa2*SIN(miib*B662),CURRENTX)","v":-56.297913514466224},{"$f":"IF(B662<CALCULATIONS!$M$9,-(Alfa1*COS(miia*B662)-Alfa2*COS(miib*B662)),CURRENTY)","v":-31.941052073016863},null,null,612,6.119999999999914,{"$f":"IF(H662<CALCULATIONS!$M$9,Aktina*SIN(epsilon*H662)*COS(D*H662),Aktina*SIN(epsilon*XRONOS)*COS(D*XRONOS))","v":45.74311691021822},{"$f":"IF(H662<CALCULATIONS!$M$9,Aktina*COS(epsilon*H662)*COS(D*H662),Aktina*COS(epsilon*XRONOS)*COS(D*XRONOS))","v":-11.507920874332966}]
[613,6.1299999999999137,{"$f":"IF(B663<CALCULATIONS!$M$9,Alfa1*SIN(miia*B663)-Alfa2*SIN(miib*B663),CURRENTX)","v":-56.297913514466224},{"$f":"IF(B663<CALCULATIONS!$M$9,-(Alfa1*COS(miia*B663)-Alfa2*COS(miib*B663)),CURRENTY)","v":-31.941052073016863},null,null,613,6.1299999999999137,{"$f":"IF(H663<CALCULATIONS!$M$9,Aktina*SIN(epsilon*H663)*COS(D*H663),Aktina*SIN(epsilon*XRONOS)*COS(D*XRONOS))","v":45.74311691021822},{"$f":"IF(H663<CALCULATIONS!$M$9,Aktina*COS(epsilon*H663)*COS(D*H663),Aktina*COS(epsilon*XRONOS)*COS(D*XRONOS))","v":-11.507920874332966}]
[614,6.1399999999999135,{"$f":"IF(B664<CALCULATIONS!$M$9,Alfa1*SIN(miia*B664)-Alfa2*SIN(miib*B664),CURRENTX)","v":-56.297913514466224},{"$f":"IF(B664<CALCULATIONS!$M$9,-(Alfa1*COS(miia*B664)-Alfa2*COS(miib*B664)),CURRENTY)","v":-31.941052073016863},null,null,614,6.1399999999999135,{"$f":"IF(H664<CALCULATIONS!$M$9,Aktina*SIN(epsilon*H664)*COS(D*H664),Aktina*SIN(epsilon*XRONOS)*COS(D*XRONOS))","v":45.74311691021822},{"$f":"IF(H664<CALCULATIONS!$M$9,Aktina*COS(epsilon*H664)*COS(D*H664),Aktina*COS(epsilon*XRONOS)*COS(D*XRONOS))","v":-11.507920874332966}]
[615,6.1499999999999133,{"$f":"IF(B665<CALCULATIONS!$M$9,Alfa1*SIN(miia*B665)-Alfa2*SIN(miib*B665),CURRENTX)","v":-56.297913514466224},{"$f":"IF(B665<CALCULATIONS!$M$9,-(Alfa1*COS(miia*B665)-Alfa2*COS(miib*B665)),CURRENTY)","v":-31.941052073016863},null,null,615,6.1499999999999133,{"$f":"IF(H665<CALCULATIONS!$M$9,Aktina*SIN(epsilon*H665)*COS(D*H665),Aktina*SIN(epsilon*XRONOS)*COS(D*XRONOS))","v":45.74311691021822},{"$f":"IF(H665<CALCULATIONS!$M$9,Aktina*COS(epsilon*H665)*COS(D*H665),Aktina*COS(epsilon*XRONOS)*COS(D*XRONOS))","v":-11.507920874332966}]
[616,6.1599999999999131,{"$f":"IF(B666<CALCULATIONS!$M$9,Alfa1*SIN(miia*B666)-Alfa2*SIN(miib*B666),CURRENTX)","v":-56.297913514466224},{"$f":"IF(B666<CALCULATIONS!$M$9,-(Alfa1*COS(miia*B666)-Alfa2*COS(miib*B666)),CURRENTY)","v":-31.941052073016863},null,null,616,6.1599999999999131,{"$f":"IF(H666<CALCULATIONS!$M$9,Aktina*SIN(epsilon*H666)*COS(D*H666),Aktina*SIN(epsilon*XRONOS)*COS(D*XRONOS))","v":45.74311691021822},{"$f":"IF(H666<CALCULATIONS!$M$9,Aktina*COS(epsilon*H666)*COS(D*H666),Aktina*COS(epsilon*XRONOS)*COS(D*XRONOS))","v":-11.507920874332966}]
[617,6.1699999999999129,{"$f":"IF(B667<CALCULATIONS!$M$9,Alfa1*SIN(miia*B667)-Alfa2*SIN(miib*B667),CURRENTX)","v":-56.297913514466224},{"$f":"IF(B667<CALCULATIONS!$M$9,-(Alfa1*COS(miia*B667)-Alfa2*COS(miib*B667)),CURRENTY)","v":-31.941052073016863},null,null,617,6.1699999999999129,{"$f":"IF(H667<CALCULATIONS!$M$9,Aktina*SIN(epsilon*H667)*COS(D*H667),Aktina*SIN(epsilon*XRONOS)*COS(D*XRONOS))","v":45.74311691021822},{"$f":"IF(H667<CALCULATIONS!$M$9,Aktina*COS(epsilon*H667)*COS(D*H667),Aktina*COS(epsilon*XRONOS)*COS(D*XRONOS))","v":-11.507920874332966}]
[618,6.1799999999999127,{"$f":"IF(B668<CALCULATIONS!$M$9,Alfa1*SIN(miia*B668)-Alfa2*SIN(miib*B668),CURRENTX)","v":-56.297913514466224},{"$f":"IF(B668<CALCULATIONS!$M$9,-(Alfa1*COS(miia*B668)-Alfa2*COS(miib*B668)),CURRENTY)","v":-31.941052073016863},null,null,618,6.1799999999999127,{"$f":"IF(H668<CALCULATIONS!$M$9,Aktina*SIN(epsilon*H668)*COS(D*H668),Aktina*SIN(epsilon*XRONOS)*COS(D*XRONOS))","v":45.74311691021822},{"$f":"IF(H668<CALCULATIONS!$M$9,Aktina*COS(epsilon*H668)*COS(D*H668),Aktina*COS(epsilon*XRONOS)*COS(D*XRONOS))","v":-11.507920874332966}]
[619,6.1899999999999125,{"$f":"IF(B669<CALCULATIONS!$M$9,Alfa1*SIN(miia*B669)-Alfa2*SIN(miib*B669),CURRENTX)","v":-56.297913514466224},{"$f":"IF(B669<CALCULATIONS!$M$9,-(Alfa1*COS(miia*B669)-Alfa2*COS(miib*B669)),CURRENTY)","v":-31.941052073016863},null,null,619,6.1899999999999125,{"$f":"IF(H669<CALCULATIONS!$M$9,Aktina*SIN(epsilon*H669)*COS(D*H669),Aktina*SIN(epsilon*XRONOS)*COS(D*XRONOS))","v":45.74311691021822},{"$f":"IF(H669<CALCULATIONS!$M$9,Aktina*COS(epsilon*H669)*COS(D*H669),Aktina*COS(epsilon*XRONOS)*COS(D*XRONOS))","v":-11.507920874332966}]
[620,6.1999999999999122,{"$f":"IF(B670<CALCULATIONS!$M$9,Alfa1*SIN(miia*B670)-Alfa2*SIN(miib*B670),CURRENTX)","v":-56.297913514466224},{"$f":"IF(B670<CALCULATIONS!$M$9,-(Alfa1*COS(miia*B670)-Alfa2*COS(miib*B670)),CURRENTY)","v":-31.941052073016863},null,null,620,6.1999999999999122,{"$f":"IF(H670<CALCULATIONS!$M$9,Aktina*SIN(epsilon*H670)*COS(D*H670),Aktina*SIN(epsilon*XRONOS)*COS(D*XRONOS))","v":45.74311691021822},{"$f":"IF(H670<CALCULATIONS!$M$9,Aktina*COS(epsilon*H670)*COS(D*H670),Aktina*COS(epsilon*XRONOS)*COS(D*XRONOS))","v":-11.507920874332966}]
[621,6.209999999999912,{"$f":"IF(B671<CALCULATIONS!$M$9,Alfa1*SIN(miia*B671)-Alfa2*SIN(miib*B671),CURRENTX)","v":-56.297913514466224},{"$f":"IF(B671<CALCULATIONS!$M$9,-(Alfa1*COS(miia*B671)-Alfa2*COS(miib*B671)),CURRENTY)","v":-31.941052073016863},null,null,621,6.209999999999912,{"$f":"IF(H671<CALCULATIONS!$M$9,Aktina*SIN(epsilon*H671)*COS(D*H671),Aktina*SIN(epsilon*XRONOS)*COS(D*XRONOS))","v":45.74311691021822},{"$f":"IF(H671<CALCULATIONS!$M$9,Aktina*COS(epsilon*H671)*COS(D*H671),Aktina*COS(epsilon*XRONOS)*COS(D*XRONOS))","v":-11.507920874332966}]
[622,6.2199999999999118,{"$f":"IF(B672<CALCULATIONS!$M$9,Alfa1*SIN(miia*B672)-Alfa2*SIN(miib*B672),CURRENTX)","v":-56.297913514466224},{"$f":"IF(B672<CALCULATIONS!$M$9,-(Alfa1*COS(miia*B672)-Alfa2*COS(miib*B672)),CURRENTY)","v":-31.941052073016863},null,null,622,6.2199999999999118,{"$f":"IF(H672<CALCULATIONS!$M$9,Aktina*SIN(epsilon*H672)*COS(D*H672),Aktina*SIN(epsilon*XRONOS)*COS(D*XRONOS))","v":45.74311691021822},{"$f":"IF(H672<CALCULATIONS!$M$9,Aktina*COS(epsilon*H672)*COS(D*H672),Aktina*COS(epsilon*XRONOS)*COS(D*XRONOS))","v":-11.507920874332966}]
[623,6.2299999999999116,{"$f":"IF(B673<CALCULATIONS!$M$9,Alfa1*SIN(miia*B673)-Alfa2*SIN(miib*B673),CURRENTX)","v":-56.297913514466224},{"$f":"IF(B673<CALCULATIONS!$M$9,-(Alfa1*COS(miia*B673)-Alfa2*COS(miib*B673)),CURRENTY)","v":-31.941052073016863},null,null,623,6.2299999999999116,{"$f":"IF(H673<CALCULATIONS!$M$9,Aktina*SIN(epsilon*H673)*COS(D*H673),Aktina*SIN(epsilon*XRONOS)*COS(D*XRONOS))","v":45.74311691021822},{"$f":"IF(H673<CALCULATIONS!$M$9,Aktina*COS(epsilon*H673)*COS(D*H673),Aktina*COS(epsilon*XRONOS)*COS(D*XRONOS))","v":-11.507920874332966}]
[624,6.2399999999999114,{"$f":"IF(B674<CALCULATIONS!$M$9,Alfa1*SIN(miia*B674)-Alfa2*SIN(miib*B674),CURRENTX)","v":-56.297913514466224},{"$f":"IF(B674<CALCULATIONS!$M$9,-(Alfa1*COS(miia*B674)-Alfa2*COS(miib*B674)),CURRENTY)","v":-31.941052073016863},null,null,624,6.2399999999999114,{"$f":"IF(H674<CALCULATIONS!$M$9,Aktina*SIN(epsilon*H674)*COS(D*H674),Aktina*SIN(epsilon*XRONOS)*COS(D*XRONOS))","v":45.74311691021822},{"$f":"IF(H674<CALCULATIONS!$M$9,Aktina*COS(epsilon*H674)*COS(D*H674),Aktina*COS(epsilon*XRONOS)*COS(D*XRONOS))","v":-11.507920874332966}]
[625,6.2499999999999112,{"$f":"IF(B675<CALCULATIONS!$M$9,Alfa1*SIN(miia*B675)-Alfa2*SIN(miib*B675),CURRENTX)","v":-56.297913514466224},{"$f":"IF(B675<CALCULATIONS!$M$9,-(Alfa1*COS(miia*B675)-Alfa2*COS(miib*B675)),CURRENTY)","v":-31.941052073016863},null,null,625,6.2499999999999112,{"$f":"IF(H675<CALCULATIONS!$M$9,Aktina*SIN(epsilon*H675)*COS(D*H675),Aktina*SIN(epsilon*XRONOS)*COS(D*XRONOS))","v":45.74311691021822},{"$f":"IF(H675<CALCULATIONS!$M$9,Aktina*COS(epsilon*H675)*COS(D*H675),Aktina*COS(epsilon*XRONOS)*COS(D*XRONOS))","v":-11.507920874332966}]
[626,6.259999999999911,{"$f":"IF(B676<CALCULATIONS!$M$9,Alfa1*SIN(miia*B676)-Alfa2*SIN(miib*B676),CURRENTX)","v":-56.297913514466224},{"$f":"IF(B676<CALCULATIONS!$M$9,-(Alfa1*COS(miia*B676)-Alfa2*COS(miib*B676)),CURRENTY)","v":-31.941052073016863},null,null,626,6.259999999999911,{"$f":"IF(H676<CALCULATIONS!$M$9,Aktina*SIN(epsilon*H676)*COS(D*H676),Aktina*SIN(epsilon*XRONOS)*COS(D*XRONOS))","v":45.74311691021822},{"$f":"IF(H676<CALCULATIONS!$M$9,Aktina*COS(epsilon*H676)*COS(D*H676),Aktina*COS(epsilon*XRONOS)*COS(D*XRONOS))","v":-11.507920874332966}]
[627,6.2699999999999108,{"$f":"IF(B677<CALCULATIONS!$M$9,Alfa1*SIN(miia*B677)-Alfa2*SIN(miib*B677),CURRENTX)","v":-56.297913514466224},{"$f":"IF(B677<CALCULATIONS!$M$9,-(Alfa1*COS(miia*B677)-Alfa2*COS(miib*B677)),CURRENTY)","v":-31.941052073016863},null,null,627,6.2699999999999108,{"$f":"IF(H677<CALCULATIONS!$M$9,Aktina*SIN(epsilon*H677)*COS(D*H677),Aktina*SIN(epsilon*XRONOS)*COS(D*XRONOS))","v":45.74311691021822},{"$f":"IF(H677<CALCULATIONS!$M$9,Aktina*COS(epsilon*H677)*COS(D*H677),Aktina*COS(epsilon*XRONOS)*COS(D*XRONOS))","v":-11.507920874332966}]
[628,6.2799999999999105,{"$f":"IF(B678<CALCULATIONS!$M$9,Alfa1*SIN(miia*B678)-Alfa2*SIN(miib*B678),CURRENTX)","v":-56.297913514466224},{"$f":"IF(B678<CALCULATIONS!$M$9,-(Alfa1*COS(miia*B678)-Alfa2*COS(miib*B678)),CURRENTY)","v":-31.941052073016863},null,null,628,6.2799999999999105,{"$f":"IF(H678<CALCULATIONS!$M$9,Aktina*SIN(epsilon*H678)*COS(D*H678),Aktina*SIN(epsilon*XRONOS)*COS(D*XRONOS))","v":45.74311691021822},{"$f":"IF(H678<CALCULATIONS!$M$9,Aktina*COS(epsilon*H678)*COS(D*H678),Aktina*COS(epsilon*XRONOS)*COS(D*XRONOS))","v":-11.507920874332966}]
[629,6.2899999999999103,{"$f":"IF(B679<CALCULATIONS!$M$9,Alfa1*SIN(miia*B679)-Alfa2*SIN(miib*B679),CURRENTX)","v":-56.297913514466224},{"$f":"IF(B679<CALCULATIONS!$M$9,-(Alfa1*COS(miia*B679)-Alfa2*COS(miib*B679)),CURRENTY)","v":-31.941052073016863},null,null,629,6.2899999999999103,{"$f":"IF(H679<CALCULATIONS!$M$9,Aktina*SIN(epsilon*H679)*COS(D*H679),Aktina*SIN(epsilon*XRONOS)*COS(D*XRONOS))","v":45.74311691021822},{"$f":"IF(H679<CALCULATIONS!$M$9,Aktina*COS(epsilon*H679)*COS(D*H679),Aktina*COS(epsilon*XRONOS)*COS(D*XRONOS))","v":-11.507920874332966}]
[630,6.2999999999999101,{"$f":"IF(B680<CALCULATIONS!$M$9,Alfa1*SIN(miia*B680)-Alfa2*SIN(miib*B680),CURRENTX)","v":-56.297913514466224},{"$f":"IF(B680<CALCULATIONS!$M$9,-(Alfa1*COS(miia*B680)-Alfa2*COS(miib*B680)),CURRENTY)","v":-31.941052073016863},null,null,630,6.2999999999999101,{"$f":"IF(H680<CALCULATIONS!$M$9,Aktina*SIN(epsilon*H680)*COS(D*H680),Aktina*SIN(epsilon*XRONOS)*COS(D*XRONOS))","v":45.74311691021822},{"$f":"IF(H680<CALCULATIONS!$M$9,Aktina*COS(epsilon*H680)*COS(D*H680),Aktina*COS(epsilon*XRONOS)*COS(D*XRONOS))","v":-11.507920874332966}]
[631,6.3099999999999099,{"$f":"IF(B681<CALCULATIONS!$M$9,Alfa1*SIN(miia*B681)-Alfa2*SIN(miib*B681),CURRENTX)","v":-56.297913514466224},{"$f":"IF(B681<CALCULATIONS!$M$9,-(Alfa1*COS(miia*B681)-Alfa2*COS(miib*B681)),CURRENTY)","v":-31.941052073016863},null,null,631,6.3099999999999099,{"$f":"IF(H681<CALCULATIONS!$M$9,Aktina*SIN(epsilon*H681)*COS(D*H681),Aktina*SIN(epsilon*XRONOS)*COS(D*XRONOS))","v":45.74311691021822},{"$f":"IF(H681<CALCULATIONS!$M$9,Aktina*COS(epsilon*H681)*COS(D*H681),Aktina*COS(epsilon*XRONOS)*COS(D*XRONOS))","v":-11.507920874332966}]
[632,6.3199999999999097,{"$f":"IF(B682<CALCULATIONS!$M$9,Alfa1*SIN(miia*B682)-Alfa2*SIN(miib*B682),CURRENTX)","v":-56.297913514466224},{"$f":"IF(B682<CALCULATIONS!$M$9,-(Alfa1*COS(miia*B682)-Alfa2*COS(miib*B682)),CURRENTY)","v":-31.941052073016863},null,null,632,6.3199999999999097,{"$f":"IF(H682<CALCULATIONS!$M$9,Aktina*SIN(epsilon*H682)*COS(D*H682),Aktina*SIN(epsilon*XRONOS)*COS(D*XRONOS))","v":45.74311691021822},{"$f":"IF(H682<CALCULATIONS!$M$9,Aktina*COS(epsilon*H682)*COS(D*H682),Aktina*COS(epsilon*XRONOS)*COS(D*XRONOS))","v":-11.507920874332966}]
[633,6.3299999999999095,{"$f":"IF(B683<CALCULATIONS!$M$9,Alfa1*SIN(miia*B683)-Alfa2*SIN(miib*B683),CURRENTX)","v":-56.297913514466224},{"$f":"IF(B683<CALCULATIONS!$M$9,-(Alfa1*COS(miia*B683)-Alfa2*COS(miib*B683)),CURRENTY)","v":-31.941052073016863},null,null,633,6.3299999999999095,{"$f":"IF(H683<CALCULATIONS!$M$9,Aktina*SIN(epsilon*H683)*COS(D*H683),Aktina*SIN(epsilon*XRONOS)*COS(D*XRONOS))","v":45.74311691021822},{"$f":"IF(H683<CALCULATIONS!$M$9,Aktina*COS(epsilon*H683)*COS(D*H683),Aktina*COS(epsilon*XRONOS)*COS(D*XRONOS))","v":-11.507920874332966}]
[634,6.3399999999999093,{"$f":"IF(B684<CALCULATIONS!$M$9,Alfa1*SIN(miia*B684)-Alfa2*SIN(miib*B684),CURRENTX)","v":-56.297913514466224},{"$f":"IF(B684<CALCULATIONS!$M$9,-(Alfa1*COS(miia*B684)-Alfa2*COS(miib*B684)),CURRENTY)","v":-31.941052073016863},null,null,634,6.3399999999999093,{"$f":"IF(H684<CALCULATIONS!$M$9,Aktina*SIN(epsilon*H684)*COS(D*H684),Aktina*SIN(epsilon*XRONOS)*COS(D*XRONOS))","v":45.74311691021822},{"$f":"IF(H684<CALCULATIONS!$M$9,Aktina*COS(epsilon*H684)*COS(D*H684),Aktina*COS(epsilon*XRONOS)*COS(D*XRONOS))","v":-11.507920874332966}]
[635,6.3499999999999091,{"$f":"IF(B685<CALCULATIONS!$M$9,Alfa1*SIN(miia*B685)-Alfa2*SIN(miib*B685),CURRENTX)","v":-56.297913514466224},{"$f":"IF(B685<CALCULATIONS!$M$9,-(Alfa1*COS(miia*B685)-Alfa2*COS(miib*B685)),CURRENTY)","v":-31.941052073016863},null,null,635,6.3499999999999091,{"$f":"IF(H685<CALCULATIONS!$M$9,Aktina*SIN(epsilon*H685)*COS(D*H685),Aktina*SIN(epsilon*XRONOS)*COS(D*XRONOS))","v":45.74311691021822},{"$f":"IF(H685<CALCULATIONS!$M$9,Aktina*COS(epsilon*H685)*COS(D*H685),Aktina*COS(epsilon*XRONOS)*COS(D*XRONOS))","v":-11.507920874332966}]
[636,6.3599999999999088,{"$f":"IF(B686<CALCULATIONS!$M$9,Alfa1*SIN(miia*B686)-Alfa2*SIN(miib*B686),CURRENTX)","v":-56.297913514466224},{"$f":"IF(B686<CALCULATIONS!$M$9,-(Alfa1*COS(miia*B686)-Alfa2*COS(miib*B686)),CURRENTY)","v":-31.941052073016863},null,null,636,6.3599999999999088,{"$f":"IF(H686<CALCULATIONS!$M$9,Aktina*SIN(epsilon*H686)*COS(D*H686),Aktina*SIN(epsilon*XRONOS)*COS(D*XRONOS))","v":45.74311691021822},{"$f":"IF(H686<CALCULATIONS!$M$9,Aktina*COS(epsilon*H686)*COS(D*H686),Aktina*COS(epsilon*XRONOS)*COS(D*XRONOS))","v":-11.507920874332966}]
[637,6.3699999999999086,{"$f":"IF(B687<CALCULATIONS!$M$9,Alfa1*SIN(miia*B687)-Alfa2*SIN(miib*B687),CURRENTX)","v":-56.297913514466224},{"$f":"IF(B687<CALCULATIONS!$M$9,-(Alfa1*COS(miia*B687)-Alfa2*COS(miib*B687)),CURRENTY)","v":-31.941052073016863},null,null,637,6.3699999999999086,{"$f":"IF(H687<CALCULATIONS!$M$9,Aktina*SIN(epsilon*H687)*COS(D*H687),Aktina*SIN(epsilon*XRONOS)*COS(D*XRONOS))","v":45.74311691021822},{"$f":"IF(H687<CALCULATIONS!$M$9,Aktina*COS(epsilon*H687)*COS(D*H687),Aktina*COS(epsilon*XRONOS)*COS(D*XRONOS))","v":-11.507920874332966}]
[638,6.3799999999999084,{"$f":"IF(B688<CALCULATIONS!$M$9,Alfa1*SIN(miia*B688)-Alfa2*SIN(miib*B688),CURRENTX)","v":-56.297913514466224},{"$f":"IF(B688<CALCULATIONS!$M$9,-(Alfa1*COS(miia*B688)-Alfa2*COS(miib*B688)),CURRENTY)","v":-31.941052073016863},null,null,638,6.3799999999999084,{"$f":"IF(H688<CALCULATIONS!$M$9,Aktina*SIN(epsilon*H688)*COS(D*H688),Aktina*SIN(epsilon*XRONOS)*COS(D*XRONOS))","v":45.74311691021822},{"$f":"IF(H688<CALCULATIONS!$M$9,Aktina*COS(epsilon*H688)*COS(D*H688),Aktina*COS(epsilon*XRONOS)*COS(D*XRONOS))","v":-11.507920874332966}]
[639,6.3899999999999082,{"$f":"IF(B689<CALCULATIONS!$M$9,Alfa1*SIN(miia*B689)-Alfa2*SIN(miib*B689),CURRENTX)","v":-56.297913514466224},{"$f":"IF(B689<CALCULATIONS!$M$9,-(Alfa1*COS(miia*B689)-Alfa2*COS(miib*B689)),CURRENTY)","v":-31.941052073016863},null,null,639,6.3899999999999082,{"$f":"IF(H689<CALCULATIONS!$M$9,Aktina*SIN(epsilon*H689)*COS(D*H689),Aktina*SIN(epsilon*XRONOS)*COS(D*XRONOS))","v":45.74311691021822},{"$f":"IF(H689<CALCULATIONS!$M$9,Aktina*COS(epsilon*H689)*COS(D*H689),Aktina*COS(epsilon*XRONOS)*COS(D*XRONOS))","v":-11.507920874332966}]
[640,6.399999999999908,{"$f":"IF(B690<CALCULATIONS!$M$9,Alfa1*SIN(miia*B690)-Alfa2*SIN(miib*B690),CURRENTX)","v":-56.297913514466224},{"$f":"IF(B690<CALCULATIONS!$M$9,-(Alfa1*COS(miia*B690)-Alfa2*COS(miib*B690)),CURRENTY)","v":-31.941052073016863},null,null,640,6.399999999999908,{"$f":"IF(H690<CALCULATIONS!$M$9,Aktina*SIN(epsilon*H690)*COS(D*H690),Aktina*SIN(epsilon*XRONOS)*COS(D*XRONOS))","v":45.74311691021822},{"$f":"IF(H690<CALCULATIONS!$M$9,Aktina*COS(epsilon*H690)*COS(D*H690),Aktina*COS(epsilon*XRONOS)*COS(D*XRONOS))","v":-11.507920874332966}]
[641,{"$f":"B690+dt","v":6.4099999999999078},{"$f":"IF(B691<CALCULATIONS!$M$9,Alfa1*SIN(miia*B691)-Alfa2*SIN(miib*B691),CURRENTX)","v":-56.297913514466224},{"$f":"IF(B691<CALCULATIONS!$M$9,-(Alfa1*COS(miia*B691)-Alfa2*COS(miib*B691)),CURRENTY)","v":-31.941052073016863},null,null,641,{"$f":"H690+dt","v":6.4099999999999078},{"$f":"IF(H691<CALCULATIONS!$M$9,Aktina*SIN(epsilon*H691)*COS(D*H691),Aktina*SIN(epsilon*XRONOS)*COS(D*XRONOS))","v":45.74311691021822},{"$f":"IF(H691<CALCULATIONS!$M$9,Aktina*COS(epsilon*H691)*COS(D*H691),Aktina*COS(epsilon*XRONOS)*COS(D*XRONOS))","v":-11.507920874332966}]
[{"$f":"A691+1","v":642},6.4199999999999076,{"$f":"IF(B692<CALCULATIONS!$M$9,Alfa1*SIN(miia*B692)-Alfa2*SIN(miib*B692),CURRENTX)","v":-56.297913514466224},{"$f":"IF(B692<CALCULATIONS!$M$9,-(Alfa1*COS(miia*B692)-Alfa2*COS(miib*B692)),CURRENTY)","v":-31.941052073016863},null,null,{"$f":"G691+1","v":642},6.4199999999999076,{"$f":"IF(H692<CALCULATIONS!$M$9,Aktina*SIN(epsilon*H692)*COS(D*H692),Aktina*SIN(epsilon*XRONOS)*COS(D*XRONOS))","v":45.74311691021822},{"$f":"IF(H692<CALCULATIONS!$M$9,Aktina*COS(epsilon*H692)*COS(D*H692),Aktina*COS(epsilon*XRONOS)*COS(D*XRONOS))","v":-11.507920874332966}]
[643,6.4299999999999073,{"$f":"IF(B693<CALCULATIONS!$M$9,Alfa1*SIN(miia*B693)-Alfa2*SIN(miib*B693),CURRENTX)","v":-56.297913514466224},{"$f":"IF(B693<CALCULATIONS!$M$9,-(Alfa1*COS(miia*B693)-Alfa2*COS(miib*B693)),CURRENTY)","v":-31.941052073016863},null,null,643,6.4299999999999073,{"$f":"IF(H693<CALCULATIONS!$M$9,Aktina*SIN(epsilon*H693)*COS(D*H693),Aktina*SIN(epsilon*XRONOS)*COS(D*XRONOS))","v":45.74311691021822},{"$f":"IF(H693<CALCULATIONS!$M$9,Aktina*COS(epsilon*H693)*COS(D*H693),Aktina*COS(epsilon*XRONOS)*COS(D*XRONOS))","v":-11.507920874332966}]
[644,6.4399999999999071,{"$f":"IF(B694<CALCULATIONS!$M$9,Alfa1*SIN(miia*B694)-Alfa2*SIN(miib*B694),CURRENTX)","v":-56.297913514466224},{"$f":"IF(B694<CALCULATIONS!$M$9,-(Alfa1*COS(miia*B694)-Alfa2*COS(miib*B694)),CURRENTY)","v":-31.941052073016863},null,null,644,6.4399999999999071,{"$f":"IF(H694<CALCULATIONS!$M$9,Aktina*SIN(epsilon*H694)*COS(D*H694),Aktina*SIN(epsilon*XRONOS)*COS(D*XRONOS))","v":45.74311691021822},{"$f":"IF(H694<CALCULATIONS!$M$9,Aktina*COS(epsilon*H694)*COS(D*H694),Aktina*COS(epsilon*XRONOS)*COS(D*XRONOS))","v":-11.507920874332966}]
[645,6.4499999999999069,{"$f":"IF(B695<CALCULATIONS!$M$9,Alfa1*SIN(miia*B695)-Alfa2*SIN(miib*B695),CURRENTX)","v":-56.297913514466224},{"$f":"IF(B695<CALCULATIONS!$M$9,-(Alfa1*COS(miia*B695)-Alfa2*COS(miib*B695)),CURRENTY)","v":-31.941052073016863},null,null,645,6.4499999999999069,{"$f":"IF(H695<CALCULATIONS!$M$9,Aktina*SIN(epsilon*H695)*COS(D*H695),Aktina*SIN(epsilon*XRONOS)*COS(D*XRONOS))","v":45.74311691021822},{"$f":"IF(H695<CALCULATIONS!$M$9,Aktina*COS(epsilon*H695)*COS(D*H695),Aktina*COS(epsilon*XRONOS)*COS(D*XRONOS))","v":-11.507920874332966}]
[646,6.4599999999999067,{"$f":"IF(B696<CALCULATIONS!$M$9,Alfa1*SIN(miia*B696)-Alfa2*SIN(miib*B696),CURRENTX)","v":-56.297913514466224},{"$f":"IF(B696<CALCULATIONS!$M$9,-(Alfa1*COS(miia*B696)-Alfa2*COS(miib*B696)),CURRENTY)","v":-31.941052073016863},null,null,646,6.4599999999999067,{"$f":"IF(H696<CALCULATIONS!$M$9,Aktina*SIN(epsilon*H696)*COS(D*H696),Aktina*SIN(epsilon*XRONOS)*COS(D*XRONOS))","v":45.74311691021822},{"$f":"IF(H696<CALCULATIONS!$M$9,Aktina*COS(epsilon*H696)*COS(D*H696),Aktina*COS(epsilon*XRONOS)*COS(D*XRONOS))","v":-11.507920874332966}]
[647,6.4699999999999065,{"$f":"IF(B697<CALCULATIONS!$M$9,Alfa1*SIN(miia*B697)-Alfa2*SIN(miib*B697),CURRENTX)","v":-56.297913514466224},{"$f":"IF(B697<CALCULATIONS!$M$9,-(Alfa1*COS(miia*B697)-Alfa2*COS(miib*B697)),CURRENTY)","v":-31.941052073016863},null,null,647,6.4699999999999065,{"$f":"IF(H697<CALCULATIONS!$M$9,Aktina*SIN(epsilon*H697)*COS(D*H697),Aktina*SIN(epsilon*XRONOS)*COS(D*XRONOS))","v":45.74311691021822},{"$f":"IF(H697<CALCULATIONS!$M$9,Aktina*COS(epsilon*H697)*COS(D*H697),Aktina*COS(epsilon*XRONOS)*COS(D*XRONOS))","v":-11.507920874332966}]
[648,6.4799999999999063,{"$f":"IF(B698<CALCULATIONS!$M$9,Alfa1*SIN(miia*B698)-Alfa2*SIN(miib*B698),CURRENTX)","v":-56.297913514466224},{"$f":"IF(B698<CALCULATIONS!$M$9,-(Alfa1*COS(miia*B698)-Alfa2*COS(miib*B698)),CURRENTY)","v":-31.941052073016863},null,null,648,6.4799999999999063,{"$f":"IF(H698<CALCULATIONS!$M$9,Aktina*SIN(epsilon*H698)*COS(D*H698),Aktina*SIN(epsilon*XRONOS)*COS(D*XRONOS))","v":45.74311691021822},{"$f":"IF(H698<CALCULATIONS!$M$9,Aktina*COS(epsilon*H698)*COS(D*H698),Aktina*COS(epsilon*XRONOS)*COS(D*XRONOS))","v":-11.507920874332966}]
[649,6.4899999999999061,{"$f":"IF(B699<CALCULATIONS!$M$9,Alfa1*SIN(miia*B699)-Alfa2*SIN(miib*B699),CURRENTX)","v":-56.297913514466224},{"$f":"IF(B699<CALCULATIONS!$M$9,-(Alfa1*COS(miia*B699)-Alfa2*COS(miib*B699)),CURRENTY)","v":-31.941052073016863},null,null,649,6.4899999999999061,{"$f":"IF(H699<CALCULATIONS!$M$9,Aktina*SIN(epsilon*H699)*COS(D*H699),Aktina*SIN(epsilon*XRONOS)*COS(D*XRONOS))","v":45.74311691021822},{"$f":"IF(H699<CALCULATIONS!$M$9,Aktina*COS(epsilon*H699)*COS(D*H699),Aktina*COS(epsilon*XRONOS)*COS(D*XRONOS))","v":-11.507920874332966}]
[650,6.4999999999999059,{"$f":"IF(B700<CALCULATIONS!$M$9,Alfa1*SIN(miia*B700)-Alfa2*SIN(miib*B700),CURRENTX)","v":-56.297913514466224},{"$f":"IF(B700<CALCULATIONS!$M$9,-(Alfa1*COS(miia*B700)-Alfa2*COS(miib*B700)),CURRENTY)","v":-31.941052073016863},null,null,650,6.4999999999999059,{"$f":"IF(H700<CALCULATIONS!$M$9,Aktina*SIN(epsilon*H700)*COS(D*H700),Aktina*SIN(epsilon*XRONOS)*COS(D*XRONOS))","v":45.74311691021822},{"$f":"IF(H700<CALCULATIONS!$M$9,Aktina*COS(epsilon*H700)*COS(D*H700),Aktina*COS(epsilon*XRONOS)*COS(D*XRONOS))","v":-11.507920874332966}]
[651,6.5099999999999056,{"$f":"IF(B701<CALCULATIONS!$M$9,Alfa1*SIN(miia*B701)-Alfa2*SIN(miib*B701),CURRENTX)","v":-56.297913514466224},{"$f":"IF(B701<CALCULATIONS!$M$9,-(Alfa1*COS(miia*B701)-Alfa2*COS(miib*B701)),CURRENTY)","v":-31.941052073016863},null,null,651,6.5099999999999056,{"$f":"IF(H701<CALCULATIONS!$M$9,Aktina*SIN(epsilon*H701)*COS(D*H701),Aktina*SIN(epsilon*XRONOS)*COS(D*XRONOS))","v":45.74311691021822},{"$f":"IF(H701<CALCULATIONS!$M$9,Aktina*COS(epsilon*H701)*COS(D*H701),Aktina*COS(epsilon*XRONOS)*COS(D*XRONOS))","v":-11.507920874332966}]
[652,6.5199999999999054,{"$f":"IF(B702<CALCULATIONS!$M$9,Alfa1*SIN(miia*B702)-Alfa2*SIN(miib*B702),CURRENTX)","v":-56.297913514466224},{"$f":"IF(B702<CALCULATIONS!$M$9,-(Alfa1*COS(miia*B702)-Alfa2*COS(miib*B702)),CURRENTY)","v":-31.941052073016863},null,null,652,6.5199999999999054,{"$f":"IF(H702<CALCULATIONS!$M$9,Aktina*SIN(epsilon*H702)*COS(D*H702),Aktina*SIN(epsilon*XRONOS)*COS(D*XRONOS))","v":45.74311691021822},{"$f":"IF(H702<CALCULATIONS!$M$9,Aktina*COS(epsilon*H702)*COS(D*H702),Aktina*COS(epsilon*XRONOS)*COS(D*XRONOS))","v":-11.507920874332966}]
[653,6.5299999999999052,{"$f":"IF(B703<CALCULATIONS!$M$9,Alfa1*SIN(miia*B703)-Alfa2*SIN(miib*B703),CURRENTX)","v":-56.297913514466224},{"$f":"IF(B703<CALCULATIONS!$M$9,-(Alfa1*COS(miia*B703)-Alfa2*COS(miib*B703)),CURRENTY)","v":-31.941052073016863},null,null,653,6.5299999999999052,{"$f":"IF(H703<CALCULATIONS!$M$9,Aktina*SIN(epsilon*H703)*COS(D*H703),Aktina*SIN(epsilon*XRONOS)*COS(D*XRONOS))","v":45.74311691021822},{"$f":"IF(H703<CALCULATIONS!$M$9,Aktina*COS(epsilon*H703)*COS(D*H703),Aktina*COS(epsilon*XRONOS)*COS(D*XRONOS))","v":-11.507920874332966}]
[654,6.539999999999905,{"$f":"IF(B704<CALCULATIONS!$M$9,Alfa1*SIN(miia*B704)-Alfa2*SIN(miib*B704),CURRENTX)","v":-56.297913514466224},{"$f":"IF(B704<CALCULATIONS!$M$9,-(Alfa1*COS(miia*B704)-Alfa2*COS(miib*B704)),CURRENTY)","v":-31.941052073016863},null,null,654,6.539999999999905,{"$f":"IF(H704<CALCULATIONS!$M$9,Aktina*SIN(epsilon*H704)*COS(D*H704),Aktina*SIN(epsilon*XRONOS)*COS(D*XRONOS))","v":45.74311691021822},{"$f":"IF(H704<CALCULATIONS!$M$9,Aktina*COS(epsilon*H704)*COS(D*H704),Aktina*COS(epsilon*XRONOS)*COS(D*XRONOS))","v":-11.507920874332966}]
[655,6.5499999999999048,{"$f":"IF(B705<CALCULATIONS!$M$9,Alfa1*SIN(miia*B705)-Alfa2*SIN(miib*B705),CURRENTX)","v":-56.297913514466224},{"$f":"IF(B705<CALCULATIONS!$M$9,-(Alfa1*COS(miia*B705)-Alfa2*COS(miib*B705)),CURRENTY)","v":-31.941052073016863},null,null,655,6.5499999999999048,{"$f":"IF(H705<CALCULATIONS!$M$9,Aktina*SIN(epsilon*H705)*COS(D*H705),Aktina*SIN(epsilon*XRONOS)*COS(D*XRONOS))","v":45.74311691021822},{"$f":"IF(H705<CALCULATIONS!$M$9,Aktina*COS(epsilon*H705)*COS(D*H705),Aktina*COS(epsilon*XRONOS)*COS(D*XRONOS))","v":-11.507920874332966}]
[656,6.5599999999999046,{"$f":"IF(B706<CALCULATIONS!$M$9,Alfa1*SIN(miia*B706)-Alfa2*SIN(miib*B706),CURRENTX)","v":-56.297913514466224},{"$f":"IF(B706<CALCULATIONS!$M$9,-(Alfa1*COS(miia*B706)-Alfa2*COS(miib*B706)),CURRENTY)","v":-31.941052073016863},null,null,656,6.5599999999999046,{"$f":"IF(H706<CALCULATIONS!$M$9,Aktina*SIN(epsilon*H706)*COS(D*H706),Aktina*SIN(epsilon*XRONOS)*COS(D*XRONOS))","v":45.74311691021822},{"$f":"IF(H706<CALCULATIONS!$M$9,Aktina*COS(epsilon*H706)*COS(D*H706),Aktina*COS(epsilon*XRONOS)*COS(D*XRONOS))","v":-11.507920874332966}]
[657,6.5699999999999044,{"$f":"IF(B707<CALCULATIONS!$M$9,Alfa1*SIN(miia*B707)-Alfa2*SIN(miib*B707),CURRENTX)","v":-56.297913514466224},{"$f":"IF(B707<CALCULATIONS!$M$9,-(Alfa1*COS(miia*B707)-Alfa2*COS(miib*B707)),CURRENTY)","v":-31.941052073016863},null,null,657,6.5699999999999044,{"$f":"IF(H707<CALCULATIONS!$M$9,Aktina*SIN(epsilon*H707)*COS(D*H707),Aktina*SIN(epsilon*XRONOS)*COS(D*XRONOS))","v":45.74311691021822},{"$f":"IF(H707<CALCULATIONS!$M$9,Aktina*COS(epsilon*H707)*COS(D*H707),Aktina*COS(epsilon*XRONOS)*COS(D*XRONOS))","v":-11.507920874332966}]
[658,6.5799999999999041,{"$f":"IF(B708<CALCULATIONS!$M$9,Alfa1*SIN(miia*B708)-Alfa2*SIN(miib*B708),CURRENTX)","v":-56.297913514466224},{"$f":"IF(B708<CALCULATIONS!$M$9,-(Alfa1*COS(miia*B708)-Alfa2*COS(miib*B708)),CURRENTY)","v":-31.941052073016863},null,null,658,6.5799999999999041,{"$f":"IF(H708<CALCULATIONS!$M$9,Aktina*SIN(epsilon*H708)*COS(D*H708),Aktina*SIN(epsilon*XRONOS)*COS(D*XRONOS))","v":45.74311691021822},{"$f":"IF(H708<CALCULATIONS!$M$9,Aktina*COS(epsilon*H708)*COS(D*H708),Aktina*COS(epsilon*XRONOS)*COS(D*XRONOS))","v":-11.507920874332966}]
[659,6.5899999999999039,{"$f":"IF(B709<CALCULATIONS!$M$9,Alfa1*SIN(miia*B709)-Alfa2*SIN(miib*B709),CURRENTX)","v":-56.297913514466224},{"$f":"IF(B709<CALCULATIONS!$M$9,-(Alfa1*COS(miia*B709)-Alfa2*COS(miib*B709)),CURRENTY)","v":-31.941052073016863},null,null,659,6.5899999999999039,{"$f":"IF(H709<CALCULATIONS!$M$9,Aktina*SIN(epsilon*H709)*COS(D*H709),Aktina*SIN(epsilon*XRONOS)*COS(D*XRONOS))","v":45.74311691021822},{"$f":"IF(H709<CALCULATIONS!$M$9,Aktina*COS(epsilon*H709)*COS(D*H709),Aktina*COS(epsilon*XRONOS)*COS(D*XRONOS))","v":-11.507920874332966}]
[660,6.5999999999999037,{"$f":"IF(B710<CALCULATIONS!$M$9,Alfa1*SIN(miia*B710)-Alfa2*SIN(miib*B710),CURRENTX)","v":-56.297913514466224},{"$f":"IF(B710<CALCULATIONS!$M$9,-(Alfa1*COS(miia*B710)-Alfa2*COS(miib*B710)),CURRENTY)","v":-31.941052073016863},null,null,660,6.5999999999999037,{"$f":"IF(H710<CALCULATIONS!$M$9,Aktina*SIN(epsilon*H710)*COS(D*H710),Aktina*SIN(epsilon*XRONOS)*COS(D*XRONOS))","v":45.74311691021822},{"$f":"IF(H710<CALCULATIONS!$M$9,Aktina*COS(epsilon*H710)*COS(D*H710),Aktina*COS(epsilon*XRONOS)*COS(D*XRONOS))","v":-11.507920874332966}]
[661,6.6099999999999035,{"$f":"IF(B711<CALCULATIONS!$M$9,Alfa1*SIN(miia*B711)-Alfa2*SIN(miib*B711),CURRENTX)","v":-56.297913514466224},{"$f":"IF(B711<CALCULATIONS!$M$9,-(Alfa1*COS(miia*B711)-Alfa2*COS(miib*B711)),CURRENTY)","v":-31.941052073016863},null,null,661,6.6099999999999035,{"$f":"IF(H711<CALCULATIONS!$M$9,Aktina*SIN(epsilon*H711)*COS(D*H711),Aktina*SIN(epsilon*XRONOS)*COS(D*XRONOS))","v":45.74311691021822},{"$f":"IF(H711<CALCULATIONS!$M$9,Aktina*COS(epsilon*H711)*COS(D*H711),Aktina*COS(epsilon*XRONOS)*COS(D*XRONOS))","v":-11.507920874332966}]
[662,6.6199999999999033,{"$f":"IF(B712<CALCULATIONS!$M$9,Alfa1*SIN(miia*B712)-Alfa2*SIN(miib*B712),CURRENTX)","v":-56.297913514466224},{"$f":"IF(B712<CALCULATIONS!$M$9,-(Alfa1*COS(miia*B712)-Alfa2*COS(miib*B712)),CURRENTY)","v":-31.941052073016863},null,null,662,6.6199999999999033,{"$f":"IF(H712<CALCULATIONS!$M$9,Aktina*SIN(epsilon*H712)*COS(D*H712),Aktina*SIN(epsilon*XRONOS)*COS(D*XRONOS))","v":45.74311691021822},{"$f":"IF(H712<CALCULATIONS!$M$9,Aktina*COS(epsilon*H712)*COS(D*H712),Aktina*COS(epsilon*XRONOS)*COS(D*XRONOS))","v":-11.507920874332966}]
[663,6.6299999999999031,{"$f":"IF(B713<CALCULATIONS!$M$9,Alfa1*SIN(miia*B713)-Alfa2*SIN(miib*B713),CURRENTX)","v":-56.297913514466224},{"$f":"IF(B713<CALCULATIONS!$M$9,-(Alfa1*COS(miia*B713)-Alfa2*COS(miib*B713)),CURRENTY)","v":-31.941052073016863},null,null,663,6.6299999999999031,{"$f":"IF(H713<CALCULATIONS!$M$9,Aktina*SIN(epsilon*H713)*COS(D*H713),Aktina*SIN(epsilon*XRONOS)*COS(D*XRONOS))","v":45.74311691021822},{"$f":"IF(H713<CALCULATIONS!$M$9,Aktina*COS(epsilon*H713)*COS(D*H713),Aktina*COS(epsilon*XRONOS)*COS(D*XRONOS))","v":-11.507920874332966}]
[664,6.6399999999999029,{"$f":"IF(B714<CALCULATIONS!$M$9,Alfa1*SIN(miia*B714)-Alfa2*SIN(miib*B714),CURRENTX)","v":-56.297913514466224},{"$f":"IF(B714<CALCULATIONS!$M$9,-(Alfa1*COS(miia*B714)-Alfa2*COS(miib*B714)),CURRENTY)","v":-31.941052073016863},null,null,664,6.6399999999999029,{"$f":"IF(H714<CALCULATIONS!$M$9,Aktina*SIN(epsilon*H714)*COS(D*H714),Aktina*SIN(epsilon*XRONOS)*COS(D*XRONOS))","v":45.74311691021822},{"$f":"IF(H714<CALCULATIONS!$M$9,Aktina*COS(epsilon*H714)*COS(D*H714),Aktina*COS(epsilon*XRONOS)*COS(D*XRONOS))","v":-11.507920874332966}]
[665,6.6499999999999027,{"$f":"IF(B715<CALCULATIONS!$M$9,Alfa1*SIN(miia*B715)-Alfa2*SIN(miib*B715),CURRENTX)","v":-56.297913514466224},{"$f":"IF(B715<CALCULATIONS!$M$9,-(Alfa1*COS(miia*B715)-Alfa2*COS(miib*B715)),CURRENTY)","v":-31.941052073016863},null,null,665,6.6499999999999027,{"$f":"IF(H715<CALCULATIONS!$M$9,Aktina*SIN(epsilon*H715)*COS(D*H715),Aktina*SIN(epsilon*XRONOS)*COS(D*XRONOS))","v":45.74311691021822},{"$f":"IF(H715<CALCULATIONS!$M$9,Aktina*COS(epsilon*H715)*COS(D*H715),Aktina*COS(epsilon*XRONOS)*COS(D*XRONOS))","v":-11.507920874332966}]
[666,6.6599999999999024,{"$f":"IF(B716<CALCULATIONS!$M$9,Alfa1*SIN(miia*B716)-Alfa2*SIN(miib*B716),CURRENTX)","v":-56.297913514466224},{"$f":"IF(B716<CALCULATIONS!$M$9,-(Alfa1*COS(miia*B716)-Alfa2*COS(miib*B716)),CURRENTY)","v":-31.941052073016863},null,null,666,6.6599999999999024,{"$f":"IF(H716<CALCULATIONS!$M$9,Aktina*SIN(epsilon*H716)*COS(D*H716),Aktina*SIN(epsilon*XRONOS)*COS(D*XRONOS))","v":45.74311691021822},{"$f":"IF(H716<CALCULATIONS!$M$9,Aktina*COS(epsilon*H716)*COS(D*H716),Aktina*COS(epsilon*XRONOS)*COS(D*XRONOS))","v":-11.507920874332966}]
[667,6.6699999999999022,{"$f":"IF(B717<CALCULATIONS!$M$9,Alfa1*SIN(miia*B717)-Alfa2*SIN(miib*B717),CURRENTX)","v":-56.297913514466224},{"$f":"IF(B717<CALCULATIONS!$M$9,-(Alfa1*COS(miia*B717)-Alfa2*COS(miib*B717)),CURRENTY)","v":-31.941052073016863},null,null,667,6.6699999999999022,{"$f":"IF(H717<CALCULATIONS!$M$9,Aktina*SIN(epsilon*H717)*COS(D*H717),Aktina*SIN(epsilon*XRONOS)*COS(D*XRONOS))","v":45.74311691021822},{"$f":"IF(H717<CALCULATIONS!$M$9,Aktina*COS(epsilon*H717)*COS(D*H717),Aktina*COS(epsilon*XRONOS)*COS(D*XRONOS))","v":-11.507920874332966}]
[668,6.679999999999902,{"$f":"IF(B718<CALCULATIONS!$M$9,Alfa1*SIN(miia*B718)-Alfa2*SIN(miib*B718),CURRENTX)","v":-56.297913514466224},{"$f":"IF(B718<CALCULATIONS!$M$9,-(Alfa1*COS(miia*B718)-Alfa2*COS(miib*B718)),CURRENTY)","v":-31.941052073016863},null,null,668,6.679999999999902,{"$f":"IF(H718<CALCULATIONS!$M$9,Aktina*SIN(epsilon*H718)*COS(D*H718),Aktina*SIN(epsilon*XRONOS)*COS(D*XRONOS))","v":45.74311691021822},{"$f":"IF(H718<CALCULATIONS!$M$9,Aktina*COS(epsilon*H718)*COS(D*H718),Aktina*COS(epsilon*XRONOS)*COS(D*XRONOS))","v":-11.507920874332966}]
[669,6.6899999999999018,{"$f":"IF(B719<CALCULATIONS!$M$9,Alfa1*SIN(miia*B719)-Alfa2*SIN(miib*B719),CURRENTX)","v":-56.297913514466224},{"$f":"IF(B719<CALCULATIONS!$M$9,-(Alfa1*COS(miia*B719)-Alfa2*COS(miib*B719)),CURRENTY)","v":-31.941052073016863},null,null,669,6.6899999999999018,{"$f":"IF(H719<CALCULATIONS!$M$9,Aktina*SIN(epsilon*H719)*COS(D*H719),Aktina*SIN(epsilon*XRONOS)*COS(D*XRONOS))","v":45.74311691021822},{"$f":"IF(H719<CALCULATIONS!$M$9,Aktina*COS(epsilon*H719)*COS(D*H719),Aktina*COS(epsilon*XRONOS)*COS(D*XRONOS))","v":-11.507920874332966}]
[670,6.6999999999999016,{"$f":"IF(B720<CALCULATIONS!$M$9,Alfa1*SIN(miia*B720)-Alfa2*SIN(miib*B720),CURRENTX)","v":-56.297913514466224},{"$f":"IF(B720<CALCULATIONS!$M$9,-(Alfa1*COS(miia*B720)-Alfa2*COS(miib*B720)),CURRENTY)","v":-31.941052073016863},null,null,670,6.6999999999999016,{"$f":"IF(H720<CALCULATIONS!$M$9,Aktina*SIN(epsilon*H720)*COS(D*H720),Aktina*SIN(epsilon*XRONOS)*COS(D*XRONOS))","v":45.74311691021822},{"$f":"IF(H720<CALCULATIONS!$M$9,Aktina*COS(epsilon*H720)*COS(D*H720),Aktina*COS(epsilon*XRONOS)*COS(D*XRONOS))","v":-11.507920874332966}]
[671,6.7099999999999014,{"$f":"IF(B721<CALCULATIONS!$M$9,Alfa1*SIN(miia*B721)-Alfa2*SIN(miib*B721),CURRENTX)","v":-56.297913514466224},{"$f":"IF(B721<CALCULATIONS!$M$9,-(Alfa1*COS(miia*B721)-Alfa2*COS(miib*B721)),CURRENTY)","v":-31.941052073016863},null,null,671,6.7099999999999014,{"$f":"IF(H721<CALCULATIONS!$M$9,Aktina*SIN(epsilon*H721)*COS(D*H721),Aktina*SIN(epsilon*XRONOS)*COS(D*XRONOS))","v":45.74311691021822},{"$f":"IF(H721<CALCULATIONS!$M$9,Aktina*COS(epsilon*H721)*COS(D*H721),Aktina*COS(epsilon*XRONOS)*COS(D*XRONOS))","v":-11.507920874332966}]
[672,6.7199999999999012,{"$f":"IF(B722<CALCULATIONS!$M$9,Alfa1*SIN(miia*B722)-Alfa2*SIN(miib*B722),CURRENTX)","v":-56.297913514466224},{"$f":"IF(B722<CALCULATIONS!$M$9,-(Alfa1*COS(miia*B722)-Alfa2*COS(miib*B722)),CURRENTY)","v":-31.941052073016863},null,null,672,6.7199999999999012,{"$f":"IF(H722<CALCULATIONS!$M$9,Aktina*SIN(epsilon*H722)*COS(D*H722),Aktina*SIN(epsilon*XRONOS)*COS(D*XRONOS))","v":45.74311691021822},{"$f":"IF(H722<CALCULATIONS!$M$9,Aktina*COS(epsilon*H722)*COS(D*H722),Aktina*COS(epsilon*XRONOS)*COS(D*XRONOS))","v":-11.507920874332966}]
[673,6.729999999999901,{"$f":"IF(B723<CALCULATIONS!$M$9,Alfa1*SIN(miia*B723)-Alfa2*SIN(miib*B723),CURRENTX)","v":-56.297913514466224},{"$f":"IF(B723<CALCULATIONS!$M$9,-(Alfa1*COS(miia*B723)-Alfa2*COS(miib*B723)),CURRENTY)","v":-31.941052073016863},null,null,673,6.729999999999901,{"$f":"IF(H723<CALCULATIONS!$M$9,Aktina*SIN(epsilon*H723)*COS(D*H723),Aktina*SIN(epsilon*XRONOS)*COS(D*XRONOS))","v":45.74311691021822},{"$f":"IF(H723<CALCULATIONS!$M$9,Aktina*COS(epsilon*H723)*COS(D*H723),Aktina*COS(epsilon*XRONOS)*COS(D*XRONOS))","v":-11.507920874332966}]
[674,6.7399999999999007,{"$f":"IF(B724<CALCULATIONS!$M$9,Alfa1*SIN(miia*B724)-Alfa2*SIN(miib*B724),CURRENTX)","v":-56.297913514466224},{"$f":"IF(B724<CALCULATIONS!$M$9,-(Alfa1*COS(miia*B724)-Alfa2*COS(miib*B724)),CURRENTY)","v":-31.941052073016863},null,null,674,6.7399999999999007,{"$f":"IF(H724<CALCULATIONS!$M$9,Aktina*SIN(epsilon*H724)*COS(D*H724),Aktina*SIN(epsilon*XRONOS)*COS(D*XRONOS))","v":45.74311691021822},{"$f":"IF(H724<CALCULATIONS!$M$9,Aktina*COS(epsilon*H724)*COS(D*H724),Aktina*COS(epsilon*XRONOS)*COS(D*XRONOS))","v":-11.507920874332966}]
[675,6.7499999999999005,{"$f":"IF(B725<CALCULATIONS!$M$9,Alfa1*SIN(miia*B725)-Alfa2*SIN(miib*B725),CURRENTX)","v":-56.297913514466224},{"$f":"IF(B725<CALCULATIONS!$M$9,-(Alfa1*COS(miia*B725)-Alfa2*COS(miib*B725)),CURRENTY)","v":-31.941052073016863},null,null,675,6.7499999999999005,{"$f":"IF(H725<CALCULATIONS!$M$9,Aktina*SIN(epsilon*H725)*COS(D*H725),Aktina*SIN(epsilon*XRONOS)*COS(D*XRONOS))","v":45.74311691021822},{"$f":"IF(H725<CALCULATIONS!$M$9,Aktina*COS(epsilon*H725)*COS(D*H725),Aktina*COS(epsilon*XRONOS)*COS(D*XRONOS))","v":-11.507920874332966}]
[676,6.7599999999999003,{"$f":"IF(B726<CALCULATIONS!$M$9,Alfa1*SIN(miia*B726)-Alfa2*SIN(miib*B726),CURRENTX)","v":-56.297913514466224},{"$f":"IF(B726<CALCULATIONS!$M$9,-(Alfa1*COS(miia*B726)-Alfa2*COS(miib*B726)),CURRENTY)","v":-31.941052073016863},null,null,676,6.7599999999999003,{"$f":"IF(H726<CALCULATIONS!$M$9,Aktina*SIN(epsilon*H726)*COS(D*H726),Aktina*SIN(epsilon*XRONOS)*COS(D*XRONOS))","v":45.74311691021822},{"$f":"IF(H726<CALCULATIONS!$M$9,Aktina*COS(epsilon*H726)*COS(D*H726),Aktina*COS(epsilon*XRONOS)*COS(D*XRONOS))","v":-11.507920874332966}]
[677,6.7699999999999001,{"$f":"IF(B727<CALCULATIONS!$M$9,Alfa1*SIN(miia*B727)-Alfa2*SIN(miib*B727),CURRENTX)","v":-56.297913514466224},{"$f":"IF(B727<CALCULATIONS!$M$9,-(Alfa1*COS(miia*B727)-Alfa2*COS(miib*B727)),CURRENTY)","v":-31.941052073016863},null,null,677,6.7699999999999001,{"$f":"IF(H727<CALCULATIONS!$M$9,Aktina*SIN(epsilon*H727)*COS(D*H727),Aktina*SIN(epsilon*XRONOS)*COS(D*XRONOS))","v":45.74311691021822},{"$f":"IF(H727<CALCULATIONS!$M$9,Aktina*COS(epsilon*H727)*COS(D*H727),Aktina*COS(epsilon*XRONOS)*COS(D*XRONOS))","v":-11.507920874332966}]
[678,6.7799999999998999,{"$f":"IF(B728<CALCULATIONS!$M$9,Alfa1*SIN(miia*B728)-Alfa2*SIN(miib*B728),CURRENTX)","v":-56.297913514466224},{"$f":"IF(B728<CALCULATIONS!$M$9,-(Alfa1*COS(miia*B728)-Alfa2*COS(miib*B728)),CURRENTY)","v":-31.941052073016863},null,null,678,6.7799999999998999,{"$f":"IF(H728<CALCULATIONS!$M$9,Aktina*SIN(epsilon*H728)*COS(D*H728),Aktina*SIN(epsilon*XRONOS)*COS(D*XRONOS))","v":45.74311691021822},{"$f":"IF(H728<CALCULATIONS!$M$9,Aktina*COS(epsilon*H728)*COS(D*H728),Aktina*COS(epsilon*XRONOS)*COS(D*XRONOS))","v":-11.507920874332966}]
[679,6.7899999999998997,{"$f":"IF(B729<CALCULATIONS!$M$9,Alfa1*SIN(miia*B729)-Alfa2*SIN(miib*B729),CURRENTX)","v":-56.297913514466224},{"$f":"IF(B729<CALCULATIONS!$M$9,-(Alfa1*COS(miia*B729)-Alfa2*COS(miib*B729)),CURRENTY)","v":-31.941052073016863},null,null,679,6.7899999999998997,{"$f":"IF(H729<CALCULATIONS!$M$9,Aktina*SIN(epsilon*H729)*COS(D*H729),Aktina*SIN(epsilon*XRONOS)*COS(D*XRONOS))","v":45.74311691021822},{"$f":"IF(H729<CALCULATIONS!$M$9,Aktina*COS(epsilon*H729)*COS(D*H729),Aktina*COS(epsilon*XRONOS)*COS(D*XRONOS))","v":-11.507920874332966}]
[680,6.7999999999998995,{"$f":"IF(B730<CALCULATIONS!$M$9,Alfa1*SIN(miia*B730)-Alfa2*SIN(miib*B730),CURRENTX)","v":-56.297913514466224},{"$f":"IF(B730<CALCULATIONS!$M$9,-(Alfa1*COS(miia*B730)-Alfa2*COS(miib*B730)),CURRENTY)","v":-31.941052073016863},null,null,680,6.7999999999998995,{"$f":"IF(H730<CALCULATIONS!$M$9,Aktina*SIN(epsilon*H730)*COS(D*H730),Aktina*SIN(epsilon*XRONOS)*COS(D*XRONOS))","v":45.74311691021822},{"$f":"IF(H730<CALCULATIONS!$M$9,Aktina*COS(epsilon*H730)*COS(D*H730),Aktina*COS(epsilon*XRONOS)*COS(D*XRONOS))","v":-11.507920874332966}]
[681,6.8099999999998992,{"$f":"IF(B731<CALCULATIONS!$M$9,Alfa1*SIN(miia*B731)-Alfa2*SIN(miib*B731),CURRENTX)","v":-56.297913514466224},{"$f":"IF(B731<CALCULATIONS!$M$9,-(Alfa1*COS(miia*B731)-Alfa2*COS(miib*B731)),CURRENTY)","v":-31.941052073016863},null,null,681,6.8099999999998992,{"$f":"IF(H731<CALCULATIONS!$M$9,Aktina*SIN(epsilon*H731)*COS(D*H731),Aktina*SIN(epsilon*XRONOS)*COS(D*XRONOS))","v":45.74311691021822},{"$f":"IF(H731<CALCULATIONS!$M$9,Aktina*COS(epsilon*H731)*COS(D*H731),Aktina*COS(epsilon*XRONOS)*COS(D*XRONOS))","v":-11.507920874332966}]
[682,6.819999999999899,{"$f":"IF(B732<CALCULATIONS!$M$9,Alfa1*SIN(miia*B732)-Alfa2*SIN(miib*B732),CURRENTX)","v":-56.297913514466224},{"$f":"IF(B732<CALCULATIONS!$M$9,-(Alfa1*COS(miia*B732)-Alfa2*COS(miib*B732)),CURRENTY)","v":-31.941052073016863},null,null,682,6.819999999999899,{"$f":"IF(H732<CALCULATIONS!$M$9,Aktina*SIN(epsilon*H732)*COS(D*H732),Aktina*SIN(epsilon*XRONOS)*COS(D*XRONOS))","v":45.74311691021822},{"$f":"IF(H732<CALCULATIONS!$M$9,Aktina*COS(epsilon*H732)*COS(D*H732),Aktina*COS(epsilon*XRONOS)*COS(D*XRONOS))","v":-11.507920874332966}]
[683,6.8299999999998988,{"$f":"IF(B733<CALCULATIONS!$M$9,Alfa1*SIN(miia*B733)-Alfa2*SIN(miib*B733),CURRENTX)","v":-56.297913514466224},{"$f":"IF(B733<CALCULATIONS!$M$9,-(Alfa1*COS(miia*B733)-Alfa2*COS(miib*B733)),CURRENTY)","v":-31.941052073016863},null,null,683,6.8299999999998988,{"$f":"IF(H733<CALCULATIONS!$M$9,Aktina*SIN(epsilon*H733)*COS(D*H733),Aktina*SIN(epsilon*XRONOS)*COS(D*XRONOS))","v":45.74311691021822},{"$f":"IF(H733<CALCULATIONS!$M$9,Aktina*COS(epsilon*H733)*COS(D*H733),Aktina*COS(epsilon*XRONOS)*COS(D*XRONOS))","v":-11.507920874332966}]
[684,6.8399999999998986,{"$f":"IF(B734<CALCULATIONS!$M$9,Alfa1*SIN(miia*B734)-Alfa2*SIN(miib*B734),CURRENTX)","v":-56.297913514466224},{"$f":"IF(B734<CALCULATIONS!$M$9,-(Alfa1*COS(miia*B734)-Alfa2*COS(miib*B734)),CURRENTY)","v":-31.941052073016863},null,null,684,6.8399999999998986,{"$f":"IF(H734<CALCULATIONS!$M$9,Aktina*SIN(epsilon*H734)*COS(D*H734),Aktina*SIN(epsilon*XRONOS)*COS(D*XRONOS))","v":45.74311691021822},{"$f":"IF(H734<CALCULATIONS!$M$9,Aktina*COS(epsilon*H734)*COS(D*H734),Aktina*COS(epsilon*XRONOS)*COS(D*XRONOS))","v":-11.507920874332966}]
[685,6.8499999999998984,{"$f":"IF(B735<CALCULATIONS!$M$9,Alfa1*SIN(miia*B735)-Alfa2*SIN(miib*B735),CURRENTX)","v":-56.297913514466224},{"$f":"IF(B735<CALCULATIONS!$M$9,-(Alfa1*COS(miia*B735)-Alfa2*COS(miib*B735)),CURRENTY)","v":-31.941052073016863},null,null,685,6.8499999999998984,{"$f":"IF(H735<CALCULATIONS!$M$9,Aktina*SIN(epsilon*H735)*COS(D*H735),Aktina*SIN(epsilon*XRONOS)*COS(D*XRONOS))","v":45.74311691021822},{"$f":"IF(H735<CALCULATIONS!$M$9,Aktina*COS(epsilon*H735)*COS(D*H735),Aktina*COS(epsilon*XRONOS)*COS(D*XRONOS))","v":-11.507920874332966}]
[686,6.8599999999998982,{"$f":"IF(B736<CALCULATIONS!$M$9,Alfa1*SIN(miia*B736)-Alfa2*SIN(miib*B736),CURRENTX)","v":-56.297913514466224},{"$f":"IF(B736<CALCULATIONS!$M$9,-(Alfa1*COS(miia*B736)-Alfa2*COS(miib*B736)),CURRENTY)","v":-31.941052073016863},null,null,686,6.8599999999998982,{"$f":"IF(H736<CALCULATIONS!$M$9,Aktina*SIN(epsilon*H736)*COS(D*H736),Aktina*SIN(epsilon*XRONOS)*COS(D*XRONOS))","v":45.74311691021822},{"$f":"IF(H736<CALCULATIONS!$M$9,Aktina*COS(epsilon*H736)*COS(D*H736),Aktina*COS(epsilon*XRONOS)*COS(D*XRONOS))","v":-11.507920874332966}]
[687,6.869999999999898,{"$f":"IF(B737<CALCULATIONS!$M$9,Alfa1*SIN(miia*B737)-Alfa2*SIN(miib*B737),CURRENTX)","v":-56.297913514466224},{"$f":"IF(B737<CALCULATIONS!$M$9,-(Alfa1*COS(miia*B737)-Alfa2*COS(miib*B737)),CURRENTY)","v":-31.941052073016863},null,null,687,6.869999999999898,{"$f":"IF(H737<CALCULATIONS!$M$9,Aktina*SIN(epsilon*H737)*COS(D*H737),Aktina*SIN(epsilon*XRONOS)*COS(D*XRONOS))","v":45.74311691021822},{"$f":"IF(H737<CALCULATIONS!$M$9,Aktina*COS(epsilon*H737)*COS(D*H737),Aktina*COS(epsilon*XRONOS)*COS(D*XRONOS))","v":-11.507920874332966}]
[688,6.8799999999998978,{"$f":"IF(B738<CALCULATIONS!$M$9,Alfa1*SIN(miia*B738)-Alfa2*SIN(miib*B738),CURRENTX)","v":-56.297913514466224},{"$f":"IF(B738<CALCULATIONS!$M$9,-(Alfa1*COS(miia*B738)-Alfa2*COS(miib*B738)),CURRENTY)","v":-31.941052073016863},null,null,688,6.8799999999998978,{"$f":"IF(H738<CALCULATIONS!$M$9,Aktina*SIN(epsilon*H738)*COS(D*H738),Aktina*SIN(epsilon*XRONOS)*COS(D*XRONOS))","v":45.74311691021822},{"$f":"IF(H738<CALCULATIONS!$M$9,Aktina*COS(epsilon*H738)*COS(D*H738),Aktina*COS(epsilon*XRONOS)*COS(D*XRONOS))","v":-11.507920874332966}]
[689,6.8899999999998975,{"$f":"IF(B739<CALCULATIONS!$M$9,Alfa1*SIN(miia*B739)-Alfa2*SIN(miib*B739),CURRENTX)","v":-56.297913514466224},{"$f":"IF(B739<CALCULATIONS!$M$9,-(Alfa1*COS(miia*B739)-Alfa2*COS(miib*B739)),CURRENTY)","v":-31.941052073016863},null,null,689,6.8899999999998975,{"$f":"IF(H739<CALCULATIONS!$M$9,Aktina*SIN(epsilon*H739)*COS(D*H739),Aktina*SIN(epsilon*XRONOS)*COS(D*XRONOS))","v":45.74311691021822},{"$f":"IF(H739<CALCULATIONS!$M$9,Aktina*COS(epsilon*H739)*COS(D*H739),Aktina*COS(epsilon*XRONOS)*COS(D*XRONOS))","v":-11.507920874332966}]
[690,6.8999999999998973,{"$f":"IF(B740<CALCULATIONS!$M$9,Alfa1*SIN(miia*B740)-Alfa2*SIN(miib*B740),CURRENTX)","v":-56.297913514466224},{"$f":"IF(B740<CALCULATIONS!$M$9,-(Alfa1*COS(miia*B740)-Alfa2*COS(miib*B740)),CURRENTY)","v":-31.941052073016863},null,null,690,6.8999999999998973,{"$f":"IF(H740<CALCULATIONS!$M$9,Aktina*SIN(epsilon*H740)*COS(D*H740),Aktina*SIN(epsilon*XRONOS)*COS(D*XRONOS))","v":45.74311691021822},{"$f":"IF(H740<CALCULATIONS!$M$9,Aktina*COS(epsilon*H740)*COS(D*H740),Aktina*COS(epsilon*XRONOS)*COS(D*XRONOS))","v":-11.507920874332966}]
[691,6.9099999999998971,{"$f":"IF(B741<CALCULATIONS!$M$9,Alfa1*SIN(miia*B741)-Alfa2*SIN(miib*B741),CURRENTX)","v":-56.297913514466224},{"$f":"IF(B741<CALCULATIONS!$M$9,-(Alfa1*COS(miia*B741)-Alfa2*COS(miib*B741)),CURRENTY)","v":-31.941052073016863},null,null,691,6.9099999999998971,{"$f":"IF(H741<CALCULATIONS!$M$9,Aktina*SIN(epsilon*H741)*COS(D*H741),Aktina*SIN(epsilon*XRONOS)*COS(D*XRONOS))","v":45.74311691021822},{"$f":"IF(H741<CALCULATIONS!$M$9,Aktina*COS(epsilon*H741)*COS(D*H741),Aktina*COS(epsilon*XRONOS)*COS(D*XRONOS))","v":-11.507920874332966}]
[692,6.9199999999998969,{"$f":"IF(B742<CALCULATIONS!$M$9,Alfa1*SIN(miia*B742)-Alfa2*SIN(miib*B742),CURRENTX)","v":-56.297913514466224},{"$f":"IF(B742<CALCULATIONS!$M$9,-(Alfa1*COS(miia*B742)-Alfa2*COS(miib*B742)),CURRENTY)","v":-31.941052073016863},null,null,692,6.9199999999998969,{"$f":"IF(H742<CALCULATIONS!$M$9,Aktina*SIN(epsilon*H742)*COS(D*H742),Aktina*SIN(epsilon*XRONOS)*COS(D*XRONOS))","v":45.74311691021822},{"$f":"IF(H742<CALCULATIONS!$M$9,Aktina*COS(epsilon*H742)*COS(D*H742),Aktina*COS(epsilon*XRONOS)*COS(D*XRONOS))","v":-11.507920874332966}]
[693,6.9299999999998967,{"$f":"IF(B743<CALCULATIONS!$M$9,Alfa1*SIN(miia*B743)-Alfa2*SIN(miib*B743),CURRENTX)","v":-56.297913514466224},{"$f":"IF(B743<CALCULATIONS!$M$9,-(Alfa1*COS(miia*B743)-Alfa2*COS(miib*B743)),CURRENTY)","v":-31.941052073016863},null,null,693,6.9299999999998967,{"$f":"IF(H743<CALCULATIONS!$M$9,Aktina*SIN(epsilon*H743)*COS(D*H743),Aktina*SIN(epsilon*XRONOS)*COS(D*XRONOS))","v":45.74311691021822},{"$f":"IF(H743<CALCULATIONS!$M$9,Aktina*COS(epsilon*H743)*COS(D*H743),Aktina*COS(epsilon*XRONOS)*COS(D*XRONOS))","v":-11.507920874332966}]
[694,6.9399999999998965,{"$f":"IF(B744<CALCULATIONS!$M$9,Alfa1*SIN(miia*B744)-Alfa2*SIN(miib*B744),CURRENTX)","v":-56.297913514466224},{"$f":"IF(B744<CALCULATIONS!$M$9,-(Alfa1*COS(miia*B744)-Alfa2*COS(miib*B744)),CURRENTY)","v":-31.941052073016863},null,null,694,6.9399999999998965,{"$f":"IF(H744<CALCULATIONS!$M$9,Aktina*SIN(epsilon*H744)*COS(D*H744),Aktina*SIN(epsilon*XRONOS)*COS(D*XRONOS))","v":45.74311691021822},{"$f":"IF(H744<CALCULATIONS!$M$9,Aktina*COS(epsilon*H744)*COS(D*H744),Aktina*COS(epsilon*XRONOS)*COS(D*XRONOS))","v":-11.507920874332966}]
[695,6.9499999999998963,{"$f":"IF(B745<CALCULATIONS!$M$9,Alfa1*SIN(miia*B745)-Alfa2*SIN(miib*B745),CURRENTX)","v":-56.297913514466224},{"$f":"IF(B745<CALCULATIONS!$M$9,-(Alfa1*COS(miia*B745)-Alfa2*COS(miib*B745)),CURRENTY)","v":-31.941052073016863},null,null,695,6.9499999999998963,{"$f":"IF(H745<CALCULATIONS!$M$9,Aktina*SIN(epsilon*H745)*COS(D*H745),Aktina*SIN(epsilon*XRONOS)*COS(D*XRONOS))","v":45.74311691021822},{"$f":"IF(H745<CALCULATIONS!$M$9,Aktina*COS(epsilon*H745)*COS(D*H745),Aktina*COS(epsilon*XRONOS)*COS(D*XRONOS))","v":-11.507920874332966}]
[696,6.959999999999896,{"$f":"IF(B746<CALCULATIONS!$M$9,Alfa1*SIN(miia*B746)-Alfa2*SIN(miib*B746),CURRENTX)","v":-56.297913514466224},{"$f":"IF(B746<CALCULATIONS!$M$9,-(Alfa1*COS(miia*B746)-Alfa2*COS(miib*B746)),CURRENTY)","v":-31.941052073016863},null,null,696,6.959999999999896,{"$f":"IF(H746<CALCULATIONS!$M$9,Aktina*SIN(epsilon*H746)*COS(D*H746),Aktina*SIN(epsilon*XRONOS)*COS(D*XRONOS))","v":45.74311691021822},{"$f":"IF(H746<CALCULATIONS!$M$9,Aktina*COS(epsilon*H746)*COS(D*H746),Aktina*COS(epsilon*XRONOS)*COS(D*XRONOS))","v":-11.507920874332966}]
[697,6.9699999999998958,{"$f":"IF(B747<CALCULATIONS!$M$9,Alfa1*SIN(miia*B747)-Alfa2*SIN(miib*B747),CURRENTX)","v":-56.297913514466224},{"$f":"IF(B747<CALCULATIONS!$M$9,-(Alfa1*COS(miia*B747)-Alfa2*COS(miib*B747)),CURRENTY)","v":-31.941052073016863},null,null,697,6.9699999999998958,{"$f":"IF(H747<CALCULATIONS!$M$9,Aktina*SIN(epsilon*H747)*COS(D*H747),Aktina*SIN(epsilon*XRONOS)*COS(D*XRONOS))","v":45.74311691021822},{"$f":"IF(H747<CALCULATIONS!$M$9,Aktina*COS(epsilon*H747)*COS(D*H747),Aktina*COS(epsilon*XRONOS)*COS(D*XRONOS))","v":-11.507920874332966}]
[698,6.9799999999998956,{"$f":"IF(B748<CALCULATIONS!$M$9,Alfa1*SIN(miia*B748)-Alfa2*SIN(miib*B748),CURRENTX)","v":-56.297913514466224},{"$f":"IF(B748<CALCULATIONS!$M$9,-(Alfa1*COS(miia*B748)-Alfa2*COS(miib*B748)),CURRENTY)","v":-31.941052073016863},null,null,698,6.9799999999998956,{"$f":"IF(H748<CALCULATIONS!$M$9,Aktina*SIN(epsilon*H748)*COS(D*H748),Aktina*SIN(epsilon*XRONOS)*COS(D*XRONOS))","v":45.74311691021822},{"$f":"IF(H748<CALCULATIONS!$M$9,Aktina*COS(epsilon*H748)*COS(D*H748),Aktina*COS(epsilon*XRONOS)*COS(D*XRONOS))","v":-11.507920874332966}]
[699,6.9899999999998954,{"$f":"IF(B749<CALCULATIONS!$M$9,Alfa1*SIN(miia*B749)-Alfa2*SIN(miib*B749),CURRENTX)","v":-56.297913514466224},{"$f":"IF(B749<CALCULATIONS!$M$9,-(Alfa1*COS(miia*B749)-Alfa2*COS(miib*B749)),CURRENTY)","v":-31.941052073016863},null,null,699,6.9899999999998954,{"$f":"IF(H749<CALCULATIONS!$M$9,Aktina*SIN(epsilon*H749)*COS(D*H749),Aktina*SIN(epsilon*XRONOS)*COS(D*XRONOS))","v":45.74311691021822},{"$f":"IF(H749<CALCULATIONS!$M$9,Aktina*COS(epsilon*H749)*COS(D*H749),Aktina*COS(epsilon*XRONOS)*COS(D*XRONOS))","v":-11.507920874332966}]
[700,6.9999999999998952,{"$f":"IF(B750<CALCULATIONS!$M$9,Alfa1*SIN(miia*B750)-Alfa2*SIN(miib*B750),CURRENTX)","v":-56.297913514466224},{"$f":"IF(B750<CALCULATIONS!$M$9,-(Alfa1*COS(miia*B750)-Alfa2*COS(miib*B750)),CURRENTY)","v":-31.941052073016863},null,null,700,6.9999999999998952,{"$f":"IF(H750<CALCULATIONS!$M$9,Aktina*SIN(epsilon*H750)*COS(D*H750),Aktina*SIN(epsilon*XRONOS)*COS(D*XRONOS))","v":45.74311691021822},{"$f":"IF(H750<CALCULATIONS!$M$9,Aktina*COS(epsilon*H750)*COS(D*H750),Aktina*COS(epsilon*XRONOS)*COS(D*XRONOS))","v":-11.507920874332966}]
[701,7.009999999999895,{"$f":"IF(B751<CALCULATIONS!$M$9,Alfa1*SIN(miia*B751)-Alfa2*SIN(miib*B751),CURRENTX)","v":-56.297913514466224},{"$f":"IF(B751<CALCULATIONS!$M$9,-(Alfa1*COS(miia*B751)-Alfa2*COS(miib*B751)),CURRENTY)","v":-31.941052073016863},null,null,701,7.009999999999895,{"$f":"IF(H751<CALCULATIONS!$M$9,Aktina*SIN(epsilon*H751)*COS(D*H751),Aktina*SIN(epsilon*XRONOS)*COS(D*XRONOS))","v":45.74311691021822},{"$f":"IF(H751<CALCULATIONS!$M$9,Aktina*COS(epsilon*H751)*COS(D*H751),Aktina*COS(epsilon*XRONOS)*COS(D*XRONOS))","v":-11.507920874332966}]
[702,7.0199999999998948,{"$f":"IF(B752<CALCULATIONS!$M$9,Alfa1*SIN(miia*B752)-Alfa2*SIN(miib*B752),CURRENTX)","v":-56.297913514466224},{"$f":"IF(B752<CALCULATIONS!$M$9,-(Alfa1*COS(miia*B752)-Alfa2*COS(miib*B752)),CURRENTY)","v":-31.941052073016863},null,null,702,7.0199999999998948,{"$f":"IF(H752<CALCULATIONS!$M$9,Aktina*SIN(epsilon*H752)*COS(D*H752),Aktina*SIN(epsilon*XRONOS)*COS(D*XRONOS))","v":45.74311691021822},{"$f":"IF(H752<CALCULATIONS!$M$9,Aktina*COS(epsilon*H752)*COS(D*H752),Aktina*COS(epsilon*XRONOS)*COS(D*XRONOS))","v":-11.507920874332966}]
[703,7.0299999999998946,{"$f":"IF(B753<CALCULATIONS!$M$9,Alfa1*SIN(miia*B753)-Alfa2*SIN(miib*B753),CURRENTX)","v":-56.297913514466224},{"$f":"IF(B753<CALCULATIONS!$M$9,-(Alfa1*COS(miia*B753)-Alfa2*COS(miib*B753)),CURRENTY)","v":-31.941052073016863},null,null,703,7.0299999999998946,{"$f":"IF(H753<CALCULATIONS!$M$9,Aktina*SIN(epsilon*H753)*COS(D*H753),Aktina*SIN(epsilon*XRONOS)*COS(D*XRONOS))","v":45.74311691021822},{"$f":"IF(H753<CALCULATIONS!$M$9,Aktina*COS(epsilon*H753)*COS(D*H753),Aktina*COS(epsilon*XRONOS)*COS(D*XRONOS))","v":-11.507920874332966}]
[704,7.0399999999998943,{"$f":"IF(B754<CALCULATIONS!$M$9,Alfa1*SIN(miia*B754)-Alfa2*SIN(miib*B754),CURRENTX)","v":-56.297913514466224},{"$f":"IF(B754<CALCULATIONS!$M$9,-(Alfa1*COS(miia*B754)-Alfa2*COS(miib*B754)),CURRENTY)","v":-31.941052073016863},null,null,704,7.0399999999998943,{"$f":"IF(H754<CALCULATIONS!$M$9,Aktina*SIN(epsilon*H754)*COS(D*H754),Aktina*SIN(epsilon*XRONOS)*COS(D*XRONOS))","v":45.74311691021822},{"$f":"IF(H754<CALCULATIONS!$M$9,Aktina*COS(epsilon*H754)*COS(D*H754),Aktina*COS(epsilon*XRONOS)*COS(D*XRONOS))","v":-11.507920874332966}]
[705,{"$f":"B754+dt","v":7.0499999999998941},{"$f":"IF(B755<CALCULATIONS!$M$9,Alfa1*SIN(miia*B755)-Alfa2*SIN(miib*B755),CURRENTX)","v":-56.297913514466224},{"$f":"IF(B755<CALCULATIONS!$M$9,-(Alfa1*COS(miia*B755)-Alfa2*COS(miib*B755)),CURRENTY)","v":-31.941052073016863},null,null,705,{"$f":"H754+dt","v":7.0499999999998941},{"$f":"IF(H755<CALCULATIONS!$M$9,Aktina*SIN(epsilon*H755)*COS(D*H755),Aktina*SIN(epsilon*XRONOS)*COS(D*XRONOS))","v":45.74311691021822},{"$f":"IF(H755<CALCULATIONS!$M$9,Aktina*COS(epsilon*H755)*COS(D*H755),Aktina*COS(epsilon*XRONOS)*COS(D*XRONOS))","v":-11.507920874332966}]
[{"$f":"A755+1","v":706},7.0599999999998939,{"$f":"IF(B756<CALCULATIONS!$M$9,Alfa1*SIN(miia*B756)-Alfa2*SIN(miib*B756),CURRENTX)","v":-56.297913514466224},{"$f":"IF(B756<CALCULATIONS!$M$9,-(Alfa1*COS(miia*B756)-Alfa2*COS(miib*B756)),CURRENTY)","v":-31.941052073016863},null,null,{"$f":"G755+1","v":706},7.0599999999998939,{"$f":"IF(H756<CALCULATIONS!$M$9,Aktina*SIN(epsilon*H756)*COS(D*H756),Aktina*SIN(epsilon*XRONOS)*COS(D*XRONOS))","v":45.74311691021822},{"$f":"IF(H756<CALCULATIONS!$M$9,Aktina*COS(epsilon*H756)*COS(D*H756),Aktina*COS(epsilon*XRONOS)*COS(D*XRONOS))","v":-11.507920874332966}]
[707,7.0699999999998937,{"$f":"IF(B757<CALCULATIONS!$M$9,Alfa1*SIN(miia*B757)-Alfa2*SIN(miib*B757),CURRENTX)","v":-56.297913514466224},{"$f":"IF(B757<CALCULATIONS!$M$9,-(Alfa1*COS(miia*B757)-Alfa2*COS(miib*B757)),CURRENTY)","v":-31.941052073016863},null,null,707,7.0699999999998937,{"$f":"IF(H757<CALCULATIONS!$M$9,Aktina*SIN(epsilon*H757)*COS(D*H757),Aktina*SIN(epsilon*XRONOS)*COS(D*XRONOS))","v":45.74311691021822},{"$f":"IF(H757<CALCULATIONS!$M$9,Aktina*COS(epsilon*H757)*COS(D*H757),Aktina*COS(epsilon*XRONOS)*COS(D*XRONOS))","v":-11.507920874332966}]
[708,7.0799999999998935,{"$f":"IF(B758<CALCULATIONS!$M$9,Alfa1*SIN(miia*B758)-Alfa2*SIN(miib*B758),CURRENTX)","v":-56.297913514466224},{"$f":"IF(B758<CALCULATIONS!$M$9,-(Alfa1*COS(miia*B758)-Alfa2*COS(miib*B758)),CURRENTY)","v":-31.941052073016863},null,null,708,7.0799999999998935,{"$f":"IF(H758<CALCULATIONS!$M$9,Aktina*SIN(epsilon*H758)*COS(D*H758),Aktina*SIN(epsilon*XRONOS)*COS(D*XRONOS))","v":45.74311691021822},{"$f":"IF(H758<CALCULATIONS!$M$9,Aktina*COS(epsilon*H758)*COS(D*H758),Aktina*COS(epsilon*XRONOS)*COS(D*XRONOS))","v":-11.507920874332966}]
[709,7.0899999999998933,{"$f":"IF(B759<CALCULATIONS!$M$9,Alfa1*SIN(miia*B759)-Alfa2*SIN(miib*B759),CURRENTX)","v":-56.297913514466224},{"$f":"IF(B759<CALCULATIONS!$M$9,-(Alfa1*COS(miia*B759)-Alfa2*COS(miib*B759)),CURRENTY)","v":-31.941052073016863},null,null,709,7.0899999999998933,{"$f":"IF(H759<CALCULATIONS!$M$9,Aktina*SIN(epsilon*H759)*COS(D*H759),Aktina*SIN(epsilon*XRONOS)*COS(D*XRONOS))","v":45.74311691021822},{"$f":"IF(H759<CALCULATIONS!$M$9,Aktina*COS(epsilon*H759)*COS(D*H759),Aktina*COS(epsilon*XRONOS)*COS(D*XRONOS))","v":-11.507920874332966}]
[710,7.0999999999998931,{"$f":"IF(B760<CALCULATIONS!$M$9,Alfa1*SIN(miia*B760)-Alfa2*SIN(miib*B760),CURRENTX)","v":-56.297913514466224},{"$f":"IF(B760<CALCULATIONS!$M$9,-(Alfa1*COS(miia*B760)-Alfa2*COS(miib*B760)),CURRENTY)","v":-31.941052073016863},null,null,710,7.0999999999998931,{"$f":"IF(H760<CALCULATIONS!$M$9,Aktina*SIN(epsilon*H760)*COS(D*H760),Aktina*SIN(epsilon*XRONOS)*COS(D*XRONOS))","v":45.74311691021822},{"$f":"IF(H760<CALCULATIONS!$M$9,Aktina*COS(epsilon*H760)*COS(D*H760),Aktina*COS(epsilon*XRONOS)*COS(D*XRONOS))","v":-11.507920874332966}]
[711,7.1099999999998929,{"$f":"IF(B761<CALCULATIONS!$M$9,Alfa1*SIN(miia*B761)-Alfa2*SIN(miib*B761),CURRENTX)","v":-56.297913514466224},{"$f":"IF(B761<CALCULATIONS!$M$9,-(Alfa1*COS(miia*B761)-Alfa2*COS(miib*B761)),CURRENTY)","v":-31.941052073016863},null,null,711,7.1099999999998929,{"$f":"IF(H761<CALCULATIONS!$M$9,Aktina*SIN(epsilon*H761)*COS(D*H761),Aktina*SIN(epsilon*XRONOS)*COS(D*XRONOS))","v":45.74311691021822},{"$f":"IF(H761<CALCULATIONS!$M$9,Aktina*COS(epsilon*H761)*COS(D*H761),Aktina*COS(epsilon*XRONOS)*COS(D*XRONOS))","v":-11.507920874332966}]
[712,7.1199999999998926,{"$f":"IF(B762<CALCULATIONS!$M$9,Alfa1*SIN(miia*B762)-Alfa2*SIN(miib*B762),CURRENTX)","v":-56.297913514466224},{"$f":"IF(B762<CALCULATIONS!$M$9,-(Alfa1*COS(miia*B762)-Alfa2*COS(miib*B762)),CURRENTY)","v":-31.941052073016863},null,null,712,7.1199999999998926,{"$f":"IF(H762<CALCULATIONS!$M$9,Aktina*SIN(epsilon*H762)*COS(D*H762),Aktina*SIN(epsilon*XRONOS)*COS(D*XRONOS))","v":45.74311691021822},{"$f":"IF(H762<CALCULATIONS!$M$9,Aktina*COS(epsilon*H762)*COS(D*H762),Aktina*COS(epsilon*XRONOS)*COS(D*XRONOS))","v":-11.507920874332966}]
[713,7.1299999999998924,{"$f":"IF(B763<CALCULATIONS!$M$9,Alfa1*SIN(miia*B763)-Alfa2*SIN(miib*B763),CURRENTX)","v":-56.297913514466224},{"$f":"IF(B763<CALCULATIONS!$M$9,-(Alfa1*COS(miia*B763)-Alfa2*COS(miib*B763)),CURRENTY)","v":-31.941052073016863},null,null,713,7.1299999999998924,{"$f":"IF(H763<CALCULATIONS!$M$9,Aktina*SIN(epsilon*H763)*COS(D*H763),Aktina*SIN(epsilon*XRONOS)*COS(D*XRONOS))","v":45.74311691021822},{"$f":"IF(H763<CALCULATIONS!$M$9,Aktina*COS(epsilon*H763)*COS(D*H763),Aktina*COS(epsilon*XRONOS)*COS(D*XRONOS))","v":-11.507920874332966}]
[714,7.1399999999998922,{"$f":"IF(B764<CALCULATIONS!$M$9,Alfa1*SIN(miia*B764)-Alfa2*SIN(miib*B764),CURRENTX)","v":-56.297913514466224},{"$f":"IF(B764<CALCULATIONS!$M$9,-(Alfa1*COS(miia*B764)-Alfa2*COS(miib*B764)),CURRENTY)","v":-31.941052073016863},null,null,714,7.1399999999998922,{"$f":"IF(H764<CALCULATIONS!$M$9,Aktina*SIN(epsilon*H764)*COS(D*H764),Aktina*SIN(epsilon*XRONOS)*COS(D*XRONOS))","v":45.74311691021822},{"$f":"IF(H764<CALCULATIONS!$M$9,Aktina*COS(epsilon*H764)*COS(D*H764),Aktina*COS(epsilon*XRONOS)*COS(D*XRONOS))","v":-11.507920874332966}]
[715,7.149999999999892,{"$f":"IF(B765<CALCULATIONS!$M$9,Alfa1*SIN(miia*B765)-Alfa2*SIN(miib*B765),CURRENTX)","v":-56.297913514466224},{"$f":"IF(B765<CALCULATIONS!$M$9,-(Alfa1*COS(miia*B765)-Alfa2*COS(miib*B765)),CURRENTY)","v":-31.941052073016863},null,null,715,7.149999999999892,{"$f":"IF(H765<CALCULATIONS!$M$9,Aktina*SIN(epsilon*H765)*COS(D*H765),Aktina*SIN(epsilon*XRONOS)*COS(D*XRONOS))","v":45.74311691021822},{"$f":"IF(H765<CALCULATIONS!$M$9,Aktina*COS(epsilon*H765)*COS(D*H765),Aktina*COS(epsilon*XRONOS)*COS(D*XRONOS))","v":-11.507920874332966}]
[716,7.1599999999998918,{"$f":"IF(B766<CALCULATIONS!$M$9,Alfa1*SIN(miia*B766)-Alfa2*SIN(miib*B766),CURRENTX)","v":-56.297913514466224},{"$f":"IF(B766<CALCULATIONS!$M$9,-(Alfa1*COS(miia*B766)-Alfa2*COS(miib*B766)),CURRENTY)","v":-31.941052073016863},null,null,716,7.1599999999998918,{"$f":"IF(H766<CALCULATIONS!$M$9,Aktina*SIN(epsilon*H766)*COS(D*H766),Aktina*SIN(epsilon*XRONOS)*COS(D*XRONOS))","v":45.74311691021822},{"$f":"IF(H766<CALCULATIONS!$M$9,Aktina*COS(epsilon*H766)*COS(D*H766),Aktina*COS(epsilon*XRONOS)*COS(D*XRONOS))","v":-11.507920874332966}]
[717,7.1699999999998916,{"$f":"IF(B767<CALCULATIONS!$M$9,Alfa1*SIN(miia*B767)-Alfa2*SIN(miib*B767),CURRENTX)","v":-56.297913514466224},{"$f":"IF(B767<CALCULATIONS!$M$9,-(Alfa1*COS(miia*B767)-Alfa2*COS(miib*B767)),CURRENTY)","v":-31.941052073016863},null,null,717,7.1699999999998916,{"$f":"IF(H767<CALCULATIONS!$M$9,Aktina*SIN(epsilon*H767)*COS(D*H767),Aktina*SIN(epsilon*XRONOS)*COS(D*XRONOS))","v":45.74311691021822},{"$f":"IF(H767<CALCULATIONS!$M$9,Aktina*COS(epsilon*H767)*COS(D*H767),Aktina*COS(epsilon*XRONOS)*COS(D*XRONOS))","v":-11.507920874332966}]
[718,7.1799999999998914,{"$f":"IF(B768<CALCULATIONS!$M$9,Alfa1*SIN(miia*B768)-Alfa2*SIN(miib*B768),CURRENTX)","v":-56.297913514466224},{"$f":"IF(B768<CALCULATIONS!$M$9,-(Alfa1*COS(miia*B768)-Alfa2*COS(miib*B768)),CURRENTY)","v":-31.941052073016863},null,null,718,7.1799999999998914,{"$f":"IF(H768<CALCULATIONS!$M$9,Aktina*SIN(epsilon*H768)*COS(D*H768),Aktina*SIN(epsilon*XRONOS)*COS(D*XRONOS))","v":45.74311691021822},{"$f":"IF(H768<CALCULATIONS!$M$9,Aktina*COS(epsilon*H768)*COS(D*H768),Aktina*COS(epsilon*XRONOS)*COS(D*XRONOS))","v":-11.507920874332966}]
[719,7.1899999999998911,{"$f":"IF(B769<CALCULATIONS!$M$9,Alfa1*SIN(miia*B769)-Alfa2*SIN(miib*B769),CURRENTX)","v":-56.297913514466224},{"$f":"IF(B769<CALCULATIONS!$M$9,-(Alfa1*COS(miia*B769)-Alfa2*COS(miib*B769)),CURRENTY)","v":-31.941052073016863},null,null,719,7.1899999999998911,{"$f":"IF(H769<CALCULATIONS!$M$9,Aktina*SIN(epsilon*H769)*COS(D*H769),Aktina*SIN(epsilon*XRONOS)*COS(D*XRONOS))","v":45.74311691021822},{"$f":"IF(H769<CALCULATIONS!$M$9,Aktina*COS(epsilon*H769)*COS(D*H769),Aktina*COS(epsilon*XRONOS)*COS(D*XRONOS))","v":-11.507920874332966}]
[720,7.1999999999998909,{"$f":"IF(B770<CALCULATIONS!$M$9,Alfa1*SIN(miia*B770)-Alfa2*SIN(miib*B770),CURRENTX)","v":-56.297913514466224},{"$f":"IF(B770<CALCULATIONS!$M$9,-(Alfa1*COS(miia*B770)-Alfa2*COS(miib*B770)),CURRENTY)","v":-31.941052073016863},null,null,720,7.1999999999998909,{"$f":"IF(H770<CALCULATIONS!$M$9,Aktina*SIN(epsilon*H770)*COS(D*H770),Aktina*SIN(epsilon*XRONOS)*COS(D*XRONOS))","v":45.74311691021822},{"$f":"IF(H770<CALCULATIONS!$M$9,Aktina*COS(epsilon*H770)*COS(D*H770),Aktina*COS(epsilon*XRONOS)*COS(D*XRONOS))","v":-11.507920874332966}]
[721,7.2099999999998907,{"$f":"IF(B771<CALCULATIONS!$M$9,Alfa1*SIN(miia*B771)-Alfa2*SIN(miib*B771),CURRENTX)","v":-56.297913514466224},{"$f":"IF(B771<CALCULATIONS!$M$9,-(Alfa1*COS(miia*B771)-Alfa2*COS(miib*B771)),CURRENTY)","v":-31.941052073016863},null,null,721,7.2099999999998907,{"$f":"IF(H771<CALCULATIONS!$M$9,Aktina*SIN(epsilon*H771)*COS(D*H771),Aktina*SIN(epsilon*XRONOS)*COS(D*XRONOS))","v":45.74311691021822},{"$f":"IF(H771<CALCULATIONS!$M$9,Aktina*COS(epsilon*H771)*COS(D*H771),Aktina*COS(epsilon*XRONOS)*COS(D*XRONOS))","v":-11.507920874332966}]
[722,7.2199999999998905,{"$f":"IF(B772<CALCULATIONS!$M$9,Alfa1*SIN(miia*B772)-Alfa2*SIN(miib*B772),CURRENTX)","v":-56.297913514466224},{"$f":"IF(B772<CALCULATIONS!$M$9,-(Alfa1*COS(miia*B772)-Alfa2*COS(miib*B772)),CURRENTY)","v":-31.941052073016863},null,null,722,7.2199999999998905,{"$f":"IF(H772<CALCULATIONS!$M$9,Aktina*SIN(epsilon*H772)*COS(D*H772),Aktina*SIN(epsilon*XRONOS)*COS(D*XRONOS))","v":45.74311691021822},{"$f":"IF(H772<CALCULATIONS!$M$9,Aktina*COS(epsilon*H772)*COS(D*H772),Aktina*COS(epsilon*XRONOS)*COS(D*XRONOS))","v":-11.507920874332966}]
[723,7.2299999999998903,{"$f":"IF(B773<CALCULATIONS!$M$9,Alfa1*SIN(miia*B773)-Alfa2*SIN(miib*B773),CURRENTX)","v":-56.297913514466224},{"$f":"IF(B773<CALCULATIONS!$M$9,-(Alfa1*COS(miia*B773)-Alfa2*COS(miib*B773)),CURRENTY)","v":-31.941052073016863},null,null,723,7.2299999999998903,{"$f":"IF(H773<CALCULATIONS!$M$9,Aktina*SIN(epsilon*H773)*COS(D*H773),Aktina*SIN(epsilon*XRONOS)*COS(D*XRONOS))","v":45.74311691021822},{"$f":"IF(H773<CALCULATIONS!$M$9,Aktina*COS(epsilon*H773)*COS(D*H773),Aktina*COS(epsilon*XRONOS)*COS(D*XRONOS))","v":-11.507920874332966}]
[724,7.2399999999998901,{"$f":"IF(B774<CALCULATIONS!$M$9,Alfa1*SIN(miia*B774)-Alfa2*SIN(miib*B774),CURRENTX)","v":-56.297913514466224},{"$f":"IF(B774<CALCULATIONS!$M$9,-(Alfa1*COS(miia*B774)-Alfa2*COS(miib*B774)),CURRENTY)","v":-31.941052073016863},null,null,724,7.2399999999998901,{"$f":"IF(H774<CALCULATIONS!$M$9,Aktina*SIN(epsilon*H774)*COS(D*H774),Aktina*SIN(epsilon*XRONOS)*COS(D*XRONOS))","v":45.74311691021822},{"$f":"IF(H774<CALCULATIONS!$M$9,Aktina*COS(epsilon*H774)*COS(D*H774),Aktina*COS(epsilon*XRONOS)*COS(D*XRONOS))","v":-11.507920874332966}]
[725,7.2499999999998899,{"$f":"IF(B775<CALCULATIONS!$M$9,Alfa1*SIN(miia*B775)-Alfa2*SIN(miib*B775),CURRENTX)","v":-56.297913514466224},{"$f":"IF(B775<CALCULATIONS!$M$9,-(Alfa1*COS(miia*B775)-Alfa2*COS(miib*B775)),CURRENTY)","v":-31.941052073016863},null,null,725,7.2499999999998899,{"$f":"IF(H775<CALCULATIONS!$M$9,Aktina*SIN(epsilon*H775)*COS(D*H775),Aktina*SIN(epsilon*XRONOS)*COS(D*XRONOS))","v":45.74311691021822},{"$f":"IF(H775<CALCULATIONS!$M$9,Aktina*COS(epsilon*H775)*COS(D*H775),Aktina*COS(epsilon*XRONOS)*COS(D*XRONOS))","v":-11.507920874332966}]
[726,7.2599999999998897,{"$f":"IF(B776<CALCULATIONS!$M$9,Alfa1*SIN(miia*B776)-Alfa2*SIN(miib*B776),CURRENTX)","v":-56.297913514466224},{"$f":"IF(B776<CALCULATIONS!$M$9,-(Alfa1*COS(miia*B776)-Alfa2*COS(miib*B776)),CURRENTY)","v":-31.941052073016863},null,null,726,7.2599999999998897,{"$f":"IF(H776<CALCULATIONS!$M$9,Aktina*SIN(epsilon*H776)*COS(D*H776),Aktina*SIN(epsilon*XRONOS)*COS(D*XRONOS))","v":45.74311691021822},{"$f":"IF(H776<CALCULATIONS!$M$9,Aktina*COS(epsilon*H776)*COS(D*H776),Aktina*COS(epsilon*XRONOS)*COS(D*XRONOS))","v":-11.507920874332966}]
[727,7.2699999999998894,{"$f":"IF(B777<CALCULATIONS!$M$9,Alfa1*SIN(miia*B777)-Alfa2*SIN(miib*B777),CURRENTX)","v":-56.297913514466224},{"$f":"IF(B777<CALCULATIONS!$M$9,-(Alfa1*COS(miia*B777)-Alfa2*COS(miib*B777)),CURRENTY)","v":-31.941052073016863},null,null,727,7.2699999999998894,{"$f":"IF(H777<CALCULATIONS!$M$9,Aktina*SIN(epsilon*H777)*COS(D*H777),Aktina*SIN(epsilon*XRONOS)*COS(D*XRONOS))","v":45.74311691021822},{"$f":"IF(H777<CALCULATIONS!$M$9,Aktina*COS(epsilon*H777)*COS(D*H777),Aktina*COS(epsilon*XRONOS)*COS(D*XRONOS))","v":-11.507920874332966}]
[728,7.2799999999998892,{"$f":"IF(B778<CALCULATIONS!$M$9,Alfa1*SIN(miia*B778)-Alfa2*SIN(miib*B778),CURRENTX)","v":-56.297913514466224},{"$f":"IF(B778<CALCULATIONS!$M$9,-(Alfa1*COS(miia*B778)-Alfa2*COS(miib*B778)),CURRENTY)","v":-31.941052073016863},null,null,728,7.2799999999998892,{"$f":"IF(H778<CALCULATIONS!$M$9,Aktina*SIN(epsilon*H778)*COS(D*H778),Aktina*SIN(epsilon*XRONOS)*COS(D*XRONOS))","v":45.74311691021822},{"$f":"IF(H778<CALCULATIONS!$M$9,Aktina*COS(epsilon*H778)*COS(D*H778),Aktina*COS(epsilon*XRONOS)*COS(D*XRONOS))","v":-11.507920874332966}]
[729,7.289999999999889,{"$f":"IF(B779<CALCULATIONS!$M$9,Alfa1*SIN(miia*B779)-Alfa2*SIN(miib*B779),CURRENTX)","v":-56.297913514466224},{"$f":"IF(B779<CALCULATIONS!$M$9,-(Alfa1*COS(miia*B779)-Alfa2*COS(miib*B779)),CURRENTY)","v":-31.941052073016863},null,null,729,7.289999999999889,{"$f":"IF(H779<CALCULATIONS!$M$9,Aktina*SIN(epsilon*H779)*COS(D*H779),Aktina*SIN(epsilon*XRONOS)*COS(D*XRONOS))","v":45.74311691021822},{"$f":"IF(H779<CALCULATIONS!$M$9,Aktina*COS(epsilon*H779)*COS(D*H779),Aktina*COS(epsilon*XRONOS)*COS(D*XRONOS))","v":-11.507920874332966}]
[730,7.2999999999998888,{"$f":"IF(B780<CALCULATIONS!$M$9,Alfa1*SIN(miia*B780)-Alfa2*SIN(miib*B780),CURRENTX)","v":-56.297913514466224},{"$f":"IF(B780<CALCULATIONS!$M$9,-(Alfa1*COS(miia*B780)-Alfa2*COS(miib*B780)),CURRENTY)","v":-31.941052073016863},null,null,730,7.2999999999998888,{"$f":"IF(H780<CALCULATIONS!$M$9,Aktina*SIN(epsilon*H780)*COS(D*H780),Aktina*SIN(epsilon*XRONOS)*COS(D*XRONOS))","v":45.74311691021822},{"$f":"IF(H780<CALCULATIONS!$M$9,Aktina*COS(epsilon*H780)*COS(D*H780),Aktina*COS(epsilon*XRONOS)*COS(D*XRONOS))","v":-11.507920874332966}]
[731,7.3099999999998886,{"$f":"IF(B781<CALCULATIONS!$M$9,Alfa1*SIN(miia*B781)-Alfa2*SIN(miib*B781),CURRENTX)","v":-56.297913514466224},{"$f":"IF(B781<CALCULATIONS!$M$9,-(Alfa1*COS(miia*B781)-Alfa2*COS(miib*B781)),CURRENTY)","v":-31.941052073016863},null,null,731,7.3099999999998886,{"$f":"IF(H781<CALCULATIONS!$M$9,Aktina*SIN(epsilon*H781)*COS(D*H781),Aktina*SIN(epsilon*XRONOS)*COS(D*XRONOS))","v":45.74311691021822},{"$f":"IF(H781<CALCULATIONS!$M$9,Aktina*COS(epsilon*H781)*COS(D*H781),Aktina*COS(epsilon*XRONOS)*COS(D*XRONOS))","v":-11.507920874332966}]
[732,7.3199999999998884,{"$f":"IF(B782<CALCULATIONS!$M$9,Alfa1*SIN(miia*B782)-Alfa2*SIN(miib*B782),CURRENTX)","v":-56.297913514466224},{"$f":"IF(B782<CALCULATIONS!$M$9,-(Alfa1*COS(miia*B782)-Alfa2*COS(miib*B782)),CURRENTY)","v":-31.941052073016863},null,null,732,7.3199999999998884,{"$f":"IF(H782<CALCULATIONS!$M$9,Aktina*SIN(epsilon*H782)*COS(D*H782),Aktina*SIN(epsilon*XRONOS)*COS(D*XRONOS))","v":45.74311691021822},{"$f":"IF(H782<CALCULATIONS!$M$9,Aktina*COS(epsilon*H782)*COS(D*H782),Aktina*COS(epsilon*XRONOS)*COS(D*XRONOS))","v":-11.507920874332966}]
[733,7.3299999999998882,{"$f":"IF(B783<CALCULATIONS!$M$9,Alfa1*SIN(miia*B783)-Alfa2*SIN(miib*B783),CURRENTX)","v":-56.297913514466224},{"$f":"IF(B783<CALCULATIONS!$M$9,-(Alfa1*COS(miia*B783)-Alfa2*COS(miib*B783)),CURRENTY)","v":-31.941052073016863},null,null,733,7.3299999999998882,{"$f":"IF(H783<CALCULATIONS!$M$9,Aktina*SIN(epsilon*H783)*COS(D*H783),Aktina*SIN(epsilon*XRONOS)*COS(D*XRONOS))","v":45.74311691021822},{"$f":"IF(H783<CALCULATIONS!$M$9,Aktina*COS(epsilon*H783)*COS(D*H783),Aktina*COS(epsilon*XRONOS)*COS(D*XRONOS))","v":-11.507920874332966}]
[734,7.3399999999998879,{"$f":"IF(B784<CALCULATIONS!$M$9,Alfa1*SIN(miia*B784)-Alfa2*SIN(miib*B784),CURRENTX)","v":-56.297913514466224},{"$f":"IF(B784<CALCULATIONS!$M$9,-(Alfa1*COS(miia*B784)-Alfa2*COS(miib*B784)),CURRENTY)","v":-31.941052073016863},null,null,734,7.3399999999998879,{"$f":"IF(H784<CALCULATIONS!$M$9,Aktina*SIN(epsilon*H784)*COS(D*H784),Aktina*SIN(epsilon*XRONOS)*COS(D*XRONOS))","v":45.74311691021822},{"$f":"IF(H784<CALCULATIONS!$M$9,Aktina*COS(epsilon*H784)*COS(D*H784),Aktina*COS(epsilon*XRONOS)*COS(D*XRONOS))","v":-11.507920874332966}]
[735,7.3499999999998877,{"$f":"IF(B785<CALCULATIONS!$M$9,Alfa1*SIN(miia*B785)-Alfa2*SIN(miib*B785),CURRENTX)","v":-56.297913514466224},{"$f":"IF(B785<CALCULATIONS!$M$9,-(Alfa1*COS(miia*B785)-Alfa2*COS(miib*B785)),CURRENTY)","v":-31.941052073016863},null,null,735,7.3499999999998877,{"$f":"IF(H785<CALCULATIONS!$M$9,Aktina*SIN(epsilon*H785)*COS(D*H785),Aktina*SIN(epsilon*XRONOS)*COS(D*XRONOS))","v":45.74311691021822},{"$f":"IF(H785<CALCULATIONS!$M$9,Aktina*COS(epsilon*H785)*COS(D*H785),Aktina*COS(epsilon*XRONOS)*COS(D*XRONOS))","v":-11.507920874332966}]
[736,7.3599999999998875,{"$f":"IF(B786<CALCULATIONS!$M$9,Alfa1*SIN(miia*B786)-Alfa2*SIN(miib*B786),CURRENTX)","v":-56.297913514466224},{"$f":"IF(B786<CALCULATIONS!$M$9,-(Alfa1*COS(miia*B786)-Alfa2*COS(miib*B786)),CURRENTY)","v":-31.941052073016863},null,null,736,7.3599999999998875,{"$f":"IF(H786<CALCULATIONS!$M$9,Aktina*SIN(epsilon*H786)*COS(D*H786),Aktina*SIN(epsilon*XRONOS)*COS(D*XRONOS))","v":45.74311691021822},{"$f":"IF(H786<CALCULATIONS!$M$9,Aktina*COS(epsilon*H786)*COS(D*H786),Aktina*COS(epsilon*XRONOS)*COS(D*XRONOS))","v":-11.507920874332966}]
[737,7.3699999999998873,{"$f":"IF(B787<CALCULATIONS!$M$9,Alfa1*SIN(miia*B787)-Alfa2*SIN(miib*B787),CURRENTX)","v":-56.297913514466224},{"$f":"IF(B787<CALCULATIONS!$M$9,-(Alfa1*COS(miia*B787)-Alfa2*COS(miib*B787)),CURRENTY)","v":-31.941052073016863},null,null,737,7.3699999999998873,{"$f":"IF(H787<CALCULATIONS!$M$9,Aktina*SIN(epsilon*H787)*COS(D*H787),Aktina*SIN(epsilon*XRONOS)*COS(D*XRONOS))","v":45.74311691021822},{"$f":"IF(H787<CALCULATIONS!$M$9,Aktina*COS(epsilon*H787)*COS(D*H787),Aktina*COS(epsilon*XRONOS)*COS(D*XRONOS))","v":-11.507920874332966}]
[738,7.3799999999998871,{"$f":"IF(B788<CALCULATIONS!$M$9,Alfa1*SIN(miia*B788)-Alfa2*SIN(miib*B788),CURRENTX)","v":-56.297913514466224},{"$f":"IF(B788<CALCULATIONS!$M$9,-(Alfa1*COS(miia*B788)-Alfa2*COS(miib*B788)),CURRENTY)","v":-31.941052073016863},null,null,738,7.3799999999998871,{"$f":"IF(H788<CALCULATIONS!$M$9,Aktina*SIN(epsilon*H788)*COS(D*H788),Aktina*SIN(epsilon*XRONOS)*COS(D*XRONOS))","v":45.74311691021822},{"$f":"IF(H788<CALCULATIONS!$M$9,Aktina*COS(epsilon*H788)*COS(D*H788),Aktina*COS(epsilon*XRONOS)*COS(D*XRONOS))","v":-11.507920874332966}]
[739,7.3899999999998869,{"$f":"IF(B789<CALCULATIONS!$M$9,Alfa1*SIN(miia*B789)-Alfa2*SIN(miib*B789),CURRENTX)","v":-56.297913514466224},{"$f":"IF(B789<CALCULATIONS!$M$9,-(Alfa1*COS(miia*B789)-Alfa2*COS(miib*B789)),CURRENTY)","v":-31.941052073016863},null,null,739,7.3899999999998869,{"$f":"IF(H789<CALCULATIONS!$M$9,Aktina*SIN(epsilon*H789)*COS(D*H789),Aktina*SIN(epsilon*XRONOS)*COS(D*XRONOS))","v":45.74311691021822},{"$f":"IF(H789<CALCULATIONS!$M$9,Aktina*COS(epsilon*H789)*COS(D*H789),Aktina*COS(epsilon*XRONOS)*COS(D*XRONOS))","v":-11.507920874332966}]
[740,7.3999999999998867,{"$f":"IF(B790<CALCULATIONS!$M$9,Alfa1*SIN(miia*B790)-Alfa2*SIN(miib*B790),CURRENTX)","v":-56.297913514466224},{"$f":"IF(B790<CALCULATIONS!$M$9,-(Alfa1*COS(miia*B790)-Alfa2*COS(miib*B790)),CURRENTY)","v":-31.941052073016863},null,null,740,7.3999999999998867,{"$f":"IF(H790<CALCULATIONS!$M$9,Aktina*SIN(epsilon*H790)*COS(D*H790),Aktina*SIN(epsilon*XRONOS)*COS(D*XRONOS))","v":45.74311691021822},{"$f":"IF(H790<CALCULATIONS!$M$9,Aktina*COS(epsilon*H790)*COS(D*H790),Aktina*COS(epsilon*XRONOS)*COS(D*XRONOS))","v":-11.507920874332966}]
[741,7.4099999999998865,{"$f":"IF(B791<CALCULATIONS!$M$9,Alfa1*SIN(miia*B791)-Alfa2*SIN(miib*B791),CURRENTX)","v":-56.297913514466224},{"$f":"IF(B791<CALCULATIONS!$M$9,-(Alfa1*COS(miia*B791)-Alfa2*COS(miib*B791)),CURRENTY)","v":-31.941052073016863},null,null,741,7.4099999999998865,{"$f":"IF(H791<CALCULATIONS!$M$9,Aktina*SIN(epsilon*H791)*COS(D*H791),Aktina*SIN(epsilon*XRONOS)*COS(D*XRONOS))","v":45.74311691021822},{"$f":"IF(H791<CALCULATIONS!$M$9,Aktina*COS(epsilon*H791)*COS(D*H791),Aktina*COS(epsilon*XRONOS)*COS(D*XRONOS))","v":-11.507920874332966}]
[742,7.4199999999998862,{"$f":"IF(B792<CALCULATIONS!$M$9,Alfa1*SIN(miia*B792)-Alfa2*SIN(miib*B792),CURRENTX)","v":-56.297913514466224},{"$f":"IF(B792<CALCULATIONS!$M$9,-(Alfa1*COS(miia*B792)-Alfa2*COS(miib*B792)),CURRENTY)","v":-31.941052073016863},null,null,742,7.4199999999998862,{"$f":"IF(H792<CALCULATIONS!$M$9,Aktina*SIN(epsilon*H792)*COS(D*H792),Aktina*SIN(epsilon*XRONOS)*COS(D*XRONOS))","v":45.74311691021822},{"$f":"IF(H792<CALCULATIONS!$M$9,Aktina*COS(epsilon*H792)*COS(D*H792),Aktina*COS(epsilon*XRONOS)*COS(D*XRONOS))","v":-11.507920874332966}]
[743,7.429999999999886,{"$f":"IF(B793<CALCULATIONS!$M$9,Alfa1*SIN(miia*B793)-Alfa2*SIN(miib*B793),CURRENTX)","v":-56.297913514466224},{"$f":"IF(B793<CALCULATIONS!$M$9,-(Alfa1*COS(miia*B793)-Alfa2*COS(miib*B793)),CURRENTY)","v":-31.941052073016863},null,null,743,7.429999999999886,{"$f":"IF(H793<CALCULATIONS!$M$9,Aktina*SIN(epsilon*H793)*COS(D*H793),Aktina*SIN(epsilon*XRONOS)*COS(D*XRONOS))","v":45.74311691021822},{"$f":"IF(H793<CALCULATIONS!$M$9,Aktina*COS(epsilon*H793)*COS(D*H793),Aktina*COS(epsilon*XRONOS)*COS(D*XRONOS))","v":-11.507920874332966}]
[744,7.4399999999998858,{"$f":"IF(B794<CALCULATIONS!$M$9,Alfa1*SIN(miia*B794)-Alfa2*SIN(miib*B794),CURRENTX)","v":-56.297913514466224},{"$f":"IF(B794<CALCULATIONS!$M$9,-(Alfa1*COS(miia*B794)-Alfa2*COS(miib*B794)),CURRENTY)","v":-31.941052073016863},null,null,744,7.4399999999998858,{"$f":"IF(H794<CALCULATIONS!$M$9,Aktina*SIN(epsilon*H794)*COS(D*H794),Aktina*SIN(epsilon*XRONOS)*COS(D*XRONOS))","v":45.74311691021822},{"$f":"IF(H794<CALCULATIONS!$M$9,Aktina*COS(epsilon*H794)*COS(D*H794),Aktina*COS(epsilon*XRONOS)*COS(D*XRONOS))","v":-11.507920874332966}]
[745,7.4499999999998856,{"$f":"IF(B795<CALCULATIONS!$M$9,Alfa1*SIN(miia*B795)-Alfa2*SIN(miib*B795),CURRENTX)","v":-56.297913514466224},{"$f":"IF(B795<CALCULATIONS!$M$9,-(Alfa1*COS(miia*B795)-Alfa2*COS(miib*B795)),CURRENTY)","v":-31.941052073016863},null,null,745,7.4499999999998856,{"$f":"IF(H795<CALCULATIONS!$M$9,Aktina*SIN(epsilon*H795)*COS(D*H795),Aktina*SIN(epsilon*XRONOS)*COS(D*XRONOS))","v":45.74311691021822},{"$f":"IF(H795<CALCULATIONS!$M$9,Aktina*COS(epsilon*H795)*COS(D*H795),Aktina*COS(epsilon*XRONOS)*COS(D*XRONOS))","v":-11.507920874332966}]
[746,7.4599999999998854,{"$f":"IF(B796<CALCULATIONS!$M$9,Alfa1*SIN(miia*B796)-Alfa2*SIN(miib*B796),CURRENTX)","v":-56.297913514466224},{"$f":"IF(B796<CALCULATIONS!$M$9,-(Alfa1*COS(miia*B796)-Alfa2*COS(miib*B796)),CURRENTY)","v":-31.941052073016863},null,null,746,7.4599999999998854,{"$f":"IF(H796<CALCULATIONS!$M$9,Aktina*SIN(epsilon*H796)*COS(D*H796),Aktina*SIN(epsilon*XRONOS)*COS(D*XRONOS))","v":45.74311691021822},{"$f":"IF(H796<CALCULATIONS!$M$9,Aktina*COS(epsilon*H796)*COS(D*H796),Aktina*COS(epsilon*XRONOS)*COS(D*XRONOS))","v":-11.507920874332966}]
[747,7.4699999999998852,{"$f":"IF(B797<CALCULATIONS!$M$9,Alfa1*SIN(miia*B797)-Alfa2*SIN(miib*B797),CURRENTX)","v":-56.297913514466224},{"$f":"IF(B797<CALCULATIONS!$M$9,-(Alfa1*COS(miia*B797)-Alfa2*COS(miib*B797)),CURRENTY)","v":-31.941052073016863},null,null,747,7.4699999999998852,{"$f":"IF(H797<CALCULATIONS!$M$9,Aktina*SIN(epsilon*H797)*COS(D*H797),Aktina*SIN(epsilon*XRONOS)*COS(D*XRONOS))","v":45.74311691021822},{"$f":"IF(H797<CALCULATIONS!$M$9,Aktina*COS(epsilon*H797)*COS(D*H797),Aktina*COS(epsilon*XRONOS)*COS(D*XRONOS))","v":-11.507920874332966}]
[748,7.479999999999885,{"$f":"IF(B798<CALCULATIONS!$M$9,Alfa1*SIN(miia*B798)-Alfa2*SIN(miib*B798),CURRENTX)","v":-56.297913514466224},{"$f":"IF(B798<CALCULATIONS!$M$9,-(Alfa1*COS(miia*B798)-Alfa2*COS(miib*B798)),CURRENTY)","v":-31.941052073016863},null,null,748,7.479999999999885,{"$f":"IF(H798<CALCULATIONS!$M$9,Aktina*SIN(epsilon*H798)*COS(D*H798),Aktina*SIN(epsilon*XRONOS)*COS(D*XRONOS))","v":45.74311691021822},{"$f":"IF(H798<CALCULATIONS!$M$9,Aktina*COS(epsilon*H798)*COS(D*H798),Aktina*COS(epsilon*XRONOS)*COS(D*XRONOS))","v":-11.507920874332966}]
[749,7.4899999999998847,{"$f":"IF(B799<CALCULATIONS!$M$9,Alfa1*SIN(miia*B799)-Alfa2*SIN(miib*B799),CURRENTX)","v":-56.297913514466224},{"$f":"IF(B799<CALCULATIONS!$M$9,-(Alfa1*COS(miia*B799)-Alfa2*COS(miib*B799)),CURRENTY)","v":-31.941052073016863},null,null,749,7.4899999999998847,{"$f":"IF(H799<CALCULATIONS!$M$9,Aktina*SIN(epsilon*H799)*COS(D*H799),Aktina*SIN(epsilon*XRONOS)*COS(D*XRONOS))","v":45.74311691021822},{"$f":"IF(H799<CALCULATIONS!$M$9,Aktina*COS(epsilon*H799)*COS(D*H799),Aktina*COS(epsilon*XRONOS)*COS(D*XRONOS))","v":-11.507920874332966}]
[750,7.4999999999998845,{"$f":"IF(B800<CALCULATIONS!$M$9,Alfa1*SIN(miia*B800)-Alfa2*SIN(miib*B800),CURRENTX)","v":-56.297913514466224},{"$f":"IF(B800<CALCULATIONS!$M$9,-(Alfa1*COS(miia*B800)-Alfa2*COS(miib*B800)),CURRENTY)","v":-31.941052073016863},null,null,750,7.4999999999998845,{"$f":"IF(H800<CALCULATIONS!$M$9,Aktina*SIN(epsilon*H800)*COS(D*H800),Aktina*SIN(epsilon*XRONOS)*COS(D*XRONOS))","v":45.74311691021822},{"$f":"IF(H800<CALCULATIONS!$M$9,Aktina*COS(epsilon*H800)*COS(D*H800),Aktina*COS(epsilon*XRONOS)*COS(D*XRONOS))","v":-11.507920874332966}]
[751,7.5099999999998843,{"$f":"IF(B801<CALCULATIONS!$M$9,Alfa1*SIN(miia*B801)-Alfa2*SIN(miib*B801),CURRENTX)","v":-56.297913514466224},{"$f":"IF(B801<CALCULATIONS!$M$9,-(Alfa1*COS(miia*B801)-Alfa2*COS(miib*B801)),CURRENTY)","v":-31.941052073016863},null,null,751,7.5099999999998843,{"$f":"IF(H801<CALCULATIONS!$M$9,Aktina*SIN(epsilon*H801)*COS(D*H801),Aktina*SIN(epsilon*XRONOS)*COS(D*XRONOS))","v":45.74311691021822},{"$f":"IF(H801<CALCULATIONS!$M$9,Aktina*COS(epsilon*H801)*COS(D*H801),Aktina*COS(epsilon*XRONOS)*COS(D*XRONOS))","v":-11.507920874332966}]
[752,7.5199999999998841,{"$f":"IF(B802<CALCULATIONS!$M$9,Alfa1*SIN(miia*B802)-Alfa2*SIN(miib*B802),CURRENTX)","v":-56.297913514466224},{"$f":"IF(B802<CALCULATIONS!$M$9,-(Alfa1*COS(miia*B802)-Alfa2*COS(miib*B802)),CURRENTY)","v":-31.941052073016863},null,null,752,7.5199999999998841,{"$f":"IF(H802<CALCULATIONS!$M$9,Aktina*SIN(epsilon*H802)*COS(D*H802),Aktina*SIN(epsilon*XRONOS)*COS(D*XRONOS))","v":45.74311691021822},{"$f":"IF(H802<CALCULATIONS!$M$9,Aktina*COS(epsilon*H802)*COS(D*H802),Aktina*COS(epsilon*XRONOS)*COS(D*XRONOS))","v":-11.507920874332966}]
[753,7.5299999999998839,{"$f":"IF(B803<CALCULATIONS!$M$9,Alfa1*SIN(miia*B803)-Alfa2*SIN(miib*B803),CURRENTX)","v":-56.297913514466224},{"$f":"IF(B803<CALCULATIONS!$M$9,-(Alfa1*COS(miia*B803)-Alfa2*COS(miib*B803)),CURRENTY)","v":-31.941052073016863},null,null,753,7.5299999999998839,{"$f":"IF(H803<CALCULATIONS!$M$9,Aktina*SIN(epsilon*H803)*COS(D*H803),Aktina*SIN(epsilon*XRONOS)*COS(D*XRONOS))","v":45.74311691021822},{"$f":"IF(H803<CALCULATIONS!$M$9,Aktina*COS(epsilon*H803)*COS(D*H803),Aktina*COS(epsilon*XRONOS)*COS(D*XRONOS))","v":-11.507920874332966}]
[754,7.5399999999998837,{"$f":"IF(B804<CALCULATIONS!$M$9,Alfa1*SIN(miia*B804)-Alfa2*SIN(miib*B804),CURRENTX)","v":-56.297913514466224},{"$f":"IF(B804<CALCULATIONS!$M$9,-(Alfa1*COS(miia*B804)-Alfa2*COS(miib*B804)),CURRENTY)","v":-31.941052073016863},null,null,754,7.5399999999998837,{"$f":"IF(H804<CALCULATIONS!$M$9,Aktina*SIN(epsilon*H804)*COS(D*H804),Aktina*SIN(epsilon*XRONOS)*COS(D*XRONOS))","v":45.74311691021822},{"$f":"IF(H804<CALCULATIONS!$M$9,Aktina*COS(epsilon*H804)*COS(D*H804),Aktina*COS(epsilon*XRONOS)*COS(D*XRONOS))","v":-11.507920874332966}]
[755,7.5499999999998835,{"$f":"IF(B805<CALCULATIONS!$M$9,Alfa1*SIN(miia*B805)-Alfa2*SIN(miib*B805),CURRENTX)","v":-56.297913514466224},{"$f":"IF(B805<CALCULATIONS!$M$9,-(Alfa1*COS(miia*B805)-Alfa2*COS(miib*B805)),CURRENTY)","v":-31.941052073016863},null,null,755,7.5499999999998835,{"$f":"IF(H805<CALCULATIONS!$M$9,Aktina*SIN(epsilon*H805)*COS(D*H805),Aktina*SIN(epsilon*XRONOS)*COS(D*XRONOS))","v":45.74311691021822},{"$f":"IF(H805<CALCULATIONS!$M$9,Aktina*COS(epsilon*H805)*COS(D*H805),Aktina*COS(epsilon*XRONOS)*COS(D*XRONOS))","v":-11.507920874332966}]
[756,7.5599999999998833,{"$f":"IF(B806<CALCULATIONS!$M$9,Alfa1*SIN(miia*B806)-Alfa2*SIN(miib*B806),CURRENTX)","v":-56.297913514466224},{"$f":"IF(B806<CALCULATIONS!$M$9,-(Alfa1*COS(miia*B806)-Alfa2*COS(miib*B806)),CURRENTY)","v":-31.941052073016863},null,null,756,7.5599999999998833,{"$f":"IF(H806<CALCULATIONS!$M$9,Aktina*SIN(epsilon*H806)*COS(D*H806),Aktina*SIN(epsilon*XRONOS)*COS(D*XRONOS))","v":45.74311691021822},{"$f":"IF(H806<CALCULATIONS!$M$9,Aktina*COS(epsilon*H806)*COS(D*H806),Aktina*COS(epsilon*XRONOS)*COS(D*XRONOS))","v":-11.507920874332966}]
[757,7.569999999999883,{"$f":"IF(B807<CALCULATIONS!$M$9,Alfa1*SIN(miia*B807)-Alfa2*SIN(miib*B807),CURRENTX)","v":-56.297913514466224},{"$f":"IF(B807<CALCULATIONS!$M$9,-(Alfa1*COS(miia*B807)-Alfa2*COS(miib*B807)),CURRENTY)","v":-31.941052073016863},null,null,757,7.569999999999883,{"$f":"IF(H807<CALCULATIONS!$M$9,Aktina*SIN(epsilon*H807)*COS(D*H807),Aktina*SIN(epsilon*XRONOS)*COS(D*XRONOS))","v":45.74311691021822},{"$f":"IF(H807<CALCULATIONS!$M$9,Aktina*COS(epsilon*H807)*COS(D*H807),Aktina*COS(epsilon*XRONOS)*COS(D*XRONOS))","v":-11.507920874332966}]
[758,7.5799999999998828,{"$f":"IF(B808<CALCULATIONS!$M$9,Alfa1*SIN(miia*B808)-Alfa2*SIN(miib*B808),CURRENTX)","v":-56.297913514466224},{"$f":"IF(B808<CALCULATIONS!$M$9,-(Alfa1*COS(miia*B808)-Alfa2*COS(miib*B808)),CURRENTY)","v":-31.941052073016863},null,null,758,7.5799999999998828,{"$f":"IF(H808<CALCULATIONS!$M$9,Aktina*SIN(epsilon*H808)*COS(D*H808),Aktina*SIN(epsilon*XRONOS)*COS(D*XRONOS))","v":45.74311691021822},{"$f":"IF(H808<CALCULATIONS!$M$9,Aktina*COS(epsilon*H808)*COS(D*H808),Aktina*COS(epsilon*XRONOS)*COS(D*XRONOS))","v":-11.507920874332966}]
[759,7.5899999999998826,{"$f":"IF(B809<CALCULATIONS!$M$9,Alfa1*SIN(miia*B809)-Alfa2*SIN(miib*B809),CURRENTX)","v":-56.297913514466224},{"$f":"IF(B809<CALCULATIONS!$M$9,-(Alfa1*COS(miia*B809)-Alfa2*COS(miib*B809)),CURRENTY)","v":-31.941052073016863},null,null,759,7.5899999999998826,{"$f":"IF(H809<CALCULATIONS!$M$9,Aktina*SIN(epsilon*H809)*COS(D*H809),Aktina*SIN(epsilon*XRONOS)*COS(D*XRONOS))","v":45.74311691021822},{"$f":"IF(H809<CALCULATIONS!$M$9,Aktina*COS(epsilon*H809)*COS(D*H809),Aktina*COS(epsilon*XRONOS)*COS(D*XRONOS))","v":-11.507920874332966}]
[760,7.5999999999998824,{"$f":"IF(B810<CALCULATIONS!$M$9,Alfa1*SIN(miia*B810)-Alfa2*SIN(miib*B810),CURRENTX)","v":-56.297913514466224},{"$f":"IF(B810<CALCULATIONS!$M$9,-(Alfa1*COS(miia*B810)-Alfa2*COS(miib*B810)),CURRENTY)","v":-31.941052073016863},null,null,760,7.5999999999998824,{"$f":"IF(H810<CALCULATIONS!$M$9,Aktina*SIN(epsilon*H810)*COS(D*H810),Aktina*SIN(epsilon*XRONOS)*COS(D*XRONOS))","v":45.74311691021822},{"$f":"IF(H810<CALCULATIONS!$M$9,Aktina*COS(epsilon*H810)*COS(D*H810),Aktina*COS(epsilon*XRONOS)*COS(D*XRONOS))","v":-11.507920874332966}]
[761,7.6099999999998822,{"$f":"IF(B811<CALCULATIONS!$M$9,Alfa1*SIN(miia*B811)-Alfa2*SIN(miib*B811),CURRENTX)","v":-56.297913514466224},{"$f":"IF(B811<CALCULATIONS!$M$9,-(Alfa1*COS(miia*B811)-Alfa2*COS(miib*B811)),CURRENTY)","v":-31.941052073016863},null,null,761,7.6099999999998822,{"$f":"IF(H811<CALCULATIONS!$M$9,Aktina*SIN(epsilon*H811)*COS(D*H811),Aktina*SIN(epsilon*XRONOS)*COS(D*XRONOS))","v":45.74311691021822},{"$f":"IF(H811<CALCULATIONS!$M$9,Aktina*COS(epsilon*H811)*COS(D*H811),Aktina*COS(epsilon*XRONOS)*COS(D*XRONOS))","v":-11.507920874332966}]
[762,7.619999999999882,{"$f":"IF(B812<CALCULATIONS!$M$9,Alfa1*SIN(miia*B812)-Alfa2*SIN(miib*B812),CURRENTX)","v":-56.297913514466224},{"$f":"IF(B812<CALCULATIONS!$M$9,-(Alfa1*COS(miia*B812)-Alfa2*COS(miib*B812)),CURRENTY)","v":-31.941052073016863},null,null,762,7.619999999999882,{"$f":"IF(H812<CALCULATIONS!$M$9,Aktina*SIN(epsilon*H812)*COS(D*H812),Aktina*SIN(epsilon*XRONOS)*COS(D*XRONOS))","v":45.74311691021822},{"$f":"IF(H812<CALCULATIONS!$M$9,Aktina*COS(epsilon*H812)*COS(D*H812),Aktina*COS(epsilon*XRONOS)*COS(D*XRONOS))","v":-11.507920874332966}]
[763,7.6299999999998818,{"$f":"IF(B813<CALCULATIONS!$M$9,Alfa1*SIN(miia*B813)-Alfa2*SIN(miib*B813),CURRENTX)","v":-56.297913514466224},{"$f":"IF(B813<CALCULATIONS!$M$9,-(Alfa1*COS(miia*B813)-Alfa2*COS(miib*B813)),CURRENTY)","v":-31.941052073016863},null,null,763,7.6299999999998818,{"$f":"IF(H813<CALCULATIONS!$M$9,Aktina*SIN(epsilon*H813)*COS(D*H813),Aktina*SIN(epsilon*XRONOS)*COS(D*XRONOS))","v":45.74311691021822},{"$f":"IF(H813<CALCULATIONS!$M$9,Aktina*COS(epsilon*H813)*COS(D*H813),Aktina*COS(epsilon*XRONOS)*COS(D*XRONOS))","v":-11.507920874332966}]
[764,7.6399999999998816,{"$f":"IF(B814<CALCULATIONS!$M$9,Alfa1*SIN(miia*B814)-Alfa2*SIN(miib*B814),CURRENTX)","v":-56.297913514466224},{"$f":"IF(B814<CALCULATIONS!$M$9,-(Alfa1*COS(miia*B814)-Alfa2*COS(miib*B814)),CURRENTY)","v":-31.941052073016863},null,null,764,7.6399999999998816,{"$f":"IF(H814<CALCULATIONS!$M$9,Aktina*SIN(epsilon*H814)*COS(D*H814),Aktina*SIN(epsilon*XRONOS)*COS(D*XRONOS))","v":45.74311691021822},{"$f":"IF(H814<CALCULATIONS!$M$9,Aktina*COS(epsilon*H814)*COS(D*H814),Aktina*COS(epsilon*XRONOS)*COS(D*XRONOS))","v":-11.507920874332966}]
[765,7.6499999999998813,{"$f":"IF(B815<CALCULATIONS!$M$9,Alfa1*SIN(miia*B815)-Alfa2*SIN(miib*B815),CURRENTX)","v":-56.297913514466224},{"$f":"IF(B815<CALCULATIONS!$M$9,-(Alfa1*COS(miia*B815)-Alfa2*COS(miib*B815)),CURRENTY)","v":-31.941052073016863},null,null,765,7.6499999999998813,{"$f":"IF(H815<CALCULATIONS!$M$9,Aktina*SIN(epsilon*H815)*COS(D*H815),Aktina*SIN(epsilon*XRONOS)*COS(D*XRONOS))","v":45.74311691021822},{"$f":"IF(H815<CALCULATIONS!$M$9,Aktina*COS(epsilon*H815)*COS(D*H815),Aktina*COS(epsilon*XRONOS)*COS(D*XRONOS))","v":-11.507920874332966}]
[766,7.6599999999998811,{"$f":"IF(B816<CALCULATIONS!$M$9,Alfa1*SIN(miia*B816)-Alfa2*SIN(miib*B816),CURRENTX)","v":-56.297913514466224},{"$f":"IF(B816<CALCULATIONS!$M$9,-(Alfa1*COS(miia*B816)-Alfa2*COS(miib*B816)),CURRENTY)","v":-31.941052073016863},null,null,766,7.6599999999998811,{"$f":"IF(H816<CALCULATIONS!$M$9,Aktina*SIN(epsilon*H816)*COS(D*H816),Aktina*SIN(epsilon*XRONOS)*COS(D*XRONOS))","v":45.74311691021822},{"$f":"IF(H816<CALCULATIONS!$M$9,Aktina*COS(epsilon*H816)*COS(D*H816),Aktina*COS(epsilon*XRONOS)*COS(D*XRONOS))","v":-11.507920874332966}]
[767,7.6699999999998809,{"$f":"IF(B817<CALCULATIONS!$M$9,Alfa1*SIN(miia*B817)-Alfa2*SIN(miib*B817),CURRENTX)","v":-56.297913514466224},{"$f":"IF(B817<CALCULATIONS!$M$9,-(Alfa1*COS(miia*B817)-Alfa2*COS(miib*B817)),CURRENTY)","v":-31.941052073016863},null,null,767,7.6699999999998809,{"$f":"IF(H817<CALCULATIONS!$M$9,Aktina*SIN(epsilon*H817)*COS(D*H817),Aktina*SIN(epsilon*XRONOS)*COS(D*XRONOS))","v":45.74311691021822},{"$f":"IF(H817<CALCULATIONS!$M$9,Aktina*COS(epsilon*H817)*COS(D*H817),Aktina*COS(epsilon*XRONOS)*COS(D*XRONOS))","v":-11.507920874332966}]
[768,7.6799999999998807,{"$f":"IF(B818<CALCULATIONS!$M$9,Alfa1*SIN(miia*B818)-Alfa2*SIN(miib*B818),CURRENTX)","v":-56.297913514466224},{"$f":"IF(B818<CALCULATIONS!$M$9,-(Alfa1*COS(miia*B818)-Alfa2*COS(miib*B818)),CURRENTY)","v":-31.941052073016863},null,null,768,7.6799999999998807,{"$f":"IF(H818<CALCULATIONS!$M$9,Aktina*SIN(epsilon*H818)*COS(D*H818),Aktina*SIN(epsilon*XRONOS)*COS(D*XRONOS))","v":45.74311691021822},{"$f":"IF(H818<CALCULATIONS!$M$9,Aktina*COS(epsilon*H818)*COS(D*H818),Aktina*COS(epsilon*XRONOS)*COS(D*XRONOS))","v":-11.507920874332966}]
[769,{"$f":"B818+dt","v":7.6899999999998805},{"$f":"IF(B819<CALCULATIONS!$M$9,Alfa1*SIN(miia*B819)-Alfa2*SIN(miib*B819),CURRENTX)","v":-56.297913514466224},{"$f":"IF(B819<CALCULATIONS!$M$9,-(Alfa1*COS(miia*B819)-Alfa2*COS(miib*B819)),CURRENTY)","v":-31.941052073016863},null,null,769,{"$f":"H818+dt","v":7.6899999999998805},{"$f":"IF(H819<CALCULATIONS!$M$9,Aktina*SIN(epsilon*H819)*COS(D*H819),Aktina*SIN(epsilon*XRONOS)*COS(D*XRONOS))","v":45.74311691021822},{"$f":"IF(H819<CALCULATIONS!$M$9,Aktina*COS(epsilon*H819)*COS(D*H819),Aktina*COS(epsilon*XRONOS)*COS(D*XRONOS))","v":-11.507920874332966}]
[{"$f":"A819+1","v":770},7.6999999999998803,{"$f":"IF(B820<CALCULATIONS!$M$9,Alfa1*SIN(miia*B820)-Alfa2*SIN(miib*B820),CURRENTX)","v":-56.297913514466224},{"$f":"IF(B820<CALCULATIONS!$M$9,-(Alfa1*COS(miia*B820)-Alfa2*COS(miib*B820)),CURRENTY)","v":-31.941052073016863},null,null,{"$f":"G819+1","v":770},7.6999999999998803,{"$f":"IF(H820<CALCULATIONS!$M$9,Aktina*SIN(epsilon*H820)*COS(D*H820),Aktina*SIN(epsilon*XRONOS)*COS(D*XRONOS))","v":45.74311691021822},{"$f":"IF(H820<CALCULATIONS!$M$9,Aktina*COS(epsilon*H820)*COS(D*H820),Aktina*COS(epsilon*XRONOS)*COS(D*XRONOS))","v":-11.507920874332966}]
[771,7.7099999999998801,{"$f":"IF(B821<CALCULATIONS!$M$9,Alfa1*SIN(miia*B821)-Alfa2*SIN(miib*B821),CURRENTX)","v":-56.297913514466224},{"$f":"IF(B821<CALCULATIONS!$M$9,-(Alfa1*COS(miia*B821)-Alfa2*COS(miib*B821)),CURRENTY)","v":-31.941052073016863},null,null,771,7.7099999999998801,{"$f":"IF(H821<CALCULATIONS!$M$9,Aktina*SIN(epsilon*H821)*COS(D*H821),Aktina*SIN(epsilon*XRONOS)*COS(D*XRONOS))","v":45.74311691021822},{"$f":"IF(H821<CALCULATIONS!$M$9,Aktina*COS(epsilon*H821)*COS(D*H821),Aktina*COS(epsilon*XRONOS)*COS(D*XRONOS))","v":-11.507920874332966}]
[772,7.7199999999998798,{"$f":"IF(B822<CALCULATIONS!$M$9,Alfa1*SIN(miia*B822)-Alfa2*SIN(miib*B822),CURRENTX)","v":-56.297913514466224},{"$f":"IF(B822<CALCULATIONS!$M$9,-(Alfa1*COS(miia*B822)-Alfa2*COS(miib*B822)),CURRENTY)","v":-31.941052073016863},null,null,772,7.7199999999998798,{"$f":"IF(H822<CALCULATIONS!$M$9,Aktina*SIN(epsilon*H822)*COS(D*H822),Aktina*SIN(epsilon*XRONOS)*COS(D*XRONOS))","v":45.74311691021822},{"$f":"IF(H822<CALCULATIONS!$M$9,Aktina*COS(epsilon*H822)*COS(D*H822),Aktina*COS(epsilon*XRONOS)*COS(D*XRONOS))","v":-11.507920874332966}]
[773,7.7299999999998796,{"$f":"IF(B823<CALCULATIONS!$M$9,Alfa1*SIN(miia*B823)-Alfa2*SIN(miib*B823),CURRENTX)","v":-56.297913514466224},{"$f":"IF(B823<CALCULATIONS!$M$9,-(Alfa1*COS(miia*B823)-Alfa2*COS(miib*B823)),CURRENTY)","v":-31.941052073016863},null,null,773,7.7299999999998796,{"$f":"IF(H823<CALCULATIONS!$M$9,Aktina*SIN(epsilon*H823)*COS(D*H823),Aktina*SIN(epsilon*XRONOS)*COS(D*XRONOS))","v":45.74311691021822},{"$f":"IF(H823<CALCULATIONS!$M$9,Aktina*COS(epsilon*H823)*COS(D*H823),Aktina*COS(epsilon*XRONOS)*COS(D*XRONOS))","v":-11.507920874332966}]
[774,7.7399999999998794,{"$f":"IF(B824<CALCULATIONS!$M$9,Alfa1*SIN(miia*B824)-Alfa2*SIN(miib*B824),CURRENTX)","v":-56.297913514466224},{"$f":"IF(B824<CALCULATIONS!$M$9,-(Alfa1*COS(miia*B824)-Alfa2*COS(miib*B824)),CURRENTY)","v":-31.941052073016863},null,null,774,7.7399999999998794,{"$f":"IF(H824<CALCULATIONS!$M$9,Aktina*SIN(epsilon*H824)*COS(D*H824),Aktina*SIN(epsilon*XRONOS)*COS(D*XRONOS))","v":45.74311691021822},{"$f":"IF(H824<CALCULATIONS!$M$9,Aktina*COS(epsilon*H824)*COS(D*H824),Aktina*COS(epsilon*XRONOS)*COS(D*XRONOS))","v":-11.507920874332966}]
[775,7.7499999999998792,{"$f":"IF(B825<CALCULATIONS!$M$9,Alfa1*SIN(miia*B825)-Alfa2*SIN(miib*B825),CURRENTX)","v":-56.297913514466224},{"$f":"IF(B825<CALCULATIONS!$M$9,-(Alfa1*COS(miia*B825)-Alfa2*COS(miib*B825)),CURRENTY)","v":-31.941052073016863},null,null,775,7.7499999999998792,{"$f":"IF(H825<CALCULATIONS!$M$9,Aktina*SIN(epsilon*H825)*COS(D*H825),Aktina*SIN(epsilon*XRONOS)*COS(D*XRONOS))","v":45.74311691021822},{"$f":"IF(H825<CALCULATIONS!$M$9,Aktina*COS(epsilon*H825)*COS(D*H825),Aktina*COS(epsilon*XRONOS)*COS(D*XRONOS))","v":-11.507920874332966}]
[776,7.759999999999879,{"$f":"IF(B826<CALCULATIONS!$M$9,Alfa1*SIN(miia*B826)-Alfa2*SIN(miib*B826),CURRENTX)","v":-56.297913514466224},{"$f":"IF(B826<CALCULATIONS!$M$9,-(Alfa1*COS(miia*B826)-Alfa2*COS(miib*B826)),CURRENTY)","v":-31.941052073016863},null,null,776,7.759999999999879,{"$f":"IF(H826<CALCULATIONS!$M$9,Aktina*SIN(epsilon*H826)*COS(D*H826),Aktina*SIN(epsilon*XRONOS)*COS(D*XRONOS))","v":45.74311691021822},{"$f":"IF(H826<CALCULATIONS!$M$9,Aktina*COS(epsilon*H826)*COS(D*H826),Aktina*COS(epsilon*XRONOS)*COS(D*XRONOS))","v":-11.507920874332966}]
[777,7.7699999999998788,{"$f":"IF(B827<CALCULATIONS!$M$9,Alfa1*SIN(miia*B827)-Alfa2*SIN(miib*B827),CURRENTX)","v":-56.297913514466224},{"$f":"IF(B827<CALCULATIONS!$M$9,-(Alfa1*COS(miia*B827)-Alfa2*COS(miib*B827)),CURRENTY)","v":-31.941052073016863},null,null,777,7.7699999999998788,{"$f":"IF(H827<CALCULATIONS!$M$9,Aktina*SIN(epsilon*H827)*COS(D*H827),Aktina*SIN(epsilon*XRONOS)*COS(D*XRONOS))","v":45.74311691021822},{"$f":"IF(H827<CALCULATIONS!$M$9,Aktina*COS(epsilon*H827)*COS(D*H827),Aktina*COS(epsilon*XRONOS)*COS(D*XRONOS))","v":-11.507920874332966}]
[778,7.7799999999998786,{"$f":"IF(B828<CALCULATIONS!$M$9,Alfa1*SIN(miia*B828)-Alfa2*SIN(miib*B828),CURRENTX)","v":-56.297913514466224},{"$f":"IF(B828<CALCULATIONS!$M$9,-(Alfa1*COS(miia*B828)-Alfa2*COS(miib*B828)),CURRENTY)","v":-31.941052073016863},null,null,778,7.7799999999998786,{"$f":"IF(H828<CALCULATIONS!$M$9,Aktina*SIN(epsilon*H828)*COS(D*H828),Aktina*SIN(epsilon*XRONOS)*COS(D*XRONOS))","v":45.74311691021822},{"$f":"IF(H828<CALCULATIONS!$M$9,Aktina*COS(epsilon*H828)*COS(D*H828),Aktina*COS(epsilon*XRONOS)*COS(D*XRONOS))","v":-11.507920874332966}]
[779,7.7899999999998784,{"$f":"IF(B829<CALCULATIONS!$M$9,Alfa1*SIN(miia*B829)-Alfa2*SIN(miib*B829),CURRENTX)","v":-56.297913514466224},{"$f":"IF(B829<CALCULATIONS!$M$9,-(Alfa1*COS(miia*B829)-Alfa2*COS(miib*B829)),CURRENTY)","v":-31.941052073016863},null,null,779,7.7899999999998784,{"$f":"IF(H829<CALCULATIONS!$M$9,Aktina*SIN(epsilon*H829)*COS(D*H829),Aktina*SIN(epsilon*XRONOS)*COS(D*XRONOS))","v":45.74311691021822},{"$f":"IF(H829<CALCULATIONS!$M$9,Aktina*COS(epsilon*H829)*COS(D*H829),Aktina*COS(epsilon*XRONOS)*COS(D*XRONOS))","v":-11.507920874332966}]
[780,7.7999999999998781,{"$f":"IF(B830<CALCULATIONS!$M$9,Alfa1*SIN(miia*B830)-Alfa2*SIN(miib*B830),CURRENTX)","v":-56.297913514466224},{"$f":"IF(B830<CALCULATIONS!$M$9,-(Alfa1*COS(miia*B830)-Alfa2*COS(miib*B830)),CURRENTY)","v":-31.941052073016863},null,null,780,7.7999999999998781,{"$f":"IF(H830<CALCULATIONS!$M$9,Aktina*SIN(epsilon*H830)*COS(D*H830),Aktina*SIN(epsilon*XRONOS)*COS(D*XRONOS))","v":45.74311691021822},{"$f":"IF(H830<CALCULATIONS!$M$9,Aktina*COS(epsilon*H830)*COS(D*H830),Aktina*COS(epsilon*XRONOS)*COS(D*XRONOS))","v":-11.507920874332966}]
[781,7.8099999999998779,{"$f":"IF(B831<CALCULATIONS!$M$9,Alfa1*SIN(miia*B831)-Alfa2*SIN(miib*B831),CURRENTX)","v":-56.297913514466224},{"$f":"IF(B831<CALCULATIONS!$M$9,-(Alfa1*COS(miia*B831)-Alfa2*COS(miib*B831)),CURRENTY)","v":-31.941052073016863},null,null,781,7.8099999999998779,{"$f":"IF(H831<CALCULATIONS!$M$9,Aktina*SIN(epsilon*H831)*COS(D*H831),Aktina*SIN(epsilon*XRONOS)*COS(D*XRONOS))","v":45.74311691021822},{"$f":"IF(H831<CALCULATIONS!$M$9,Aktina*COS(epsilon*H831)*COS(D*H831),Aktina*COS(epsilon*XRONOS)*COS(D*XRONOS))","v":-11.507920874332966}]
[782,7.8199999999998777,{"$f":"IF(B832<CALCULATIONS!$M$9,Alfa1*SIN(miia*B832)-Alfa2*SIN(miib*B832),CURRENTX)","v":-56.297913514466224},{"$f":"IF(B832<CALCULATIONS!$M$9,-(Alfa1*COS(miia*B832)-Alfa2*COS(miib*B832)),CURRENTY)","v":-31.941052073016863},null,null,782,7.8199999999998777,{"$f":"IF(H832<CALCULATIONS!$M$9,Aktina*SIN(epsilon*H832)*COS(D*H832),Aktina*SIN(epsilon*XRONOS)*COS(D*XRONOS))","v":45.74311691021822},{"$f":"IF(H832<CALCULATIONS!$M$9,Aktina*COS(epsilon*H832)*COS(D*H832),Aktina*COS(epsilon*XRONOS)*COS(D*XRONOS))","v":-11.507920874332966}]
[783,7.8299999999998775,{"$f":"IF(B833<CALCULATIONS!$M$9,Alfa1*SIN(miia*B833)-Alfa2*SIN(miib*B833),CURRENTX)","v":-56.297913514466224},{"$f":"IF(B833<CALCULATIONS!$M$9,-(Alfa1*COS(miia*B833)-Alfa2*COS(miib*B833)),CURRENTY)","v":-31.941052073016863},null,null,783,7.8299999999998775,{"$f":"IF(H833<CALCULATIONS!$M$9,Aktina*SIN(epsilon*H833)*COS(D*H833),Aktina*SIN(epsilon*XRONOS)*COS(D*XRONOS))","v":45.74311691021822},{"$f":"IF(H833<CALCULATIONS!$M$9,Aktina*COS(epsilon*H833)*COS(D*H833),Aktina*COS(epsilon*XRONOS)*COS(D*XRONOS))","v":-11.507920874332966}]
[784,7.8399999999998773,{"$f":"IF(B834<CALCULATIONS!$M$9,Alfa1*SIN(miia*B834)-Alfa2*SIN(miib*B834),CURRENTX)","v":-56.297913514466224},{"$f":"IF(B834<CALCULATIONS!$M$9,-(Alfa1*COS(miia*B834)-Alfa2*COS(miib*B834)),CURRENTY)","v":-31.941052073016863},null,null,784,7.8399999999998773,{"$f":"IF(H834<CALCULATIONS!$M$9,Aktina*SIN(epsilon*H834)*COS(D*H834),Aktina*SIN(epsilon*XRONOS)*COS(D*XRONOS))","v":45.74311691021822},{"$f":"IF(H834<CALCULATIONS!$M$9,Aktina*COS(epsilon*H834)*COS(D*H834),Aktina*COS(epsilon*XRONOS)*COS(D*XRONOS))","v":-11.507920874332966}]
[785,7.8499999999998771,{"$f":"IF(B835<CALCULATIONS!$M$9,Alfa1*SIN(miia*B835)-Alfa2*SIN(miib*B835),CURRENTX)","v":-56.297913514466224},{"$f":"IF(B835<CALCULATIONS!$M$9,-(Alfa1*COS(miia*B835)-Alfa2*COS(miib*B835)),CURRENTY)","v":-31.941052073016863},null,null,785,7.8499999999998771,{"$f":"IF(H835<CALCULATIONS!$M$9,Aktina*SIN(epsilon*H835)*COS(D*H835),Aktina*SIN(epsilon*XRONOS)*COS(D*XRONOS))","v":45.74311691021822},{"$f":"IF(H835<CALCULATIONS!$M$9,Aktina*COS(epsilon*H835)*COS(D*H835),Aktina*COS(epsilon*XRONOS)*COS(D*XRONOS))","v":-11.507920874332966}]
[786,7.8599999999998769,{"$f":"IF(B836<CALCULATIONS!$M$9,Alfa1*SIN(miia*B836)-Alfa2*SIN(miib*B836),CURRENTX)","v":-56.297913514466224},{"$f":"IF(B836<CALCULATIONS!$M$9,-(Alfa1*COS(miia*B836)-Alfa2*COS(miib*B836)),CURRENTY)","v":-31.941052073016863},null,null,786,7.8599999999998769,{"$f":"IF(H836<CALCULATIONS!$M$9,Aktina*SIN(epsilon*H836)*COS(D*H836),Aktina*SIN(epsilon*XRONOS)*COS(D*XRONOS))","v":45.74311691021822},{"$f":"IF(H836<CALCULATIONS!$M$9,Aktina*COS(epsilon*H836)*COS(D*H836),Aktina*COS(epsilon*XRONOS)*COS(D*XRONOS))","v":-11.507920874332966}]
[787,7.8699999999998766,{"$f":"IF(B837<CALCULATIONS!$M$9,Alfa1*SIN(miia*B837)-Alfa2*SIN(miib*B837),CURRENTX)","v":-56.297913514466224},{"$f":"IF(B837<CALCULATIONS!$M$9,-(Alfa1*COS(miia*B837)-Alfa2*COS(miib*B837)),CURRENTY)","v":-31.941052073016863},null,null,787,7.8699999999998766,{"$f":"IF(H837<CALCULATIONS!$M$9,Aktina*SIN(epsilon*H837)*COS(D*H837),Aktina*SIN(epsilon*XRONOS)*COS(D*XRONOS))","v":45.74311691021822},{"$f":"IF(H837<CALCULATIONS!$M$9,Aktina*COS(epsilon*H837)*COS(D*H837),Aktina*COS(epsilon*XRONOS)*COS(D*XRONOS))","v":-11.507920874332966}]
[788,7.8799999999998764,{"$f":"IF(B838<CALCULATIONS!$M$9,Alfa1*SIN(miia*B838)-Alfa2*SIN(miib*B838),CURRENTX)","v":-56.297913514466224},{"$f":"IF(B838<CALCULATIONS!$M$9,-(Alfa1*COS(miia*B838)-Alfa2*COS(miib*B838)),CURRENTY)","v":-31.941052073016863},null,null,788,7.8799999999998764,{"$f":"IF(H838<CALCULATIONS!$M$9,Aktina*SIN(epsilon*H838)*COS(D*H838),Aktina*SIN(epsilon*XRONOS)*COS(D*XRONOS))","v":45.74311691021822},{"$f":"IF(H838<CALCULATIONS!$M$9,Aktina*COS(epsilon*H838)*COS(D*H838),Aktina*COS(epsilon*XRONOS)*COS(D*XRONOS))","v":-11.507920874332966}]
[789,7.8899999999998762,{"$f":"IF(B839<CALCULATIONS!$M$9,Alfa1*SIN(miia*B839)-Alfa2*SIN(miib*B839),CURRENTX)","v":-56.297913514466224},{"$f":"IF(B839<CALCULATIONS!$M$9,-(Alfa1*COS(miia*B839)-Alfa2*COS(miib*B839)),CURRENTY)","v":-31.941052073016863},null,null,789,7.8899999999998762,{"$f":"IF(H839<CALCULATIONS!$M$9,Aktina*SIN(epsilon*H839)*COS(D*H839),Aktina*SIN(epsilon*XRONOS)*COS(D*XRONOS))","v":45.74311691021822},{"$f":"IF(H839<CALCULATIONS!$M$9,Aktina*COS(epsilon*H839)*COS(D*H839),Aktina*COS(epsilon*XRONOS)*COS(D*XRONOS))","v":-11.507920874332966}]
[790,7.899999999999876,{"$f":"IF(B840<CALCULATIONS!$M$9,Alfa1*SIN(miia*B840)-Alfa2*SIN(miib*B840),CURRENTX)","v":-56.297913514466224},{"$f":"IF(B840<CALCULATIONS!$M$9,-(Alfa1*COS(miia*B840)-Alfa2*COS(miib*B840)),CURRENTY)","v":-31.941052073016863},null,null,790,7.899999999999876,{"$f":"IF(H840<CALCULATIONS!$M$9,Aktina*SIN(epsilon*H840)*COS(D*H840),Aktina*SIN(epsilon*XRONOS)*COS(D*XRONOS))","v":45.74311691021822},{"$f":"IF(H840<CALCULATIONS!$M$9,Aktina*COS(epsilon*H840)*COS(D*H840),Aktina*COS(epsilon*XRONOS)*COS(D*XRONOS))","v":-11.507920874332966}]
[791,7.9099999999998758,{"$f":"IF(B841<CALCULATIONS!$M$9,Alfa1*SIN(miia*B841)-Alfa2*SIN(miib*B841),CURRENTX)","v":-56.297913514466224},{"$f":"IF(B841<CALCULATIONS!$M$9,-(Alfa1*COS(miia*B841)-Alfa2*COS(miib*B841)),CURRENTY)","v":-31.941052073016863},null,null,791,7.9099999999998758,{"$f":"IF(H841<CALCULATIONS!$M$9,Aktina*SIN(epsilon*H841)*COS(D*H841),Aktina*SIN(epsilon*XRONOS)*COS(D*XRONOS))","v":45.74311691021822},{"$f":"IF(H841<CALCULATIONS!$M$9,Aktina*COS(epsilon*H841)*COS(D*H841),Aktina*COS(epsilon*XRONOS)*COS(D*XRONOS))","v":-11.507920874332966}]
[792,7.9199999999998756,{"$f":"IF(B842<CALCULATIONS!$M$9,Alfa1*SIN(miia*B842)-Alfa2*SIN(miib*B842),CURRENTX)","v":-56.297913514466224},{"$f":"IF(B842<CALCULATIONS!$M$9,-(Alfa1*COS(miia*B842)-Alfa2*COS(miib*B842)),CURRENTY)","v":-31.941052073016863},null,null,792,7.9199999999998756,{"$f":"IF(H842<CALCULATIONS!$M$9,Aktina*SIN(epsilon*H842)*COS(D*H842),Aktina*SIN(epsilon*XRONOS)*COS(D*XRONOS))","v":45.74311691021822},{"$f":"IF(H842<CALCULATIONS!$M$9,Aktina*COS(epsilon*H842)*COS(D*H842),Aktina*COS(epsilon*XRONOS)*COS(D*XRONOS))","v":-11.507920874332966}]
[793,7.9299999999998754,{"$f":"IF(B843<CALCULATIONS!$M$9,Alfa1*SIN(miia*B843)-Alfa2*SIN(miib*B843),CURRENTX)","v":-56.297913514466224},{"$f":"IF(B843<CALCULATIONS!$M$9,-(Alfa1*COS(miia*B843)-Alfa2*COS(miib*B843)),CURRENTY)","v":-31.941052073016863},null,null,793,7.9299999999998754,{"$f":"IF(H843<CALCULATIONS!$M$9,Aktina*SIN(epsilon*H843)*COS(D*H843),Aktina*SIN(epsilon*XRONOS)*COS(D*XRONOS))","v":45.74311691021822},{"$f":"IF(H843<CALCULATIONS!$M$9,Aktina*COS(epsilon*H843)*COS(D*H843),Aktina*COS(epsilon*XRONOS)*COS(D*XRONOS))","v":-11.507920874332966}]
[794,7.9399999999998752,{"$f":"IF(B844<CALCULATIONS!$M$9,Alfa1*SIN(miia*B844)-Alfa2*SIN(miib*B844),CURRENTX)","v":-56.297913514466224},{"$f":"IF(B844<CALCULATIONS!$M$9,-(Alfa1*COS(miia*B844)-Alfa2*COS(miib*B844)),CURRENTY)","v":-31.941052073016863},null,null,794,7.9399999999998752,{"$f":"IF(H844<CALCULATIONS!$M$9,Aktina*SIN(epsilon*H844)*COS(D*H844),Aktina*SIN(epsilon*XRONOS)*COS(D*XRONOS))","v":45.74311691021822},{"$f":"IF(H844<CALCULATIONS!$M$9,Aktina*COS(epsilon*H844)*COS(D*H844),Aktina*COS(epsilon*XRONOS)*COS(D*XRONOS))","v":-11.507920874332966}]
[795,7.9499999999998749,{"$f":"IF(B845<CALCULATIONS!$M$9,Alfa1*SIN(miia*B845)-Alfa2*SIN(miib*B845),CURRENTX)","v":-56.297913514466224},{"$f":"IF(B845<CALCULATIONS!$M$9,-(Alfa1*COS(miia*B845)-Alfa2*COS(miib*B845)),CURRENTY)","v":-31.941052073016863},null,null,795,7.9499999999998749,{"$f":"IF(H845<CALCULATIONS!$M$9,Aktina*SIN(epsilon*H845)*COS(D*H845),Aktina*SIN(epsilon*XRONOS)*COS(D*XRONOS))","v":45.74311691021822},{"$f":"IF(H845<CALCULATIONS!$M$9,Aktina*COS(epsilon*H845)*COS(D*H845),Aktina*COS(epsilon*XRONOS)*COS(D*XRONOS))","v":-11.507920874332966}]
[796,7.9599999999998747,{"$f":"IF(B846<CALCULATIONS!$M$9,Alfa1*SIN(miia*B846)-Alfa2*SIN(miib*B846),CURRENTX)","v":-56.297913514466224},{"$f":"IF(B846<CALCULATIONS!$M$9,-(Alfa1*COS(miia*B846)-Alfa2*COS(miib*B846)),CURRENTY)","v":-31.941052073016863},null,null,796,7.9599999999998747,{"$f":"IF(H846<CALCULATIONS!$M$9,Aktina*SIN(epsilon*H846)*COS(D*H846),Aktina*SIN(epsilon*XRONOS)*COS(D*XRONOS))","v":45.74311691021822},{"$f":"IF(H846<CALCULATIONS!$M$9,Aktina*COS(epsilon*H846)*COS(D*H846),Aktina*COS(epsilon*XRONOS)*COS(D*XRONOS))","v":-11.507920874332966}]
[797,7.9699999999998745,{"$f":"IF(B847<CALCULATIONS!$M$9,Alfa1*SIN(miia*B847)-Alfa2*SIN(miib*B847),CURRENTX)","v":-56.297913514466224},{"$f":"IF(B847<CALCULATIONS!$M$9,-(Alfa1*COS(miia*B847)-Alfa2*COS(miib*B847)),CURRENTY)","v":-31.941052073016863},null,null,797,7.9699999999998745,{"$f":"IF(H847<CALCULATIONS!$M$9,Aktina*SIN(epsilon*H847)*COS(D*H847),Aktina*SIN(epsilon*XRONOS)*COS(D*XRONOS))","v":45.74311691021822},{"$f":"IF(H847<CALCULATIONS!$M$9,Aktina*COS(epsilon*H847)*COS(D*H847),Aktina*COS(epsilon*XRONOS)*COS(D*XRONOS))","v":-11.507920874332966}]
[798,7.9799999999998743,{"$f":"IF(B848<CALCULATIONS!$M$9,Alfa1*SIN(miia*B848)-Alfa2*SIN(miib*B848),CURRENTX)","v":-56.297913514466224},{"$f":"IF(B848<CALCULATIONS!$M$9,-(Alfa1*COS(miia*B848)-Alfa2*COS(miib*B848)),CURRENTY)","v":-31.941052073016863},null,null,798,7.9799999999998743,{"$f":"IF(H848<CALCULATIONS!$M$9,Aktina*SIN(epsilon*H848)*COS(D*H848),Aktina*SIN(epsilon*XRONOS)*COS(D*XRONOS))","v":45.74311691021822},{"$f":"IF(H848<CALCULATIONS!$M$9,Aktina*COS(epsilon*H848)*COS(D*H848),Aktina*COS(epsilon*XRONOS)*COS(D*XRONOS))","v":-11.507920874332966}]
[799,7.9899999999998741,{"$f":"IF(B849<CALCULATIONS!$M$9,Alfa1*SIN(miia*B849)-Alfa2*SIN(miib*B849),CURRENTX)","v":-56.297913514466224},{"$f":"IF(B849<CALCULATIONS!$M$9,-(Alfa1*COS(miia*B849)-Alfa2*COS(miib*B849)),CURRENTY)","v":-31.941052073016863},null,null,799,7.9899999999998741,{"$f":"IF(H849<CALCULATIONS!$M$9,Aktina*SIN(epsilon*H849)*COS(D*H849),Aktina*SIN(epsilon*XRONOS)*COS(D*XRONOS))","v":45.74311691021822},{"$f":"IF(H849<CALCULATIONS!$M$9,Aktina*COS(epsilon*H849)*COS(D*H849),Aktina*COS(epsilon*XRONOS)*COS(D*XRONOS))","v":-11.507920874332966}]
[800,7.9999999999998739,{"$f":"IF(B850<CALCULATIONS!$M$9,Alfa1*SIN(miia*B850)-Alfa2*SIN(miib*B850),CURRENTX)","v":-56.297913514466224},{"$f":"IF(B850<CALCULATIONS!$M$9,-(Alfa1*COS(miia*B850)-Alfa2*COS(miib*B850)),CURRENTY)","v":-31.941052073016863},null,null,800,7.9999999999998739,{"$f":"IF(H850<CALCULATIONS!$M$9,Aktina*SIN(epsilon*H850)*COS(D*H850),Aktina*SIN(epsilon*XRONOS)*COS(D*XRONOS))","v":45.74311691021822},{"$f":"IF(H850<CALCULATIONS!$M$9,Aktina*COS(epsilon*H850)*COS(D*H850),Aktina*COS(epsilon*XRONOS)*COS(D*XRONOS))","v":-11.507920874332966}]
[801,8.0099999999998737,{"$f":"IF(B851<CALCULATIONS!$M$9,Alfa1*SIN(miia*B851)-Alfa2*SIN(miib*B851),CURRENTX)","v":-56.297913514466224},{"$f":"IF(B851<CALCULATIONS!$M$9,-(Alfa1*COS(miia*B851)-Alfa2*COS(miib*B851)),CURRENTY)","v":-31.941052073016863},null,null,801,8.0099999999998737,{"$f":"IF(H851<CALCULATIONS!$M$9,Aktina*SIN(epsilon*H851)*COS(D*H851),Aktina*SIN(epsilon*XRONOS)*COS(D*XRONOS))","v":45.74311691021822},{"$f":"IF(H851<CALCULATIONS!$M$9,Aktina*COS(epsilon*H851)*COS(D*H851),Aktina*COS(epsilon*XRONOS)*COS(D*XRONOS))","v":-11.507920874332966}]
[802,8.0199999999998735,{"$f":"IF(B852<CALCULATIONS!$M$9,Alfa1*SIN(miia*B852)-Alfa2*SIN(miib*B852),CURRENTX)","v":-56.297913514466224},{"$f":"IF(B852<CALCULATIONS!$M$9,-(Alfa1*COS(miia*B852)-Alfa2*COS(miib*B852)),CURRENTY)","v":-31.941052073016863},null,null,802,8.0199999999998735,{"$f":"IF(H852<CALCULATIONS!$M$9,Aktina*SIN(epsilon*H852)*COS(D*H852),Aktina*SIN(epsilon*XRONOS)*COS(D*XRONOS))","v":45.74311691021822},{"$f":"IF(H852<CALCULATIONS!$M$9,Aktina*COS(epsilon*H852)*COS(D*H852),Aktina*COS(epsilon*XRONOS)*COS(D*XRONOS))","v":-11.507920874332966}]
[803,8.0299999999998732,{"$f":"IF(B853<CALCULATIONS!$M$9,Alfa1*SIN(miia*B853)-Alfa2*SIN(miib*B853),CURRENTX)","v":-56.297913514466224},{"$f":"IF(B853<CALCULATIONS!$M$9,-(Alfa1*COS(miia*B853)-Alfa2*COS(miib*B853)),CURRENTY)","v":-31.941052073016863},null,null,803,8.0299999999998732,{"$f":"IF(H853<CALCULATIONS!$M$9,Aktina*SIN(epsilon*H853)*COS(D*H853),Aktina*SIN(epsilon*XRONOS)*COS(D*XRONOS))","v":45.74311691021822},{"$f":"IF(H853<CALCULATIONS!$M$9,Aktina*COS(epsilon*H853)*COS(D*H853),Aktina*COS(epsilon*XRONOS)*COS(D*XRONOS))","v":-11.507920874332966}]
[804,8.039999999999873,{"$f":"IF(B854<CALCULATIONS!$M$9,Alfa1*SIN(miia*B854)-Alfa2*SIN(miib*B854),CURRENTX)","v":-56.297913514466224},{"$f":"IF(B854<CALCULATIONS!$M$9,-(Alfa1*COS(miia*B854)-Alfa2*COS(miib*B854)),CURRENTY)","v":-31.941052073016863},null,null,804,8.039999999999873,{"$f":"IF(H854<CALCULATIONS!$M$9,Aktina*SIN(epsilon*H854)*COS(D*H854),Aktina*SIN(epsilon*XRONOS)*COS(D*XRONOS))","v":45.74311691021822},{"$f":"IF(H854<CALCULATIONS!$M$9,Aktina*COS(epsilon*H854)*COS(D*H854),Aktina*COS(epsilon*XRONOS)*COS(D*XRONOS))","v":-11.507920874332966}]
[805,8.0499999999998728,{"$f":"IF(B855<CALCULATIONS!$M$9,Alfa1*SIN(miia*B855)-Alfa2*SIN(miib*B855),CURRENTX)","v":-56.297913514466224},{"$f":"IF(B855<CALCULATIONS!$M$9,-(Alfa1*COS(miia*B855)-Alfa2*COS(miib*B855)),CURRENTY)","v":-31.941052073016863},null,null,805,8.0499999999998728,{"$f":"IF(H855<CALCULATIONS!$M$9,Aktina*SIN(epsilon*H855)*COS(D*H855),Aktina*SIN(epsilon*XRONOS)*COS(D*XRONOS))","v":45.74311691021822},{"$f":"IF(H855<CALCULATIONS!$M$9,Aktina*COS(epsilon*H855)*COS(D*H855),Aktina*COS(epsilon*XRONOS)*COS(D*XRONOS))","v":-11.507920874332966}]
[806,8.0599999999998726,{"$f":"IF(B856<CALCULATIONS!$M$9,Alfa1*SIN(miia*B856)-Alfa2*SIN(miib*B856),CURRENTX)","v":-56.297913514466224},{"$f":"IF(B856<CALCULATIONS!$M$9,-(Alfa1*COS(miia*B856)-Alfa2*COS(miib*B856)),CURRENTY)","v":-31.941052073016863},null,null,806,8.0599999999998726,{"$f":"IF(H856<CALCULATIONS!$M$9,Aktina*SIN(epsilon*H856)*COS(D*H856),Aktina*SIN(epsilon*XRONOS)*COS(D*XRONOS))","v":45.74311691021822},{"$f":"IF(H856<CALCULATIONS!$M$9,Aktina*COS(epsilon*H856)*COS(D*H856),Aktina*COS(epsilon*XRONOS)*COS(D*XRONOS))","v":-11.507920874332966}]
[807,8.0699999999998724,{"$f":"IF(B857<CALCULATIONS!$M$9,Alfa1*SIN(miia*B857)-Alfa2*SIN(miib*B857),CURRENTX)","v":-56.297913514466224},{"$f":"IF(B857<CALCULATIONS!$M$9,-(Alfa1*COS(miia*B857)-Alfa2*COS(miib*B857)),CURRENTY)","v":-31.941052073016863},null,null,807,8.0699999999998724,{"$f":"IF(H857<CALCULATIONS!$M$9,Aktina*SIN(epsilon*H857)*COS(D*H857),Aktina*SIN(epsilon*XRONOS)*COS(D*XRONOS))","v":45.74311691021822},{"$f":"IF(H857<CALCULATIONS!$M$9,Aktina*COS(epsilon*H857)*COS(D*H857),Aktina*COS(epsilon*XRONOS)*COS(D*XRONOS))","v":-11.507920874332966}]
[808,8.0799999999998722,{"$f":"IF(B858<CALCULATIONS!$M$9,Alfa1*SIN(miia*B858)-Alfa2*SIN(miib*B858),CURRENTX)","v":-56.297913514466224},{"$f":"IF(B858<CALCULATIONS!$M$9,-(Alfa1*COS(miia*B858)-Alfa2*COS(miib*B858)),CURRENTY)","v":-31.941052073016863},null,null,808,8.0799999999998722,{"$f":"IF(H858<CALCULATIONS!$M$9,Aktina*SIN(epsilon*H858)*COS(D*H858),Aktina*SIN(epsilon*XRONOS)*COS(D*XRONOS))","v":45.74311691021822},{"$f":"IF(H858<CALCULATIONS!$M$9,Aktina*COS(epsilon*H858)*COS(D*H858),Aktina*COS(epsilon*XRONOS)*COS(D*XRONOS))","v":-11.507920874332966}]
[809,8.089999999999872,{"$f":"IF(B859<CALCULATIONS!$M$9,Alfa1*SIN(miia*B859)-Alfa2*SIN(miib*B859),CURRENTX)","v":-56.297913514466224},{"$f":"IF(B859<CALCULATIONS!$M$9,-(Alfa1*COS(miia*B859)-Alfa2*COS(miib*B859)),CURRENTY)","v":-31.941052073016863},null,null,809,8.089999999999872,{"$f":"IF(H859<CALCULATIONS!$M$9,Aktina*SIN(epsilon*H859)*COS(D*H859),Aktina*SIN(epsilon*XRONOS)*COS(D*XRONOS))","v":45.74311691021822},{"$f":"IF(H859<CALCULATIONS!$M$9,Aktina*COS(epsilon*H859)*COS(D*H859),Aktina*COS(epsilon*XRONOS)*COS(D*XRONOS))","v":-11.507920874332966}]
[810,8.0999999999998717,{"$f":"IF(B860<CALCULATIONS!$M$9,Alfa1*SIN(miia*B860)-Alfa2*SIN(miib*B860),CURRENTX)","v":-56.297913514466224},{"$f":"IF(B860<CALCULATIONS!$M$9,-(Alfa1*COS(miia*B860)-Alfa2*COS(miib*B860)),CURRENTY)","v":-31.941052073016863},null,null,810,8.0999999999998717,{"$f":"IF(H860<CALCULATIONS!$M$9,Aktina*SIN(epsilon*H860)*COS(D*H860),Aktina*SIN(epsilon*XRONOS)*COS(D*XRONOS))","v":45.74311691021822},{"$f":"IF(H860<CALCULATIONS!$M$9,Aktina*COS(epsilon*H860)*COS(D*H860),Aktina*COS(epsilon*XRONOS)*COS(D*XRONOS))","v":-11.507920874332966}]
[811,8.1099999999998715,{"$f":"IF(B861<CALCULATIONS!$M$9,Alfa1*SIN(miia*B861)-Alfa2*SIN(miib*B861),CURRENTX)","v":-56.297913514466224},{"$f":"IF(B861<CALCULATIONS!$M$9,-(Alfa1*COS(miia*B861)-Alfa2*COS(miib*B861)),CURRENTY)","v":-31.941052073016863},null,null,811,8.1099999999998715,{"$f":"IF(H861<CALCULATIONS!$M$9,Aktina*SIN(epsilon*H861)*COS(D*H861),Aktina*SIN(epsilon*XRONOS)*COS(D*XRONOS))","v":45.74311691021822},{"$f":"IF(H861<CALCULATIONS!$M$9,Aktina*COS(epsilon*H861)*COS(D*H861),Aktina*COS(epsilon*XRONOS)*COS(D*XRONOS))","v":-11.507920874332966}]
[812,8.1199999999998713,{"$f":"IF(B862<CALCULATIONS!$M$9,Alfa1*SIN(miia*B862)-Alfa2*SIN(miib*B862),CURRENTX)","v":-56.297913514466224},{"$f":"IF(B862<CALCULATIONS!$M$9,-(Alfa1*COS(miia*B862)-Alfa2*COS(miib*B862)),CURRENTY)","v":-31.941052073016863},null,null,812,8.1199999999998713,{"$f":"IF(H862<CALCULATIONS!$M$9,Aktina*SIN(epsilon*H862)*COS(D*H862),Aktina*SIN(epsilon*XRONOS)*COS(D*XRONOS))","v":45.74311691021822},{"$f":"IF(H862<CALCULATIONS!$M$9,Aktina*COS(epsilon*H862)*COS(D*H862),Aktina*COS(epsilon*XRONOS)*COS(D*XRONOS))","v":-11.507920874332966}]
[813,8.1299999999998711,{"$f":"IF(B863<CALCULATIONS!$M$9,Alfa1*SIN(miia*B863)-Alfa2*SIN(miib*B863),CURRENTX)","v":-56.297913514466224},{"$f":"IF(B863<CALCULATIONS!$M$9,-(Alfa1*COS(miia*B863)-Alfa2*COS(miib*B863)),CURRENTY)","v":-31.941052073016863},null,null,813,8.1299999999998711,{"$f":"IF(H863<CALCULATIONS!$M$9,Aktina*SIN(epsilon*H863)*COS(D*H863),Aktina*SIN(epsilon*XRONOS)*COS(D*XRONOS))","v":45.74311691021822},{"$f":"IF(H863<CALCULATIONS!$M$9,Aktina*COS(epsilon*H863)*COS(D*H863),Aktina*COS(epsilon*XRONOS)*COS(D*XRONOS))","v":-11.507920874332966}]
[814,8.1399999999998709,{"$f":"IF(B864<CALCULATIONS!$M$9,Alfa1*SIN(miia*B864)-Alfa2*SIN(miib*B864),CURRENTX)","v":-56.297913514466224},{"$f":"IF(B864<CALCULATIONS!$M$9,-(Alfa1*COS(miia*B864)-Alfa2*COS(miib*B864)),CURRENTY)","v":-31.941052073016863},null,null,814,8.1399999999998709,{"$f":"IF(H864<CALCULATIONS!$M$9,Aktina*SIN(epsilon*H864)*COS(D*H864),Aktina*SIN(epsilon*XRONOS)*COS(D*XRONOS))","v":45.74311691021822},{"$f":"IF(H864<CALCULATIONS!$M$9,Aktina*COS(epsilon*H864)*COS(D*H864),Aktina*COS(epsilon*XRONOS)*COS(D*XRONOS))","v":-11.507920874332966}]
[815,8.1499999999998707,{"$f":"IF(B865<CALCULATIONS!$M$9,Alfa1*SIN(miia*B865)-Alfa2*SIN(miib*B865),CURRENTX)","v":-56.297913514466224},{"$f":"IF(B865<CALCULATIONS!$M$9,-(Alfa1*COS(miia*B865)-Alfa2*COS(miib*B865)),CURRENTY)","v":-31.941052073016863},null,null,815,8.1499999999998707,{"$f":"IF(H865<CALCULATIONS!$M$9,Aktina*SIN(epsilon*H865)*COS(D*H865),Aktina*SIN(epsilon*XRONOS)*COS(D*XRONOS))","v":45.74311691021822},{"$f":"IF(H865<CALCULATIONS!$M$9,Aktina*COS(epsilon*H865)*COS(D*H865),Aktina*COS(epsilon*XRONOS)*COS(D*XRONOS))","v":-11.507920874332966}]
[816,8.1599999999998705,{"$f":"IF(B866<CALCULATIONS!$M$9,Alfa1*SIN(miia*B866)-Alfa2*SIN(miib*B866),CURRENTX)","v":-56.297913514466224},{"$f":"IF(B866<CALCULATIONS!$M$9,-(Alfa1*COS(miia*B866)-Alfa2*COS(miib*B866)),CURRENTY)","v":-31.941052073016863},null,null,816,8.1599999999998705,{"$f":"IF(H866<CALCULATIONS!$M$9,Aktina*SIN(epsilon*H866)*COS(D*H866),Aktina*SIN(epsilon*XRONOS)*COS(D*XRONOS))","v":45.74311691021822},{"$f":"IF(H866<CALCULATIONS!$M$9,Aktina*COS(epsilon*H866)*COS(D*H866),Aktina*COS(epsilon*XRONOS)*COS(D*XRONOS))","v":-11.507920874332966}]
[817,8.1699999999998703,{"$f":"IF(B867<CALCULATIONS!$M$9,Alfa1*SIN(miia*B867)-Alfa2*SIN(miib*B867),CURRENTX)","v":-56.297913514466224},{"$f":"IF(B867<CALCULATIONS!$M$9,-(Alfa1*COS(miia*B867)-Alfa2*COS(miib*B867)),CURRENTY)","v":-31.941052073016863},null,null,817,8.1699999999998703,{"$f":"IF(H867<CALCULATIONS!$M$9,Aktina*SIN(epsilon*H867)*COS(D*H867),Aktina*SIN(epsilon*XRONOS)*COS(D*XRONOS))","v":45.74311691021822},{"$f":"IF(H867<CALCULATIONS!$M$9,Aktina*COS(epsilon*H867)*COS(D*H867),Aktina*COS(epsilon*XRONOS)*COS(D*XRONOS))","v":-11.507920874332966}]
[818,8.17999999999987,{"$f":"IF(B868<CALCULATIONS!$M$9,Alfa1*SIN(miia*B868)-Alfa2*SIN(miib*B868),CURRENTX)","v":-56.297913514466224},{"$f":"IF(B868<CALCULATIONS!$M$9,-(Alfa1*COS(miia*B868)-Alfa2*COS(miib*B868)),CURRENTY)","v":-31.941052073016863},null,null,818,8.17999999999987,{"$f":"IF(H868<CALCULATIONS!$M$9,Aktina*SIN(epsilon*H868)*COS(D*H868),Aktina*SIN(epsilon*XRONOS)*COS(D*XRONOS))","v":45.74311691021822},{"$f":"IF(H868<CALCULATIONS!$M$9,Aktina*COS(epsilon*H868)*COS(D*H868),Aktina*COS(epsilon*XRONOS)*COS(D*XRONOS))","v":-11.507920874332966}]
[819,8.1899999999998698,{"$f":"IF(B869<CALCULATIONS!$M$9,Alfa1*SIN(miia*B869)-Alfa2*SIN(miib*B869),CURRENTX)","v":-56.297913514466224},{"$f":"IF(B869<CALCULATIONS!$M$9,-(Alfa1*COS(miia*B869)-Alfa2*COS(miib*B869)),CURRENTY)","v":-31.941052073016863},null,null,819,8.1899999999998698,{"$f":"IF(H869<CALCULATIONS!$M$9,Aktina*SIN(epsilon*H869)*COS(D*H869),Aktina*SIN(epsilon*XRONOS)*COS(D*XRONOS))","v":45.74311691021822},{"$f":"IF(H869<CALCULATIONS!$M$9,Aktina*COS(epsilon*H869)*COS(D*H869),Aktina*COS(epsilon*XRONOS)*COS(D*XRONOS))","v":-11.507920874332966}]
[820,8.1999999999998696,{"$f":"IF(B870<CALCULATIONS!$M$9,Alfa1*SIN(miia*B870)-Alfa2*SIN(miib*B870),CURRENTX)","v":-56.297913514466224},{"$f":"IF(B870<CALCULATIONS!$M$9,-(Alfa1*COS(miia*B870)-Alfa2*COS(miib*B870)),CURRENTY)","v":-31.941052073016863},null,null,820,8.1999999999998696,{"$f":"IF(H870<CALCULATIONS!$M$9,Aktina*SIN(epsilon*H870)*COS(D*H870),Aktina*SIN(epsilon*XRONOS)*COS(D*XRONOS))","v":45.74311691021822},{"$f":"IF(H870<CALCULATIONS!$M$9,Aktina*COS(epsilon*H870)*COS(D*H870),Aktina*COS(epsilon*XRONOS)*COS(D*XRONOS))","v":-11.507920874332966}]
[821,8.2099999999998694,{"$f":"IF(B871<CALCULATIONS!$M$9,Alfa1*SIN(miia*B871)-Alfa2*SIN(miib*B871),CURRENTX)","v":-56.297913514466224},{"$f":"IF(B871<CALCULATIONS!$M$9,-(Alfa1*COS(miia*B871)-Alfa2*COS(miib*B871)),CURRENTY)","v":-31.941052073016863},null,null,821,8.2099999999998694,{"$f":"IF(H871<CALCULATIONS!$M$9,Aktina*SIN(epsilon*H871)*COS(D*H871),Aktina*SIN(epsilon*XRONOS)*COS(D*XRONOS))","v":45.74311691021822},{"$f":"IF(H871<CALCULATIONS!$M$9,Aktina*COS(epsilon*H871)*COS(D*H871),Aktina*COS(epsilon*XRONOS)*COS(D*XRONOS))","v":-11.507920874332966}]
[822,8.2199999999998692,{"$f":"IF(B872<CALCULATIONS!$M$9,Alfa1*SIN(miia*B872)-Alfa2*SIN(miib*B872),CURRENTX)","v":-56.297913514466224},{"$f":"IF(B872<CALCULATIONS!$M$9,-(Alfa1*COS(miia*B872)-Alfa2*COS(miib*B872)),CURRENTY)","v":-31.941052073016863},null,null,822,8.2199999999998692,{"$f":"IF(H872<CALCULATIONS!$M$9,Aktina*SIN(epsilon*H872)*COS(D*H872),Aktina*SIN(epsilon*XRONOS)*COS(D*XRONOS))","v":45.74311691021822},{"$f":"IF(H872<CALCULATIONS!$M$9,Aktina*COS(epsilon*H872)*COS(D*H872),Aktina*COS(epsilon*XRONOS)*COS(D*XRONOS))","v":-11.507920874332966}]
[823,8.229999999999869,{"$f":"IF(B873<CALCULATIONS!$M$9,Alfa1*SIN(miia*B873)-Alfa2*SIN(miib*B873),CURRENTX)","v":-56.297913514466224},{"$f":"IF(B873<CALCULATIONS!$M$9,-(Alfa1*COS(miia*B873)-Alfa2*COS(miib*B873)),CURRENTY)","v":-31.941052073016863},null,null,823,8.229999999999869,{"$f":"IF(H873<CALCULATIONS!$M$9,Aktina*SIN(epsilon*H873)*COS(D*H873),Aktina*SIN(epsilon*XRONOS)*COS(D*XRONOS))","v":45.74311691021822},{"$f":"IF(H873<CALCULATIONS!$M$9,Aktina*COS(epsilon*H873)*COS(D*H873),Aktina*COS(epsilon*XRONOS)*COS(D*XRONOS))","v":-11.507920874332966}]
[824,8.2399999999998688,{"$f":"IF(B874<CALCULATIONS!$M$9,Alfa1*SIN(miia*B874)-Alfa2*SIN(miib*B874),CURRENTX)","v":-56.297913514466224},{"$f":"IF(B874<CALCULATIONS!$M$9,-(Alfa1*COS(miia*B874)-Alfa2*COS(miib*B874)),CURRENTY)","v":-31.941052073016863},null,null,824,8.2399999999998688,{"$f":"IF(H874<CALCULATIONS!$M$9,Aktina*SIN(epsilon*H874)*COS(D*H874),Aktina*SIN(epsilon*XRONOS)*COS(D*XRONOS))","v":45.74311691021822},{"$f":"IF(H874<CALCULATIONS!$M$9,Aktina*COS(epsilon*H874)*COS(D*H874),Aktina*COS(epsilon*XRONOS)*COS(D*XRONOS))","v":-11.507920874332966}]
[825,8.2499999999998685,{"$f":"IF(B875<CALCULATIONS!$M$9,Alfa1*SIN(miia*B875)-Alfa2*SIN(miib*B875),CURRENTX)","v":-56.297913514466224},{"$f":"IF(B875<CALCULATIONS!$M$9,-(Alfa1*COS(miia*B875)-Alfa2*COS(miib*B875)),CURRENTY)","v":-31.941052073016863},null,null,825,8.2499999999998685,{"$f":"IF(H875<CALCULATIONS!$M$9,Aktina*SIN(epsilon*H875)*COS(D*H875),Aktina*SIN(epsilon*XRONOS)*COS(D*XRONOS))","v":45.74311691021822},{"$f":"IF(H875<CALCULATIONS!$M$9,Aktina*COS(epsilon*H875)*COS(D*H875),Aktina*COS(epsilon*XRONOS)*COS(D*XRONOS))","v":-11.507920874332966}]
[826,8.2599999999998683,{"$f":"IF(B876<CALCULATIONS!$M$9,Alfa1*SIN(miia*B876)-Alfa2*SIN(miib*B876),CURRENTX)","v":-56.297913514466224},{"$f":"IF(B876<CALCULATIONS!$M$9,-(Alfa1*COS(miia*B876)-Alfa2*COS(miib*B876)),CURRENTY)","v":-31.941052073016863},null,null,826,8.2599999999998683,{"$f":"IF(H876<CALCULATIONS!$M$9,Aktina*SIN(epsilon*H876)*COS(D*H876),Aktina*SIN(epsilon*XRONOS)*COS(D*XRONOS))","v":45.74311691021822},{"$f":"IF(H876<CALCULATIONS!$M$9,Aktina*COS(epsilon*H876)*COS(D*H876),Aktina*COS(epsilon*XRONOS)*COS(D*XRONOS))","v":-11.507920874332966}]
[827,8.2699999999998681,{"$f":"IF(B877<CALCULATIONS!$M$9,Alfa1*SIN(miia*B877)-Alfa2*SIN(miib*B877),CURRENTX)","v":-56.297913514466224},{"$f":"IF(B877<CALCULATIONS!$M$9,-(Alfa1*COS(miia*B877)-Alfa2*COS(miib*B877)),CURRENTY)","v":-31.941052073016863},null,null,827,8.2699999999998681,{"$f":"IF(H877<CALCULATIONS!$M$9,Aktina*SIN(epsilon*H877)*COS(D*H877),Aktina*SIN(epsilon*XRONOS)*COS(D*XRONOS))","v":45.74311691021822},{"$f":"IF(H877<CALCULATIONS!$M$9,Aktina*COS(epsilon*H877)*COS(D*H877),Aktina*COS(epsilon*XRONOS)*COS(D*XRONOS))","v":-11.507920874332966}]
[828,8.2799999999998679,{"$f":"IF(B878<CALCULATIONS!$M$9,Alfa1*SIN(miia*B878)-Alfa2*SIN(miib*B878),CURRENTX)","v":-56.297913514466224},{"$f":"IF(B878<CALCULATIONS!$M$9,-(Alfa1*COS(miia*B878)-Alfa2*COS(miib*B878)),CURRENTY)","v":-31.941052073016863},null,null,828,8.2799999999998679,{"$f":"IF(H878<CALCULATIONS!$M$9,Aktina*SIN(epsilon*H878)*COS(D*H878),Aktina*SIN(epsilon*XRONOS)*COS(D*XRONOS))","v":45.74311691021822},{"$f":"IF(H878<CALCULATIONS!$M$9,Aktina*COS(epsilon*H878)*COS(D*H878),Aktina*COS(epsilon*XRONOS)*COS(D*XRONOS))","v":-11.507920874332966}]
[829,8.2899999999998677,{"$f":"IF(B879<CALCULATIONS!$M$9,Alfa1*SIN(miia*B879)-Alfa2*SIN(miib*B879),CURRENTX)","v":-56.297913514466224},{"$f":"IF(B879<CALCULATIONS!$M$9,-(Alfa1*COS(miia*B879)-Alfa2*COS(miib*B879)),CURRENTY)","v":-31.941052073016863},null,null,829,8.2899999999998677,{"$f":"IF(H879<CALCULATIONS!$M$9,Aktina*SIN(epsilon*H879)*COS(D*H879),Aktina*SIN(epsilon*XRONOS)*COS(D*XRONOS))","v":45.74311691021822},{"$f":"IF(H879<CALCULATIONS!$M$9,Aktina*COS(epsilon*H879)*COS(D*H879),Aktina*COS(epsilon*XRONOS)*COS(D*XRONOS))","v":-11.507920874332966}]
[830,8.2999999999998675,{"$f":"IF(B880<CALCULATIONS!$M$9,Alfa1*SIN(miia*B880)-Alfa2*SIN(miib*B880),CURRENTX)","v":-56.297913514466224},{"$f":"IF(B880<CALCULATIONS!$M$9,-(Alfa1*COS(miia*B880)-Alfa2*COS(miib*B880)),CURRENTY)","v":-31.941052073016863},null,null,830,8.2999999999998675,{"$f":"IF(H880<CALCULATIONS!$M$9,Aktina*SIN(epsilon*H880)*COS(D*H880),Aktina*SIN(epsilon*XRONOS)*COS(D*XRONOS))","v":45.74311691021822},{"$f":"IF(H880<CALCULATIONS!$M$9,Aktina*COS(epsilon*H880)*COS(D*H880),Aktina*COS(epsilon*XRONOS)*COS(D*XRONOS))","v":-11.507920874332966}]
[831,8.3099999999998673,{"$f":"IF(B881<CALCULATIONS!$M$9,Alfa1*SIN(miia*B881)-Alfa2*SIN(miib*B881),CURRENTX)","v":-56.297913514466224},{"$f":"IF(B881<CALCULATIONS!$M$9,-(Alfa1*COS(miia*B881)-Alfa2*COS(miib*B881)),CURRENTY)","v":-31.941052073016863},null,null,831,8.3099999999998673,{"$f":"IF(H881<CALCULATIONS!$M$9,Aktina*SIN(epsilon*H881)*COS(D*H881),Aktina*SIN(epsilon*XRONOS)*COS(D*XRONOS))","v":45.74311691021822},{"$f":"IF(H881<CALCULATIONS!$M$9,Aktina*COS(epsilon*H881)*COS(D*H881),Aktina*COS(epsilon*XRONOS)*COS(D*XRONOS))","v":-11.507920874332966}]
[832,8.3199999999998671,{"$f":"IF(B882<CALCULATIONS!$M$9,Alfa1*SIN(miia*B882)-Alfa2*SIN(miib*B882),CURRENTX)","v":-56.297913514466224},{"$f":"IF(B882<CALCULATIONS!$M$9,-(Alfa1*COS(miia*B882)-Alfa2*COS(miib*B882)),CURRENTY)","v":-31.941052073016863},null,null,832,8.3199999999998671,{"$f":"IF(H882<CALCULATIONS!$M$9,Aktina*SIN(epsilon*H882)*COS(D*H882),Aktina*SIN(epsilon*XRONOS)*COS(D*XRONOS))","v":45.74311691021822},{"$f":"IF(H882<CALCULATIONS!$M$9,Aktina*COS(epsilon*H882)*COS(D*H882),Aktina*COS(epsilon*XRONOS)*COS(D*XRONOS))","v":-11.507920874332966}]
[833,{"$f":"B882+dt","v":8.3299999999998668},{"$f":"IF(B883<CALCULATIONS!$M$9,Alfa1*SIN(miia*B883)-Alfa2*SIN(miib*B883),CURRENTX)","v":-56.297913514466224},{"$f":"IF(B883<CALCULATIONS!$M$9,-(Alfa1*COS(miia*B883)-Alfa2*COS(miib*B883)),CURRENTY)","v":-31.941052073016863},null,null,833,{"$f":"H882+dt","v":8.3299999999998668},{"$f":"IF(H883<CALCULATIONS!$M$9,Aktina*SIN(epsilon*H883)*COS(D*H883),Aktina*SIN(epsilon*XRONOS)*COS(D*XRONOS))","v":45.74311691021822},{"$f":"IF(H883<CALCULATIONS!$M$9,Aktina*COS(epsilon*H883)*COS(D*H883),Aktina*COS(epsilon*XRONOS)*COS(D*XRONOS))","v":-11.507920874332966}]
[{"$f":"A883+1","v":834},8.3399999999998666,{"$f":"IF(B884<CALCULATIONS!$M$9,Alfa1*SIN(miia*B884)-Alfa2*SIN(miib*B884),CURRENTX)","v":-56.297913514466224},{"$f":"IF(B884<CALCULATIONS!$M$9,-(Alfa1*COS(miia*B884)-Alfa2*COS(miib*B884)),CURRENTY)","v":-31.941052073016863},null,null,{"$f":"G883+1","v":834},8.3399999999998666,{"$f":"IF(H884<CALCULATIONS!$M$9,Aktina*SIN(epsilon*H884)*COS(D*H884),Aktina*SIN(epsilon*XRONOS)*COS(D*XRONOS))","v":45.74311691021822},{"$f":"IF(H884<CALCULATIONS!$M$9,Aktina*COS(epsilon*H884)*COS(D*H884),Aktina*COS(epsilon*XRONOS)*COS(D*XRONOS))","v":-11.507920874332966}]
[835,8.3499999999998664,{"$f":"IF(B885<CALCULATIONS!$M$9,Alfa1*SIN(miia*B885)-Alfa2*SIN(miib*B885),CURRENTX)","v":-56.297913514466224},{"$f":"IF(B885<CALCULATIONS!$M$9,-(Alfa1*COS(miia*B885)-Alfa2*COS(miib*B885)),CURRENTY)","v":-31.941052073016863},null,null,835,8.3499999999998664,{"$f":"IF(H885<CALCULATIONS!$M$9,Aktina*SIN(epsilon*H885)*COS(D*H885),Aktina*SIN(epsilon*XRONOS)*COS(D*XRONOS))","v":45.74311691021822},{"$f":"IF(H885<CALCULATIONS!$M$9,Aktina*COS(epsilon*H885)*COS(D*H885),Aktina*COS(epsilon*XRONOS)*COS(D*XRONOS))","v":-11.507920874332966}]
[836,8.3599999999998662,{"$f":"IF(B886<CALCULATIONS!$M$9,Alfa1*SIN(miia*B886)-Alfa2*SIN(miib*B886),CURRENTX)","v":-56.297913514466224},{"$f":"IF(B886<CALCULATIONS!$M$9,-(Alfa1*COS(miia*B886)-Alfa2*COS(miib*B886)),CURRENTY)","v":-31.941052073016863},null,null,836,8.3599999999998662,{"$f":"IF(H886<CALCULATIONS!$M$9,Aktina*SIN(epsilon*H886)*COS(D*H886),Aktina*SIN(epsilon*XRONOS)*COS(D*XRONOS))","v":45.74311691021822},{"$f":"IF(H886<CALCULATIONS!$M$9,Aktina*COS(epsilon*H886)*COS(D*H886),Aktina*COS(epsilon*XRONOS)*COS(D*XRONOS))","v":-11.507920874332966}]
[837,8.369999999999866,{"$f":"IF(B887<CALCULATIONS!$M$9,Alfa1*SIN(miia*B887)-Alfa2*SIN(miib*B887),CURRENTX)","v":-56.297913514466224},{"$f":"IF(B887<CALCULATIONS!$M$9,-(Alfa1*COS(miia*B887)-Alfa2*COS(miib*B887)),CURRENTY)","v":-31.941052073016863},null,null,837,8.369999999999866,{"$f":"IF(H887<CALCULATIONS!$M$9,Aktina*SIN(epsilon*H887)*COS(D*H887),Aktina*SIN(epsilon*XRONOS)*COS(D*XRONOS))","v":45.74311691021822},{"$f":"IF(H887<CALCULATIONS!$M$9,Aktina*COS(epsilon*H887)*COS(D*H887),Aktina*COS(epsilon*XRONOS)*COS(D*XRONOS))","v":-11.507920874332966}]
[838,8.3799999999998658,{"$f":"IF(B888<CALCULATIONS!$M$9,Alfa1*SIN(miia*B888)-Alfa2*SIN(miib*B888),CURRENTX)","v":-56.297913514466224},{"$f":"IF(B888<CALCULATIONS!$M$9,-(Alfa1*COS(miia*B888)-Alfa2*COS(miib*B888)),CURRENTY)","v":-31.941052073016863},null,null,838,8.3799999999998658,{"$f":"IF(H888<CALCULATIONS!$M$9,Aktina*SIN(epsilon*H888)*COS(D*H888),Aktina*SIN(epsilon*XRONOS)*COS(D*XRONOS))","v":45.74311691021822},{"$f":"IF(H888<CALCULATIONS!$M$9,Aktina*COS(epsilon*H888)*COS(D*H888),Aktina*COS(epsilon*XRONOS)*COS(D*XRONOS))","v":-11.507920874332966}]
[839,8.3899999999998656,{"$f":"IF(B889<CALCULATIONS!$M$9,Alfa1*SIN(miia*B889)-Alfa2*SIN(miib*B889),CURRENTX)","v":-56.297913514466224},{"$f":"IF(B889<CALCULATIONS!$M$9,-(Alfa1*COS(miia*B889)-Alfa2*COS(miib*B889)),CURRENTY)","v":-31.941052073016863},null,null,839,8.3899999999998656,{"$f":"IF(H889<CALCULATIONS!$M$9,Aktina*SIN(epsilon*H889)*COS(D*H889),Aktina*SIN(epsilon*XRONOS)*COS(D*XRONOS))","v":45.74311691021822},{"$f":"IF(H889<CALCULATIONS!$M$9,Aktina*COS(epsilon*H889)*COS(D*H889),Aktina*COS(epsilon*XRONOS)*COS(D*XRONOS))","v":-11.507920874332966}]
[840,8.3999999999998654,{"$f":"IF(B890<CALCULATIONS!$M$9,Alfa1*SIN(miia*B890)-Alfa2*SIN(miib*B890),CURRENTX)","v":-56.297913514466224},{"$f":"IF(B890<CALCULATIONS!$M$9,-(Alfa1*COS(miia*B890)-Alfa2*COS(miib*B890)),CURRENTY)","v":-31.941052073016863},null,null,840,8.3999999999998654,{"$f":"IF(H890<CALCULATIONS!$M$9,Aktina*SIN(epsilon*H890)*COS(D*H890),Aktina*SIN(epsilon*XRONOS)*COS(D*XRONOS))","v":45.74311691021822},{"$f":"IF(H890<CALCULATIONS!$M$9,Aktina*COS(epsilon*H890)*COS(D*H890),Aktina*COS(epsilon*XRONOS)*COS(D*XRONOS))","v":-11.507920874332966}]
[841,8.4099999999998651,{"$f":"IF(B891<CALCULATIONS!$M$9,Alfa1*SIN(miia*B891)-Alfa2*SIN(miib*B891),CURRENTX)","v":-56.297913514466224},{"$f":"IF(B891<CALCULATIONS!$M$9,-(Alfa1*COS(miia*B891)-Alfa2*COS(miib*B891)),CURRENTY)","v":-31.941052073016863},null,null,841,8.4099999999998651,{"$f":"IF(H891<CALCULATIONS!$M$9,Aktina*SIN(epsilon*H891)*COS(D*H891),Aktina*SIN(epsilon*XRONOS)*COS(D*XRONOS))","v":45.74311691021822},{"$f":"IF(H891<CALCULATIONS!$M$9,Aktina*COS(epsilon*H891)*COS(D*H891),Aktina*COS(epsilon*XRONOS)*COS(D*XRONOS))","v":-11.507920874332966}]
[842,8.4199999999998649,{"$f":"IF(B892<CALCULATIONS!$M$9,Alfa1*SIN(miia*B892)-Alfa2*SIN(miib*B892),CURRENTX)","v":-56.297913514466224},{"$f":"IF(B892<CALCULATIONS!$M$9,-(Alfa1*COS(miia*B892)-Alfa2*COS(miib*B892)),CURRENTY)","v":-31.941052073016863},null,null,842,8.4199999999998649,{"$f":"IF(H892<CALCULATIONS!$M$9,Aktina*SIN(epsilon*H892)*COS(D*H892),Aktina*SIN(epsilon*XRONOS)*COS(D*XRONOS))","v":45.74311691021822},{"$f":"IF(H892<CALCULATIONS!$M$9,Aktina*COS(epsilon*H892)*COS(D*H892),Aktina*COS(epsilon*XRONOS)*COS(D*XRONOS))","v":-11.507920874332966}]
[843,8.4299999999998647,{"$f":"IF(B893<CALCULATIONS!$M$9,Alfa1*SIN(miia*B893)-Alfa2*SIN(miib*B893),CURRENTX)","v":-56.297913514466224},{"$f":"IF(B893<CALCULATIONS!$M$9,-(Alfa1*COS(miia*B893)-Alfa2*COS(miib*B893)),CURRENTY)","v":-31.941052073016863},null,null,843,8.4299999999998647,{"$f":"IF(H893<CALCULATIONS!$M$9,Aktina*SIN(epsilon*H893)*COS(D*H893),Aktina*SIN(epsilon*XRONOS)*COS(D*XRONOS))","v":45.74311691021822},{"$f":"IF(H893<CALCULATIONS!$M$9,Aktina*COS(epsilon*H893)*COS(D*H893),Aktina*COS(epsilon*XRONOS)*COS(D*XRONOS))","v":-11.507920874332966}]
[844,8.4399999999998645,{"$f":"IF(B894<CALCULATIONS!$M$9,Alfa1*SIN(miia*B894)-Alfa2*SIN(miib*B894),CURRENTX)","v":-56.297913514466224},{"$f":"IF(B894<CALCULATIONS!$M$9,-(Alfa1*COS(miia*B894)-Alfa2*COS(miib*B894)),CURRENTY)","v":-31.941052073016863},null,null,844,8.4399999999998645,{"$f":"IF(H894<CALCULATIONS!$M$9,Aktina*SIN(epsilon*H894)*COS(D*H894),Aktina*SIN(epsilon*XRONOS)*COS(D*XRONOS))","v":45.74311691021822},{"$f":"IF(H894<CALCULATIONS!$M$9,Aktina*COS(epsilon*H894)*COS(D*H894),Aktina*COS(epsilon*XRONOS)*COS(D*XRONOS))","v":-11.507920874332966}]
[845,8.4499999999998643,{"$f":"IF(B895<CALCULATIONS!$M$9,Alfa1*SIN(miia*B895)-Alfa2*SIN(miib*B895),CURRENTX)","v":-56.297913514466224},{"$f":"IF(B895<CALCULATIONS!$M$9,-(Alfa1*COS(miia*B895)-Alfa2*COS(miib*B895)),CURRENTY)","v":-31.941052073016863},null,null,845,8.4499999999998643,{"$f":"IF(H895<CALCULATIONS!$M$9,Aktina*SIN(epsilon*H895)*COS(D*H895),Aktina*SIN(epsilon*XRONOS)*COS(D*XRONOS))","v":45.74311691021822},{"$f":"IF(H895<CALCULATIONS!$M$9,Aktina*COS(epsilon*H895)*COS(D*H895),Aktina*COS(epsilon*XRONOS)*COS(D*XRONOS))","v":-11.507920874332966}]
[846,8.4599999999998641,{"$f":"IF(B896<CALCULATIONS!$M$9,Alfa1*SIN(miia*B896)-Alfa2*SIN(miib*B896),CURRENTX)","v":-56.297913514466224},{"$f":"IF(B896<CALCULATIONS!$M$9,-(Alfa1*COS(miia*B896)-Alfa2*COS(miib*B896)),CURRENTY)","v":-31.941052073016863},null,null,846,8.4599999999998641,{"$f":"IF(H896<CALCULATIONS!$M$9,Aktina*SIN(epsilon*H896)*COS(D*H896),Aktina*SIN(epsilon*XRONOS)*COS(D*XRONOS))","v":45.74311691021822},{"$f":"IF(H896<CALCULATIONS!$M$9,Aktina*COS(epsilon*H896)*COS(D*H896),Aktina*COS(epsilon*XRONOS)*COS(D*XRONOS))","v":-11.507920874332966}]
[847,8.4699999999998639,{"$f":"IF(B897<CALCULATIONS!$M$9,Alfa1*SIN(miia*B897)-Alfa2*SIN(miib*B897),CURRENTX)","v":-56.297913514466224},{"$f":"IF(B897<CALCULATIONS!$M$9,-(Alfa1*COS(miia*B897)-Alfa2*COS(miib*B897)),CURRENTY)","v":-31.941052073016863},null,null,847,8.4699999999998639,{"$f":"IF(H897<CALCULATIONS!$M$9,Aktina*SIN(epsilon*H897)*COS(D*H897),Aktina*SIN(epsilon*XRONOS)*COS(D*XRONOS))","v":45.74311691021822},{"$f":"IF(H897<CALCULATIONS!$M$9,Aktina*COS(epsilon*H897)*COS(D*H897),Aktina*COS(epsilon*XRONOS)*COS(D*XRONOS))","v":-11.507920874332966}]
[848,8.4799999999998636,{"$f":"IF(B898<CALCULATIONS!$M$9,Alfa1*SIN(miia*B898)-Alfa2*SIN(miib*B898),CURRENTX)","v":-56.297913514466224},{"$f":"IF(B898<CALCULATIONS!$M$9,-(Alfa1*COS(miia*B898)-Alfa2*COS(miib*B898)),CURRENTY)","v":-31.941052073016863},null,null,848,8.4799999999998636,{"$f":"IF(H898<CALCULATIONS!$M$9,Aktina*SIN(epsilon*H898)*COS(D*H898),Aktina*SIN(epsilon*XRONOS)*COS(D*XRONOS))","v":45.74311691021822},{"$f":"IF(H898<CALCULATIONS!$M$9,Aktina*COS(epsilon*H898)*COS(D*H898),Aktina*COS(epsilon*XRONOS)*COS(D*XRONOS))","v":-11.507920874332966}]
[849,8.4899999999998634,{"$f":"IF(B899<CALCULATIONS!$M$9,Alfa1*SIN(miia*B899)-Alfa2*SIN(miib*B899),CURRENTX)","v":-56.297913514466224},{"$f":"IF(B899<CALCULATIONS!$M$9,-(Alfa1*COS(miia*B899)-Alfa2*COS(miib*B899)),CURRENTY)","v":-31.941052073016863},null,null,849,8.4899999999998634,{"$f":"IF(H899<CALCULATIONS!$M$9,Aktina*SIN(epsilon*H899)*COS(D*H899),Aktina*SIN(epsilon*XRONOS)*COS(D*XRONOS))","v":45.74311691021822},{"$f":"IF(H899<CALCULATIONS!$M$9,Aktina*COS(epsilon*H899)*COS(D*H899),Aktina*COS(epsilon*XRONOS)*COS(D*XRONOS))","v":-11.507920874332966}]
[850,8.4999999999998632,{"$f":"IF(B900<CALCULATIONS!$M$9,Alfa1*SIN(miia*B900)-Alfa2*SIN(miib*B900),CURRENTX)","v":-56.297913514466224},{"$f":"IF(B900<CALCULATIONS!$M$9,-(Alfa1*COS(miia*B900)-Alfa2*COS(miib*B900)),CURRENTY)","v":-31.941052073016863},null,null,850,8.4999999999998632,{"$f":"IF(H900<CALCULATIONS!$M$9,Aktina*SIN(epsilon*H900)*COS(D*H900),Aktina*SIN(epsilon*XRONOS)*COS(D*XRONOS))","v":45.74311691021822},{"$f":"IF(H900<CALCULATIONS!$M$9,Aktina*COS(epsilon*H900)*COS(D*H900),Aktina*COS(epsilon*XRONOS)*COS(D*XRONOS))","v":-11.507920874332966}]
[851,8.509999999999863,{"$f":"IF(B901<CALCULATIONS!$M$9,Alfa1*SIN(miia*B901)-Alfa2*SIN(miib*B901),CURRENTX)","v":-56.297913514466224},{"$f":"IF(B901<CALCULATIONS!$M$9,-(Alfa1*COS(miia*B901)-Alfa2*COS(miib*B901)),CURRENTY)","v":-31.941052073016863},null,null,851,8.509999999999863,{"$f":"IF(H901<CALCULATIONS!$M$9,Aktina*SIN(epsilon*H901)*COS(D*H901),Aktina*SIN(epsilon*XRONOS)*COS(D*XRONOS))","v":45.74311691021822},{"$f":"IF(H901<CALCULATIONS!$M$9,Aktina*COS(epsilon*H901)*COS(D*H901),Aktina*COS(epsilon*XRONOS)*COS(D*XRONOS))","v":-11.507920874332966}]
[852,8.5199999999998628,{"$f":"IF(B902<CALCULATIONS!$M$9,Alfa1*SIN(miia*B902)-Alfa2*SIN(miib*B902),CURRENTX)","v":-56.297913514466224},{"$f":"IF(B902<CALCULATIONS!$M$9,-(Alfa1*COS(miia*B902)-Alfa2*COS(miib*B902)),CURRENTY)","v":-31.941052073016863},null,null,852,8.5199999999998628,{"$f":"IF(H902<CALCULATIONS!$M$9,Aktina*SIN(epsilon*H902)*COS(D*H902),Aktina*SIN(epsilon*XRONOS)*COS(D*XRONOS))","v":45.74311691021822},{"$f":"IF(H902<CALCULATIONS!$M$9,Aktina*COS(epsilon*H902)*COS(D*H902),Aktina*COS(epsilon*XRONOS)*COS(D*XRONOS))","v":-11.507920874332966}]
[853,8.5299999999998626,{"$f":"IF(B903<CALCULATIONS!$M$9,Alfa1*SIN(miia*B903)-Alfa2*SIN(miib*B903),CURRENTX)","v":-56.297913514466224},{"$f":"IF(B903<CALCULATIONS!$M$9,-(Alfa1*COS(miia*B903)-Alfa2*COS(miib*B903)),CURRENTY)","v":-31.941052073016863},null,null,853,8.5299999999998626,{"$f":"IF(H903<CALCULATIONS!$M$9,Aktina*SIN(epsilon*H903)*COS(D*H903),Aktina*SIN(epsilon*XRONOS)*COS(D*XRONOS))","v":45.74311691021822},{"$f":"IF(H903<CALCULATIONS!$M$9,Aktina*COS(epsilon*H903)*COS(D*H903),Aktina*COS(epsilon*XRONOS)*COS(D*XRONOS))","v":-11.507920874332966}]
[854,8.5399999999998624,{"$f":"IF(B904<CALCULATIONS!$M$9,Alfa1*SIN(miia*B904)-Alfa2*SIN(miib*B904),CURRENTX)","v":-56.297913514466224},{"$f":"IF(B904<CALCULATIONS!$M$9,-(Alfa1*COS(miia*B904)-Alfa2*COS(miib*B904)),CURRENTY)","v":-31.941052073016863},null,null,854,8.5399999999998624,{"$f":"IF(H904<CALCULATIONS!$M$9,Aktina*SIN(epsilon*H904)*COS(D*H904),Aktina*SIN(epsilon*XRONOS)*COS(D*XRONOS))","v":45.74311691021822},{"$f":"IF(H904<CALCULATIONS!$M$9,Aktina*COS(epsilon*H904)*COS(D*H904),Aktina*COS(epsilon*XRONOS)*COS(D*XRONOS))","v":-11.507920874332966}]
[855,8.5499999999998622,{"$f":"IF(B905<CALCULATIONS!$M$9,Alfa1*SIN(miia*B905)-Alfa2*SIN(miib*B905),CURRENTX)","v":-56.297913514466224},{"$f":"IF(B905<CALCULATIONS!$M$9,-(Alfa1*COS(miia*B905)-Alfa2*COS(miib*B905)),CURRENTY)","v":-31.941052073016863},null,null,855,8.5499999999998622,{"$f":"IF(H905<CALCULATIONS!$M$9,Aktina*SIN(epsilon*H905)*COS(D*H905),Aktina*SIN(epsilon*XRONOS)*COS(D*XRONOS))","v":45.74311691021822},{"$f":"IF(H905<CALCULATIONS!$M$9,Aktina*COS(epsilon*H905)*COS(D*H905),Aktina*COS(epsilon*XRONOS)*COS(D*XRONOS))","v":-11.507920874332966}]
[856,8.5599999999998619,{"$f":"IF(B906<CALCULATIONS!$M$9,Alfa1*SIN(miia*B906)-Alfa2*SIN(miib*B906),CURRENTX)","v":-56.297913514466224},{"$f":"IF(B906<CALCULATIONS!$M$9,-(Alfa1*COS(miia*B906)-Alfa2*COS(miib*B906)),CURRENTY)","v":-31.941052073016863},null,null,856,8.5599999999998619,{"$f":"IF(H906<CALCULATIONS!$M$9,Aktina*SIN(epsilon*H906)*COS(D*H906),Aktina*SIN(epsilon*XRONOS)*COS(D*XRONOS))","v":45.74311691021822},{"$f":"IF(H906<CALCULATIONS!$M$9,Aktina*COS(epsilon*H906)*COS(D*H906),Aktina*COS(epsilon*XRONOS)*COS(D*XRONOS))","v":-11.507920874332966}]
[857,8.5699999999998617,{"$f":"IF(B907<CALCULATIONS!$M$9,Alfa1*SIN(miia*B907)-Alfa2*SIN(miib*B907),CURRENTX)","v":-56.297913514466224},{"$f":"IF(B907<CALCULATIONS!$M$9,-(Alfa1*COS(miia*B907)-Alfa2*COS(miib*B907)),CURRENTY)","v":-31.941052073016863},null,null,857,8.5699999999998617,{"$f":"IF(H907<CALCULATIONS!$M$9,Aktina*SIN(epsilon*H907)*COS(D*H907),Aktina*SIN(epsilon*XRONOS)*COS(D*XRONOS))","v":45.74311691021822},{"$f":"IF(H907<CALCULATIONS!$M$9,Aktina*COS(epsilon*H907)*COS(D*H907),Aktina*COS(epsilon*XRONOS)*COS(D*XRONOS))","v":-11.507920874332966}]
[858,8.5799999999998615,{"$f":"IF(B908<CALCULATIONS!$M$9,Alfa1*SIN(miia*B908)-Alfa2*SIN(miib*B908),CURRENTX)","v":-56.297913514466224},{"$f":"IF(B908<CALCULATIONS!$M$9,-(Alfa1*COS(miia*B908)-Alfa2*COS(miib*B908)),CURRENTY)","v":-31.941052073016863},null,null,858,8.5799999999998615,{"$f":"IF(H908<CALCULATIONS!$M$9,Aktina*SIN(epsilon*H908)*COS(D*H908),Aktina*SIN(epsilon*XRONOS)*COS(D*XRONOS))","v":45.74311691021822},{"$f":"IF(H908<CALCULATIONS!$M$9,Aktina*COS(epsilon*H908)*COS(D*H908),Aktina*COS(epsilon*XRONOS)*COS(D*XRONOS))","v":-11.507920874332966}]
[859,8.5899999999998613,{"$f":"IF(B909<CALCULATIONS!$M$9,Alfa1*SIN(miia*B909)-Alfa2*SIN(miib*B909),CURRENTX)","v":-56.297913514466224},{"$f":"IF(B909<CALCULATIONS!$M$9,-(Alfa1*COS(miia*B909)-Alfa2*COS(miib*B909)),CURRENTY)","v":-31.941052073016863},null,null,859,8.5899999999998613,{"$f":"IF(H909<CALCULATIONS!$M$9,Aktina*SIN(epsilon*H909)*COS(D*H909),Aktina*SIN(epsilon*XRONOS)*COS(D*XRONOS))","v":45.74311691021822},{"$f":"IF(H909<CALCULATIONS!$M$9,Aktina*COS(epsilon*H909)*COS(D*H909),Aktina*COS(epsilon*XRONOS)*COS(D*XRONOS))","v":-11.507920874332966}]
[860,8.5999999999998611,{"$f":"IF(B910<CALCULATIONS!$M$9,Alfa1*SIN(miia*B910)-Alfa2*SIN(miib*B910),CURRENTX)","v":-56.297913514466224},{"$f":"IF(B910<CALCULATIONS!$M$9,-(Alfa1*COS(miia*B910)-Alfa2*COS(miib*B910)),CURRENTY)","v":-31.941052073016863},null,null,860,8.5999999999998611,{"$f":"IF(H910<CALCULATIONS!$M$9,Aktina*SIN(epsilon*H910)*COS(D*H910),Aktina*SIN(epsilon*XRONOS)*COS(D*XRONOS))","v":45.74311691021822},{"$f":"IF(H910<CALCULATIONS!$M$9,Aktina*COS(epsilon*H910)*COS(D*H910),Aktina*COS(epsilon*XRONOS)*COS(D*XRONOS))","v":-11.507920874332966}]

{"sheet":"Φύλλο3","index":2,"n_rows":0,"n_cols":0,"rows_kept":0,"cut":false,"hidden":false,"merged":[]}